Workbook

Sheet full menu
A1: country | B1: 1974 | C1: 1975 | D1: 1976 | E1: 1977 | F1: 1978 | G1: 1979 | H1: 1980 | I1: 1981 | J1: 1982 | K1: 1983 | L1: 1984 | M1: 1985 | N1: 1986 | O1: 1987 | P1: 1988 | Q1: 1989 | R1: 1990 | S1: 1991 | T1: 1992 | U1: 1993 | V1: 1994 | W1: 1995 | X1: 1996 | Y1: 1997 | Z1: 1998 | AA1: 1999 | AB1: 2000 | AC1: 2001 | AD1: 2002 | AE1: 2003 | AF1: 2004 | AG1: 2005 | AH1: 2006 | AI1: 2007 | AJ1: 2008 | AK1: 2009 | AL1: 2010 | AM1: 2011 | AN1: 2012 | AO1: 2013 | AP1: 2014 | AQ1: 2015 | AR1: 2016 | AS1: 2017 | AT1: 2018 | AU1: 2019 | AV1: 2020 | AW1: 2021 | AX1: 2022 | AY1: 2023 | AZ1: same
A2: Afghanistan | B2: UD | C2: UD | D2: UD | E2: UD | F2: UD | G2: UD | H2: UD | I2: UD | J2: UD | K2: UD | L2: UD | M2: UD | N2: UD | O2: UD | P2: UD | Q2: UD | R2: UD | S2: UD | T2: UD | U2: UD | V2: UD | W2: UD | X2: UD | Y2: UD | Z2: UD | AA2: UD | AB2: UD | AC2: UD | AD2: UD | AE2: LSD | AF2: LSD | AG2: LSD | AH2: LSD | AI2: LSD | AJ2: LSD | AK2: LSD | AL2: LSD | AM2: LSD | AN2: LSD | AO2: LSD | AP2: LSD | AQ2: LSD | AR2: LSD | AS2: LSD | AT2: LSD | AU2: LSD | AV2: LSD | AW2: LSD | AX2: LSD | AY2: LSD | AZ2: 1
A3: Albania | B3: MDC | C3: MDC | D3: MDC | E3: MDC | F3: MDC | G3: MDC | H3: MDC | I3: MDC | J3: MDC | K3: MDC | L3: MDC | M3: MDC | N3: MDC | O3: MDC | P3: MDC | Q3: MDC | R3: UD | S3: UD | T3: UD | U3: LSD | V3: LSD | W3: LSD | X3: LSD | Y3: LSD | Z3: LSD | AA3: LSD | AB3: LSD | AC3: LSD | AD3: LSD | AE3: LSD | AF3: LSD | AG3: LIT | AH3: LIT | AI3: LIT | AJ3: LIT | AK3: LIT | AL3: LIT | AM3: LIT | AN3: LIT | AO3: LIT | AP3: LIT | AQ3: LIT | AR3: LIT | AS3: LIT | AT3: LIT | AU3: LIT | AV3: LIT | AW3: LIT | AX3: LIT | AY3: LIT | AZ3: 1
A4: Algeria | B4: MDC | C4: MDC | D4: MDC | E4: MDC | F4: MDC | G4: MDC | H4: MDC | I4: MDC | J4: MDC | K4: MDC | L4: MDC | M4: MDC | N4: MDC | O4: UD | P4: UD | Q4: UD | R4: LSD | S4: LSD | T4: LSD | U4: LSD | V4: LSD | W4: LSD | X4: LSD | Y4: LSD | Z4: LSD | AA4: LSD | AB4: LSD | AC4: LSD | AD4: LSD | AE4: LSD | AF4: LSD | AG4: LSD | AH4: LSD | AI4: LSD | AJ4: LSD | AK4: LSD | AL4: LSD | AM4: LSD | AN4: LSD | AO4: LSD | AP4: LSD | AQ4: LSD | AR4: LSD | AS4: LSD | AT4: LSD | AU4: LSD | AV4: LSD | AW4: LSD | AX4: LSD | AY4: LSD | AZ4: 1
A5: Angola | B5: X | C5: X | D5: UD | E5: UD | F5: UD | G5: UD | H5: UD | I5: UD | J5: UD | K5: UD | L5: UD | M5: UD | N5: UD | O5: UD | P5: UD | Q5: UD | R5: UD | S5: UD | T5: UD | U5: UD | V5: UD | W5: UD | X5: UD | Y5: UD | Z5: UD | AA5: LSD | AB5: LSD | AC5: LSD | AD5: LSD | AE5: LSD | AF5: LSD | AG5: LSD | AH5: LSD | AI5: LSD | AJ5: LSD | AK5: LSD | AL5: LSD | AM5: LSD | AN5: LSD | AO5: LSD | AP5: LSD | AQ5: LSD | AR5: LSD | AS5: LSD | AT5: LSD | AU5: LSD | AV5: LSD | AW5: LSD | AX5: LSD | AY5: LSD | AZ5: 1
A6: Argentina | B6: MDC | C6: MDC | D6: MDC | E6: UD | F6: UD | G6: UD | H6: UD | I6: UD | J6: UD | K6: UD | L6: UD | M6: UD | N6: UD | O6: UD | P6: UD | Q6: UD | R6: UD | S6: ACB | T6: ACB | U6: ACB | V6: ACB | W6: ACB | X6: ACB | Y6: ACB | Z6: ACB | AA6: ACB | AB6: ACB | AC6: ACB | AD6: UD | AE6: LSD | AF6: LSD | AG6: LSD | AH6: LSD | AI6: LSD | AJ6: LSD | AK6: LSD | AL6: LSD | AM6: LSD | AN6: LSD | AO6: LSD | AP6: LSD | AQ6: LSD | AR6: LSD | AS6: LSD | AT6: LSD | AU6: LSD | AV6: LSD | AW6: LSD | AX6: LSD | AY6: LSD | AZ6: 1
A7: Armenia | B7: X | C7: X | D7: X | E7: X | F7: X | G7: X | H7: X | I7: X | J7: X | K7: X | L7: X | M7: X | N7: X | O7: X | P7: X | Q7: X | R7: X | S7: X | T7: UD | U7: UD | V7: UD | W7: LSD | X7: LSD | Y7: LSD | Z7: LSD | AA7: LSD | AB7: LSD | AC7: LSD | AD7: LSD | AE7: LSD | AF7: LSD | AG7: LSD | AH7: LSD | AI7: LSD | AJ7: LSD | AK7: LSD | AL7: LSD | AM7: LIT | AN7: LIT | AO7: LIT | AP7: LIT | AQ7: LIT | AR7: LIT | AS7: LIT | AT7: LIT | AU7: LIT | AV7: LIT | AW7: LIT | AX7: LIT | AY7: LIT | AZ7: 1
A8: Australia | B8: AERF | C8: AERF | D8: AERF | E8: LMT | F8: LMT | G8: LMT | H8: LMT | I8: LMT | J8: LMT | K8: LMT | L8: LSD | M8: LSD | N8: LSD | O8: LSD | P8: LSD | Q8: LSD | R8: LSD | S8: LSD | T8: LSD | U8: LIT | V8: LIT | W8: LIT | X8: LIT | Y8: FIT | Z8: FIT | AA8: FIT | AB8: FIT | AC8: FIT | AD8: FIT | AE8: FIT | AF8: FIT | AG8: FIT | AH8: FIT | AI8: FIT | AJ8: FIT | AK8: FIT | AL8: FIT | AM8: FIT | AN8: FIT | AO8: FIT | AP8: FIT | AQ8: FIT | AR8: FIT | AS8: FIT | AT8: FIT | AU8: FIT | AV8: FIT | AW8: FIT | AX8: FIT | AY8: FIT | AZ8: 1
A9: Austria | B9: LERT | C9: LERT | D9: LERT | E9: LERT | F9: LERT | G9: LERT | H9: FERT | I9: FERT | J9: FERT | K9: FERT | L9: FERT | M9: FERT | N9: FERT | O9: FERT | P9: FERT | Q9: FERT | R9: FERT | S9: FERT | T9: FERT | U9: FERT | V9: FERT | W9: FERT | X9: FERT | Y9: FERT | Z9: FERT | AA9: CU | AB9: CU | AC9: CU | AD9: CU | AE9: CU | AF9: CU | AG9: CU | AH9: CU | AI9: CU | AJ9: CU | AK9: CU | AL9: CU | AM9: CU | AN9: CU | AO9: CU | AP9: CU | AQ9: CU | AR9: CU | AS9: CU | AT9: CU | AU9: CU | AV9: CU | AW9: CU | AX9: CU | AY9: CU | AZ9: 1
A10: Azerbaijan | B10: X | C10: X | D10: X | E10: X | F10: X | G10: X | H10: X | I10: X | J10: X | K10: X | L10: X | M10: X | N10: X | O10: X | P10: X | Q10: X | R10: X | S10: X | T10: UD | U10: UD | V10: UD | W10: LSD | X10: LSD | Y10: LSD | Z10: LSD | AA10: LSD | AB10: LSD | AC10: LSD | AD10: LSD | AE10: LSD | AF10: LSD | AG10: LSD | AH10: LSD | AI10: LSD | AJ10: LSD | AK10: LSD | AL10: LSD | AM10: LSD | AN10: LSD | AO10: LSD | AP10: LSD | AQ10: LSD | AR10: LSD | AS10: LSD | AT10: LSD | AU10: LSD | AV10: LSD | AW10: LSD | AX10: LSD | AY10: LSD | AZ10: 1
A11: Bahamas | B11: AERF | C11: AERF | D11: AERF | E11: AERF | F11: AERF | G11: AERF | H11: AERF | I11: AERF | J11: AERF | K11: AERF | L11: AERF | M11: AERF | N11: AERF | O11: AERF | P11: AERF | Q11: AERF | R11: AERF | S11: AERF | T11: AERF | U11: AERF | V11: AERF | W11: AERF | X11: AERF | Y11: AERF | Z11: AERF | AA11: AERF | AB11: AERF | AC11: AERF | AD11: AERF | AE11: AERF | AF11: AERF | AG11: AERF | AH11: AERF | AI11: AERF | AJ11: AERF | AK11: AERF | AL11: AERF | AM11: AERF | AN11: AERF | AO11: AERF | AP11: AERF | AQ11: AERF | AR11: AERF | AS11: AERF | AT11: AERF | AU11: AERF | AV11: AERF | AW11: AERF | AX11: AERF | AY11: AERF | AZ11: 1
A12: Bahrain | B12: ACB | C12: AERF | D12: AERF | E12: AERF | F12: AERF | G12: AERF | H12: AERF | I12: AERF | J12: AERF | K12: AERF | L12: AERF | M12: AERF | N12: AERF | O12: AERF | P12: AERF | Q12: AERF | R12: AERF | S12: AERF | T12: AERF | U12: AERF | V12: AERF | W12: FERT | X12: FERT | Y12: FERT | Z12: FERT | AA12: FERT | AB12: FERT | AC12: FERT | AD12: FERT | AE12: FERT | AF12: FERT | AG12: FERT | AH12: FERT | AI12: FERT | AJ12: FERT | AK12: FERT | AL12: FERT | AM12: FERT | AN12: FERT | AO12: FERT | AP12: FERT | AQ12: FERT | AR12: FERT | AS12: FERT | AT12: FERT | AU12: FERT | AV12: FERT | AW12: FERT | AX12: FERT | AY12: FERT | AZ12: 1
A13: Bangladesh | B13: AERF | C13: LSD | D13: LSD | E13: LSD | F13: LSD | G13: LSD | H13: LSD | I13: LSD | J13: LSD | K13: LSD | L13: LSD | M13: LSD | N13: LSD | O13: LSD | P13: LSD | Q13: LSD | R13: LSD | S13: LSD | T13: LSD | U13: LSD | V13: LSD | W13: LSD | X13: LSD | Y13: LSD | Z13: LSD | AA13: LSD | AB13: LSD | AC13: LSD | AD13: LSD | AE13: LSD | AF13: LSD | AG13: LSD | AH13: LSD | AI13: LSD | AJ13: LSD | AK13: LSD | AL13: LSD | AM13: LSD | AN13: LSD | AO13: LSD | AP13: LSD | AQ13: LSD | AR13: LSD | AS13: LSD | AT13: LSD | AU13: LSD | AV13: LSD | AW13: LSD | AX13: LSD | AY13: LSD | AZ13: 1
... A46: Czech Republic | B46: X | C46: X | D46: X | E46: X | F46: X | G46: X | H46: X | I46: X | J46: X | K46: X | L46: X | M46: X | N46: X | O46: X | P46: X | Q46: X | R46: X | S46: X | T46: X | U46: AERF | V46: AERF | W46: AERF | X46: LSD | Y46: LSD | Z46: LCIT | AA46: LCIT | AB46: LCIT | AC46: LCIT | AD46: LCIT | AE46: LCIT | AF46: LCIT | AG46: LCIT | AH46: FIT | AI46: FIT | AJ46: FIT | AK46: FIT | AL46: FIT | AM46: FIT | AN46: FIT | AO46: FIT | AP46: FIT | AQ46: FIT | AR46: FIT | AS46: FIT | AT46: FIT | AU46: FIT | AV46: FIT | AW46: FIT | AX46: FIT | AY46: FIT | AZ46: 1
A47: Czechoslovakia | B47: MDC | C47: MDC | D47: MDC | E47: MDC | F47: MDC | G47: MDC | H47: MDC | I47: MDC | J47: MDC | K47: MDC | L47: MDC | M47: MDC | N47: MDC | O47: LSD | P47: LSD | Q47: LSD | R47: LSD | S47: LSD | T47: LSD | U47: X | V47: X | W47: X | X47: X | Y47: X | Z47: X | AA47: X | AB47: X | AC47: X | AD47: X | AE47: X | AF47: X | AG47: X | AH47: X | AI47: X | AJ47: X | AK47: X | AL47: X | AM47: X | AN47: X | AO47: X | AP47: X | AQ47: X | AR47: X | AS47: X | AT47: X | AU47: X | AV47: X | AW47: X | AX47: X | AY47: X
A48: Denmark | B48: LERT | C48: LERT | D48: LERT | E48: LERT | F48: LERT | G48: LERT | H48: LERT | I48: LERT | J48: LERT | K48: FERT | L48: FERT | M48: FERT | N48: FERT | O48: FERT | P48: FERT | Q48: FERT | R48: FERT | S48: FERT | T48: FERT | U48: FERT | V48: FERT | W48: FERT | X48: FERT | Y48: FERT | Z48: FERT | AA48: FERT | AB48: FERT | AC48: FERT | AD48: FERT | AE48: FERT | AF48: FERT | AG48: FERT | AH48: FERT | AI48: FERT | AJ48: FERT | AK48: FERT | AL48: FERT | AM48: FERT | AN48: FERT | AO48: FERT | AP48: FERT | AQ48: FERT | AR48: FERT | AS48: FERT | AT48: FERT | AU48: FERT | AV48: FERT | AW48: FERT | AX48: FERT | AY48: FERT | AZ48: 1
A49: Djibouti | B49: X | C49: X | D49: X | E49: PCB | F49: PCB | G49: PCB | H49: PCB | I49: PCB | J49: PCB | K49: PCB | L49: PCB | M49: PCB | N49: PCB | O49: PCB | P49: PCB | Q49: PCB | R49: PCB | S49: PCB | T49: PCB | U49: PCB | V49: PCB | W49: PCB | X49: PCB | Y49: PCB | Z49: PCB | AA49: PCB | AB49: PCB | AC49: PCB | AD49: PCB | AE49: PCB | AF49: PCB | AG49: PCB | AH49: PCB | AI49: PCB | AJ49: PCB | AK49: PCB | AL49: PCB | AM49: PCB | AN49: PCB | AO49: PCB | AP49: PCB | AQ49: PCB | AR49: PCB | AS49: PCB | AT49: PCB | AU49: PCB | AV49: PCB | AW49: PCB | AX49: PCB | AY49: PCB | AZ49: 1
A50: Dominican Republic | B50: AERF | C50: AERF | D50: AERF | E50: AERF | F50: AERF | G50: AERF | H50: AERF | I50: AERF | J50: LSD | K50: LSD | L50: LSD | M50: LSD | N50: LSD | O50: LSD | P50: LSD | Q50: LSD | R50: LSD | S50: LSD | T50: LSD | U50: LSD | V50: LSD | W50: LSD | X50: LSD | Y50: LSD | Z50: LSD | AA50: LSD | AB50: LSD | AC50: LSD | AD50: LSD | AE50: LSD | AF50: LSD | AG50: LSD | AH50: LSD | AI50: LSD | AJ50: LSD | AK50: LSD | AL50: LSD | AM50: LSD | AN50: LIT | AO50: LIT | AP50: LIT | AQ50: LIT | AR50: LIT | AS50: LIT | AT50: LIT | AU50: LIT | AV50: LIT | AW50: LIT | AX50: LIT | AY50: LIT | AZ50: 1
A51: ECCU | B51: PCB | C51: PCB | D51: PCB | E51: PCB | F51: PCB | G51: PCB | H51: PCB | I51: PCB | J51: PCB | K51: PCB | L51: ACB | M51: ACB | N51: ACB | O51: ACB | P51: ACB | Q51: ACB | R51: ACB | S51: ACB | T51: ACB | U51: ACB | V51: ACB | W51: ACB | X51: ACB | Y51: ACB | Z51: ACB | AA51: ACB | AB51: ACB | AC51: ACB | AD51: ACB | AE51: ACB | AF51: ACB | AG51: ACB | AH51: ACB | AI51: ACB | AJ51: ACB | AK51: ACB | AL51: ACB | AM51: ACB | AN51: ACB | AO51: ACB | AP51: ACB | AQ51: ACB | AR51: ACB | AS51: ACB | AT51: ACB | AU51: ACB | AV51: ACB | AW51: ACB | AX51: ACB | AY51: ACB | AZ51: 1
A52: Ecuador | B52: AERF | C52: AERF | D52: AERF | E52: AERF | F52: AERF | G52: AERF | H52: AERF | I52: AERF | J52: UD | K52: UD | L52: UD | M52: UD | N52: UD | O52: UD | P52: UD | Q52: UD | R52: UD | S52: UD | T52: UD | U52: UD | V52: UD | W52: UD | X52: UD | Y52: UD | Z52: UD | AA52: UD | AB52: UASC | AC52: UASC | AD52: UASC | AE52: UASC | AF52: UASC | AG52: UASC | AH52: UASC | AI52: UASC | AJ52: UASC | AK52: UASC | AL52: UASC | AM52: UASC | AN52: UASC | AO52: UASC | AP52: UASC | AQ52: UASC | AR52: UASC | AS52: UASC | AT52: UASC | AU52: UASC | AV52: UASC | AW52: UASC | AX52: UASC | AY52: UASC | AZ52: 1
A53: Egypt | B53: MDC | C53: MDC | D53: MDC | E53: UD | F53: UD | G53: UD | H53: UD | I53: UD | J53: UD | K53: UD | L53: UD | M53: UD | N53: UD | O53: UD | P53: UD | Q53: UD | R53: UD | S53: UD | T53: LERT | U53: LERT | V53: LERT | W53: LERT | X53: LERT | Y53: LERT | Z53: LERT | AA53: LERT | AB53: LERT | AC53: LERT | AD53: LERT | AE53: LSD | AF53: LSD | AG53: LSD | AH53: LSD | AI53: LSD | AJ53: LSD | AK53: LSD | AL53: LSD | AM53: LSD | AN53: LSD | AO53: LSD | AP53: LSD | AQ53: LSD | AR53: LSD | AS53: LSD | AT53: LSD | AU53: LSD | AV53: LSD | AW53: LSD | AX53: LSD | AY53: LSD | AZ53: 1
A54: El Salvador | B54: AERF | C54: AERF | D54: AERF | E54: AERF | F54: AERF | G54: AERF | H54: LSD | I54: LSD | J54: LSD | K54: LSD | L54: LSD | M54: LSD | N54: LSD | O54: LSD | P54: LSD | Q54: LSD | R54: LSD | S54: LSD | T54: LSD | U54: LSD | V54: LSD | W54: LSD | X54: LSD | Y54: LSD | Z54: LSD | AA54: LSD | AB54: LSD | AC54: UASC | AD54: UASC | AE54: UASC | AF54: UASC | AG54: UASC | AH54: UASC | AI54: UASC | AJ54: UASC | AK54: UASC | AL54: UASC | AM54: UASC | AN54: UASC | AO54: UASC | AP54: UASC | AQ54: UASC | AR54: UASC | AS54: UASC | AT54: UASC | AU54: UASC | AV54: UASC | AW54: UASC | AX54: UASC | AY54: UASC | AZ54: 1
A55: Equatorial Guinea | B55: AERF | C55: AERF | D55: AERF | E55: AERF | F55: UD | G55: UD | H55: UD | I55: UD | J55: UD | K55: UD | L55: UD | M55: CU | N55: CU | O55: CU | P55: CU | Q55: CU | R55: CU | S55: CU | T55: CU | U55: CU | V55: CU | W55: CU | X55: CU | Y55: CU | Z55: CU | AA55: CU | AB55: CU | AC55: CU | AD55: CU | AE55: CU | AF55: CU | AG55: CU | AH55: CU | AI55: CU | AJ55: CU | AK55: CU | AL55: CU | AM55: CU | AN55: CU | AO55: CU | AP55: CU | AQ55: CU | AR55: CU | AS55: CU | AT55: CU | AU55: CU | AV55: CU | AW55: CU | AX55: CU | AY55: CU | AZ55: 1
A56: Eritrea | B56: X | C56: X | D56: X | E56: X | F56: X | G56: X | H56: X | I56: X | J56: X | K56: X | L56: X | M56: X | N56: X | O56: X | P56: X | Q56: X | R56: X | S56: X | T56: X | U56: UASC | V56: UASC | W56: UASC | X56: UASC | Y56: UASC | Z56: LSD | AA56: LSD | AB56: LSD | AC56: LSD | AD56: LSD | AE56: LSD | AF56: LSD | AG56: AERF | AH56: AERF | AI56: AERF | AJ56: AERF | AK56: AERF | AL56: AERF | AM56: AERF | AN56: AERF | AO56: AERF | AP56: AERF | AQ56: AERF | AR56: AERF | AS56: AERF | AT56: AERF | AU56: AERF | AV56: AERF | AW56: AERF | AX56: AERF | AY56: AERF | AZ56: 1
A57: Estonia | B57: X | C57: X | D57: X | E57: X | F57: X | G57: X | H57: X | I57: X | J57: X | K57: X | L57: X | M57: X | N57: X | O57: X | P57: X | Q57: X | R57: X | S57: X | T57: ACB | U57: ACB | V57: ACB | W57: ACB | X57: ACB | Y57: ACB | Z57: ACB | AA57: ACB | AB57: ACB | AC57: ACB | AD57: ACB | AE57: ACB | AF57: ACB | AG57: ACB | AH57: ACB | AI57: ACB | AJ57: ACB | AK57: ACB | AL57: ACB | AM57: CU | AN57: CU | AO57: CU | AP57: CU | AQ57: CU | AR57: CU | AS57: CU | AT57: CU | AU57: CU | AV57: CU | AW57: CU | AX57: CU | AY57: CU | AZ57: 1
A58: Eswatini | B58: UASC | C58: AERF | D58: AERF | E58: AERF | F58: AERF | G58: AERF | H58: AERF | I58: AERF | J58: AERF | K58: AERF | L58: AERF | M58: AERF | N58: AERF | O58: AERF | P58: AERF | Q58: AERF | R58: AERF | S58: AERF | T58: AERF | U58: AERF | V58: AERF | W58: AERF | X58: AERF | Y58: AERF | Z58: AERF | AA58: AERF | AB58: AERF | AC58: AERF | AD58: AERF | AE58: AERF | AF58: AERF | AG58: AERF | AH58: AERF | AI58: AERF | AJ58: AERF | AK58: AERF | AL58: AERF | AM58: AERF | AN58: AERF | AO58: AERF | AP58: AERF | AQ58: AERF | AR58: AERF | AS58: AERF | AT58: AERF | AU58: AERF | AV58: AERF | AW58: AERF | AX58: AERF | AY58: AERF | AZ58: 1
A59: Ethiopia | B59: AERF | C59: MDC | D59: MDC | E59: MDC | F59: MDC | G59: MDC | H59: MDC | I59: MDC | J59: MDC | K59: MDC | L59: MDC | M59: MDC | N59: MDC | O59: MDC | P59: MDC | Q59: MDC | R59: MDC | S59: LSD | T59: LSD | U59: LSD | V59: LSD | W59: LSD | X59: LSD | Y59: LSD | Z59: LSD | AA59: LSD | AB59: LSD | AC59: LSD | AD59: LSD | AE59: LSD | AF59: LSD | AG59: LSD | AH59: LSD | AI59: LSD | AJ59: LSD | AK59: LSD | AL59: LSD | AM59: LSD | AN59: LSD | AO59: LSD | AP59: LSD | AQ59: LSD | AR59: LSD | AS59: LSD | AT59: LSD | AU59: LSD | AV59: LSD | AW59: LSD | AX59: LSD | AY59: LSD | AZ59: 1
... A67: Germany | B67: LSD | C67: MwERT | D67: MwERT | E67: MwERT | F67: MwERT | G67: MwERT | H67: MwERT | I67: MwERT | J67: MwERT | K67: MwERT | L67: MwERT | M67: MwERT | N67: ERwMT | O67: ERwMT | P67: MwERT | Q67: MwERT | R67: MwERT | S67: MwERT | T67: ERwMT | U67: ERwMT | V67: MwERT | W67: MwERT | X67: MwERT | Y67: MwERT | Z67: MwERT | AA67: CU | AB67: CU | AC67: CU | AD67: CU | AE67: CU | AF67: CU | AG67: CU | AH67: CU | AI67: CU | AJ67: CU | AK67: CU | AL67: CU | AM67: CU | AN67: CU | AO67: CU | AP67: CU | AQ67: CU | AR67: CU | AS67: CU | AT67: CU | AU67: CU | AV67: CU | AW67: CU | AX67: CU | AY67: CU | AZ67: 1
A68: Ghana | B68: AERF | C68: AERF | D68: AERF | E68: AERF | F68: AERF | G68: AERF | H68: AERF | I68: AERF | J68: AERF | K68: LSD | L68: LSD | M68: LSD | N68: LSD | O68: LSD | P68: LSD | Q68: LSD | R68: LSD | S68: LSD | T68: LSD | U68: LSD | V68: LSD | W68: LSD | X68: LSD | Y68: LSD | Z68: LSD | AA68: LSD | AB68: LSD | AC68: LSD | AD68: LSD | AE68: LSD | AF68: LSD | AG68: LSD | AH68: LSD | AI68: LSD | AJ68: LSD | AK68: LSD | AL68: LSD | AM68: LSD | AN68: LSD | AO68: LSD | AP68: LSD | AQ68: LSD | AR68: LSD | AS68: LSD | AT68: LIT | AU68: LIT | AV68: LIT | AW68: LIT | AX68: LSD | AY68: LSD | AZ68: x
A69: Greece | B69: UD | C69: UD | D69: UD | E69: UD | F69: UD | G69: UD | H69: UD | I69: UD | J69: UD | K69: UD | L69: UD | M69: UD | N69: UD | O69: UD | P69: UD | Q69: UD | R69: UD | S69: LSD | T69: LSD | U69: LSD | V69: LSD | W69: ERwMT | X69: ERwMT | Y69: ERwMT | Z69: ERwMT | AA69: ERwMT | AB69: ERwMT | AC69: CU | AD69: CU | AE69: CU | AF69: CU | AG69: CU | AH69: CU | AI69: CU | AJ69: CU | AK69: CU | AL69: CU | AM69: CU | AN69: CU | AO69: CU | AP69: CU | AQ69: CU | AR69: CU | AS69: CU | AT69: CU | AU69: CU | AV69: CU | AW69: CU | AX69: CU | AY69: CU | AZ69: 1
A70: Guatemala | B70: AERF | C70: AERF | D70: AERF | E70: AERF | F70: AERF | G70: AERF | H70: AERF | I70: AERF | J70: AERF | K70: AERF | L70: AERF | M70: LSD | N70: LSD | O70: LSD | P70: LSD | Q70: LSD | R70: LSD | S70: LSD | T70: LSD | U70: LSD | V70: LSD | W70: LSD | X70: LSD | Y70: LSD | Z70: LSD | AA70: LSD | AB70: LSD | AC70: LSD | AD70: LSD | AE70: LSD | AF70: LSD | AG70: LSD | AH70: LSD | AI70: LSD | AJ70: LSD | AK70: LSD | AL70: FIT | AM70: FIT | AN70: FIT | AO70: FIT | AP70: FIT | AQ70: FIT | AR70: FIT | AS70: FIT | AT70: FIT | AU70: FIT | AV70: FIT | AW70: FIT | AX70: FIT | AY70: FIT | AZ70: 1
A71: Guinea | B71: MDC | C71: MDC | D71: MDC | E71: MDC | F71: MDC | G71: MDC | H71: MDC | I71: MDC | J71: MDC | K71: MDC | L71: MDC | M71: MDC | N71: LSD | O71: LSD | P71: LSD | Q71: LSD | R71: LSD | S71: LSD | T71: LSD | U71: LSD | V71: LSD | W71: LSD | X71: LSD | Y71: LSD | Z71: LSD | AA71: LSD | AB71: LSD | AC71: LSD | AD71: LSD | AE71: LSD | AF71: LSD | AG71: LSD | AH71: LSD | AI71: LSD | AJ71: LSD | AK71: LSD | AL71: LSD | AM71: LSD | AN71: LSD | AO71: LSD | AP71: LSD | AQ71: LSD | AR71: LSD | AS71: LSD | AT71: LSD | AU71: LSD | AV71: LSD | AW71: LSD | AX71: LSD | AY71: LSD | AZ71: 1
A72: Guinea-Bissau | B72: UASC | C72: UASC | D72: UD | E72: UD | F72: UD | G72: UD | H72: UD | I72: UD | J72: UD | K72: UD | L72: UD | M72: UD | N72: UD | O72: LSD | P72: LSD | Q72: LSD | R72: LSD | S72: LSD | T72: LSD | U72: LSD | V72: LSD | W72: LSD | X72: LSD | Y72: LSD | Z72: CU | AA72: CU | AB72: CU | AC72: CU | AD72: CU | AE72: CU | AF72: CU | AG72: CU | AH72: CU | AI72: CU | AJ72: CU | AK72: CU | AL72: CU | AM72: CU | AN72: CU | AO72: CU | AP72: CU | AQ72: CU | AR72: CU | AS72: CU | AT72: CU | AU72: CU | AV72: CU | AW72: CU | AX72: CU | AY72: CU | AZ72: 1
A73: Guyana | B73: AERF | C73: AERF | D73: AERF | E73: AERF | F73: AERF | G73: AERF | H73: AERF | I73: AERF | J73: AERF | K73: AERF | L73: UD | M73: UD | N73: UD | O73: UD | P73: UD | Q73: UD | R73: UD | S73: LSD | T73: LSD | U73: LSD | V73: LSD | W73: LSD | X73: LSD | Y73: LSD | Z73: LSD | AA73: LSD | AB73: LSD | AC73: LSD | AD73: LSD | AE73: LSD | AF73: LSD | AG73: LSD | AH73: LSD | AI73: LSD | AJ73: LSD | AK73: LSD | AL73: LSD | AM73: LSD | AN73: LSD | AO73: LSD | AP73: AERF | AQ73: AERF | AR73: AERF | AS73: AERF | AT73: AERF | AU73: AERF | AV73: AERF | AW73: AERF | AX73: AERF | AY73: AERF | AZ73: 1
A74: Haiti | B74: AERF | C74: AERF | D74: AERF | E74: AERF | F74: AERF | G74: AERF | H74: AERF | I74: AERF | J74: AERF | K74: AERF | L74: AERF | M74: AERF | N74: AERF | O74: AERF | P74: AERF | Q74: AERF | R74: LSD | S74: LSD | T74: LSD | U74: LSD | V74: LSD | W74: LSD | X74: LSD | Y74: LSD | Z74: LSD | AA74: LSD | AB74: LSD | AC74: LSD | AD74: LSD | AE74: LSD | AF74: LSD | AG74: LSD | AH74: LSD | AI74: LSD | AJ74: LSD | AK74: LSD | AL74: LSD | AM74: LSD | AN74: LSD | AO74: LSD | AP74: LSD | AQ74: LSD | AR74: LSD | AS74: LSD | AT74: LSD | AU74: LSD | AV74: LSD | AW74: LSD | AX74: LSD | AY74: LSD | AZ74: 1
A75: Honduras | B75: AERF | C75: AERF | D75: AERF | E75: AERF | F75: AERF | G75: AERF | H75: AERF | I75: AERF | J75: AERF | K75: AERF | L75: AERF | M75: LSD | N75: LSD | O75: LSD | P75: LSD | Q75: LSD | R75: LSD | S75: LSD | T75: LSD | U75: LSD | V75: LSD | W75: LSD | X75: LSD | Y75: LSD | Z75: LSD | AA75: LSD | AB75: LSD | AC75: LSD | AD75: LSD | AE75: LSD | AF75: LSD | AG75: LSD | AH75: LSD | AI75: LSD | AJ75: LSD | AK75: LSD | AL75: LSD | AM75: LSD | AN75: LSD | AO75: LSD | AP75: LSD | AQ75: LSD | AR75: LSD | AS75: LSD | AT75: LSD | AU75: LSD | AV75: LSD | AW75: LSD | AX75: LSD | AY75: LSD | AZ75: 1
A76: Hong Kong | B76: FERT | C76: UD | D76: UD | E76: UD | F76: UD | G76: UD | H76: UD | I76: UD | J76: UD | K76: UD | L76: ACB | M76: ACB | N76: ACB | O76: ACB | P76: ACB | Q76: ACB | R76: ACB | S76: ACB | T76: ACB | U76: ACB | V76: ACB | W76: ACB | X76: ACB | Y76: ACB | Z76: ACB | AA76: ACB | AB76: ACB | AC76: ACB | AD76: ACB | AE76: ACB | AF76: ACB | AG76: ACB | AH76: ACB | AI76: ACB | AJ76: ACB | AK76: ACB | AL76: ACB | AM76: ACB | AN76: ACB | AO76: ACB | AP76: ACB | AQ76: ACB | AR76: ACB | AS76: ACB | AT76: ACB | AU76: ACB | AV76: ACB | AW76: ACB | AX76: ACB | AY76: ACB | AZ76: 1
A77: Hungary | B77: MDC | C77: MDC | D77: MDC | E77: MDC | F77: MDC | G77: MDC | H77: MDC | I77: MDC | J77: MDC | K77: MDC | L77: MDC | M77: MDC | N77: MDC | O77: UD | P77: UD | Q77: UD | R77: UD | S77: UD | T77: UD | U77: UD | V77: UD | W77: LSD | X77: LSD | Y77: LSD | Z77: LSD | AA77: LSD | AB77: LSD | AC77: LCIT | AD77: LCIT | AE77: LCIT | AF77: LCIT | AG77: LCIT | AH77: LCIT | AI77: LCIT | AJ77: LIT | AK77: LIT | AL77: LIT | AM77: LIT | AN77: LIT | AO77: LIT | AP77: LIT | AQ77: LIT | AR77: LIT | AS77: LIT | AT77: LIT | AU77: LIT | AV77: LIT | AW77: LIT | AX77: LIT | AY77: LIT | AZ77: 1
A78: Iceland | B78: UD | C78: UD | D78: UD | E78: UD | F78: UD | G78: UD | H78: UD | I78: UD | J78: UD | K78: UD | L78: UD | M78: LSD | N78: LSD | O78: LSD | P78: LSD | Q78: LSD | R78: LSD | S78: LSD | T78: LSD | U78: LERT | V78: LERT | W78: LERT | X78: LERT | Y78: LERT | Z78: LERT | AA78: LERT | AB78: LERT | AC78: LIT | AD78: LIT | AE78: LIT | AF78: LIT | AG78: LIT | AH78: LSD | AI78: LSD | AJ78: LSD | AK78: LSD | AL78: LSD | AM78: LSD | AN78: LSD | AO78: LIT | AP78: LIT | AQ78: LIT | AR78: LIT | AS78: LIT | AT78: LIT | AU78: LIT | AV78: LIT | AW78: LIT | AX78: LSD | AY78: LSD | AZ78: 1
A79: India | B79: LSD | C79: LSD | D79: LSD | E79: LSD | F79: LSD | G79: LSD | H79: LSD | I79: LSD | J79: LSD | K79: LSD | L79: LSD | M79: LSD | N79: LSD | O79: LSD | P79: LSD | Q79: LSD | R79: LSD | S79: LSD | T79: LSD | U79: LSD | V79: LSD | W79: LSD | X79: LSD | Y79: LSD | Z79: LSD | AA79: LSD | AB79: LSD | AC79: LSD | AD79: LSD | AE79: LSD | AF79: LSD | AG79: LSD | AH79: LSD | AI79: LSD | AJ79: LSD | AK79: LSD | AL79: LSD | AM79: LSD | AN79: LSD | AO79: LSD | AP79: LCIT | AQ79: LCIT | AR79: LCIT | AS79: LIT | AT79: LIT | AU79: LIT | AV79: LIT | AW79: LIT | AX79: LIT | AY79: LIT | AZ79: 1
...

Sheet targvar
A1: country | B1: 1974 | C1: 1975 | D1: 1976 | E1: 1977 | F1: 1978 | G1: 1979 | H1: 1980 | I1: 1981 | J1: 1982 | K1: 1983 | L1: 1984 | M1: 1985 | N1: 1986 | O1: 1987 | P1: 1988 | Q1: 1989 | R1: 1990 | S1: 1991 | T1: 1992 | U1: 1993 | V1: 1994 | W1: 1995 | X1: 1996 | Y1: 1997 | Z1: 1998 | AA1: 1999 | AB1: 2000 | AC1: 2001 | AD1: 2002 | AE1: 2003 | AF1: 2004 | AG1: 2005 | AH1: 2006 | AI1: 2007 | AJ1: 2008 | AK1: 2009 | AL1: 2010 | AM1: 2011 | AN1: 2012 | AO1: 2013 | AP1: 2014 | AQ1: 2015 | AR1: 2016 | AS1: 2017 | AT1: 2018 | AU1: 2019 | AV1: 2020 | AW1: 2021 | AX1: 2022 | AY1: 2023
A2: Afghanistan | B2: =IF('full menu'!B2="MDC","MDC",IF(OR('full menu'!B2="PERF",'full menu'!B2="AERF",'full menu'!B2="PCB"),"ERfix",IF(OR('full menu'!B2="ACB", 'full menu'!B2="LCERT", 'full menu'!B2="LERT",'full menu'!B2="FCERT",'full menu'!B2="FERT"),"ERTs",IF(OR('full menu'!B2="FCMT",'full menu'!B2="FMT",'full menu'!B2="LMT",'full menu'!B2="LCMT"),"MTs",IF(OR('full menu'!B2="LCIT",'full menu'!B2="FCIT",'full menu'!B2="LIT",'full menu'!B2="FIT"),"ITs",IF(OR('full menu'!B2="MwERT", 'full menu'!B2="ERwMT", 'full menu'!B2="M&ERT", 'full menu'!B2="MwIT", 'full menu'!B2="IwMT", 'full menu'!B2="M&IT", 'full menu'!B2="IwERT", 'full menu'!B2="ERwIT", 'full menu'!B2="I&ERT", 'full menu'!B2="ER&M&IT"),"MixedTs",IF('full menu'!B2="UD","UD",IF('full menu'!B2="LSD","LSD",IF('full menu'!B2="WSD","WSD",IF('full menu'!B2="UASC","UASC","")))))))))) -> UD | C2: =IF('full menu'!C2="MDC","MDC",IF(OR('full menu'!C2="PERF",'full menu'!C2="AERF",'full menu'!C2="PCB"),"ERfix",IF(OR('full menu'!C2="ACB", 'full menu'!C2="LCERT", 'full menu'!C2="LERT",'full menu'!C2="FCERT",'full menu'!C2="FERT"),"ERTs",IF(OR('full menu'!C2="FCMT",'full menu'!C2="FMT",'full menu'!C2="LMT",'full menu'!C2="LCMT"),"MTs",IF(OR('full menu'!C2="LCIT",'full menu'!C2="FCIT",'full menu'!C2="LIT",'full menu'!C2="FIT"),"ITs",IF(OR('full menu'!C2="MwERT", 'full menu'!C2="ERwMT", 'full menu'!C2="M&ERT", 'full menu'!C2="MwIT", 'full menu'!C2="IwMT", 'full menu'!C2="M&IT", 'full menu'!C2="IwERT", 'full menu'!C2="ERwIT", 'full menu'!C2="I&ERT", 'full menu'!C2="ER&M&IT"),"MixedTs",IF('full menu'!C2="UD","UD",IF('full menu'!C2="LSD","LSD",IF('full menu'!C2="WSD","WSD",IF('full menu'!C2="UASC","UASC","")))))))))) -> UD | D2: =IF('full menu'!D2="MDC","MDC",IF(OR('full menu'!D2="PERF",'full menu'!D2="AERF",'full menu'!D2="PCB"),"ERfix",IF(OR('full menu'!D2="ACB", 'full menu'!D2="LCERT", 'full menu'!D2="LERT",'full menu'!D2="FCERT",'full menu'!D2="FERT"),"ERTs",IF(OR('full menu'!D2="FCMT",'full menu'!D2="FMT",'full menu'!D2="LMT",'full menu'!D2="LCMT"),"MTs",IF(OR('full menu'!D2="LCIT",'full menu'!D2="FCIT",'full menu'!D2="LIT",'full menu'!D2="FIT"),"ITs",IF(OR('full menu'!D2="MwERT", 'full menu'!D2="ERwMT", 'full menu'!D2="M&ERT", 'full menu'!D2="MwIT", 'full menu'!D2="IwMT", 'full menu'!D2="M&IT", 'full menu'!D2="IwERT", 'full menu'!D2="ERwIT", 'full menu'!D2="I&ERT", 'full menu'!D2="ER&M&IT"),"MixedTs",IF('full menu'!D2="UD","UD",IF('full menu'!D2="LSD","LSD",IF('full menu'!D2="WSD","WSD",IF('full menu'!D2="UASC","UASC","")))))))))) -> UD | E2: =IF('full menu'!E2="MDC","MDC",IF(OR('full menu'!E2="PERF",'full menu'!E2="AERF",'full menu'!E2="PCB"),"ERfix",IF(OR('full menu'!E2="ACB", 'full menu'!E2="LCERT", 'full menu'!E2="LERT",'full menu'!E2="FCERT",'full menu'!E2="FERT"),"ERTs",IF(OR('full menu'!E2="FCMT",'full menu'!E2="FMT",'full menu'!E2="LMT",'full menu'!E2="LCMT"),"MTs",IF(OR('full menu'!E2="LCIT",'full menu'!E2="FCIT",'full menu'!E2="LIT",'full menu'!E2="FIT"),"ITs",IF(OR('full menu'!E2="MwERT", 'full menu'!E2="ERwMT", 'full menu'!E2="M&ERT", 'full menu'!E2="MwIT", 'full menu'!E2="IwMT", 'full menu'!E2="M&IT", 'full menu'!E2="IwERT", 'full menu'!E2="ERwIT", 'full menu'!E2="I&ERT", 'full menu'!E2="ER&M&IT"),"MixedTs",IF('full menu'!E2="UD","UD",IF('full menu'!E2="LSD","LSD",IF('full menu'!E2="WSD","WSD",IF('full menu'!E2="UASC","UASC","")))))))))) -> UD | F2: =IF('full menu'!F2="MDC","MDC",IF(OR('full menu'!F2="PERF",'full menu'!F2="AERF",'full menu'!F2="PCB"),"ERfix",IF(OR('full menu'!F2="ACB", 'full menu'!F2="LCERT", 'full menu'!F2="LERT",'full menu'!F2="FCERT",'full menu'!F2="FERT"),"ERTs",IF(OR('full menu'!F2="FCMT",'full menu'!F2="FMT",'full menu'!F2="LMT",'full menu'!F2="LCMT"),"MTs",IF(OR('full menu'!F2="LCIT",'full menu'!F2="FCIT",'full menu'!F2="LIT",'full menu'!F2="FIT"),"ITs",IF(OR('full menu'!F2="MwERT", 'full menu'!F2="ERwMT", 'full menu'!F2="M&ERT", 'full menu'!F2="MwIT", 'full menu'!F2="IwMT", 'full menu'!F2="M&IT", 'full menu'!F2="IwERT", 'full menu'!F2="ERwIT", 'full menu'!F2="I&ERT", 'full menu'!F2="ER&M&IT"),"MixedTs",IF('full menu'!F2="UD","UD",IF('full menu'!F2="LSD","LSD",IF('full menu'!F2="WSD","WSD",IF('full menu'!F2="UASC","UASC","")))))))))) -> UD | G2: =IF('full menu'!G2="MDC","MDC",IF(OR('full menu'!G2="PERF",'full menu'!G2="AERF",'full menu'!G2="PCB"),"ERfix",IF(OR('full menu'!G2="ACB", 'full menu'!G2="LCERT", 'full menu'!G2="LERT",'full menu'!G2="FCERT",'full menu'!G2="FERT"),"ERTs",IF(OR('full menu'!G2="FCMT",'full menu'!G2="FMT",'full menu'!G2="LMT",'full menu'!G2="LCMT"),"MTs",IF(OR('full menu'!G2="LCIT",'full menu'!G2="FCIT",'full menu'!G2="LIT",'full menu'!G2="FIT"),"ITs",IF(OR('full menu'!G2="MwERT", 'full menu'!G2="ERwMT", 'full menu'!G2="M&ERT", 'full menu'!G2="MwIT", 'full menu'!G2="IwMT", 'full menu'!G2="M&IT", 'full menu'!G2="IwERT", 'full menu'!G2="ERwIT", 'full menu'!G2="I&ERT", 'full menu'!G2="ER&M&IT"),"MixedTs",IF('full menu'!G2="UD","UD",IF('full menu'!G2="LSD","LSD",IF('full menu'!G2="WSD","WSD",IF('full menu'!G2="UASC","UASC","")))))))))) -> UD | H2: =IF('full menu'!H2="MDC","MDC",IF(OR('full menu'!H2="PERF",'full menu'!H2="AERF",'full menu'!H2="PCB"),"ERfix",IF(OR('full menu'!H2="ACB", 'full menu'!H2="LCERT", 'full menu'!H2="LERT",'full menu'!H2="FCERT",'full menu'!H2="FERT"),"ERTs",IF(OR('full menu'!H2="FCMT",'full menu'!H2="FMT",'full menu'!H2="LMT",'full menu'!H2="LCMT"),"MTs",IF(OR('full menu'!H2="LCIT",'full menu'!H2="FCIT",'full menu'!H2="LIT",'full menu'!H2="FIT"),"ITs",IF(OR('full menu'!H2="MwERT", 'full menu'!H2="ERwMT", 'full menu'!H2="M&ERT", 'full menu'!H2="MwIT", 'full menu'!H2="IwMT", 'full menu'!H2="M&IT", 'full menu'!H2="IwERT", 'full menu'!H2="ERwIT", 'full menu'!H2="I&ERT", 'full menu'!H2="ER&M&IT"),"MixedTs",IF('full menu'!H2="UD","UD",IF('full menu'!H2="LSD","LSD",IF('full menu'!H2="WSD","WSD",IF('full menu'!H2="UASC","UASC","")))))))))) -> UD | I2: =IF('full menu'!I2="MDC","MDC",IF(OR('full menu'!I2="PERF",'full menu'!I2="AERF",'full menu'!I2="PCB"),"ERfix",IF(OR('full menu'!I2="ACB", 'full menu'!I2="LCERT", 'full menu'!I2="LERT",'full menu'!I2="FCERT",'full menu'!I2="FERT"),"ERTs",IF(OR('full menu'!I2="FCMT",'full menu'!I2="FMT",'full menu'!I2="LMT",'full menu'!I2="LCMT"),"MTs",IF(OR('full menu'!I2="LCIT",'full menu'!I2="FCIT",'full menu'!I2="LIT",'full menu'!I2="FIT"),"ITs",IF(OR('full menu'!I2="MwERT", 'full menu'!I2="ERwMT", 'full menu'!I2="M&ERT", 'full menu'!I2="MwIT", 'full menu'!I2="IwMT", 'full menu'!I2="M&IT", 'full menu'!I2="IwERT", 'full menu'!I2="ERwIT", 'full menu'!I2="I&ERT", 'full menu'!I2="ER&M&IT"),"MixedTs",IF('full menu'!I2="UD","UD",IF('full menu'!I2="LSD","LSD",IF('full menu'!I2="WSD","WSD",IF('full menu'!I2="UASC","UASC","")))))))))) -> UD | ... AY2: =IF('full menu'!AY2="MDC","MDC",IF(OR('full menu'!AY2="PERF",'full menu'!AY2="AERF",'full menu'!AY2="PCB"),"ERfix",IF(OR('full menu'!AY2="ACB", 'full menu'!AY2="LCERT", 'full menu'!AY2="LERT",'full menu'!AY2="FCERT",'full menu'!AY2="FERT"),"ERTs",IF(OR('full menu'!AY2="FCMT",'full menu'!AY2="FMT",'full menu'!AY2="LMT",'full menu'!AY2="LCMT"),"MTs",IF(OR('full menu'!AY2="LCIT",'full menu'!AY2="FCIT",'full menu'!AY2="LIT",'full menu'!AY2="FIT"),"ITs",IF(OR('full menu'!AY2="MwERT", 'full menu'!AY2="ERwMT", 'full menu'!AY2="M&ERT", 'full menu'!AY2="MwIT", 'full menu'!AY2="IwMT", 'full menu'!AY2="M&IT", 'full menu'!AY2="IwERT", 'full menu'!AY2="ERwIT", 'full menu'!AY2="I&ERT", 'full menu'!AY2="ER&M&IT"),"MixedTs",IF('full menu'!AY2="UD","UD",IF('full menu'!AY2="LSD","LSD",IF('full menu'!AY2="WSD","WSD",IF('full menu'!AY2="UASC","UASC","")))))))))) -> LSD
A3: Albania | B3: =IF('full menu'!B3="MDC","MDC",IF(OR('full menu'!B3="PERF",'full menu'!B3="AERF",'full menu'!B3="PCB"),"ERfix",IF(OR('full menu'!B3="ACB", 'full menu'!B3="LCERT", 'full menu'!B3="LERT",'full menu'!B3="FCERT",'full menu'!B3="FERT"),"ERTs",IF(OR('full menu'!B3="FCMT",'full menu'!B3="FMT",'full menu'!B3="LMT",'full menu'!B3="LCMT"),"MTs",IF(OR('full menu'!B3="LCIT",'full menu'!B3="FCIT",'full menu'!B3="LIT",'full menu'!B3="FIT"),"ITs",IF(OR('full menu'!B3="MwERT", 'full menu'!B3="ERwMT", 'full menu'!B3="M&ERT", 'full menu'!B3="MwIT", 'full menu'!B3="IwMT", 'full menu'!B3="M&IT", 'full menu'!B3="IwERT", 'full menu'!B3="ERwIT", 'full menu'!B3="I&ERT", 'full menu'!B3="ER&M&IT"),"MixedTs",IF('full menu'!B3="UD","UD",IF('full menu'!B3="LSD","LSD",IF('full menu'!B3="WSD","WSD",IF('full menu'!B3="UASC","UASC","")))))))))) -> MDC | C3: =IF('full menu'!C3="MDC","MDC",IF(OR('full menu'!C3="PERF",'full menu'!C3="AERF",'full menu'!C3="PCB"),"ERfix",IF(OR('full menu'!C3="ACB", 'full menu'!C3="LCERT", 'full menu'!C3="LERT",'full menu'!C3="FCERT",'full menu'!C3="FERT"),"ERTs",IF(OR('full menu'!C3="FCMT",'full menu'!C3="FMT",'full menu'!C3="LMT",'full menu'!C3="LCMT"),"MTs",IF(OR('full menu'!C3="LCIT",'full menu'!C3="FCIT",'full menu'!C3="LIT",'full menu'!C3="FIT"),"ITs",IF(OR('full menu'!C3="MwERT", 'full menu'!C3="ERwMT", 'full menu'!C3="M&ERT", 'full menu'!C3="MwIT", 'full menu'!C3="IwMT", 'full menu'!C3="M&IT", 'full menu'!C3="IwERT", 'full menu'!C3="ERwIT", 'full menu'!C3="I&ERT", 'full menu'!C3="ER&M&IT"),"MixedTs",IF('full menu'!C3="UD","UD",IF('full menu'!C3="LSD","LSD",IF('full menu'!C3="WSD","WSD",IF('full menu'!C3="UASC","UASC","")))))))))) -> MDC | D3: =IF('full menu'!D3="MDC","MDC",IF(OR('full menu'!D3="PERF",'full menu'!D3="AERF",'full menu'!D3="PCB"),"ERfix",IF(OR('full menu'!D3="ACB", 'full menu'!D3="LCERT", 'full menu'!D3="LERT",'full menu'!D3="FCERT",'full menu'!D3="FERT"),"ERTs",IF(OR('full menu'!D3="FCMT",'full menu'!D3="FMT",'full menu'!D3="LMT",'full menu'!D3="LCMT"),"MTs",IF(OR('full menu'!D3="LCIT",'full menu'!D3="FCIT",'full menu'!D3="LIT",'full menu'!D3="FIT"),"ITs",IF(OR('full menu'!D3="MwERT", 'full menu'!D3="ERwMT", 'full menu'!D3="M&ERT", 'full menu'!D3="MwIT", 'full menu'!D3="IwMT", 'full menu'!D3="M&IT", 'full menu'!D3="IwERT", 'full menu'!D3="ERwIT", 'full menu'!D3="I&ERT", 'full menu'!D3="ER&M&IT"),"MixedTs",IF('full menu'!D3="UD","UD",IF('full menu'!D3="LSD","LSD",IF('full menu'!D3="WSD","WSD",IF('full menu'!D3="UASC","UASC","")))))))))) -> MDC | E3: =IF('full menu'!E3="MDC","MDC",IF(OR('full menu'!E3="PERF",'full menu'!E3="AERF",'full menu'!E3="PCB"),"ERfix",IF(OR('full menu'!E3="ACB", 'full menu'!E3="LCERT", 'full menu'!E3="LERT",'full menu'!E3="FCERT",'full menu'!E3="FERT"),"ERTs",IF(OR('full menu'!E3="FCMT",'full menu'!E3="FMT",'full menu'!E3="LMT",'full menu'!E3="LCMT"),"MTs",IF(OR('full menu'!E3="LCIT",'full menu'!E3="FCIT",'full menu'!E3="LIT",'full menu'!E3="FIT"),"ITs",IF(OR('full menu'!E3="MwERT", 'full menu'!E3="ERwMT", 'full menu'!E3="M&ERT", 'full menu'!E3="MwIT", 'full menu'!E3="IwMT", 'full menu'!E3="M&IT", 'full menu'!E3="IwERT", 'full menu'!E3="ERwIT", 'full menu'!E3="I&ERT", 'full menu'!E3="ER&M&IT"),"MixedTs",IF('full menu'!E3="UD","UD",IF('full menu'!E3="LSD","LSD",IF('full menu'!E3="WSD","WSD",IF('full menu'!E3="UASC","UASC","")))))))))) -> MDC | F3: =IF('full menu'!F3="MDC","MDC",IF(OR('full menu'!F3="PERF",'full menu'!F3="AERF",'full menu'!F3="PCB"),"ERfix",IF(OR('full menu'!F3="ACB", 'full menu'!F3="LCERT", 'full menu'!F3="LERT",'full menu'!F3="FCERT",'full menu'!F3="FERT"),"ERTs",IF(OR('full menu'!F3="FCMT",'full menu'!F3="FMT",'full menu'!F3="LMT",'full menu'!F3="LCMT"),"MTs",IF(OR('full menu'!F3="LCIT",'full menu'!F3="FCIT",'full menu'!F3="LIT",'full menu'!F3="FIT"),"ITs",IF(OR('full menu'!F3="MwERT", 'full menu'!F3="ERwMT", 'full menu'!F3="M&ERT", 'full menu'!F3="MwIT", 'full menu'!F3="IwMT", 'full menu'!F3="M&IT", 'full menu'!F3="IwERT", 'full menu'!F3="ERwIT", 'full menu'!F3="I&ERT", 'full menu'!F3="ER&M&IT"),"MixedTs",IF('full menu'!F3="UD","UD",IF('full menu'!F3="LSD","LSD",IF('full menu'!F3="WSD","WSD",IF('full menu'!F3="UASC","UASC","")))))))))) -> MDC | G3: =IF('full menu'!G3="MDC","MDC",IF(OR('full menu'!G3="PERF",'full menu'!G3="AERF",'full menu'!G3="PCB"),"ERfix",IF(OR('full menu'!G3="ACB", 'full menu'!G3="LCERT", 'full menu'!G3="LERT",'full menu'!G3="FCERT",'full menu'!G3="FERT"),"ERTs",IF(OR('full menu'!G3="FCMT",'full menu'!G3="FMT",'full menu'!G3="LMT",'full menu'!G3="LCMT"),"MTs",IF(OR('full menu'!G3="LCIT",'full menu'!G3="FCIT",'full menu'!G3="LIT",'full menu'!G3="FIT"),"ITs",IF(OR('full menu'!G3="MwERT", 'full menu'!G3="ERwMT", 'full menu'!G3="M&ERT", 'full menu'!G3="MwIT", 'full menu'!G3="IwMT", 'full menu'!G3="M&IT", 'full menu'!G3="IwERT", 'full menu'!G3="ERwIT", 'full menu'!G3="I&ERT", 'full menu'!G3="ER&M&IT"),"MixedTs",IF('full menu'!G3="UD","UD",IF('full menu'!G3="LSD","LSD",IF('full menu'!G3="WSD","WSD",IF('full menu'!G3="UASC","UASC","")))))))))) -> MDC | H3: =IF('full menu'!H3="MDC","MDC",IF(OR('full menu'!H3="PERF",'full menu'!H3="AERF",'full menu'!H3="PCB"),"ERfix",IF(OR('full menu'!H3="ACB", 'full menu'!H3="LCERT", 'full menu'!H3="LERT",'full menu'!H3="FCERT",'full menu'!H3="FERT"),"ERTs",IF(OR('full menu'!H3="FCMT",'full menu'!H3="FMT",'full menu'!H3="LMT",'full menu'!H3="LCMT"),"MTs",IF(OR('full menu'!H3="LCIT",'full menu'!H3="FCIT",'full menu'!H3="LIT",'full menu'!H3="FIT"),"ITs",IF(OR('full menu'!H3="MwERT", 'full menu'!H3="ERwMT", 'full menu'!H3="M&ERT", 'full menu'!H3="MwIT", 'full menu'!H3="IwMT", 'full menu'!H3="M&IT", 'full menu'!H3="IwERT", 'full menu'!H3="ERwIT", 'full menu'!H3="I&ERT", 'full menu'!H3="ER&M&IT"),"MixedTs",IF('full menu'!H3="UD","UD",IF('full menu'!H3="LSD","LSD",IF('full menu'!H3="WSD","WSD",IF('full menu'!H3="UASC","UASC","")))))))))) -> MDC | I3: =IF('full menu'!I3="MDC","MDC",IF(OR('full menu'!I3="PERF",'full menu'!I3="AERF",'full menu'!I3="PCB"),"ERfix",IF(OR('full menu'!I3="ACB", 'full menu'!I3="LCERT", 'full menu'!I3="LERT",'full menu'!I3="FCERT",'full menu'!I3="FERT"),"ERTs",IF(OR('full menu'!I3="FCMT",'full menu'!I3="FMT",'full menu'!I3="LMT",'full menu'!I3="LCMT"),"MTs",IF(OR('full menu'!I3="LCIT",'full menu'!I3="FCIT",'full menu'!I3="LIT",'full menu'!I3="FIT"),"ITs",IF(OR('full menu'!I3="MwERT", 'full menu'!I3="ERwMT", 'full menu'!I3="M&ERT", 'full menu'!I3="MwIT", 'full menu'!I3="IwMT", 'full menu'!I3="M&IT", 'full menu'!I3="IwERT", 'full menu'!I3="ERwIT", 'full menu'!I3="I&ERT", 'full menu'!I3="ER&M&IT"),"MixedTs",IF('full menu'!I3="UD","UD",IF('full menu'!I3="LSD","LSD",IF('full menu'!I3="WSD","WSD",IF('full menu'!I3="UASC","UASC","")))))))))) -> MDC | ... AY3: =IF('full menu'!AY3="MDC","MDC",IF(OR('full menu'!AY3="PERF",'full menu'!AY3="AERF",'full menu'!AY3="PCB"),"ERfix",IF(OR('full menu'!AY3="ACB", 'full menu'!AY3="LCERT", 'full menu'!AY3="LERT",'full menu'!AY3="FCERT",'full menu'!AY3="FERT"),"ERTs",IF(OR('full menu'!AY3="FCMT",'full menu'!AY3="FMT",'full menu'!AY3="LMT",'full menu'!AY3="LCMT"),"MTs",IF(OR('full menu'!AY3="LCIT",'full menu'!AY3="FCIT",'full menu'!AY3="LIT",'full menu'!AY3="FIT"),"ITs",IF(OR('full menu'!AY3="MwERT", 'full menu'!AY3="ERwMT", 'full menu'!AY3="M&ERT", 'full menu'!AY3="MwIT", 'full menu'!AY3="IwMT", 'full menu'!AY3="M&IT", 'full menu'!AY3="IwERT", 'full menu'!AY3="ERwIT", 'full menu'!AY3="I&ERT", 'full menu'!AY3="ER&M&IT"),"MixedTs",IF('full menu'!AY3="UD","UD",IF('full menu'!AY3="LSD","LSD",IF('full menu'!AY3="WSD","WSD",IF('full menu'!AY3="UASC","UASC","")))))))))) -> ITs
A4: Algeria | B4: =IF('full menu'!B4="MDC","MDC",IF(OR('full menu'!B4="PERF",'full menu'!B4="AERF",'full menu'!B4="PCB"),"ERfix",IF(OR('full menu'!B4="ACB", 'full menu'!B4="LCERT", 'full menu'!B4="LERT",'full menu'!B4="FCERT",'full menu'!B4="FERT"),"ERTs",IF(OR('full menu'!B4="FCMT",'full menu'!B4="FMT",'full menu'!B4="LMT",'full menu'!B4="LCMT"),"MTs",IF(OR('full menu'!B4="LCIT",'full menu'!B4="FCIT",'full menu'!B4="LIT",'full menu'!B4="FIT"),"ITs",IF(OR('full menu'!B4="MwERT", 'full menu'!B4="ERwMT", 'full menu'!B4="M&ERT", 'full menu'!B4="MwIT", 'full menu'!B4="IwMT", 'full menu'!B4="M&IT", 'full menu'!B4="IwERT", 'full menu'!B4="ERwIT", 'full menu'!B4="I&ERT", 'full menu'!B4="ER&M&IT"),"MixedTs",IF('full menu'!B4="UD","UD",IF('full menu'!B4="LSD","LSD",IF('full menu'!B4="WSD","WSD",IF('full menu'!B4="UASC","UASC","")))))))))) -> MDC | C4: =IF('full menu'!C4="MDC","MDC",IF(OR('full menu'!C4="PERF",'full menu'!C4="AERF",'full menu'!C4="PCB"),"ERfix",IF(OR('full menu'!C4="ACB", 'full menu'!C4="LCERT", 'full menu'!C4="LERT",'full menu'!C4="FCERT",'full menu'!C4="FERT"),"ERTs",IF(OR('full menu'!C4="FCMT",'full menu'!C4="FMT",'full menu'!C4="LMT",'full menu'!C4="LCMT"),"MTs",IF(OR('full menu'!C4="LCIT",'full menu'!C4="FCIT",'full menu'!C4="LIT",'full menu'!C4="FIT"),"ITs",IF(OR('full menu'!C4="MwERT", 'full menu'!C4="ERwMT", 'full menu'!C4="M&ERT", 'full menu'!C4="MwIT", 'full menu'!C4="IwMT", 'full menu'!C4="M&IT", 'full menu'!C4="IwERT", 'full menu'!C4="ERwIT", 'full menu'!C4="I&ERT", 'full menu'!C4="ER&M&IT"),"MixedTs",IF('full menu'!C4="UD","UD",IF('full menu'!C4="LSD","LSD",IF('full menu'!C4="WSD","WSD",IF('full menu'!C4="UASC","UASC","")))))))))) -> MDC | D4: =IF('full menu'!D4="MDC","MDC",IF(OR('full menu'!D4="PERF",'full menu'!D4="AERF",'full menu'!D4="PCB"),"ERfix",IF(OR('full menu'!D4="ACB", 'full menu'!D4="LCERT", 'full menu'!D4="LERT",'full menu'!D4="FCERT",'full menu'!D4="FERT"),"ERTs",IF(OR('full menu'!D4="FCMT",'full menu'!D4="FMT",'full menu'!D4="LMT",'full menu'!D4="LCMT"),"MTs",IF(OR('full menu'!D4="LCIT",'full menu'!D4="FCIT",'full menu'!D4="LIT",'full menu'!D4="FIT"),"ITs",IF(OR('full menu'!D4="MwERT", 'full menu'!D4="ERwMT", 'full menu'!D4="M&ERT", 'full menu'!D4="MwIT", 'full menu'!D4="IwMT", 'full menu'!D4="M&IT", 'full menu'!D4="IwERT", 'full menu'!D4="ERwIT", 'full menu'!D4="I&ERT", 'full menu'!D4="ER&M&IT"),"MixedTs",IF('full menu'!D4="UD","UD",IF('full menu'!D4="LSD","LSD",IF('full menu'!D4="WSD","WSD",IF('full menu'!D4="UASC","UASC","")))))))))) -> MDC | E4: =IF('full menu'!E4="MDC","MDC",IF(OR('full menu'!E4="PERF",'full menu'!E4="AERF",'full menu'!E4="PCB"),"ERfix",IF(OR('full menu'!E4="ACB", 'full menu'!E4="LCERT", 'full menu'!E4="LERT",'full menu'!E4="FCERT",'full menu'!E4="FERT"),"ERTs",IF(OR('full menu'!E4="FCMT",'full menu'!E4="FMT",'full menu'!E4="LMT",'full menu'!E4="LCMT"),"MTs",IF(OR('full menu'!E4="LCIT",'full menu'!E4="FCIT",'full menu'!E4="LIT",'full menu'!E4="FIT"),"ITs",IF(OR('full menu'!E4="MwERT", 'full menu'!E4="ERwMT", 'full menu'!E4="M&ERT", 'full menu'!E4="MwIT", 'full menu'!E4="IwMT", 'full menu'!E4="M&IT", 'full menu'!E4="IwERT", 'full menu'!E4="ERwIT", 'full menu'!E4="I&ERT", 'full menu'!E4="ER&M&IT"),"MixedTs",IF('full menu'!E4="UD","UD",IF('full menu'!E4="LSD","LSD",IF('full menu'!E4="WSD","WSD",IF('full menu'!E4="UASC","UASC","")))))))))) -> MDC | F4: =IF('full menu'!F4="MDC","MDC",IF(OR('full menu'!F4="PERF",'full menu'!F4="AERF",'full menu'!F4="PCB"),"ERfix",IF(OR('full menu'!F4="ACB", 'full menu'!F4="LCERT", 'full menu'!F4="LERT",'full menu'!F4="FCERT",'full menu'!F4="FERT"),"ERTs",IF(OR('full menu'!F4="FCMT",'full menu'!F4="FMT",'full menu'!F4="LMT",'full menu'!F4="LCMT"),"MTs",IF(OR('full menu'!F4="LCIT",'full menu'!F4="FCIT",'full menu'!F4="LIT",'full menu'!F4="FIT"),"ITs",IF(OR('full menu'!F4="MwERT", 'full menu'!F4="ERwMT", 'full menu'!F4="M&ERT", 'full menu'!F4="MwIT", 'full menu'!F4="IwMT", 'full menu'!F4="M&IT", 'full menu'!F4="IwERT", 'full menu'!F4="ERwIT", 'full menu'!F4="I&ERT", 'full menu'!F4="ER&M&IT"),"MixedTs",IF('full menu'!F4="UD","UD",IF('full menu'!F4="LSD","LSD",IF('full menu'!F4="WSD","WSD",IF('full menu'!F4="UASC","UASC","")))))))))) -> MDC | G4: =IF('full menu'!G4="MDC","MDC",IF(OR('full menu'!G4="PERF",'full menu'!G4="AERF",'full menu'!G4="PCB"),"ERfix",IF(OR('full menu'!G4="ACB", 'full menu'!G4="LCERT", 'full menu'!G4="LERT",'full menu'!G4="FCERT",'full menu'!G4="FERT"),"ERTs",IF(OR('full menu'!G4="FCMT",'full menu'!G4="FMT",'full menu'!G4="LMT",'full menu'!G4="LCMT"),"MTs",IF(OR('full menu'!G4="LCIT",'full menu'!G4="FCIT",'full menu'!G4="LIT",'full menu'!G4="FIT"),"ITs",IF(OR('full menu'!G4="MwERT", 'full menu'!G4="ERwMT", 'full menu'!G4="M&ERT", 'full menu'!G4="MwIT", 'full menu'!G4="IwMT", 'full menu'!G4="M&IT", 'full menu'!G4="IwERT", 'full menu'!G4="ERwIT", 'full menu'!G4="I&ERT", 'full menu'!G4="ER&M&IT"),"MixedTs",IF('full menu'!G4="UD","UD",IF('full menu'!G4="LSD","LSD",IF('full menu'!G4="WSD","WSD",IF('full menu'!G4="UASC","UASC","")))))))))) -> MDC | H4: =IF('full menu'!H4="MDC","MDC",IF(OR('full menu'!H4="PERF",'full menu'!H4="AERF",'full menu'!H4="PCB"),"ERfix",IF(OR('full menu'!H4="ACB", 'full menu'!H4="LCERT", 'full menu'!H4="LERT",'full menu'!H4="FCERT",'full menu'!H4="FERT"),"ERTs",IF(OR('full menu'!H4="FCMT",'full menu'!H4="FMT",'full menu'!H4="LMT",'full menu'!H4="LCMT"),"MTs",IF(OR('full menu'!H4="LCIT",'full menu'!H4="FCIT",'full menu'!H4="LIT",'full menu'!H4="FIT"),"ITs",IF(OR('full menu'!H4="MwERT", 'full menu'!H4="ERwMT", 'full menu'!H4="M&ERT", 'full menu'!H4="MwIT", 'full menu'!H4="IwMT", 'full menu'!H4="M&IT", 'full menu'!H4="IwERT", 'full menu'!H4="ERwIT", 'full menu'!H4="I&ERT", 'full menu'!H4="ER&M&IT"),"MixedTs",IF('full menu'!H4="UD","UD",IF('full menu'!H4="LSD","LSD",IF('full menu'!H4="WSD","WSD",IF('full menu'!H4="UASC","UASC","")))))))))) -> MDC | I4: =IF('full menu'!I4="MDC","MDC",IF(OR('full menu'!I4="PERF",'full menu'!I4="AERF",'full menu'!I4="PCB"),"ERfix",IF(OR('full menu'!I4="ACB", 'full menu'!I4="LCERT", 'full menu'!I4="LERT",'full menu'!I4="FCERT",'full menu'!I4="FERT"),"ERTs",IF(OR('full menu'!I4="FCMT",'full menu'!I4="FMT",'full menu'!I4="LMT",'full menu'!I4="LCMT"),"MTs",IF(OR('full menu'!I4="LCIT",'full menu'!I4="FCIT",'full menu'!I4="LIT",'full menu'!I4="FIT"),"ITs",IF(OR('full menu'!I4="MwERT", 'full menu'!I4="ERwMT", 'full menu'!I4="M&ERT", 'full menu'!I4="MwIT", 'full menu'!I4="IwMT", 'full menu'!I4="M&IT", 'full menu'!I4="IwERT", 'full menu'!I4="ERwIT", 'full menu'!I4="I&ERT", 'full menu'!I4="ER&M&IT"),"MixedTs",IF('full menu'!I4="UD","UD",IF('full menu'!I4="LSD","LSD",IF('full menu'!I4="WSD","WSD",IF('full menu'!I4="UASC","UASC","")))))))))) -> MDC | ... AY4: =IF('full menu'!AY4="MDC","MDC",IF(OR('full menu'!AY4="PERF",'full menu'!AY4="AERF",'full menu'!AY4="PCB"),"ERfix",IF(OR('full menu'!AY4="ACB", 'full menu'!AY4="LCERT", 'full menu'!AY4="LERT",'full menu'!AY4="FCERT",'full menu'!AY4="FERT"),"ERTs",IF(OR('full menu'!AY4="FCMT",'full menu'!AY4="FMT",'full menu'!AY4="LMT",'full menu'!AY4="LCMT"),"MTs",IF(OR('full menu'!AY4="LCIT",'full menu'!AY4="FCIT",'full menu'!AY4="LIT",'full menu'!AY4="FIT"),"ITs",IF(OR('full menu'!AY4="MwERT", 'full menu'!AY4="ERwMT", 'full menu'!AY4="M&ERT", 'full menu'!AY4="MwIT", 'full menu'!AY4="IwMT", 'full menu'!AY4="M&IT", 'full menu'!AY4="IwERT", 'full menu'!AY4="ERwIT", 'full menu'!AY4="I&ERT", 'full menu'!AY4="ER&M&IT"),"MixedTs",IF('full menu'!AY4="UD","UD",IF('full menu'!AY4="LSD","LSD",IF('full menu'!AY4="WSD","WSD",IF('full menu'!AY4="UASC","UASC","")))))))))) -> LSD
A5: Angola | B5: =IF('full menu'!B5="MDC","MDC",IF(OR('full menu'!B5="PERF",'full menu'!B5="AERF",'full menu'!B5="PCB"),"ERfix",IF(OR('full menu'!B5="ACB", 'full menu'!B5="LCERT", 'full menu'!B5="LERT",'full menu'!B5="FCERT",'full menu'!B5="FERT"),"ERTs",IF(OR('full menu'!B5="FCMT",'full menu'!B5="FMT",'full menu'!B5="LMT",'full menu'!B5="LCMT"),"MTs",IF(OR('full menu'!B5="LCIT",'full menu'!B5="FCIT",'full menu'!B5="LIT",'full menu'!B5="FIT"),"ITs",IF(OR('full menu'!B5="MwERT", 'full menu'!B5="ERwMT", 'full menu'!B5="M&ERT", 'full menu'!B5="MwIT", 'full menu'!B5="IwMT", 'full menu'!B5="M&IT", 'full menu'!B5="IwERT", 'full menu'!B5="ERwIT", 'full menu'!B5="I&ERT", 'full menu'!B5="ER&M&IT"),"MixedTs",IF('full menu'!B5="UD","UD",IF('full menu'!B5="LSD","LSD",IF('full menu'!B5="WSD","WSD",IF('full menu'!B5="UASC","UASC","")))))))))) | C5: =IF('full menu'!C5="MDC","MDC",IF(OR('full menu'!C5="PERF",'full menu'!C5="AERF",'full menu'!C5="PCB"),"ERfix",IF(OR('full menu'!C5="ACB", 'full menu'!C5="LCERT", 'full menu'!C5="LERT",'full menu'!C5="FCERT",'full menu'!C5="FERT"),"ERTs",IF(OR('full menu'!C5="FCMT",'full menu'!C5="FMT",'full menu'!C5="LMT",'full menu'!C5="LCMT"),"MTs",IF(OR('full menu'!C5="LCIT",'full menu'!C5="FCIT",'full menu'!C5="LIT",'full menu'!C5="FIT"),"ITs",IF(OR('full menu'!C5="MwERT", 'full menu'!C5="ERwMT", 'full menu'!C5="M&ERT", 'full menu'!C5="MwIT", 'full menu'!C5="IwMT", 'full menu'!C5="M&IT", 'full menu'!C5="IwERT", 'full menu'!C5="ERwIT", 'full menu'!C5="I&ERT", 'full menu'!C5="ER&M&IT"),"MixedTs",IF('full menu'!C5="UD","UD",IF('full menu'!C5="LSD","LSD",IF('full menu'!C5="WSD","WSD",IF('full menu'!C5="UASC","UASC","")))))))))) | D5: =IF('full menu'!D5="MDC","MDC",IF(OR('full menu'!D5="PERF",'full menu'!D5="AERF",'full menu'!D5="PCB"),"ERfix",IF(OR('full menu'!D5="ACB", 'full menu'!D5="LCERT", 'full menu'!D5="LERT",'full menu'!D5="FCERT",'full menu'!D5="FERT"),"ERTs",IF(OR('full menu'!D5="FCMT",'full menu'!D5="FMT",'full menu'!D5="LMT",'full menu'!D5="LCMT"),"MTs",IF(OR('full menu'!D5="LCIT",'full menu'!D5="FCIT",'full menu'!D5="LIT",'full menu'!D5="FIT"),"ITs",IF(OR('full menu'!D5="MwERT", 'full menu'!D5="ERwMT", 'full menu'!D5="M&ERT", 'full menu'!D5="MwIT", 'full menu'!D5="IwMT", 'full menu'!D5="M&IT", 'full menu'!D5="IwERT", 'full menu'!D5="ERwIT", 'full menu'!D5="I&ERT", 'full menu'!D5="ER&M&IT"),"MixedTs",IF('full menu'!D5="UD","UD",IF('full menu'!D5="LSD","LSD",IF('full menu'!D5="WSD","WSD",IF('full menu'!D5="UASC","UASC","")))))))))) -> UD | E5: =IF('full menu'!E5="MDC","MDC",IF(OR('full menu'!E5="PERF",'full menu'!E5="AERF",'full menu'!E5="PCB"),"ERfix",IF(OR('full menu'!E5="ACB", 'full menu'!E5="LCERT", 'full menu'!E5="LERT",'full menu'!E5="FCERT",'full menu'!E5="FERT"),"ERTs",IF(OR('full menu'!E5="FCMT",'full menu'!E5="FMT",'full menu'!E5="LMT",'full menu'!E5="LCMT"),"MTs",IF(OR('full menu'!E5="LCIT",'full menu'!E5="FCIT",'full menu'!E5="LIT",'full menu'!E5="FIT"),"ITs",IF(OR('full menu'!E5="MwERT", 'full menu'!E5="ERwMT", 'full menu'!E5="M&ERT", 'full menu'!E5="MwIT", 'full menu'!E5="IwMT", 'full menu'!E5="M&IT", 'full menu'!E5="IwERT", 'full menu'!E5="ERwIT", 'full menu'!E5="I&ERT", 'full menu'!E5="ER&M&IT"),"MixedTs",IF('full menu'!E5="UD","UD",IF('full menu'!E5="LSD","LSD",IF('full menu'!E5="WSD","WSD",IF('full menu'!E5="UASC","UASC","")))))))))) -> UD | F5: =IF('full menu'!F5="MDC","MDC",IF(OR('full menu'!F5="PERF",'full menu'!F5="AERF",'full menu'!F5="PCB"),"ERfix",IF(OR('full menu'!F5="ACB", 'full menu'!F5="LCERT", 'full menu'!F5="LERT",'full menu'!F5="FCERT",'full menu'!F5="FERT"),"ERTs",IF(OR('full menu'!F5="FCMT",'full menu'!F5="FMT",'full menu'!F5="LMT",'full menu'!F5="LCMT"),"MTs",IF(OR('full menu'!F5="LCIT",'full menu'!F5="FCIT",'full menu'!F5="LIT",'full menu'!F5="FIT"),"ITs",IF(OR('full menu'!F5="MwERT", 'full menu'!F5="ERwMT", 'full menu'!F5="M&ERT", 'full menu'!F5="MwIT", 'full menu'!F5="IwMT", 'full menu'!F5="M&IT", 'full menu'!F5="IwERT", 'full menu'!F5="ERwIT", 'full menu'!F5="I&ERT", 'full menu'!F5="ER&M&IT"),"MixedTs",IF('full menu'!F5="UD","UD",IF('full menu'!F5="LSD","LSD",IF('full menu'!F5="WSD","WSD",IF('full menu'!F5="UASC","UASC","")))))))))) -> UD | G5: =IF('full menu'!G5="MDC","MDC",IF(OR('full menu'!G5="PERF",'full menu'!G5="AERF",'full menu'!G5="PCB"),"ERfix",IF(OR('full menu'!G5="ACB", 'full menu'!G5="LCERT", 'full menu'!G5="LERT",'full menu'!G5="FCERT",'full menu'!G5="FERT"),"ERTs",IF(OR('full menu'!G5="FCMT",'full menu'!G5="FMT",'full menu'!G5="LMT",'full menu'!G5="LCMT"),"MTs",IF(OR('full menu'!G5="LCIT",'full menu'!G5="FCIT",'full menu'!G5="LIT",'full menu'!G5="FIT"),"ITs",IF(OR('full menu'!G5="MwERT", 'full menu'!G5="ERwMT", 'full menu'!G5="M&ERT", 'full menu'!G5="MwIT", 'full menu'!G5="IwMT", 'full menu'!G5="M&IT", 'full menu'!G5="IwERT", 'full menu'!G5="ERwIT", 'full menu'!G5="I&ERT", 'full menu'!G5="ER&M&IT"),"MixedTs",IF('full menu'!G5="UD","UD",IF('full menu'!G5="LSD","LSD",IF('full menu'!G5="WSD","WSD",IF('full menu'!G5="UASC","UASC","")))))))))) -> UD | H5: =IF('full menu'!H5="MDC","MDC",IF(OR('full menu'!H5="PERF",'full menu'!H5="AERF",'full menu'!H5="PCB"),"ERfix",IF(OR('full menu'!H5="ACB", 'full menu'!H5="LCERT", 'full menu'!H5="LERT",'full menu'!H5="FCERT",'full menu'!H5="FERT"),"ERTs",IF(OR('full menu'!H5="FCMT",'full menu'!H5="FMT",'full menu'!H5="LMT",'full menu'!H5="LCMT"),"MTs",IF(OR('full menu'!H5="LCIT",'full menu'!H5="FCIT",'full menu'!H5="LIT",'full menu'!H5="FIT"),"ITs",IF(OR('full menu'!H5="MwERT", 'full menu'!H5="ERwMT", 'full menu'!H5="M&ERT", 'full menu'!H5="MwIT", 'full menu'!H5="IwMT", 'full menu'!H5="M&IT", 'full menu'!H5="IwERT", 'full menu'!H5="ERwIT", 'full menu'!H5="I&ERT", 'full menu'!H5="ER&M&IT"),"MixedTs",IF('full menu'!H5="UD","UD",IF('full menu'!H5="LSD","LSD",IF('full menu'!H5="WSD","WSD",IF('full menu'!H5="UASC","UASC","")))))))))) -> UD | I5: =IF('full menu'!I5="MDC","MDC",IF(OR('full menu'!I5="PERF",'full menu'!I5="AERF",'full menu'!I5="PCB"),"ERfix",IF(OR('full menu'!I5="ACB", 'full menu'!I5="LCERT", 'full menu'!I5="LERT",'full menu'!I5="FCERT",'full menu'!I5="FERT"),"ERTs",IF(OR('full menu'!I5="FCMT",'full menu'!I5="FMT",'full menu'!I5="LMT",'full menu'!I5="LCMT"),"MTs",IF(OR('full menu'!I5="LCIT",'full menu'!I5="FCIT",'full menu'!I5="LIT",'full menu'!I5="FIT"),"ITs",IF(OR('full menu'!I5="MwERT", 'full menu'!I5="ERwMT", 'full menu'!I5="M&ERT", 'full menu'!I5="MwIT", 'full menu'!I5="IwMT", 'full menu'!I5="M&IT", 'full menu'!I5="IwERT", 'full menu'!I5="ERwIT", 'full menu'!I5="I&ERT", 'full menu'!I5="ER&M&IT"),"MixedTs",IF('full menu'!I5="UD","UD",IF('full menu'!I5="LSD","LSD",IF('full menu'!I5="WSD","WSD",IF('full menu'!I5="UASC","UASC","")))))))))) -> UD | ... AY5: =IF('full menu'!AY5="MDC","MDC",IF(OR('full menu'!AY5="PERF",'full menu'!AY5="AERF",'full menu'!AY5="PCB"),"ERfix",IF(OR('full menu'!AY5="ACB", 'full menu'!AY5="LCERT", 'full menu'!AY5="LERT",'full menu'!AY5="FCERT",'full menu'!AY5="FERT"),"ERTs",IF(OR('full menu'!AY5="FCMT",'full menu'!AY5="FMT",'full menu'!AY5="LMT",'full menu'!AY5="LCMT"),"MTs",IF(OR('full menu'!AY5="LCIT",'full menu'!AY5="FCIT",'full menu'!AY5="LIT",'full menu'!AY5="FIT"),"ITs",IF(OR('full menu'!AY5="MwERT", 'full menu'!AY5="ERwMT", 'full menu'!AY5="M&ERT", 'full menu'!AY5="MwIT", 'full menu'!AY5="IwMT", 'full menu'!AY5="M&IT", 'full menu'!AY5="IwERT", 'full menu'!AY5="ERwIT", 'full menu'!AY5="I&ERT", 'full menu'!AY5="ER&M&IT"),"MixedTs",IF('full menu'!AY5="UD","UD",IF('full menu'!AY5="LSD","LSD",IF('full menu'!AY5="WSD","WSD",IF('full menu'!AY5="UASC","UASC","")))))))))) -> LSD
