Workbook

Sheet full menu
A1: country | B1: 1974 | C1: 1975 | D1: 1976 | E1: 1977 | F1: 1978 | G1: 1979 | H1: 1980 | I1: 1981 | J1: 1982 | K1: 1983 | L1: 1984 | M1: 1985 | N1: 1986 | O1: 1987 | P1: 1988 | Q1: 1989 | R1: 1990 | S1: 1991 | T1: 1992 | U1: 1993 | V1: 1994 | W1: 1995 | X1: 1996 | Y1: 1997 | Z1: 1998 | AA1: 1999 | AB1: 2000 | AC1: 2001 | AD1: 2002 | AE1: 2003 | AF1: 2004 | AG1: 2005 | AH1: 2006 | AI1: 2007 | AJ1: 2008 | AK1: 2009 | AL1: 2010 | AM1: 2011 | AN1: 2012 | AO1: 2013 | AP1: 2014 | AQ1: 2015 | AR1: 2016 | AS1: 2017 | AT1: 2018 | AU1: 2019 | AV1: 2020 | AW1: 2021 | AX1: 2022 | AY1: 2023 | AZ1: same
A2: Afghanistan | B2: UD | C2: UD | D2: UD | E2: UD | F2: UD | G2: UD | H2: UD | I2: UD | J2: UD | K2: UD | L2: UD | M2: UD | N2: UD | O2: UD | P2: UD | Q2: UD | R2: UD | S2: UD | T2: UD | U2: UD | V2: UD | W2: UD | X2: UD | Y2: UD | Z2: UD | AA2: UD | AB2: UD | AC2: UD | AD2: UD | AE2: LSD | AF2: LSD | AG2: LSD | AH2: LSD | AI2: LSD | AJ2: LSD | AK2: LSD | AL2: LSD | AM2: LSD | AN2: LSD | AO2: LSD | AP2: LSD | AQ2: LSD | AR2: LSD | AS2: LSD | AT2: LSD | AU2: LSD | AV2: LSD | AW2: LSD | AX2: LSD | AY2: LSD | AZ2: 1
A3: Albania | B3: MDC | C3: MDC | D3: MDC | E3: MDC | F3: MDC | G3: MDC | H3: MDC | I3: MDC | J3: MDC | K3: MDC | L3: MDC | M3: MDC | N3: MDC | O3: MDC | P3: MDC | Q3: MDC | R3: UD | S3: UD | T3: UD | U3: LSD | V3: LSD | W3: LSD | X3: LSD | Y3: LSD | Z3: LSD | AA3: LSD | AB3: LSD | AC3: LSD | AD3: LSD | AE3: LSD | AF3: LSD | AG3: LIT | AH3: LIT | AI3: LIT | AJ3: LIT | AK3: LIT | AL3: LIT | AM3: LIT | AN3: LIT | AO3: LIT | AP3: LIT | AQ3: LIT | AR3: LIT | AS3: LIT | AT3: LIT | AU3: LIT | AV3: LIT | AW3: LIT | AX3: LIT | AY3: LIT | AZ3: 1
A4: Algeria | B4: MDC | C4: MDC | D4: MDC | E4: MDC | F4: MDC | G4: MDC | H4: MDC | I4: MDC | J4: MDC | K4: MDC | L4: MDC | M4: MDC | N4: MDC | O4: UD | P4: UD | Q4: UD | R4: LSD | S4: LSD | T4: LSD | U4: LSD | V4: LSD | W4: LSD | X4: LSD | Y4: LSD | Z4: LSD | AA4: LSD | AB4: LSD | AC4: LSD | AD4: LSD | AE4: LSD | AF4: LSD | AG4: LSD | AH4: LSD | AI4: LSD | AJ4: LSD | AK4: LSD | AL4: LSD | AM4: LSD | AN4: LSD | AO4: LSD | AP4: LSD | AQ4: LSD | AR4: LSD | AS4: LSD | AT4: LSD | AU4: LSD | AV4: LSD | AW4: LSD | AX4: LSD | AY4: LSD | AZ4: 1
A5: Angola | B5: X | C5: X | D5: UD | E5: UD | F5: UD | G5: UD | H5: UD | I5: UD | J5: UD | K5: UD | L5: UD | M5: UD | N5: UD | O5: UD | P5: UD | Q5: UD | R5: UD | S5: UD | T5: UD | U5: UD | V5: UD | W5: UD | X5: UD | Y5: UD | Z5: UD | AA5: LSD | AB5: LSD | AC5: LSD | AD5: LSD | AE5: LSD | AF5: LSD | AG5: LSD | AH5: LSD | AI5: LSD | AJ5: LSD | AK5: LSD | AL5: LSD | AM5: LSD | AN5: LSD | AO5: LSD | AP5: LSD | AQ5: LSD | AR5: LSD | AS5: LSD | AT5: LSD | AU5: LSD | AV5: LSD | AW5: LSD | AX5: LSD | AY5: LSD | AZ5: 1
A6: Argentina | B6: MDC | C6: MDC | D6: MDC | E6: UD | F6: UD | G6: UD | H6: UD | I6: UD | J6: UD | K6: UD | L6: UD | M6: UD | N6: UD | O6: UD | P6: UD | Q6: UD | R6: UD | S6: ACB | T6: ACB | U6: ACB | V6: ACB | W6: ACB | X6: ACB | Y6: ACB | Z6: ACB | AA6: ACB | AB6: ACB | AC6: ACB | AD6: UD | AE6: LSD | AF6: LSD | AG6: LSD | AH6: LSD | AI6: LSD | AJ6: LSD | AK6: LSD | AL6: LSD | AM6: LSD | AN6: LSD | AO6: LSD | AP6: LSD | AQ6: LSD | AR6: LSD | AS6: LSD | AT6: LSD | AU6: LSD | AV6: LSD | AW6: LSD | AX6: LSD | AY6: LSD | AZ6: 1
A7: Armenia | B7: X | C7: X | D7: X | E7: X | F7: X | G7: X | H7: X | I7: X | J7: X | K7: X | L7: X | M7: X | N7: X | O7: X | P7: X | Q7: X | R7: X | S7: X | T7: UD | U7: UD | V7: UD | W7: LSD | X7: LSD | Y7: LSD | Z7: LSD | AA7: LSD | AB7: LSD | AC7: LSD | AD7: LSD | AE7: LSD | AF7: LSD | AG7: LSD | AH7: LSD | AI7: LSD | AJ7: LSD | AK7: LSD | AL7: LSD | AM7: LIT | AN7: LIT | AO7: LIT | AP7: LIT | AQ7: LIT | AR7: LIT | AS7: LIT | AT7: LIT | AU7: LIT | AV7: LIT | AW7: LIT | AX7: LIT | AY7: LIT | AZ7: 1
A8: Australia | B8: AERF | C8: AERF | D8: AERF | E8: LMT | F8: LMT | G8: LMT | H8: LMT | I8: LMT | J8: LMT | K8: LMT | L8: LSD | M8: LSD | N8: LSD | O8: LSD | P8: LSD | Q8: LSD | R8: LSD | S8: LSD | T8: LSD | U8: LIT | V8: LIT | W8: LIT | X8: LIT | Y8: FIT | Z8: FIT | AA8: FIT | AB8: FIT | AC8: FIT | AD8: FIT | AE8: FIT | AF8: FIT | AG8: FIT | AH8: FIT | AI8: FIT | AJ8: FIT | AK8: FIT | AL8: FIT | AM8: FIT | AN8: FIT | AO8: FIT | AP8: FIT | AQ8: FIT | AR8: FIT | AS8: FIT | AT8: FIT | AU8: FIT | AV8: FIT | AW8: FIT | AX8: FIT | AY8: FIT | AZ8: 1
A9: Austria | B9: LERT | C9: LERT | D9: LERT | E9: LERT | F9: LERT | G9: LERT | H9: FERT | I9: FERT | J9: FERT | K9: FERT | L9: FERT | M9: FERT | N9: FERT | O9: FERT | P9: FERT | Q9: FERT | R9: FERT | S9: FERT | T9: FERT | U9: FERT | V9: FERT | W9: FERT | X9: FERT | Y9: FERT | Z9: FERT | AA9: CU | AB9: CU | AC9: CU | AD9: CU | AE9: CU | AF9: CU | AG9: CU | AH9: CU | AI9: CU | AJ9: CU | AK9: CU | AL9: CU | AM9: CU | AN9: CU | AO9: CU | AP9: CU | AQ9: CU | AR9: CU | AS9: CU | AT9: CU | AU9: CU | AV9: CU | AW9: CU | AX9: CU | AY9: CU | AZ9: 1
A10: Azerbaijan | B10: X | C10: X | D10: X | E10: X | F10: X | G10: X | H10: X | I10: X | J10: X | K10: X | L10: X | M10: X | N10: X | O10: X | P10: X | Q10: X | R10: X | S10: X | T10: UD | U10: UD | V10: UD | W10: LSD | X10: LSD | Y10: LSD | Z10: LSD | AA10: LSD | AB10: LSD | AC10: LSD | AD10: LSD | AE10: LSD | AF10: LSD | AG10: LSD | AH10: LSD | AI10: LSD | AJ10: LSD | AK10: LSD | AL10: LSD | AM10: LSD | AN10: LSD | AO10: LSD | AP10: LSD | AQ10: LSD | AR10: LSD | AS10: LSD | AT10: LSD | AU10: LSD | AV10: LSD | AW10: LSD | AX10: LSD | AY10: LSD | AZ10: 1
A11: Bahamas | B11: AERF | C11: AERF | D11: AERF | E11: AERF | F11: AERF | G11: AERF | H11: AERF | I11: AERF | J11: AERF | K11: AERF | L11: AERF | M11: AERF | N11: AERF | O11: AERF | P11: AERF | Q11: AERF | R11: AERF | S11: AERF | T11: AERF | U11: AERF | V11: AERF | W11: AERF | X11: AERF | Y11: AERF | Z11: AERF | AA11: AERF | AB11: AERF | AC11: AERF | AD11: AERF | AE11: AERF | AF11: AERF | AG11: AERF | AH11: AERF | AI11: AERF | AJ11: AERF | AK11: AERF | AL11: AERF | AM11: AERF | AN11: AERF | AO11: AERF | AP11: AERF | AQ11: AERF | AR11: AERF | AS11: AERF | AT11: AERF | AU11: AERF | AV11: AERF | AW11: AERF | AX11: AERF | AY11: AERF | AZ11: 1
A12: Bahrain | B12: ACB | C12: AERF | D12: AERF | E12: AERF | F12: AERF | G12: AERF | H12: AERF | I12: AERF | J12: AERF | K12: AERF | L12: AERF | M12: AERF | N12: AERF | O12: AERF | P12: AERF | Q12: AERF | R12: AERF | S12: AERF | T12: AERF | U12: AERF | V12: AERF | W12: FERT | X12: FERT | Y12: FERT | Z12: FERT | AA12: FERT | AB12: FERT | AC12: FERT | AD12: FERT | AE12: FERT | AF12: FERT | AG12: FERT | AH12: FERT | AI12: FERT | AJ12: FERT | AK12: FERT | AL12: FERT | AM12: FERT | AN12: FERT | AO12: FERT | AP12: FERT | AQ12: FERT | AR12: FERT | AS12: FERT | AT12: FERT | AU12: FERT | AV12: FERT | AW12: FERT | AX12: FERT | AY12: FERT | AZ12: 1
A13: Bangladesh | B13: AERF | C13: LSD | D13: LSD | E13: LSD | F13: LSD | G13: LSD | H13: LSD | I13: LSD | J13: LSD | K13: LSD | L13: LSD | M13: LSD | N13: LSD | O13: LSD | P13: LSD | Q13: LSD | R13: LSD | S13: LSD | T13: LSD | U13: LSD | V13: LSD | W13: LSD | X13: LSD | Y13: LSD | Z13: LSD | AA13: LSD | AB13: LSD | AC13: LSD | AD13: LSD | AE13: LSD | AF13: LSD | AG13: LSD | AH13: LSD | AI13: LSD | AJ13: LSD | AK13: LSD | AL13: LSD | AM13: LSD | AN13: LSD | AO13: LSD | AP13: LSD | AQ13: LSD | AR13: LSD | AS13: LSD | AT13: LSD | AU13: LSD | AV13: LSD | AW13: LSD | AX13: LSD | AY13: LSD | AZ13: 1
... A46: Czech Republic | B46: X | C46: X | D46: X | E46: X | F46: X | G46: X | H46: X | I46: X | J46: X | K46: X | L46: X | M46: X | N46: X | O46: X | P46: X | Q46: X | R46: X | S46: X | T46: X | U46: AERF | V46: AERF | W46: AERF | X46: LSD | Y46: LSD | Z46: LCIT | AA46: LCIT | AB46: LCIT | AC46: LCIT | AD46: LCIT | AE46: LCIT | AF46: LCIT | AG46: LCIT | AH46: FIT | AI46: FIT | AJ46: FIT | AK46: FIT | AL46: FIT | AM46: FIT | AN46: FIT | AO46: FIT | AP46: FIT | AQ46: FIT | AR46: FIT | AS46: FIT | AT46: FIT | AU46: FIT | AV46: FIT | AW46: FIT | AX46: FIT | AY46: FIT | AZ46: 1
A47: Czechoslovakia | B47: MDC | C47: MDC | D47: MDC | E47: MDC | F47: MDC | G47: MDC | H47: MDC | I47: MDC | J47: MDC | K47: MDC | L47: MDC | M47: MDC | N47: MDC | O47: LSD | P47: LSD | Q47: LSD | R47: LSD | S47: LSD | T47: LSD | U47: X | V47: X | W47: X | X47: X | Y47: X | Z47: X | AA47: X | AB47: X | AC47: X | AD47: X | AE47: X | AF47: X | AG47: X | AH47: X | AI47: X | AJ47: X | AK47: X | AL47: X | AM47: X | AN47: X | AO47: X | AP47: X | AQ47: X | AR47: X | AS47: X | AT47: X | AU47: X | AV47: X | AW47: X | AX47: X | AY47: X
A48: Denmark | B48: LERT | C48: LERT | D48: LERT | E48: LERT | F48: LERT | G48: LERT | H48: LERT | I48: LERT | J48: LERT | K48: FERT | L48: FERT | M48: FERT | N48: FERT | O48: FERT | P48: FERT | Q48: FERT | R48: FERT | S48: FERT | T48: FERT | U48: FERT | V48: FERT | W48: FERT | X48: FERT | Y48: FERT | Z48: FERT | AA48: FERT | AB48: FERT | AC48: FERT | AD48: FERT | AE48: FERT | AF48: FERT | AG48: FERT | AH48: FERT | AI48: FERT | AJ48: FERT | AK48: FERT | AL48: FERT | AM48: FERT | AN48: FERT | AO48: FERT | AP48: FERT | AQ48: FERT | AR48: FERT | AS48: FERT | AT48: FERT | AU48: FERT | AV48: FERT | AW48: FERT | AX48: FERT | AY48: FERT | AZ48: 1
A49: Djibouti | B49: X | C49: X | D49: X | E49: PCB | F49: PCB | G49: PCB | H49: PCB | I49: PCB | J49: PCB | K49: PCB | L49: PCB | M49: PCB | N49: PCB | O49: PCB | P49: PCB | Q49: PCB | R49: PCB | S49: PCB | T49: PCB | U49: PCB | V49: PCB | W49: PCB | X49: PCB | Y49: PCB | Z49: PCB | AA49: PCB | AB49: PCB | AC49: PCB | AD49: PCB | AE49: PCB | AF49: PCB | AG49: PCB | AH49: PCB | AI49: PCB | AJ49: PCB | AK49: PCB | AL49: PCB | AM49: PCB | AN49: PCB | AO49: PCB | AP49: PCB | AQ49: PCB | AR49: PCB | AS49: PCB | AT49: PCB | AU49: PCB | AV49: PCB | AW49: PCB | AX49: PCB | AY49: PCB | AZ49: 1
A50: Dominican Republic | B50: AERF | C50: AERF | D50: AERF | E50: AERF | F50: AERF | G50: AERF | H50: AERF | I50: AERF | J50: LSD | K50: LSD | L50: LSD | M50: LSD | N50: LSD | O50: LSD | P50: LSD | Q50: LSD | R50: LSD | S50: LSD | T50: LSD | U50: LSD | V50: LSD | W50: LSD | X50: LSD | Y50: LSD | Z50: LSD | AA50: LSD | AB50: LSD | AC50: LSD | AD50: LSD | AE50: LSD | AF50: LSD | AG50: LSD | AH50: LSD | AI50: LSD | AJ50: LSD | AK50: LSD | AL50: LSD | AM50: LSD | AN50: LIT | AO50: LIT | AP50: LIT | AQ50: LIT | AR50: LIT | AS50: LIT | AT50: LIT | AU50: LIT | AV50: LIT | AW50: LIT | AX50: LIT | AY50: LIT | AZ50: 1
A51: ECCU | B51: PCB | C51: PCB | D51: PCB | E51: PCB | F51: PCB | G51: PCB | H51: PCB | I51: PCB | J51: PCB | K51: PCB | L51: ACB | M51: ACB | N51: ACB | O51: ACB | P51: ACB | Q51: ACB | R51: ACB | S51: ACB | T51: ACB | U51: ACB | V51: ACB | W51: ACB | X51: ACB | Y51: ACB | Z51: ACB | AA51: ACB | AB51: ACB | AC51: ACB | AD51: ACB | AE51: ACB | AF51: ACB | AG51: ACB | AH51: ACB | AI51: ACB | AJ51: ACB | AK51: ACB | AL51: ACB | AM51: ACB | AN51: ACB | AO51: ACB | AP51: ACB | AQ51: ACB | AR51: ACB | AS51: ACB | AT51: ACB | AU51: ACB | AV51: ACB | AW51: ACB | AX51: ACB | AY51: ACB | AZ51: 1
A52: Ecuador | B52: AERF | C52: AERF | D52: AERF | E52: AERF | F52: AERF | G52: AERF | H52: AERF | I52: AERF | J52: UD | K52: UD | L52: UD | M52: UD | N52: UD | O52: UD | P52: UD | Q52: UD | R52: UD | S52: UD | T52: UD | U52: UD | V52: UD | W52: UD | X52: UD | Y52: UD | Z52: UD | AA52: UD | AB52: UASC | AC52: UASC | AD52: UASC | AE52: UASC | AF52: UASC | AG52: UASC | AH52: UASC | AI52: UASC | AJ52: UASC | AK52: UASC | AL52: UASC | AM52: UASC | AN52: UASC | AO52: UASC | AP52: UASC | AQ52: UASC | AR52: UASC | AS52: UASC | AT52: UASC | AU52: UASC | AV52: UASC | AW52: UASC | AX52: UASC | AY52: UASC | AZ52: 1
A53: Egypt | B53: MDC | C53: MDC | D53: MDC | E53: UD | F53: UD | G53: UD | H53: UD | I53: UD | J53: UD | K53: UD | L53: UD | M53: UD | N53: UD | O53: UD | P53: UD | Q53: UD | R53: UD | S53: UD | T53: LERT | U53: LERT | V53: LERT | W53: LERT | X53: LERT | Y53: LERT | Z53: LERT | AA53: LERT | AB53: LERT | AC53: LERT | AD53: LERT | AE53: LSD | AF53: LSD | AG53: LSD | AH53: LSD | AI53: LSD | AJ53: LSD | AK53: LSD | AL53: LSD | AM53: LSD | AN53: LSD | AO53: LSD | AP53: LSD | AQ53: LSD | AR53: LSD | AS53: LSD | AT53: LSD | AU53: LSD | AV53: LSD | AW53: LSD | AX53: LSD | AY53: LSD | AZ53: 1
A54: El Salvador | B54: AERF | C54: AERF | D54: AERF | E54: AERF | F54: AERF | G54: AERF | H54: LSD | I54: LSD | J54: LSD | K54: LSD | L54: LSD | M54: LSD | N54: LSD | O54: LSD | P54: LSD | Q54: LSD | R54: LSD | S54: LSD | T54: LSD | U54: LSD | V54: LSD | W54: LSD | X54: LSD | Y54: LSD | Z54: LSD | AA54: LSD | AB54: LSD | AC54: UASC | AD54: UASC | AE54: UASC | AF54: UASC | AG54: UASC | AH54: UASC | AI54: UASC | AJ54: UASC | AK54: UASC | AL54: UASC | AM54: UASC | AN54: UASC | AO54: UASC | AP54: UASC | AQ54: UASC | AR54: UASC | AS54: UASC | AT54: UASC | AU54: UASC | AV54: UASC | AW54: UASC | AX54: UASC | AY54: UASC | AZ54: 1
A55: Equatorial Guinea | B55: AERF | C55: AERF | D55: AERF | E55: AERF | F55: UD | G55: UD | H55: UD | I55: UD | J55: UD | K55: UD | L55: UD | M55: CU | N55: CU | O55: CU | P55: CU | Q55: CU | R55: CU | S55: CU | T55: CU | U55: CU | V55: CU | W55: CU | X55: CU | Y55: CU | Z55: CU | AA55: CU | AB55: CU | AC55: CU | AD55: CU | AE55: CU | AF55: CU | AG55: CU | AH55: CU | AI55: CU | AJ55: CU | AK55: CU | AL55: CU | AM55: CU | AN55: CU | AO55: CU | AP55: CU | AQ55: CU | AR55: CU | AS55: CU | AT55: CU | AU55: CU | AV55: CU | AW55: CU | AX55: CU | AY55: CU | AZ55: 1
A56: Eritrea | B56: X | C56: X | D56: X | E56: X | F56: X | G56: X | H56: X | I56: X | J56: X | K56: X | L56: X | M56: X | N56: X | O56: X | P56: X | Q56: X | R56: X | S56: X | T56: X | U56: UASC | V56: UASC | W56: UASC | X56: UASC | Y56: UASC | Z56: LSD | AA56: LSD | AB56: LSD | AC56: LSD | AD56: LSD | AE56: LSD | AF56: LSD | AG56: AERF | AH56: AERF | AI56: AERF | AJ56: AERF | AK56: AERF | AL56: AERF | AM56: AERF | AN56: AERF | AO56: AERF | AP56: AERF | AQ56: AERF | AR56: AERF | AS56: AERF | AT56: AERF | AU56: AERF | AV56: AERF | AW56: AERF | AX56: AERF | AY56: AERF | AZ56: 1
A57: Estonia | B57: X | C57: X | D57: X | E57: X | F57: X | G57: X | H57: X | I57: X | J57: X | K57: X | L57: X | M57: X | N57: X | O57: X | P57: X | Q57: X | R57: X | S57: X | T57: ACB | U57: ACB | V57: ACB | W57: ACB | X57: ACB | Y57: ACB | Z57: ACB | AA57: ACB | AB57: ACB | AC57: ACB | AD57: ACB | AE57: ACB | AF57: ACB | AG57: ACB | AH57: ACB | AI57: ACB | AJ57: ACB | AK57: ACB | AL57: ACB | AM57: CU | AN57: CU | AO57: CU | AP57: CU | AQ57: CU | AR57: CU | AS57: CU | AT57: CU | AU57: CU | AV57: CU | AW57: CU | AX57: CU | AY57: CU | AZ57: 1
A58: Eswatini | B58: UASC | C58: AERF | D58: AERF | E58: AERF | F58: AERF | G58: AERF | H58: AERF | I58: AERF | J58: AERF | K58: AERF | L58: AERF | M58: AERF | N58: AERF | O58: AERF | P58: AERF | Q58: AERF | R58: AERF | S58: AERF | T58: AERF | U58: AERF | V58: AERF | W58: AERF | X58: AERF | Y58: AERF | Z58: AERF | AA58: AERF | AB58: AERF | AC58: AERF | AD58: AERF | AE58: AERF | AF58: AERF | AG58: AERF | AH58: AERF | AI58: AERF | AJ58: AERF | AK58: AERF | AL58: AERF | AM58: AERF | AN58: AERF | AO58: AERF | AP58: AERF | AQ58: AERF | AR58: AERF | AS58: AERF | AT58: AERF | AU58: AERF | AV58: AERF | AW58: AERF | AX58: AERF | AY58: AERF | AZ58: 1
A59: Ethiopia | B59: AERF | C59: MDC | D59: MDC | E59: MDC | F59: MDC | G59: MDC | H59: MDC | I59: MDC | J59: MDC | K59: MDC | L59: MDC | M59: MDC | N59: MDC | O59: MDC | P59: MDC | Q59: MDC | R59: MDC | S59: LSD | T59: LSD | U59: LSD | V59: LSD | W59: LSD | X59: LSD | Y59: LSD | Z59: LSD | AA59: LSD | AB59: LSD | AC59: LSD | AD59: LSD | AE59: LSD | AF59: LSD | AG59: LSD | AH59: LSD | AI59: LSD | AJ59: LSD | AK59: LSD | AL59: LSD | AM59: LSD | AN59: LSD | AO59: LSD | AP59: LSD | AQ59: LSD | AR59: LSD | AS59: LSD | AT59: LSD | AU59: LSD | AV59: LSD | AW59: LSD | AX59: LSD | AY59: LSD | AZ59: 1
... A67: Germany | B67: LSD | C67: MwERT | D67: MwERT | E67: MwERT | F67: MwERT | G67: MwERT | H67: MwERT | I67: MwERT | J67: MwERT | K67: MwERT | L67: MwERT | M67: MwERT | N67: ERwMT | O67: ERwMT | P67: MwERT | Q67: MwERT | R67: MwERT | S67: MwERT | T67: ERwMT | U67: ERwMT | V67: MwERT | W67: MwERT | X67: MwERT | Y67: MwERT | Z67: MwERT | AA67: CU | AB67: CU | AC67: CU | AD67: CU | AE67: CU | AF67: CU | AG67: CU | AH67: CU | AI67: CU | AJ67: CU | AK67: CU | AL67: CU | AM67: CU | AN67: CU | AO67: CU | AP67: CU | AQ67: CU | AR67: CU | AS67: CU | AT67: CU | AU67: CU | AV67: CU | AW67: CU | AX67: CU | AY67: CU | AZ67: 1
A68: Ghana | B68: AERF | C68: AERF | D68: AERF | E68: AERF | F68: AERF | G68: AERF | H68: AERF | I68: AERF | J68: AERF | K68: LSD | L68: LSD | M68: LSD | N68: LSD | O68: LSD | P68: LSD | Q68: LSD | R68: LSD | S68: LSD | T68: LSD | U68: LSD | V68: LSD | W68: LSD | X68: LSD | Y68: LSD | Z68: LSD | AA68: LSD | AB68: LSD | AC68: LSD | AD68: LSD | AE68: LSD | AF68: LSD | AG68: LSD | AH68: LSD | AI68: LSD | AJ68: LSD | AK68: LSD | AL68: LSD | AM68: LSD | AN68: LSD | AO68: LSD | AP68: LSD | AQ68: LSD | AR68: LSD | AS68: LSD | AT68: LIT | AU68: LIT | AV68: LIT | AW68: LIT | AX68: LSD | AY68: LSD | AZ68: x
A69: Greece | B69: UD | C69: UD | D69: UD | E69: UD | F69: UD | G69: UD | H69: UD | I69: UD | J69: UD | K69: UD | L69: UD | M69: UD | N69: UD | O69: UD | P69: UD | Q69: UD | R69: UD | S69: LSD | T69: LSD | U69: LSD | V69: LSD | W69: ERwMT | X69: ERwMT | Y69: ERwMT | Z69: ERwMT | AA69: ERwMT | AB69: ERwMT | AC69: CU | AD69: CU | AE69: CU | AF69: CU | AG69: CU | AH69: CU | AI69: CU | AJ69: CU | AK69: CU | AL69: CU | AM69: CU | AN69: CU | AO69: CU | AP69: CU | AQ69: CU | AR69: CU | AS69: CU | AT69: CU | AU69: CU | AV69: CU | AW69: CU | AX69: CU | AY69: CU | AZ69: 1
A70: Guatemala | B70: AERF | C70: AERF | D70: AERF | E70: AERF | F70: AERF | G70: AERF | H70: AERF | I70: AERF | J70: AERF | K70: AERF | L70: AERF | M70: LSD | N70: LSD | O70: LSD | P70: LSD | Q70: LSD | R70: LSD | S70: LSD | T70: LSD | U70: LSD | V70: LSD | W70: LSD | X70: LSD | Y70: LSD | Z70: LSD | AA70: LSD | AB70: LSD | AC70: LSD | AD70: LSD | AE70: LSD | AF70: LSD | AG70: LSD | AH70: LSD | AI70: LSD | AJ70: LSD | AK70: LSD | AL70: FIT | AM70: FIT | AN70: FIT | AO70: FIT | AP70: FIT | AQ70: FIT | AR70: FIT | AS70: FIT | AT70: FIT | AU70: FIT | AV70: FIT | AW70: FIT | AX70: FIT | AY70: FIT | AZ70: 1
A71: Guinea | B71: MDC | C71: MDC | D71: MDC | E71: MDC | F71: MDC | G71: MDC | H71: MDC | I71: MDC | J71: MDC | K71: MDC | L71: MDC | M71: MDC | N71: LSD | O71: LSD | P71: LSD | Q71: LSD | R71: LSD | S71: LSD | T71: LSD | U71: LSD | V71: LSD | W71: LSD | X71: LSD | Y71: LSD | Z71: LSD | AA71: LSD | AB71: LSD | AC71: LSD | AD71: LSD | AE71: LSD | AF71: LSD | AG71: LSD | AH71: LSD | AI71: LSD | AJ71: LSD | AK71: LSD | AL71: LSD | AM71: LSD | AN71: LSD | AO71: LSD | AP71: LSD | AQ71: LSD | AR71: LSD | AS71: LSD | AT71: LSD | AU71: LSD | AV71: LSD | AW71: LSD | AX71: LSD | AY71: LSD | AZ71: 1
A72: Guinea-Bissau | B72: UASC | C72: UASC | D72: UD | E72: UD | F72: UD | G72: UD | H72: UD | I72: UD | J72: UD | K72: UD | L72: UD | M72: UD | N72: UD | O72: LSD | P72: LSD | Q72: LSD | R72: LSD | S72: LSD | T72: LSD | U72: LSD | V72: LSD | W72: LSD | X72: LSD | Y72: LSD | Z72: CU | AA72: CU | AB72: CU | AC72: CU | AD72: CU | AE72: CU | AF72: CU | AG72: CU | AH72: CU | AI72: CU | AJ72: CU | AK72: CU | AL72: CU | AM72: CU | AN72: CU | AO72: CU | AP72: CU | AQ72: CU | AR72: CU | AS72: CU | AT72: CU | AU72: CU | AV72: CU | AW72: CU | AX72: CU | AY72: CU | AZ72: 1
A73: Guyana | B73: AERF | C73: AERF | D73: AERF | E73: AERF | F73: AERF | G73: AERF | H73: AERF | I73: AERF | J73: AERF | K73: AERF | L73: UD | M73: UD | N73: UD | O73: UD | P73: UD | Q73: UD | R73: UD | S73: LSD | T73: LSD | U73: LSD | V73: LSD | W73: LSD | X73: LSD | Y73: LSD | Z73: LSD | AA73: LSD | AB73: LSD | AC73: LSD | AD73: LSD | AE73: LSD | AF73: LSD | AG73: LSD | AH73: LSD | AI73: LSD | AJ73: LSD | AK73: LSD | AL73: LSD | AM73: LSD | AN73: LSD | AO73: LSD | AP73: AERF | AQ73: AERF | AR73: AERF | AS73: AERF | AT73: AERF | AU73: AERF | AV73: AERF | AW73: AERF | AX73: AERF | AY73: AERF | AZ73: 1
A74: Haiti | B74: AERF | C74: AERF | D74: AERF | E74: AERF | F74: AERF | G74: AERF | H74: AERF | I74: AERF | J74: AERF | K74: AERF | L74: AERF | M74: AERF | N74: AERF | O74: AERF | P74: AERF | Q74: AERF | R74: LSD | S74: LSD | T74: LSD | U74: LSD | V74: LSD | W74: LSD | X74: LSD | Y74: LSD | Z74: LSD | AA74: LSD | AB74: LSD | AC74: LSD | AD74: LSD | AE74: LSD | AF74: LSD | AG74: LSD | AH74: LSD | AI74: LSD | AJ74: LSD | AK74: LSD | AL74: LSD | AM74: LSD | AN74: LSD | AO74: LSD | AP74: LSD | AQ74: LSD | AR74: LSD | AS74: LSD | AT74: LSD | AU74: LSD | AV74: LSD | AW74: LSD | AX74: LSD | AY74: LSD | AZ74: 1
A75: Honduras | B75: AERF | C75: AERF | D75: AERF | E75: AERF | F75: AERF | G75: AERF | H75: AERF | I75: AERF | J75: AERF | K75: AERF | L75: AERF | M75: LSD | N75: LSD | O75: LSD | P75: LSD | Q75: LSD | R75: LSD | S75: LSD | T75: LSD | U75: LSD | V75: LSD | W75: LSD | X75: LSD | Y75: LSD | Z75: LSD | AA75: LSD | AB75: LSD | AC75: LSD | AD75: LSD | AE75: LSD | AF75: LSD | AG75: LSD | AH75: LSD | AI75: LSD | AJ75: LSD | AK75: LSD | AL75: LSD | AM75: LSD | AN75: LSD | AO75: LSD | AP75: LSD | AQ75: LSD | AR75: LSD | AS75: LSD | AT75: LSD | AU75: LSD | AV75: LSD | AW75: LSD | AX75: LSD | AY75: LSD | AZ75: 1
A76: Hong Kong | B76: FERT | C76: UD | D76: UD | E76: UD | F76: UD | G76: UD | H76: UD | I76: UD | J76: UD | K76: UD | L76: ACB | M76: ACB | N76: ACB | O76: ACB | P76: ACB | Q76: ACB | R76: ACB | S76: ACB | T76: ACB | U76: ACB | V76: ACB | W76: ACB | X76: ACB | Y76: ACB | Z76: ACB | AA76: ACB | AB76: ACB | AC76: ACB | AD76: ACB | AE76: ACB | AF76: ACB | AG76: ACB | AH76: ACB | AI76: ACB | AJ76: ACB | AK76: ACB | AL76: ACB | AM76: ACB | AN76: ACB | AO76: ACB | AP76: ACB | AQ76: ACB | AR76: ACB | AS76: ACB | AT76: ACB | AU76: ACB | AV76: ACB | AW76: ACB | AX76: ACB | AY76: ACB | AZ76: 1
A77: Hungary | B77: MDC | C77: MDC | D77: MDC | E77: MDC | F77: MDC | G77: MDC | H77: MDC | I77: MDC | J77: MDC | K77: MDC | L77: MDC | M77: MDC | N77: MDC | O77: UD | P77: UD | Q77: UD | R77: UD | S77: UD | T77: UD | U77: UD | V77: UD | W77: LSD | X77: LSD | Y77: LSD | Z77: LSD | AA77: LSD | AB77: LSD | AC77: LCIT | AD77: LCIT | AE77: LCIT | AF77: LCIT | AG77: LCIT | AH77: LCIT | AI77: LCIT | AJ77: LIT | AK77: LIT | AL77: LIT | AM77: LIT | AN77: LIT | AO77: LIT | AP77: LIT | AQ77: LIT | AR77: LIT | AS77: LIT | AT77: LIT | AU77: LIT | AV77: LIT | AW77: LIT | AX77: LIT | AY77: LIT | AZ77: 1
A78: Iceland | B78: UD | C78: UD | D78: UD | E78: UD | F78: UD | G78: UD | H78: UD | I78: UD | J78: UD | K78: UD | L78: UD | M78: LSD | N78: LSD | O78: LSD | P78: LSD | Q78: LSD | R78: LSD | S78: LSD | T78: LSD | U78: LERT | V78: LERT | W78: LERT | X78: LERT | Y78: LERT | Z78: LERT | AA78: LERT | AB78: LERT | AC78: LIT | AD78: LIT | AE78: LIT | AF78: LIT | AG78: LIT | AH78: LSD | AI78: LSD | AJ78: LSD | AK78: LSD | AL78: LSD | AM78: LSD | AN78: LSD | AO78: LIT | AP78: LIT | AQ78: LIT | AR78: LIT | AS78: LIT | AT78: LIT | AU78: LIT | AV78: LIT | AW78: LIT | AX78: LSD | AY78: LSD | AZ78: 1
A79: India | B79: LSD | C79: LSD | D79: LSD | E79: LSD | F79: LSD | G79: LSD | H79: LSD | I79: LSD | J79: LSD | K79: LSD | L79: LSD | M79: LSD | N79: LSD | O79: LSD | P79: LSD | Q79: LSD | R79: LSD | S79: LSD | T79: LSD | U79: LSD | V79: LSD | W79: LSD | X79: LSD | Y79: LSD | Z79: LSD | AA79: LSD | AB79: LSD | AC79: LSD | AD79: LSD | AE79: LSD | AF79: LSD | AG79: LSD | AH79: LSD | AI79: LSD | AJ79: LSD | AK79: LSD | AL79: LSD | AM79: LSD | AN79: LSD | AO79: LSD | AP79: LCIT | AQ79: LCIT | AR79: LCIT | AS79: LIT | AT79: LIT | AU79: LIT | AV79: LIT | AW79: LIT | AX79: LIT | AY79: LIT | AZ79: 1
A80: Indonesia | B80: AERF | C80: AERF | D80: AERF | E80: AERF | F80: AERF | G80: LSD | H80: LSD | I80: LSD | J80: LSD | K80: LSD | L80: LSD | M80: LSD | N80: LSD | O80: LSD | P80: LSD | Q80: LSD | R80: LSD | S80: LSD | T80: LSD | U80: LSD | V80: LSD | W80: LSD | X80: LSD | Y80: LSD | Z80: LSD | AA80: LSD | AB80: LSD | AC80: LSD | AD80: LSD | AE80: LSD | AF80: LSD | AG80: LSD | AH80: LCIT | AI80: LCIT | AJ80: LCIT | AK80: LCIT | AL80: LCIT | AM80: LCIT | AN80: LCIT | AO80: LCIT | AP80: LCIT | AQ80: FCIT | AR80: FCIT | AS80: FCIT | AT80: FCIT | AU80: FCIT | AV80: FIT | AW80: FIT | AX80: FIT | AY80: FIT | AZ80: x
A81: Iran | B81: LSD | C81: LSD | D81: LSD | E81: LSD | F81: LSD | G81: LSD | H81: UD | I81: UD | J81: UD | K81: UD | L81: UD | M81: UD | N81: UD | O81: UD | P81: UD | Q81: UD | R81: UD | S81: UD | T81: UD | U81: UD | V81: UD | W81: UD | X81: UD | Y81: UD | Z81: UD | AA81: LSD | AB81: LSD | AC81: LSD | AD81: LSD | AE81: LSD | AF81: LSD | AG81: LSD | AH81: LSD | AI81: LSD | AJ81: LSD | AK81: LSD | AL81: LSD | AM81: LSD | AN81: LSD | AO81: LSD | AP81: LSD | AQ81: LSD | AR81: LSD | AS81: LSD | AT81: LSD | AU81: LSD | AV81: LSD | AW81: LSD | AX81: LSD | AY81: LSD | AZ81: 1
A82: Iraq | B82: AERF | C82: AERF | D82: AERF | E82: AERF | F82: AERF | G82: AERF | H82: AERF | I82: AERF | J82: MDC | K82: MDC | L82: MDC | M82: MDC | N82: MDC | O82: MDC | P82: MDC | Q82: MDC | R82: MDC | S82: MDC | T82: MDC | U82: MDC | V82: MDC | W82: MDC | X82: MDC | Y82: MDC | Z82: MDC | AA82: MDC | AB82: MDC | AC82: MDC | AD82: MDC | AE82: UD | AF82: UD | AG82: UD | AH82: UD | AI82: AERF | AJ82: AERF | AK82: AERF | AL82: AERF | AM82: AERF | AN82: AERF | AO82: AERF | AP82: AERF | AQ82: AERF | AR82: AERF | AS82: AERF | AT82: AERF | AU82: AERF | AV82: AERF | AW82: AERF | AX82: AERF | AY82: AERF | AZ82: 1
A83: Ireland | B83: ACB | C83: ACB | D83: ACB | E83: ACB | F83: ACB | G83: LERT | H83: LERT | I83: LERT | J83: LERT | K83: LERT | L83: LERT | M83: LERT | N83: LERT | O83: FERT | P83: FERT | Q83: FERT | R83: FERT | S83: FERT | T83: FERT | U83: FERT | V83: FERT | W83: FERT | X83: FERT | Y83: FERT | Z83: FERT | AA83: CU | AB83: CU | AC83: CU | AD83: CU | AE83: CU | AF83: CU | AG83: CU | AH83: CU | AI83: CU | AJ83: CU | AK83: CU | AL83: CU | AM83: CU | AN83: CU | AO83: CU | AP83: CU | AQ83: CU | AR83: CU | AS83: CU | AT83: CU | AU83: CU | AV83: CU | AW83: CU | AX83: CU | AY83: CU | AZ83: 1
A84: Israel | B84: UD | C84: UD | D84: UD | E84: UD | F84: UD | G84: UD | H84: UD | I84: UD | J84: UD | K84: UD | L84: UD | M84: UD | N84: LSD | O84: LSD | P84: LSD | Q84: LSD | R84: LSD | S84: LSD | T84: ERwIT | U84: ERwIT | V84: ERwIT | W84: IwERT | X84: IwERT | Y84: LCIT | Z84: LCIT | AA84: LCIT | AB84: LCIT | AC84: LCIT | AD84: LCIT | AE84: LCIT | AF84: FIT | AG84: FIT | AH84: FIT | AI84: FIT | AJ84: FIT | AK84: FIT | AL84: FIT | AM84: FIT | AN84: FIT | AO84: FIT | AP84: FIT | AQ84: FIT | AR84: FIT | AS84: FIT | AT84: FIT | AU84: FIT | AV84: FIT | AW84: FIT | AX84: FIT | AY84: FIT | AZ84: 1
A85: Italy | B85: UD | C85: UD | D85: UD | E85: UD | F85: UD | G85: MwERT | H85: MwERT | I85: MwERT | J85: MwERT | K85: MwERT | L85: MwERT | M85: MwERT | N85: MwERT | O85: MwERT | P85: M&ERT | Q85: M&ERT | R85: M&ERT | S85: M&ERT | T85: M&ERT | U85: LMT | V85: LMT | W85: M&IT | X85: M&IT | Y85: ER&M&IT | Z85: ER&M&IT | AA85: CU | AB85: CU | AC85: CU | AD85: CU | AE85: CU | AF85: CU | AG85: CU | AH85: CU | AI85: CU | AJ85: CU | AK85: CU | AL85: CU | AM85: CU | AN85: CU | AO85: CU | AP85: CU | AQ85: CU | AR85: CU | AS85: CU | AT85: CU | AU85: CU | AV85: CU | AW85: CU | AX85: CU | AY85: CU | AZ85: 1
A86: Jamaica | B86: AERF | C86: AERF | D86: AERF | E86: LSD | F86: LSD | G86: LSD | H86: LSD | I86: LSD | J86: LSD | K86: LSD | L86: LSD | M86: LSD | N86: LSD | O86: LSD | P86: LSD | Q86: LSD | R86: LSD | S86: LSD | T86: LSD | U86: LSD | V86: LSD | W86: LSD | X86: LSD | Y86: LSD | Z86: LSD | AA86: LSD | AB86: LSD | AC86: LSD | AD86: LSD | AE86: LSD | AF86: LSD | AG86: LSD | AH86: LSD | AI86: LSD | AJ86: LSD | AK86: LSD | AL86: LSD | AM86: LSD | AN86: LSD | AO86: LSD | AP86: LSD | AQ86: LSD | AR86: LSD | AS86: LSD | AT86: LSD | AU86: LSD | AV86: LSD | AW86: LIT | AX86: LIT | AY86: LIT | AZ86: z
A87: Japan | B87: LSD | C87: LSD | D87: LSD | E87: LSD | F87: LSD | G87: LSD | H87: LSD | I87: LSD | J87: LSD | K87: LSD | L87: LSD | M87: LSD | N87: LSD | O87: LSD | P87: LSD | Q87: LSD | R87: LSD | S87: LSD | T87: LSD | U87: LSD | V87: LSD | W87: LSD | X87: LSD | Y87: LSD | Z87: LSD | AA87: LSD | AB87: LSD | AC87: LSD | AD87: LSD | AE87: LSD | AF87: LSD | AG87: LSD | AH87: LIT | AI87: LIT | AJ87: LIT | AK87: LIT | AL87: LIT | AM87: LIT | AN87: LIT | AO87: FIT | AP87: FIT | AQ87: FIT | AR87: FIT | AS87: FIT | AT87: FIT | AU87: FIT | AV87: FIT | AW87: FIT | AX87: FIT | AY87: FIT | AZ87: 1
A88: Jordan | B88: AERF | C88: AERF | D88: AERF | E88: AERF | F88: AERF | G88: AERF | H88: AERF | I88: AERF | J88: AERF | K88: AERF | L88: AERF | M88: LSD | N88: LSD | O88: LSD | P88: LSD | Q88: LSD | R88: LSD | S88: LERT | T88: LERT | U88: LERT | V88: LERT | W88: LERT | X88: LERT | Y88: LERT | Z88: LERT | AA88: LERT | AB88: LERT | AC88: FERT | AD88: FERT | AE88: FERT | AF88: FERT | AG88: FERT | AH88: FERT | AI88: FERT | AJ88: FERT | AK88: FERT | AL88: FERT | AM88: FERT | AN88: FERT | AO88: FERT | AP88: FERT | AQ88: FERT | AR88: FERT | AS88: FERT | AT88: FERT | AU88: FERT | AV88: FERT | AW88: FERT | AX88: FERT | AY88: FERT | AZ88: 1
A89: Kazakhstan | B89: X | C89: X | D89: X | E89: X | F89: X | G89: X | H89: X | I89: X | J89: X | K89: X | L89: X | M89: X | N89: X | O89: X | P89: X | Q89: X | R89: X | S89: X | T89: UD | U89: UD | V89: LSD | W89: LSD | X89: LSD | Y89: LSD | Z89: LSD | AA89: LSD | AB89: LSD | AC89: LSD | AD89: LSD | AE89: LSD | AF89: LSD | AG89: LSD | AH89: LSD | AI89: LSD | AJ89: LSD | AK89: LSD | AL89: LSD | AM89: LSD | AN89: LSD | AO89: LSD | AP89: LSD | AQ89: LSD | AR89: LSD | AS89: LIT | AT89: LIT | AU89: LIT | AV89: LIT | AW89: LSD | AX89: LSD | AY89: LSD | AZ89: 1
A90: Kenya | B90: AERF | C90: AERF | D90: AERF | E90: AERF | F90: AERF | G90: AERF | H90: AERF | I90: AERF | J90: LSD | K90: LSD | L90: LSD | M90: LSD | N90: LSD | O90: LSD | P90: LSD | Q90: LSD | R90: LSD | S90: LSD | T90: LSD | U90: LSD | V90: LSD | W90: LSD | X90: LSD | Y90: LSD | Z90: LSD | AA90: LSD | AB90: LSD | AC90: LSD | AD90: LSD | AE90: LSD | AF90: LSD | AG90: LSD | AH90: LSD | AI90: LSD | AJ90: LSD | AK90: LSD | AL90: LSD | AM90: LSD | AN90: LSD | AO90: LIT | AP90: LIT | AQ90: LIT | AR90: LIT | AS90: LIT | AT90: LIT | AU90: LIT | AV90: LIT | AW90: LIT | AX90: LIT | AY90: LIT | AZ90: 1
A91: Korea, Dem People's Rep (north) | B91: MDC | C91: MDC | D91: MDC | E91: MDC | F91: MDC | G91: MDC | H91: MDC | I91: MDC | J91: MDC | K91: MDC | L91: MDC | M91: MDC | N91: MDC | O91: MDC | P91: MDC | Q91: MDC | R91: MDC | S91: MDC | T91: MDC | U91: MDC | V91: MDC | W91: MDC | X91: MDC | Y91: MDC | Z91: MDC | AA91: MDC | AB91: MDC | AC91: MDC | AD91: MDC | AE91: MDC | AF91: MDC | AG91: MDC | AH91: MDC | AI91: MDC | AJ91: MDC | AK91: MDC | AL91: MDC | AM91: MDC | AN91: MDC | AO91: MDC | AP91: MDC | AQ91: MDC | AR91: MDC | AS91: MDC | AT91: MDC | AU91: MDC | AV91: MDC | AW91: MDC | AX91: MDC | AY91: MDC | AZ91: 1
A92: Korea, Rep (south) | B92: AERF | C92: AERF | D92: AERF | E92: AERF | F92: AERF | G92: LCMT | H92: LCMT | I92: LCMT | J92: LCMT | K92: LCMT | L92: LCMT | M92: LCMT | N92: LCMT | O92: LCMT | P92: FMT | Q92: FMT | R92: FMT | S92: FMT | T92: FMT | U92: FMT | V92: FMT | W92: FMT | X92: LSD | Y92: LSD | Z92: FIT | AA92: FIT | AB92: FIT | AC92: FIT | AD92: FIT | AE92: FIT | AF92: FIT | AG92: FIT | AH92: FIT | AI92: FIT | AJ92: FIT | AK92: FIT | AL92: FIT | AM92: FIT | AN92: FIT | AO92: FIT | AP92: FIT | AQ92: FIT | AR92: FIT | AS92: FIT | AT92: FIT | AU92: FIT | AV92: FIT | AW92: FIT | AX92: FIT | AY92: FIT | AZ92: 1
A93: Kosovo | B93: X | C93: X | D93: X | E93: X | F93: X | G93: X | H93: X | I93: X | J93: X | K93: X | L93: X | M93: X | N93: X | O93: X | P93: X | Q93: X | R93: X | S93: X | T93: X | U93: X | V93: X | W93: X | X93: X | Y93: X | Z93: X | AA93: X | AB93: UASC | AC93: UASC | AD93: UASC | AE93: UASC | AF93: UASC | AG93: UASC | AH93: UASC | AI93: UASC | AJ93: UASC | AK93: UASC | AL93: UASC | AM93: UASC | AN93: UASC | AO93: UASC | AP93: UASC | AQ93: UASC | AR93: UASC | AS93: UASC | AT93: UASC | AU93: UASC | AV93: UASC | AW93: UASC | AX93: UASC | AY93: UASC | AZ93: 1
A94: Kuwait | B94: LERT | C94: LERT | D94: LERT | E94: LERT | F94: LERT | G94: LERT | H94: LERT | I94: LERT | J94: LERT | K94: LERT | L94: LERT | M94: LERT | N94: LERT | O94: LERT | P94: LERT | Q94: LERT | R94: LERT | S94: LERT | T94: LERT | U94: LERT | V94: LERT | W94: LERT | X94: LERT | Y94: LERT | Z94: LERT | AA94: LERT | AB94: LERT | AC94: LERT | AD94: LERT | AE94: FERT | AF94: FERT | AG94: FERT | AH94: FERT | AI94: LERT | AJ94: LERT | AK94: LERT | AL94: LERT | AM94: LERT | AN94: LERT | AO94: LERT | AP94: LERT | AQ94: LERT | AR94: LERT | AS94: LERT | AT94: LERT | AU94: LERT | AV94: LERT | AW94: LERT | AX94: LERT | AY94: LERT | AZ94: 1
A95: Kyrgyz Republic | B95: X | C95: X | D95: X | E95: X | F95: X | G95: X | H95: X | I95: X | J95: X | K95: X | L95: X | M95: X | N95: X | O95: X | P95: X | Q95: X | R95: X | S95: X | T95: UD | U95: UD | V95: LSD | W95: LSD | X95: LSD | Y95: LSD | Z95: LSD | AA95: LSD | AB95: LSD | AC95: LSD | AD95: LSD | AE95: LSD | AF95: LSD | AG95: LSD | AH95: LSD | AI95: LSD | AJ95: LSD | AK95: LSD | AL95: LSD | AM95: LSD | AN95: LSD | AO95: LSD | AP95: LSD | AQ95: LSD | AR95: LSD | AS95: LSD | AT95: LSD | AU95: LSD | AV95: LSD | AW95: LSD | AX95: LSD | AY95: LSD | AZ95: 1
A96: Laos | B96: UD | C96: UD | D96: UD | E96: UD | F96: UD | G96: MDC | H96: MDC | I96: MDC | J96: MDC | K96: MDC | L96: MDC | M96: MDC | N96: MDC | O96: MDC | P96: MDC | Q96: MDC | R96: LSD | S96: LSD | T96: LSD | U96: LSD | V96: LSD | W96: LSD | X96: LSD | Y96: LSD | Z96: LSD | AA96: LSD | AB96: LSD | AC96: LSD | AD96: LSD | AE96: LSD | AF96: LSD | AG96: LSD | AH96: LSD | AI96: LSD | AJ96: LSD | AK96: LSD | AL96: LSD | AM96: LSD | AN96: LSD | AO96: LSD | AP96: LSD | AQ96: LSD | AR96: LSD | AS96: LSD | AT96: LSD | AU96: LSD | AV96: LSD | AW96: LSD | AX96: LSD | AY96: LSD | AZ96: 1
A97: Latvia | B97: X | C97: X | D97: X | E97: X | F97: X | G97: X | H97: X | I97: X | J97: X | K97: X | L97: X | M97: X | N97: X | O97: X | P97: X | Q97: X | R97: X | S97: X | T97: X | U97: UD | V97: FERT | W97: FERT | X97: FERT | Y97: FERT | Z97: FERT | AA97: FERT | AB97: FERT | AC97: FERT | AD97: FERT | AE97: FERT | AF97: FERT | AG97: FERT | AH97: FERT | AI97: FERT | AJ97: FERT | AK97: FERT | AL97: FERT | AM97: FERT | AN97: FERT | AO97: FERT | AP97: CU | AQ97: CU | AR97: CU | AS97: CU | AT97: CU | AU97: CU | AV97: CU | AW97: CU | AX97: CU | AY97: CU | AZ97: 1
A98: Lebanon | B98: LSD | C98: LSD | D98: LSD | E98: LSD | F98: LSD | G98: LSD | H98: LSD | I98: LSD | J98: LSD | K98: LSD | L98: LSD | M98: LSD | N98: LSD | O98: LSD | P98: LSD | Q98: LSD | R98: LSD | S98: LSD | T98: LSD | U98: LCERT | V98: LCERT | W98: LCERT | X98: LCERT | Y98: LCERT | Z98: LCERT | AA98: FERT | AB98: FERT | AC98: FERT | AD98: FERT | AE98: FERT | AF98: FERT | AG98: FERT | AH98: FERT | AI98: FERT | AJ98: FERT | AK98: FERT | AL98: FERT | AM98: FERT | AN98: FERT | AO98: FERT | AP98: FERT | AQ98: FERT | AR98: FERT | AS98: FERT | AT98: FERT | AU98: FERT | AV98: UD | AW98: UD | AX98: UD | AY98: UD | AZ98: 1
... A111: Mauritania | B111: AERF | C111: AERF | D111: AERF | E111: AERF | F111: AERF | G111: AERF | H111: AERF | I111: AERF | J111: AERF | K111: AERF | L111: LSD | M111: LSD | N111: LSD | O111: LSD | P111: LSD | Q111: LSD | R111: LSD | S111: LSD | T111: LSD | U111: LSD | V111: LSD | W111: LSD | X111: LSD | Y111: LSD | Z111: LSD | AA111: LSD | AB111: LSD | AC111: LSD | AD111: LSD | AE111: LSD | AF111: LSD | AG111: LSD | AH111: LSD | AI111: LSD | AJ111: LSD | AK111: LSD | AL111: LSD | AM111: LSD | AN111: LSD | AO111: LSD | AP111: LSD | AQ111: LSD | AR111: LSD | AS111: LSD | AT111: LSD | AU111: LSD | AV111: LSD | AW111: LSD | AX111: LSD | AY111: LSD | AZ111: 1
A112: Mauritius | B112: AERF | C112: AERF | D112: AERF | E112: AERF | F112: AERF | G112: AERF | H112: AERF | I112: AERF | J112: AERF | K112: LSD | L112: LSD | M112: LSD | N112: LSD | O112: LSD | P112: LSD | Q112: LSD | R112: LSD | S112: LSD | T112: LSD | U112: LSD | V112: LSD | W112: LSD | X112: LSD | Y112: LSD | Z112: LSD | AA112: LSD | AB112: LSD | AC112: LSD | AD112: LSD | AE112: LSD | AF112: LSD | AG112: LSD | AH112: LSD | AI112: LSD | AJ112: LSD | AK112: LSD | AL112: LSD | AM112: LSD | AN112: LSD | AO112: LSD | AP112: LSD | AQ112: LSD | AR112: LSD | AS112: LSD | AT112: LSD | AU112: LSD | AV112: LSD | AW112: LSD | AX112: LSD | AY112: FIT | AZ112: z
A113: Mexico | B113: FERT | C113: FERT | D113: FERT | E113: LSD | F113: LSD | G113: LSD | H113: LSD | I113: LSD | J113: LSD | K113: LSD | L113: LSD | M113: LSD | N113: LSD | O113: LSD | P113: LSD | Q113: LSD | R113: LSD | S113: LSD | T113: LSD | U113: LSD | V113: LSD | W113: LSD | X113: LSD | Y113: LSD | Z113: LSD | AA113: LSD | AB113: LSD | AC113: LCIT | AD113: LCIT | AE113: LCIT | AF113: LIT | AG113: LIT | AH113: LIT | AI113: LIT | AJ113: LIT | AK113: LIT | AL113: LIT | AM113: FIT | AN113: FIT | AO113: FIT | AP113: FIT | AQ113: FIT | AR113: FIT | AS113: FIT | AT113: FIT | AU113: FIT | AV113: FIT | AW113: FIT | AX113: FIT | AY113: FIT | AZ113: 1
A114: Moldova | B114: X | C114: X | D114: X | E114: X | F114: X | G114: X | H114: X | I114: X | J114: X | K114: X | L114: X | M114: X | N114: X | O114: X | P114: X | Q114: X | R114: X | S114: X | T114: UD | U114: UD | V114: LSD | W114: LSD | X114: LSD | Y114: LSD | Z114: LSD | AA114: LSD | AB114: LSD | AC114: LSD | AD114: LSD | AE114: LSD | AF114: LSD | AG114: LSD | AH114: LSD | AI114: LSD | AJ114: LSD | AK114: LSD | AL114: LSD | AM114: LSD | AN114: LIT | AO114: LIT | AP114: LIT | AQ114: LSD | AR114: LSD | AS114: LSD | AT114: LSD | AU114: LSD | AV114: LSD | AW114: LSD | AX114: LSD | AY114: LSD | AZ114: x
A115: Mongolia | B115: MDC | C115: MDC | D115: MDC | E115: MDC | F115: MDC | G115: MDC | H115: MDC | I115: MDC | J115: MDC | K115: MDC | L115: MDC | M115: MDC | N115: MDC | O115: MDC | P115: MDC | Q115: MDC | R115: MDC | S115: UD | T115: UD | U115: UD | V115: LSD | W115: LSD | X115: LSD | Y115: LSD | Z115: LSD | AA115: LSD | AB115: LSD | AC115: LSD | AD115: LSD | AE115: LSD | AF115: LSD | AG115: LSD | AH115: LSD | AI115: LSD | AJ115: LSD | AK115: LSD | AL115: LSD | AM115: LSD | AN115: LSD | AO115: LSD | AP115: LSD | AQ115: LSD | AR115: LSD | AS115: LSD | AT115: LSD | AU115: LSD | AV115: LSD | AW115: LSD | AX115: LSD | AY115: LSD | AZ115: 1
A116: Montenegro | B116: X | C116: X | D116: X | E116: X | F116: X | G116: X | H116: X | I116: X | J116: X | K116: X | L116: X | M116: X | N116: X | O116: X | P116: X | Q116: X | R116: X | S116: X | T116: X | U116: X | V116: X | W116: X | X116: X | Y116: X | Z116: X | AA116: X | AB116: X | AC116: UASC | AD116: UASC | AE116: UASC | AF116: UASC | AG116: UASC | AH116: UASC | AI116: UASC | AJ116: UASC | AK116: UASC | AL116: UASC | AM116: UASC | AN116: UASC | AO116: UASC | AP116: UASC | AQ116: UASC | AR116: UASC | AS116: UASC | AT116: UASC | AU116: UASC | AV116: UASC | AW116: UASC | AX116: UASC | AY116: UASC | AZ116: 1
A117: Morocco | B117: AERF | C117: AERF | D117: AERF | E117: AERF | F117: AERF | G117: AERF | H117: AERF | I117: LSD | J117: LSD | K117: LSD | L117: LSD | M117: LSD | N117: LSD | O117: LSD | P117: LSD | Q117: LSD | R117: LSD | S117: LERT | T117: LERT | U117: LERT | V117: LERT | W117: LERT | X117: LERT | Y117: LERT | Z117: LERT | AA117: LERT | AB117: LERT | AC117: LERT | AD117: LERT | AE117: LERT | AF117: LERT | AG117: LERT | AH117: LERT | AI117: FERT | AJ117: FERT | AK117: FERT | AL117: FERT | AM117: FERT | AN117: FERT | AO117: FERT | AP117: FERT | AQ117: FERT | AR117: FERT | AS117: FERT | AT117: LERT | AU117: LERT | AV117: LERT | AW117: LERT | AX117: LERT | AY117: LERT | AZ117: z
A118: Mozambique | B118: X | C118: PERF | D118: PERF | E118: UD | F118: UD | G118: UD | H118: UD | I118: UD | J118: UD | K118: UD | L118: UD | M118: UD | N118: UD | O118: LSD | P118: LSD | Q118: LSD | R118: LSD | S118: LSD | T118: LSD | U118: LSD | V118: LSD | W118: LSD | X118: LSD | Y118: LSD | Z118: LSD | AA118: LSD | AB118: LSD | AC118: LSD | AD118: LSD | AE118: LSD | AF118: LSD | AG118: LSD | AH118: LSD | AI118: LSD | AJ118: LSD | AK118: LSD | AL118: LSD | AM118: LSD | AN118: LSD | AO118: LSD | AP118: LSD | AQ118: LSD | AR118: LSD | AS118: LSD | AT118: LSD | AU118: LSD | AV118: LSD | AW118: LSD | AX118: LSD | AY118: LSD | AZ118: 1
A119: Myanmar | B119: MDC | C119: MDC | D119: MDC | E119: MDC | F119: MDC | G119: MDC | H119: MDC | I119: MDC | J119: MDC | K119: MDC | L119: MDC | M119: MDC | N119: MDC | O119: MDC | P119: MDC | Q119: MDC | R119: UD | S119: UD | T119: UD | U119: UD | V119: UD | W119: UD | X119: UD | Y119: UD | Z119: UD | AA119: UD | AB119: UD | AC119: UD | AD119: UD | AE119: UD | AF119: UD | AG119: UD | AH119: UD | AI119: UD | AJ119: UD | AK119: UD | AL119: UD | AM119: UD | AN119: LSD | AO119: LSD | AP119: LSD | AQ119: LSD | AR119: LSD | AS119: LSD | AT119: LSD | AU119: LSD | AV119: LSD | AW119: LSD | AX119: LSD | AY119: LSD | AZ119: 1
A120: Namibia | B120: X | C120: X | D120: X | E120: X | F120: X | G120: X | H120: X | I120: X | J120: X | K120: X | L120: X | M120: X | N120: X | O120: X | P120: X | Q120: X | R120: UASC | S120: UASC | T120: UASC | U120: UASC | V120: AERF | W120: AERF | X120: AERF | Y120: AERF | Z120: AERF | AA120: AERF | AB120: AERF | AC120: AERF | AD120: AERF | AE120: AERF | AF120: AERF | AG120: AERF | AH120: AERF | AI120: AERF | AJ120: AERF | AK120: AERF | AL120: AERF | AM120: AERF | AN120: AERF | AO120: AERF | AP120: AERF | AQ120: AERF | AR120: AERF | AS120: AERF | AT120: AERF | AU120: AERF | AV120: AERF | AW120: AERF | AX120: AERF | AY120: AERF | AZ120: 1
A121: Nepal | B121: LSD | C121: LSD | D121: LSD | E121: LSD | F121: LSD | G121: LSD | H121: LSD | I121: LSD | J121: LSD | K121: LSD | L121: LSD | M121: LSD | N121: LSD | O121: LSD | P121: LSD | Q121: LSD | R121: LSD | S121: LSD | T121: LSD | U121: AERF | V121: AERF | W121: AERF | X121: AERF | Y121: AERF | Z121: AERF | AA121: AERF | AB121: AERF | AC121: AERF | AD121: AERF | AE121: AERF | AF121: AERF | AG121: AERF | AH121: AERF | AI121: AERF | AJ121: AERF | AK121: AERF | AL121: AERF | AM121: AERF | AN121: AERF | AO121: AERF | AP121: AERF | AQ121: AERF | AR121: AERF | AS121: AERF | AT121: AERF | AU121: AERF | AV121: AERF | AW121: AERF | AX121: AERF | AY121: AERF | AZ121: 1
A122: Netherlands | B122: FERT | C122: FERT | D122: FERT | E122: FERT | F122: FERT | G122: FERT | H122: FERT | I122: FERT | J122: FERT | K122: FERT | L122: FERT | M122: FERT | N122: FERT | O122: FERT | P122: FERT | Q122: FERT | R122: FERT | S122: FERT | T122: FERT | U122: FERT | V122: FERT | W122: FERT | X122: FERT | Y122: FERT | Z122: FERT | AA122: CU | AB122: CU | AC122: CU | AD122: CU | AE122: CU | AF122: CU | AG122: CU | AH122: CU | AI122: CU | AJ122: CU | AK122: CU | AL122: CU | AM122: CU | AN122: CU | AO122: CU | AP122: CU | AQ122: CU | AR122: CU | AS122: CU | AT122: CU | AU122: CU | AV122: CU | AW122: CU | AX122: CU | AY122: CU | AZ122: 1
A123: New Zealand | B123: UD | C123: UD | D123: UD | E123: UD | F123: UD | G123: UD | H123: UD | I123: UD | J123: UD | K123: UD | L123: UD | M123: LSD | N123: LSD | O123: LSD | P123: LSD | Q123: LSD | R123: FIT | S123: FIT | T123: FIT | U123: FIT | V123: FIT | W123: FIT | X123: FIT | Y123: FIT | Z123: FIT | AA123: FIT | AB123: FIT | AC123: FIT | AD123: FIT | AE123: FIT | AF123: FIT | AG123: FIT | AH123: FIT | AI123: FIT | AJ123: FIT | AK123: FIT | AL123: FIT | AM123: FIT | AN123: FIT | AO123: FIT | AP123: FIT | AQ123: FIT | AR123: FIT | AS123: FIT | AT123: FIT | AU123: FIT | AV123: FIT | AW123: FIT | AX123: FIT | AY123: FIT | AZ123: 1
A124: Nicaragua | B124: AERF | C124: AERF | D124: AERF | E124: AERF | F124: AERF | G124: AERF | H124: UD | I124: UD | J124: UD | K124: UD | L124: UD | M124: UD | N124: UD | O124: UD | P124: UD | Q124: UD | R124: UD | S124: LSD | T124: LSD | U124: LSD | V124: LSD | W124: LSD | X124: AERF | Y124: AERF | Z124: AERF | AA124: AERF | AB124: AERF | AC124: AERF | AD124: AERF | AE124: AERF | AF124: AERF | AG124: AERF | AH124: AERF | AI124: AERF | AJ124: AERF | AK124: AERF | AL124: AERF | AM124: AERF | AN124: AERF | AO124: AERF | AP124: AERF | AQ124: AERF | AR124: AERF | AS124: AERF | AT124: AERF | AU124: AERF | AV124: AERF | AW124: AERF | AX124: AERF | AY124: AERF | AZ124: 1
A125: Niger | B125: CU | C125: CU | D125: CU | E125: CU | F125: CU | G125: CU | H125: CU | I125: CU | J125: CU | K125: CU | L125: CU | M125: CU | N125: CU | O125: CU | P125: CU | Q125: CU | R125: CU | S125: CU | T125: CU | U125: CU | V125: CU | W125: CU | X125: CU | Y125: CU | Z125: CU | AA125: CU | AB125: CU | AC125: CU | AD125: CU | AE125: CU | AF125: CU | AG125: CU | AH125: CU | AI125: CU | AJ125: CU | AK125: CU | AL125: CU | AM125: CU | AN125: CU | AO125: CU | AP125: CU | AQ125: CU | AR125: CU | AS125: CU | AT125: CU | AU125: CU | AV125: CU | AW125: CU | AX125: CU | AY125: CU | AZ125: 1
A126: Nigeria | B126: LSD | C126: LSD | D126: LSD | E126: LSD | F126: LSD | G126: LSD | H126: LSD | I126: LSD | J126: LSD | K126: LSD | L126: LSD | M126: LSD | N126: LSD | O126: LSD | P126: LSD | Q126: LSD | R126: LSD | S126: LSD | T126: LSD | U126: LSD | V126: LSD | W126: LSD | X126: LSD | Y126: LSD | Z126: LSD | AA126: LSD | AB126: LSD | AC126: LSD | AD126: LSD | AE126: LSD | AF126: LSD | AG126: LSD | AH126: LSD | AI126: LSD | AJ126: LSD | AK126: LSD | AL126: LSD | AM126: LSD | AN126: LSD | AO126: LSD | AP126: LSD | AQ126: LSD | AR126: LSD | AS126: LSD | AT126: LSD | AU126: LSD | AV126: LSD | AW126: LSD | AX126: LSD | AY126: LSD | AZ126: 1
A127: North Macedonia | B127: X | C127: X | D127: X | E127: X | F127: X | G127: X | H127: X | I127: X | J127: X | K127: X | L127: X | M127: X | N127: X | O127: X | P127: X | Q127: X | R127: X | S127: X | T127: UD | U127: UD | V127: LSD | W127: LSD | X127: LSD | Y127: LSD | Z127: LERT | AA127: LERT | AB127: LERT | AC127: LERT | AD127: LERT | AE127: LERT | AF127: LERT | AG127: LERT | AH127: LERT | AI127: LERT | AJ127: LERT | AK127: LERT | AL127: LERT | AM127: LERT | AN127: LERT | AO127: LERT | AP127: LERT | AQ127: LERT | AR127: LERT | AS127: LERT | AT127: LERT | AU127: LERT | AV127: LERT | AW127: LERT | AX127: LERT | AY127: LERT | AZ127: 1
A128: Norway | B128: LERT | C128: LERT | D128: LERT | E128: LERT | F128: LERT | G128: LERT | H128: LERT | I128: LERT | J128: LERT | K128: LERT | L128: LERT | M128: LERT | N128: LERT | O128: LERT | P128: FERT | Q128: FERT | R128: FERT | S128: FERT | T128: FERT | U128: LSD | V128: LSD | W128: LSD | X128: LSD | Y128: LSD | Z128: LSD | AA128: LSD | AB128: LSD | AC128: FIT | AD128: FIT | AE128: FIT | AF128: FIT | AG128: FIT | AH128: FIT | AI128: FIT | AJ128: FIT | AK128: FIT | AL128: FIT | AM128: FIT | AN128: FIT | AO128: FIT | AP128: FIT | AQ128: FIT | AR128: FIT | AS128: FIT | AT128: FIT | AU128: FIT | AV128: FIT | AW128: FIT | AX128: FIT | AY128: FIT | AZ128: 1
A129: Oman | B129: PCB | C129: AERF | D129: AERF | E129: AERF | F129: AERF | G129: AERF | H129: AERF | I129: AERF | J129: AERF | K129: AERF | L129: AERF | M129: AERF | N129: AERF | O129: AERF | P129: AERF | Q129: AERF | R129: AERF | S129: AERF | T129: AERF | U129: AERF | V129: AERF | W129: AERF | X129: AERF | Y129: AERF | Z129: AERF | AA129: AERF | AB129: AERF | AC129: AERF | AD129: AERF | AE129: AERF | AF129: AERF | AG129: AERF | AH129: AERF | AI129: AERF | AJ129: AERF | AK129: AERF | AL129: AERF | AM129: AERF | AN129: AERF | AO129: AERF | AP129: AERF | AQ129: AERF | AR129: AERF | AS129: AERF | AT129: AERF | AU129: AERF | AV129: AERF | AW129: AERF | AX129: AERF | AY129: AERF | AZ129: 1
... A132: Papua New Guinea | B132: X | C132: X | D132: LSD | E132: LSD | F132: LSD | G132: LSD | H132: LSD | I132: LSD | J132: LSD | K132: LSD | L132: LSD | M132: LSD | N132: LSD | O132: LSD | P132: LSD | Q132: LSD | R132: LSD | S132: LSD | T132: LSD | U132: LSD | V132: LSD | W132: LSD | X132: LSD | Y132: LSD | Z132: LSD | AA132: LSD | AB132: LSD | AC132: LSD | AD132: LSD | AE132: LSD | AF132: LSD | AG132: LSD | AH132: LSD | AI132: LSD | AJ132: LSD | AK132: LSD | AL132: LSD | AM132: LSD | AN132: LSD | AO132: LSD | AP132: LSD | AQ132: LSD | AR132: LSD | AS132: LSD | AT132: LSD | AU132: LSD | AV132: LSD | AW132: LSD | AX132: LSD | AY132: LSD | AZ132: 1
A133: Paraguay | B133: UD | C133: UD | D133: UD | E133: UD | F133: UD | G133: UD | H133: UD | I133: UD | J133: UD | K133: UD | L133: UD | M133: UD | N133: UD | O133: UD | P133: UD | Q133: UD | R133: UD | S133: LSD | T133: LSD | U133: LSD | V133: LSD | W133: LSD | X133: LSD | Y133: LSD | Z133: LSD | AA133: LSD | AB133: LSD | AC133: LSD | AD133: LSD | AE133: LSD | AF133: LSD | AG133: LSD | AH133: LSD | AI133: LSD | AJ133: LSD | AK133: LSD | AL133: LSD | AM133: LSD | AN133: LCIT | AO133: LCIT | AP133: LCIT | AQ133: LCIT | AR133: LCIT | AS133: LCIT | AT133: LIT | AU133: LIT | AV133: LIT | AW133: LIT | AX133: LIT | AY133: LIT | AZ133: z
A134: Peru | B134: UD | C134: UD | D134: UD | E134: UD | F134: UD | G134: UD | H134: UD | I134: UD | J134: UD | K134: UD | L134: UD | M134: UD | N134: UD | O134: UD | P134: UD | Q134: UD | R134: UD | S134: UD | T134: UD | U134: LSD | V134: LSD | W134: LSD | X134: LSD | Y134: LSD | Z134: LSD | AA134: LSD | AB134: LSD | AC134: LSD | AD134: FIT | AE134: FIT | AF134: FIT | AG134: FIT | AH134: FIT | AI134: FIT | AJ134: FIT | AK134: FIT | AL134: FIT | AM134: FIT | AN134: FIT | AO134: FIT | AP134: FIT | AQ134: FIT | AR134: FIT | AS134: FIT | AT134: FIT | AU134: FIT | AV134: FIT | AW134: FIT | AX134: FIT | AY134: FIT | AZ134: 1
A135: Philippines | B135: LSD | C135: LSD | D135: LSD | E135: LSD | F135: LSD | G135: LSD | H135: LSD | I135: LSD | J135: LSD | K135: LSD | L135: LSD | M135: LSD | N135: LSD | O135: LSD | P135: LSD | Q135: LSD | R135: LSD | S135: LSD | T135: LSD | U135: LSD | V135: LSD | W135: LSD | X135: LSD | Y135: LSD | Z135: LSD | AA135: LSD | AB135: LSD | AC135: LSD | AD135: LIT | AE135: LIT | AF135: LIT | AG135: LIT | AH135: LIT | AI135: LIT | AJ135: LIT | AK135: FIT | AL135: FIT | AM135: FIT | AN135: FIT | AO135: FIT | AP135: FIT | AQ135: FIT | AR135: FIT | AS135: FIT | AT135: FIT | AU135: FIT | AV135: FIT | AW135: FIT | AX135: FIT | AY135: FIT | AZ135: 1
A136: Poland | B136: MDC | C136: MDC | D136: MDC | E136: MDC | F136: MDC | G136: MDC | H136: MDC | I136: MDC | J136: UD | K136: UD | L136: UD | M136: UD | N136: UD | O136: UD | P136: UD | Q136: UD | R136: LSD | S136: LSD | T136: LSD | U136: LSD | V136: LSD | W136: LSD | X136: LSD | Y136: LSD | Z136: LCIT | AA136: LCIT | AB136: LCIT | AC136: LCIT | AD136: LCIT | AE136: LCIT | AF136: FIT | AG136: FIT | AH136: FIT | AI136: FIT | AJ136: FIT | AK136: FIT | AL136: FIT | AM136: FIT | AN136: FIT | AO136: FIT | AP136: FIT | AQ136: FIT | AR136: FIT | AS136: FIT | AT136: FIT | AU136: FIT | AV136: FIT | AW136: FIT | AX136: FIT | AY136: FIT | AZ136: 1
A137: Portugal | B137: UD | C137: UD | D137: UD | E137: UD | F137: LCERT | G137: LCERT | H137: LCERT | I137: LCERT | J137: LCERT | K137: LCERT | L137: LCERT | M137: LCERT | N137: LCERT | O137: LCERT | P137: LCERT | Q137: LCERT | R137: LCERT | S137: LERT | T137: LERT | U137: LERT | V137: LERT | W137: FERT | X137: FERT | Y137: FERT | Z137: FERT | AA137: CU | AB137: CU | AC137: CU | AD137: CU | AE137: CU | AF137: CU | AG137: CU | AH137: CU | AI137: CU | AJ137: CU | AK137: CU | AL137: CU | AM137: CU | AN137: CU | AO137: CU | AP137: CU | AQ137: CU | AR137: CU | AS137: CU | AT137: CU | AU137: CU | AV137: CU | AW137: CU | AX137: CU | AY137: CU | AZ137: 1
A138: Qatar | B138: PCB | C138: PCB | D138: PCB | E138: PCB | F138: PCB | G138: ACB | H138: ACB | I138: ACB | J138: ACB | K138: ACB | L138: ACB | M138: ACB | N138: ACB | O138: ACB | P138: ACB | Q138: ACB | R138: ACB | S138: ACB | T138: ACB | U138: LERT | V138: LERT | W138: LERT | X138: LERT | Y138: LERT | Z138: LERT | AA138: LERT | AB138: LERT | AC138: FERT | AD138: FERT | AE138: FERT | AF138: FERT | AG138: FERT | AH138: FERT | AI138: FERT | AJ138: FERT | AK138: FERT | AL138: FERT | AM138: FERT | AN138: FERT | AO138: FERT | AP138: FERT | AQ138: FERT | AR138: FERT | AS138: FERT | AT138: FERT | AU138: FERT | AV138: FERT | AW138: FERT | AX138: FERT | AY138: FERT | AZ138: 1
A139: Romania | B139: MDC | C139: MDC | D139: MDC | E139: MDC | F139: MDC | G139: MDC | H139: MDC | I139: MDC | J139: MDC | K139: MDC | L139: MDC | M139: MDC | N139: MDC | O139: MDC | P139: MDC | Q139: MDC | R139: MDC | S139: UD | T139: UD | U139: UD | V139: UD | W139: UD | X139: UD | Y139: UD | Z139: UD | AA139: UD | AB139: UD | AC139: LSD | AD139: LSD | AE139: LSD | AF139: LSD | AG139: LSD | AH139: LCIT | AI139: LCIT | AJ139: LCIT | AK139: LCIT | AL139: LCIT | AM139: LCIT | AN139: LCIT | AO139: LCIT | AP139: LIT | AQ139: LIT | AR139: LIT | AS139: LIT | AT139: LIT | AU139: LIT | AV139: LIT | AW139: LIT | AX139: LIT | AY139: LIT | AZ139: 1
A140: Russia | B140: X | C140: X | D140: X | E140: X | F140: X | G140: X | H140: X | I140: X | J140: X | K140: X | L140: X | M140: X | N140: X | O140: X | P140: X | Q140: X | R140: X | S140: X | T140: UD | U140: UD | V140: UD | W140: UD | X140: UD | Y140: UD | Z140: UD | AA140: UD | AB140: UD | AC140: UD | AD140: LSD | AE140: LSD | AF140: LSD | AG140: LSD | AH140: LSD | AI140: LSD | AJ140: LSD | AK140: LSD | AL140: LSD | AM140: LSD | AN140: LSD | AO140: LSD | AP140: LSD | AQ140: LSD | AR140: LSD | AS140: LIT | AT140: LIT | AU140: LIT | AV140: LIT | AW140: LSD | AX140: LSD | AY140: LSD | AZ140: x
A141: Rwanda | B141: AERF | C141: AERF | D141: AERF | E141: AERF | F141: AERF | G141: AERF | H141: AERF | I141: AERF | J141: AERF | K141: AERF | L141: AERF | M141: AERF | N141: AERF | O141: AERF | P141: AERF | Q141: AERF | R141: AERF | S141: AERF | T141: AERF | U141: AERF | V141: UD | W141: LSD | X141: LSD | Y141: LSD | Z141: LSD | AA141: LSD | AB141: LSD | AC141: LSD | AD141: LSD | AE141: LSD | AF141: LSD | AG141: LSD | AH141: LSD | AI141: LSD | AJ141: LSD | AK141: LSD | AL141: LSD | AM141: LSD | AN141: LSD | AO141: LSD | AP141: LSD | AQ141: LSD | AR141: LSD | AS141: LSD | AT141: LSD | AU141: LSD | AV141: LSD | AW141: LSD | AX141: LSD | AY141: LSD | AZ141: 1
A142: Saudi | B142: AERF | C142: AERF | D142: AERF | E142: AERF | F142: AERF | G142: AERF | H142: AERF | I142: AERF | J142: AERF | K142: AERF | L142: AERF | M142: AERF | N142: LERT | O142: LERT | P142: LERT | Q142: LERT | R142: LERT | S142: LERT | T142: LERT | U142: LERT | V142: LERT | W142: LERT | X142: LERT | Y142: LERT | Z142: LERT | AA142: LERT | AB142: FERT | AC142: FERT | AD142: FERT | AE142: FERT | AF142: FERT | AG142: FERT | AH142: FERT | AI142: FERT | AJ142: FERT | AK142: FERT | AL142: FERT | AM142: FERT | AN142: FERT | AO142: FERT | AP142: FERT | AQ142: FERT | AR142: FERT | AS142: FERT | AT142: FERT | AU142: FERT | AV142: FERT | AW142: FERT | AX142: FERT | AY142: FERT | AZ142: 1
A143: Senegal | B143: CU | C143: CU | D143: CU | E143: CU | F143: CU | G143: CU | H143: CU | I143: CU | J143: CU | K143: CU | L143: CU | M143: CU | N143: CU | O143: CU | P143: CU | Q143: CU | R143: CU | S143: CU | T143: CU | U143: CU | V143: CU | W143: CU | X143: CU | Y143: CU | Z143: CU | AA143: CU | AB143: CU | AC143: CU | AD143: CU | AE143: CU | AF143: CU | AG143: CU | AH143: CU | AI143: CU | AJ143: CU | AK143: CU | AL143: CU | AM143: CU | AN143: CU | AO143: CU | AP143: CU | AQ143: CU | AR143: CU | AS143: CU | AT143: CU | AU143: CU | AV143: CU | AW143: CU | AX143: CU | AY143: CU | AZ143: 1
A144: Serbia | B144: X | C144: X | D144: X | E144: X | F144: X | G144: X | H144: X | I144: X | J144: X | K144: X | L144: X | M144: X | N144: X | O144: X | P144: X | Q144: X | R144: X | S144: X | T144: X | U144: UD | V144: UD | W144: UD | X144: UD | Y144: UD | Z144: UD | AA144: UD | AB144: UD | AC144: LSD | AD144: LSD | AE144: LSD | AF144: LSD | AG144: LSD | AH144: LSD | AI144: LSD | AJ144: LSD | AK144: LCIT | AL144: LCIT | AM144: LCIT | AN144: LCIT | AO144: LIT | AP144: LIT | AQ144: LIT | AR144: LIT | AS144: LIT | AT144: LIT | AU144: LIT | AV144: LIT | AW144: LIT | AX144: LIT | AY144: LIT | AZ144: 1
A145: Sierra Leone | B145: AERF | C145: AERF | D145: AERF | E145: AERF | F145: AERF | G145: AERF | H145: AERF | I145: AERF | J145: AERF | K145: UD | L145: UD | M145: UD | N145: UD | O145: UD | P145: UD | Q145: UD | R145: LSD | S145: LSD | T145: LSD | U145: LSD | V145: LSD | W145: LSD | X145: LSD | Y145: LSD | Z145: LSD | AA145: LSD | AB145: LSD | AC145: LSD | AD145: LSD | AE145: LSD | AF145: LSD | AG145: LSD | AH145: LSD | AI145: LSD | AJ145: LSD | AK145: LSD | AL145: LSD | AM145: LSD | AN145: LSD | AO145: LSD | AP145: LSD | AQ145: LSD | AR145: LSD | AS145: LSD | AT145: LSD | AU145: LSD | AV145: LSD | AW145: LSD | AX145: LSD | AY145: LSD | AZ145: 1
A146: Singapore | B146: LSD | C146: LSD | D146: LERT | E146: LERT | F146: LERT | G146: LERT | H146: LERT | I146: LSD | J146: LSD | K146: LSD | L146: LSD | M146: LSD | N146: LIT | O146: LIT | P146: LIT | Q146: LIT | R146: LIT | S146: LIT | T146: LIT | U146: LIT | V146: LIT | W146: LIT | X146: LIT | Y146: LIT | Z146: LIT | AA146: LIT | AB146: LIT | AC146: LIT | AD146: LIT | AE146: LIT | AF146: LIT | AG146: LIT | AH146: LIT | AI146: LIT | AJ146: LIT | AK146: LIT | AL146: LIT | AM146: LIT | AN146: LIT | AO146: LIT | AP146: LIT | AQ146: LIT | AR146: LIT | AS146: LIT | AT146: LIT | AU146: LIT | AV146: LIT | AW146: LIT | AX146: LIT | AY146: LIT | AZ146: 1
A147: Slovakia | B147: X | C147: X | D147: X | E147: X | F147: X | G147: X | H147: X | I147: X | J147: X | K147: X | L147: X | M147: X | N147: X | O147: X | P147: X | Q147: X | R147: X | S147: X | T147: X | U147: AERF | V147: AERF | W147: AERF | X147: LSD | Y147: LSD | Z147: LSD | AA147: LSD | AB147: LSD | AC147: LSD | AD147: LSD | AE147: LSD | AF147: LSD | AG147: I&ERT | AH147: I&ERT | AI147: I&ERT | AJ147: I&ERT | AK147: CU | AL147: CU | AM147: CU | AN147: CU | AO147: CU | AP147: CU | AQ147: CU | AR147: CU | AS147: CU | AT147: CU | AU147: CU | AV147: CU | AW147: CU | AX147: CU | AY147: CU | AZ147: 1
A148: Slovenia | B148: X | C148: X | D148: X | E148: X | F148: X | G148: X | H148: X | I148: X | J148: X | K148: X | L148: X | M148: X | N148: X | O148: X | P148: X | Q148: X | R148: X | S148: X | T148: UD | U148: UD | V148: LSD | W148: LSD | X148: LSD | Y148: LSD | Z148: MwERT | AA148: MwERT | AB148: MwERT | AC148: MwERT | AD148: IwERT | AE148: IwERT | AF148: ERwIT | AG148: ERwIT | AH148: ERwIT | AI148: CU | AJ148: CU | AK148: CU | AL148: CU | AM148: CU | AN148: CU | AO148: CU | AP148: CU | AQ148: CU | AR148: CU | AS148: CU | AT148: CU | AU148: CU | AV148: CU | AW148: CU | AX148: CU | AY148: CU | AZ148: 1
A149: Solomon Islands | B149: X | C149: X | D149: X | E149: X | F149: LSD | G149: LSD | H149: LSD | I149: LSD | J149: LSD | K149: LSD | L149: LSD | M149: LSD | N149: LSD | O149: LSD | P149: LSD | Q149: LSD | R149: LSD | S149: LSD | T149: LSD | U149: LSD | V149: LSD | W149: LSD | X149: LSD | Y149: LSD | Z149: LSD | AA149: LSD | AB149: LSD | AC149: LSD | AD149: LSD | AE149: LSD | AF149: LSD | AG149: LSD | AH149: LSD | AI149: LSD | AJ149: LSD | AK149: LSD | AL149: LSD | AM149: LSD | AN149: LSD | AO149: LSD | AP149: LSD | AQ149: LSD | AR149: LSD | AS149: LSD | AT149: LSD | AU149: LSD | AV149: LSD | AW149: LSD | AX149: LSD | AY149: LSD | AZ149: 1
A150: Somalia | B150: AERF | C150: AERF | D150: AERF | E150: AERF | F150: AERF | G150: AERF | H150: AERF | I150: LSD | J150: LSD | K150: LSD | L150: LSD | M150: LSD | N150: LSD | O150: LSD | P150: LSD | Q150: LSD | R150: LSD | S150: UD | T150: UD | U150: UD | V150: UD | W150: UD | X150: UD | Y150: UD | Z150: UD | AA150: UD | AB150: UD | AC150: UD | AD150: UD | AE150: UD | AF150: UD | AG150: UD | AH150: UD | AI150: UD | AJ150: UD | AK150: UD | AL150: UD | AM150: UD | AN150: UD | AO150: UD | AP150: UD | AQ150: UD | AR150: UD | AS150: UD | AT150: UD | AU150: UD | AV150: UD | AW150: UD | AX150: UD | AY150: UD | AZ150: 1
A151: South Africa | B151: AERF | C151: AERF | D151: AERF | E151: AERF | F151: AERF | G151: LSD | H151: LSD | I151: LSD | J151: LSD | K151: LSD | L151: LSD | M151: LSD | N151: LSD | O151: LSD | P151: LSD | Q151: LSD | R151: LSD | S151: LSD | T151: LSD | U151: LSD | V151: LSD | W151: LSD | X151: LSD | Y151: LSD | Z151: LSD | AA151: LSD | AB151: LSD | AC151: LSD | AD151: LSD | AE151: LIT | AF151: LIT | AG151: LIT | AH151: LIT | AI151: LIT | AJ151: LIT | AK151: LIT | AL151: LIT | AM151: LIT | AN151: LIT | AO151: LIT | AP151: LIT | AQ151: LIT | AR151: LIT | AS151: LIT | AT151: LIT | AU151: LIT | AV151: LIT | AW151: LIT | AX151: LIT | AY151: LIT | AZ151: 1
A152: South Sudan | B152: X | C152: X | D152: X | E152: X | F152: X | G152: X | H152: X | I152: X | J152: X | K152: X | L152: X | M152: X | N152: X | O152: X | P152: X | Q152: X | R152: X | S152: X | T152: X | U152: X | V152: X | W152: X | X152: X | Y152: X | Z152: X | AA152: X | AB152: X | AC152: X | AD152: X | AE152: X | AF152: X | AG152: X | AH152: X | AI152: X | AJ152: X | AK152: X | AL152: X | AM152: X | AN152: LSD | AO152: LSD | AP152: LSD | AQ152: LSD | AR152: LSD | AS152: LSD | AT152: LSD | AU152: LSD | AV152: LSD | AW152: LSD | AX152: LSD | AY152: LSD | AZ152: 1
... A154: Sri Lanka | B154: AERF | C154: AERF | D154: AERF | E154: AERF | F154: LSD | G154: LSD | H154: LSD | I154: LSD | J154: LSD | K154: LSD | L154: LSD | M154: LSD | N154: LSD | O154: LSD | P154: LSD | Q154: LSD | R154: LSD | S154: LSD | T154: LSD | U154: LSD | V154: LSD | W154: LSD | X154: LSD | Y154: LSD | Z154: LSD | AA154: LSD | AB154: LSD | AC154: LSD | AD154: LSD | AE154: LSD | AF154: LSD | AG154: LSD | AH154: LSD | AI154: LSD | AJ154: LSD | AK154: LSD | AL154: LSD | AM154: LSD | AN154: LSD | AO154: LSD | AP154: LSD | AQ154: LSD | AR154: LSD | AS154: LSD | AT154: LSD | AU154: LSD | AV154: LSD | AW154: LSD | AX154: LSD | AY154: LSD | AZ154: 1
...

Sheet targvar
A1: country | B1: 1974 | C1: 1975 | D1: 1976 | E1: 1977 | F1: 1978 | G1: 1979 | H1: 1980 | I1: 1981 | J1: 1982 | K1: 1983 | L1: 1984 | M1: 1985 | N1: 1986 | O1: 1987 | P1: 1988 | Q1: 1989 | R1: 1990 | S1: 1991 | T1: 1992 | U1: 1993 | V1: 1994 | W1: 1995 | X1: 1996 | Y1: 1997 | Z1: 1998 | AA1: 1999 | AB1: 2000 | AC1: 2001 | AD1: 2002 | AE1: 2003 | AF1: 2004 | AG1: 2005 | AH1: 2006 | AI1: 2007 | AJ1: 2008 | AK1: 2009 | AL1: 2010 | AM1: 2011 | AN1: 2012 | AO1: 2013 | AP1: 2014 | AQ1: 2015 | AR1: 2016 | AS1: 2017 | AT1: 2018 | AU1: 2019 | AV1: 2020 | AW1: 2021 | AX1: 2022 | AY1: 2023
A2: Afghanistan | B2: =IF('full menu'!B2="MDC","MDC",IF(OR('full menu'!B2="PERF",'full menu'!B2="AERF",'full menu'!B2="PCB"),"ERfix",IF(OR('full menu'!B2="ACB", 'full menu'!B2="LCERT", 'full menu'!B2="LERT",'full menu'!B2="FCERT",'full menu'!B2="FERT"),"ERTs",IF(OR('full menu'!B2="FCMT",'full menu'!B2="FMT",'full menu'!B2="LMT",'full menu'!B2="LCMT"),"MTs",IF(OR('full menu'!B2="LCIT",'full menu'!B2="FCIT",'full menu'!B2="LIT",'full menu'!B2="FIT"),"ITs",IF(OR('full menu'!B2="MwERT", 'full menu'!B2="ERwMT", 'full menu'!B2="M&ERT", 'full menu'!B2="MwIT", 'full menu'!B2="IwMT", 'full menu'!B2="M&IT", 'full menu'!B2="IwERT", 'full menu'!B2="ERwIT", 'full menu'!B2="I&ERT", 'full menu'!B2="ER&M&IT"),"MixedTs",IF('full menu'!B2="UD","UD",IF('full menu'!B2="LSD","LSD",IF('full menu'!B2="WSD","WSD",IF('full menu'!B2="UASC","UASC","")))))))))) -> UD | C2: =IF('full menu'!C2="MDC","MDC",IF(OR('full menu'!C2="PERF",'full menu'!C2="AERF",'full menu'!C2="PCB"),"ERfix",IF(OR('full menu'!C2="ACB", 'full menu'!C2="LCERT", 'full menu'!C2="LERT",'full menu'!C2="FCERT",'full menu'!C2="FERT"),"ERTs",IF(OR('full menu'!C2="FCMT",'full menu'!C2="FMT",'full menu'!C2="LMT",'full menu'!C2="LCMT"),"MTs",IF(OR('full menu'!C2="LCIT",'full menu'!C2="FCIT",'full menu'!C2="LIT",'full menu'!C2="FIT"),"ITs",IF(OR('full menu'!C2="MwERT", 'full menu'!C2="ERwMT", 'full menu'!C2="M&ERT", 'full menu'!C2="MwIT", 'full menu'!C2="IwMT", 'full menu'!C2="M&IT", 'full menu'!C2="IwERT", 'full menu'!C2="ERwIT", 'full menu'!C2="I&ERT", 'full menu'!C2="ER&M&IT"),"MixedTs",IF('full menu'!C2="UD","UD",IF('full menu'!C2="LSD","LSD",IF('full menu'!C2="WSD","WSD",IF('full menu'!C2="UASC","UASC","")))))))))) -> UD | D2: =IF('full menu'!D2="MDC","MDC",IF(OR('full menu'!D2="PERF",'full menu'!D2="AERF",'full menu'!D2="PCB"),"ERfix",IF(OR('full menu'!D2="ACB", 'full menu'!D2="LCERT", 'full menu'!D2="LERT",'full menu'!D2="FCERT",'full menu'!D2="FERT"),"ERTs",IF(OR('full menu'!D2="FCMT",'full menu'!D2="FMT",'full menu'!D2="LMT",'full menu'!D2="LCMT"),"MTs",IF(OR('full menu'!D2="LCIT",'full menu'!D2="FCIT",'full menu'!D2="LIT",'full menu'!D2="FIT"),"ITs",IF(OR('full menu'!D2="MwERT", 'full menu'!D2="ERwMT", 'full menu'!D2="M&ERT", 'full menu'!D2="MwIT", 'full menu'!D2="IwMT", 'full menu'!D2="M&IT", 'full menu'!D2="IwERT", 'full menu'!D2="ERwIT", 'full menu'!D2="I&ERT", 'full menu'!D2="ER&M&IT"),"MixedTs",IF('full menu'!D2="UD","UD",IF('full menu'!D2="LSD","LSD",IF('full menu'!D2="WSD","WSD",IF('full menu'!D2="UASC","UASC","")))))))))) -> UD | E2: =IF('full menu'!E2="MDC","MDC",IF(OR('full menu'!E2="PERF",'full menu'!E2="AERF",'full menu'!E2="PCB"),"ERfix",IF(OR('full menu'!E2="ACB", 'full menu'!E2="LCERT", 'full menu'!E2="LERT",'full menu'!E2="FCERT",'full menu'!E2="FERT"),"ERTs",IF(OR('full menu'!E2="FCMT",'full menu'!E2="FMT",'full menu'!E2="LMT",'full menu'!E2="LCMT"),"MTs",IF(OR('full menu'!E2="LCIT",'full menu'!E2="FCIT",'full menu'!E2="LIT",'full menu'!E2="FIT"),"ITs",IF(OR('full menu'!E2="MwERT", 'full menu'!E2="ERwMT", 'full menu'!E2="M&ERT", 'full menu'!E2="MwIT", 'full menu'!E2="IwMT", 'full menu'!E2="M&IT", 'full menu'!E2="IwERT", 'full menu'!E2="ERwIT", 'full menu'!E2="I&ERT", 'full menu'!E2="ER&M&IT"),"MixedTs",IF('full menu'!E2="UD","UD",IF('full menu'!E2="LSD","LSD",IF('full menu'!E2="WSD","WSD",IF('full menu'!E2="UASC","UASC","")))))))))) -> UD | F2: =IF('full menu'!F2="MDC","MDC",IF(OR('full menu'!F2="PERF",'full menu'!F2="AERF",'full menu'!F2="PCB"),"ERfix",IF(OR('full menu'!F2="ACB", 'full menu'!F2="LCERT", 'full menu'!F2="LERT",'full menu'!F2="FCERT",'full menu'!F2="FERT"),"ERTs",IF(OR('full menu'!F2="FCMT",'full menu'!F2="FMT",'full menu'!F2="LMT",'full menu'!F2="LCMT"),"MTs",IF(OR('full menu'!F2="LCIT",'full menu'!F2="FCIT",'full menu'!F2="LIT",'full menu'!F2="FIT"),"ITs",IF(OR('full menu'!F2="MwERT", 'full menu'!F2="ERwMT", 'full menu'!F2="M&ERT", 'full menu'!F2="MwIT", 'full menu'!F2="IwMT", 'full menu'!F2="M&IT", 'full menu'!F2="IwERT", 'full menu'!F2="ERwIT", 'full menu'!F2="I&ERT", 'full menu'!F2="ER&M&IT"),"MixedTs",IF('full menu'!F2="UD","UD",IF('full menu'!F2="LSD","LSD",IF('full menu'!F2="WSD","WSD",IF('full menu'!F2="UASC","UASC","")))))))))) -> UD | G2: =IF('full menu'!G2="MDC","MDC",IF(OR('full menu'!G2="PERF",'full menu'!G2="AERF",'full menu'!G2="PCB"),"ERfix",IF(OR('full menu'!G2="ACB", 'full menu'!G2="LCERT", 'full menu'!G2="LERT",'full menu'!G2="FCERT",'full menu'!G2="FERT"),"ERTs",IF(OR('full menu'!G2="FCMT",'full menu'!G2="FMT",'full menu'!G2="LMT",'full menu'!G2="LCMT"),"MTs",IF(OR('full menu'!G2="LCIT",'full menu'!G2="FCIT",'full menu'!G2="LIT",'full menu'!G2="FIT"),"ITs",IF(OR('full menu'!G2="MwERT", 'full menu'!G2="ERwMT", 'full menu'!G2="M&ERT", 'full menu'!G2="MwIT", 'full menu'!G2="IwMT", 'full menu'!G2="M&IT", 'full menu'!G2="IwERT", 'full menu'!G2="ERwIT", 'full menu'!G2="I&ERT", 'full menu'!G2="ER&M&IT"),"MixedTs",IF('full menu'!G2="UD","UD",IF('full menu'!G2="LSD","LSD",IF('full menu'!G2="WSD","WSD",IF('full menu'!G2="UASC","UASC","")))))))))) -> UD | H2: =IF('full menu'!H2="MDC","MDC",IF(OR('full menu'!H2="PERF",'full menu'!H2="AERF",'full menu'!H2="PCB"),"ERfix",IF(OR('full menu'!H2="ACB", 'full menu'!H2="LCERT", 'full menu'!H2="LERT",'full menu'!H2="FCERT",'full menu'!H2="FERT"),"ERTs",IF(OR('full menu'!H2="FCMT",'full menu'!H2="FMT",'full menu'!H2="LMT",'full menu'!H2="LCMT"),"MTs",IF(OR('full menu'!H2="LCIT",'full menu'!H2="FCIT",'full menu'!H2="LIT",'full menu'!H2="FIT"),"ITs",IF(OR('full menu'!H2="MwERT", 'full menu'!H2="ERwMT", 'full menu'!H2="M&ERT", 'full menu'!H2="MwIT", 'full menu'!H2="IwMT", 'full menu'!H2="M&IT", 'full menu'!H2="IwERT", 'full menu'!H2="ERwIT", 'full menu'!H2="I&ERT", 'full menu'!H2="ER&M&IT"),"MixedTs",IF('full menu'!H2="UD","UD",IF('full menu'!H2="LSD","LSD",IF('full menu'!H2="WSD","WSD",IF('full menu'!H2="UASC","UASC","")))))))))) -> UD | I2: =IF('full menu'!I2="MDC","MDC",IF(OR('full menu'!I2="PERF",'full menu'!I2="AERF",'full menu'!I2="PCB"),"ERfix",IF(OR('full menu'!I2="ACB", 'full menu'!I2="LCERT", 'full menu'!I2="LERT",'full menu'!I2="FCERT",'full menu'!I2="FERT"),"ERTs",IF(OR('full menu'!I2="FCMT",'full menu'!I2="FMT",'full menu'!I2="LMT",'full menu'!I2="LCMT"),"MTs",IF(OR('full menu'!I2="LCIT",'full menu'!I2="FCIT",'full menu'!I2="LIT",'full menu'!I2="FIT"),"ITs",IF(OR('full menu'!I2="MwERT", 'full menu'!I2="ERwMT", 'full menu'!I2="M&ERT", 'full menu'!I2="MwIT", 'full menu'!I2="IwMT", 'full menu'!I2="M&IT", 'full menu'!I2="IwERT", 'full menu'!I2="ERwIT", 'full menu'!I2="I&ERT", 'full menu'!I2="ER&M&IT"),"MixedTs",IF('full menu'!I2="UD","UD",IF('full menu'!I2="LSD","LSD",IF('full menu'!I2="WSD","WSD",IF('full menu'!I2="UASC","UASC","")))))))))) -> UD | ... AY2: =IF('full menu'!AY2="MDC","MDC",IF(OR('full menu'!AY2="PERF",'full menu'!AY2="AERF",'full menu'!AY2="PCB"),"ERfix",IF(OR('full menu'!AY2="ACB", 'full menu'!AY2="LCERT", 'full menu'!AY2="LERT",'full menu'!AY2="FCERT",'full menu'!AY2="FERT"),"ERTs",IF(OR('full menu'!AY2="FCMT",'full menu'!AY2="FMT",'full menu'!AY2="LMT",'full menu'!AY2="LCMT"),"MTs",IF(OR('full menu'!AY2="LCIT",'full menu'!AY2="FCIT",'full menu'!AY2="LIT",'full menu'!AY2="FIT"),"ITs",IF(OR('full menu'!AY2="MwERT", 'full menu'!AY2="ERwMT", 'full menu'!AY2="M&ERT", 'full menu'!AY2="MwIT", 'full menu'!AY2="IwMT", 'full menu'!AY2="M&IT", 'full menu'!AY2="IwERT", 'full menu'!AY2="ERwIT", 'full menu'!AY2="I&ERT", 'full menu'!AY2="ER&M&IT"),"MixedTs",IF('full menu'!AY2="UD","UD",IF('full menu'!AY2="LSD","LSD",IF('full menu'!AY2="WSD","WSD",IF('full menu'!AY2="UASC","UASC","")))))))))) -> LSD
A3: Albania | B3: =IF('full menu'!B3="MDC","MDC",IF(OR('full menu'!B3="PERF",'full menu'!B3="AERF",'full menu'!B3="PCB"),"ERfix",IF(OR('full menu'!B3="ACB", 'full menu'!B3="LCERT", 'full menu'!B3="LERT",'full menu'!B3="FCERT",'full menu'!B3="FERT"),"ERTs",IF(OR('full menu'!B3="FCMT",'full menu'!B3="FMT",'full menu'!B3="LMT",'full menu'!B3="LCMT"),"MTs",IF(OR('full menu'!B3="LCIT",'full menu'!B3="FCIT",'full menu'!B3="LIT",'full menu'!B3="FIT"),"ITs",IF(OR('full menu'!B3="MwERT", 'full menu'!B3="ERwMT", 'full menu'!B3="M&ERT", 'full menu'!B3="MwIT", 'full menu'!B3="IwMT", 'full menu'!B3="M&IT", 'full menu'!B3="IwERT", 'full menu'!B3="ERwIT", 'full menu'!B3="I&ERT", 'full menu'!B3="ER&M&IT"),"MixedTs",IF('full menu'!B3="UD","UD",IF('full menu'!B3="LSD","LSD",IF('full menu'!B3="WSD","WSD",IF('full menu'!B3="UASC","UASC","")))))))))) -> MDC | C3: =IF('full menu'!C3="MDC","MDC",IF(OR('full menu'!C3="PERF",'full menu'!C3="AERF",'full menu'!C3="PCB"),"ERfix",IF(OR('full menu'!C3="ACB", 'full menu'!C3="LCERT", 'full menu'!C3="LERT",'full menu'!C3="FCERT",'full menu'!C3="FERT"),"ERTs",IF(OR('full menu'!C3="FCMT",'full menu'!C3="FMT",'full menu'!C3="LMT",'full menu'!C3="LCMT"),"MTs",IF(OR('full menu'!C3="LCIT",'full menu'!C3="FCIT",'full menu'!C3="LIT",'full menu'!C3="FIT"),"ITs",IF(OR('full menu'!C3="MwERT", 'full menu'!C3="ERwMT", 'full menu'!C3="M&ERT", 'full menu'!C3="MwIT", 'full menu'!C3="IwMT", 'full menu'!C3="M&IT", 'full menu'!C3="IwERT", 'full menu'!C3="ERwIT", 'full menu'!C3="I&ERT", 'full menu'!C3="ER&M&IT"),"MixedTs",IF('full menu'!C3="UD","UD",IF('full menu'!C3="LSD","LSD",IF('full menu'!C3="WSD","WSD",IF('full menu'!C3="UASC","UASC","")))))))))) -> MDC | D3: =IF('full menu'!D3="MDC","MDC",IF(OR('full menu'!D3="PERF",'full menu'!D3="AERF",'full menu'!D3="PCB"),"ERfix",IF(OR('full menu'!D3="ACB", 'full menu'!D3="LCERT", 'full menu'!D3="LERT",'full menu'!D3="FCERT",'full menu'!D3="FERT"),"ERTs",IF(OR('full menu'!D3="FCMT",'full menu'!D3="FMT",'full menu'!D3="LMT",'full menu'!D3="LCMT"),"MTs",IF(OR('full menu'!D3="LCIT",'full menu'!D3="FCIT",'full menu'!D3="LIT",'full menu'!D3="FIT"),"ITs",IF(OR('full menu'!D3="MwERT", 'full menu'!D3="ERwMT", 'full menu'!D3="M&ERT", 'full menu'!D3="MwIT", 'full menu'!D3="IwMT", 'full menu'!D3="M&IT", 'full menu'!D3="IwERT", 'full menu'!D3="ERwIT", 'full menu'!D3="I&ERT", 'full menu'!D3="ER&M&IT"),"MixedTs",IF('full menu'!D3="UD","UD",IF('full menu'!D3="LSD","LSD",IF('full menu'!D3="WSD","WSD",IF('full menu'!D3="UASC","UASC","")))))))))) -> MDC | E3: =IF('full menu'!E3="MDC","MDC",IF(OR('full menu'!E3="PERF",'full menu'!E3="AERF",'full menu'!E3="PCB"),"ERfix",IF(OR('full menu'!E3="ACB", 'full menu'!E3="LCERT", 'full menu'!E3="LERT",'full menu'!E3="FCERT",'full menu'!E3="FERT"),"ERTs",IF(OR('full menu'!E3="FCMT",'full menu'!E3="FMT",'full menu'!E3="LMT",'full menu'!E3="LCMT"),"MTs",IF(OR('full menu'!E3="LCIT",'full menu'!E3="FCIT",'full menu'!E3="LIT",'full menu'!E3="FIT"),"ITs",IF(OR('full menu'!E3="MwERT", 'full menu'!E3="ERwMT", 'full menu'!E3="M&ERT", 'full menu'!E3="MwIT", 'full menu'!E3="IwMT", 'full menu'!E3="M&IT", 'full menu'!E3="IwERT", 'full menu'!E3="ERwIT", 'full menu'!E3="I&ERT", 'full menu'!E3="ER&M&IT"),"MixedTs",IF('full menu'!E3="UD","UD",IF('full menu'!E3="LSD","LSD",IF('full menu'!E3="WSD","WSD",IF('full menu'!E3="UASC","UASC","")))))))))) -> MDC | F3: =IF('full menu'!F3="MDC","MDC",IF(OR('full menu'!F3="PERF",'full menu'!F3="AERF",'full menu'!F3="PCB"),"ERfix",IF(OR('full menu'!F3="ACB", 'full menu'!F3="LCERT", 'full menu'!F3="LERT",'full menu'!F3="FCERT",'full menu'!F3="FERT"),"ERTs",IF(OR('full menu'!F3="FCMT",'full menu'!F3="FMT",'full menu'!F3="LMT",'full menu'!F3="LCMT"),"MTs",IF(OR('full menu'!F3="LCIT",'full menu'!F3="FCIT",'full menu'!F3="LIT",'full menu'!F3="FIT"),"ITs",IF(OR('full menu'!F3="MwERT", 'full menu'!F3="ERwMT", 'full menu'!F3="M&ERT", 'full menu'!F3="MwIT", 'full menu'!F3="IwMT", 'full menu'!F3="M&IT", 'full menu'!F3="IwERT", 'full menu'!F3="ERwIT", 'full menu'!F3="I&ERT", 'full menu'!F3="ER&M&IT"),"MixedTs",IF('full menu'!F3="UD","UD",IF('full menu'!F3="LSD","LSD",IF('full menu'!F3="WSD","WSD",IF('full menu'!F3="UASC","UASC","")))))))))) -> MDC | G3: =IF('full menu'!G3="MDC","MDC",IF(OR('full menu'!G3="PERF",'full menu'!G3="AERF",'full menu'!G3="PCB"),"ERfix",IF(OR('full menu'!G3="ACB", 'full menu'!G3="LCERT", 'full menu'!G3="LERT",'full menu'!G3="FCERT",'full menu'!G3="FERT"),"ERTs",IF(OR('full menu'!G3="FCMT",'full menu'!G3="FMT",'full menu'!G3="LMT",'full menu'!G3="LCMT"),"MTs",IF(OR('full menu'!G3="LCIT",'full menu'!G3="FCIT",'full menu'!G3="LIT",'full menu'!G3="FIT"),"ITs",IF(OR('full menu'!G3="MwERT", 'full menu'!G3="ERwMT", 'full menu'!G3="M&ERT", 'full menu'!G3="MwIT", 'full menu'!G3="IwMT", 'full menu'!G3="M&IT", 'full menu'!G3="IwERT", 'full menu'!G3="ERwIT", 'full menu'!G3="I&ERT", 'full menu'!G3="ER&M&IT"),"MixedTs",IF('full menu'!G3="UD","UD",IF('full menu'!G3="LSD","LSD",IF('full menu'!G3="WSD","WSD",IF('full menu'!G3="UASC","UASC","")))))))))) -> MDC | H3: =IF('full menu'!H3="MDC","MDC",IF(OR('full menu'!H3="PERF",'full menu'!H3="AERF",'full menu'!H3="PCB"),"ERfix",IF(OR('full menu'!H3="ACB", 'full menu'!H3="LCERT", 'full menu'!H3="LERT",'full menu'!H3="FCERT",'full menu'!H3="FERT"),"ERTs",IF(OR('full menu'!H3="FCMT",'full menu'!H3="FMT",'full menu'!H3="LMT",'full menu'!H3="LCMT"),"MTs",IF(OR('full menu'!H3="LCIT",'full menu'!H3="FCIT",'full menu'!H3="LIT",'full menu'!H3="FIT"),"ITs",IF(OR('full menu'!H3="MwERT", 'full menu'!H3="ERwMT", 'full menu'!H3="M&ERT", 'full menu'!H3="MwIT", 'full menu'!H3="IwMT", 'full menu'!H3="M&IT", 'full menu'!H3="IwERT", 'full menu'!H3="ERwIT", 'full menu'!H3="I&ERT", 'full menu'!H3="ER&M&IT"),"MixedTs",IF('full menu'!H3="UD","UD",IF('full menu'!H3="LSD","LSD",IF('full menu'!H3="WSD","WSD",IF('full menu'!H3="UASC","UASC","")))))))))) -> MDC | I3: =IF('full menu'!I3="MDC","MDC",IF(OR('full menu'!I3="PERF",'full menu'!I3="AERF",'full menu'!I3="PCB"),"ERfix",IF(OR('full menu'!I3="ACB", 'full menu'!I3="LCERT", 'full menu'!I3="LERT",'full menu'!I3="FCERT",'full menu'!I3="FERT"),"ERTs",IF(OR('full menu'!I3="FCMT",'full menu'!I3="FMT",'full menu'!I3="LMT",'full menu'!I3="LCMT"),"MTs",IF(OR('full menu'!I3="LCIT",'full menu'!I3="FCIT",'full menu'!I3="LIT",'full menu'!I3="FIT"),"ITs",IF(OR('full menu'!I3="MwERT", 'full menu'!I3="ERwMT", 'full menu'!I3="M&ERT", 'full menu'!I3="MwIT", 'full menu'!I3="IwMT", 'full menu'!I3="M&IT", 'full menu'!I3="IwERT", 'full menu'!I3="ERwIT", 'full menu'!I3="I&ERT", 'full menu'!I3="ER&M&IT"),"MixedTs",IF('full menu'!I3="UD","UD",IF('full menu'!I3="LSD","LSD",IF('full menu'!I3="WSD","WSD",IF('full menu'!I3="UASC","UASC","")))))))))) -> MDC | ... AY3: =IF('full menu'!AY3="MDC","MDC",IF(OR('full menu'!AY3="PERF",'full menu'!AY3="AERF",'full menu'!AY3="PCB"),"ERfix",IF(OR('full menu'!AY3="ACB", 'full menu'!AY3="LCERT", 'full menu'!AY3="LERT",'full menu'!AY3="FCERT",'full menu'!AY3="FERT"),"ERTs",IF(OR('full menu'!AY3="FCMT",'full menu'!AY3="FMT",'full menu'!AY3="LMT",'full menu'!AY3="LCMT"),"MTs",IF(OR('full menu'!AY3="LCIT",'full menu'!AY3="FCIT",'full menu'!AY3="LIT",'full menu'!AY3="FIT"),"ITs",IF(OR('full menu'!AY3="MwERT", 'full menu'!AY3="ERwMT", 'full menu'!AY3="M&ERT", 'full menu'!AY3="MwIT", 'full menu'!AY3="IwMT", 'full menu'!AY3="M&IT", 'full menu'!AY3="IwERT", 'full menu'!AY3="ERwIT", 'full menu'!AY3="I&ERT", 'full menu'!AY3="ER&M&IT"),"MixedTs",IF('full menu'!AY3="UD","UD",IF('full menu'!AY3="LSD","LSD",IF('full menu'!AY3="WSD","WSD",IF('full menu'!AY3="UASC","UASC","")))))))))) -> ITs
A4: Algeria | B4: =IF('full menu'!B4="MDC","MDC",IF(OR('full menu'!B4="PERF",'full menu'!B4="AERF",'full menu'!B4="PCB"),"ERfix",IF(OR('full menu'!B4="ACB", 'full menu'!B4="LCERT", 'full menu'!B4="LERT",'full menu'!B4="FCERT",'full menu'!B4="FERT"),"ERTs",IF(OR('full menu'!B4="FCMT",'full menu'!B4="FMT",'full menu'!B4="LMT",'full menu'!B4="LCMT"),"MTs",IF(OR('full menu'!B4="LCIT",'full menu'!B4="FCIT",'full menu'!B4="LIT",'full menu'!B4="FIT"),"ITs",IF(OR('full menu'!B4="MwERT", 'full menu'!B4="ERwMT", 'full menu'!B4="M&ERT", 'full menu'!B4="MwIT", 'full menu'!B4="IwMT", 'full menu'!B4="M&IT", 'full menu'!B4="IwERT", 'full menu'!B4="ERwIT", 'full menu'!B4="I&ERT", 'full menu'!B4="ER&M&IT"),"MixedTs",IF('full menu'!B4="UD","UD",IF('full menu'!B4="LSD","LSD",IF('full menu'!B4="WSD","WSD",IF('full menu'!B4="UASC","UASC","")))))))))) -> MDC | C4: =IF('full menu'!C4="MDC","MDC",IF(OR('full menu'!C4="PERF",'full menu'!C4="AERF",'full menu'!C4="PCB"),"ERfix",IF(OR('full menu'!C4="ACB", 'full menu'!C4="LCERT", 'full menu'!C4="LERT",'full menu'!C4="FCERT",'full menu'!C4="FERT"),"ERTs",IF(OR('full menu'!C4="FCMT",'full menu'!C4="FMT",'full menu'!C4="LMT",'full menu'!C4="LCMT"),"MTs",IF(OR('full menu'!C4="LCIT",'full menu'!C4="FCIT",'full menu'!C4="LIT",'full menu'!C4="FIT"),"ITs",IF(OR('full menu'!C4="MwERT", 'full menu'!C4="ERwMT", 'full menu'!C4="M&ERT", 'full menu'!C4="MwIT", 'full menu'!C4="IwMT", 'full menu'!C4="M&IT", 'full menu'!C4="IwERT", 'full menu'!C4="ERwIT", 'full menu'!C4="I&ERT", 'full menu'!C4="ER&M&IT"),"MixedTs",IF('full menu'!C4="UD","UD",IF('full menu'!C4="LSD","LSD",IF('full menu'!C4="WSD","WSD",IF('full menu'!C4="UASC","UASC","")))))))))) -> MDC | D4: =IF('full menu'!D4="MDC","MDC",IF(OR('full menu'!D4="PERF",'full menu'!D4="AERF",'full menu'!D4="PCB"),"ERfix",IF(OR('full menu'!D4="ACB", 'full menu'!D4="LCERT", 'full menu'!D4="LERT",'full menu'!D4="FCERT",'full menu'!D4="FERT"),"ERTs",IF(OR('full menu'!D4="FCMT",'full menu'!D4="FMT",'full menu'!D4="LMT",'full menu'!D4="LCMT"),"MTs",IF(OR('full menu'!D4="LCIT",'full menu'!D4="FCIT",'full menu'!D4="LIT",'full menu'!D4="FIT"),"ITs",IF(OR('full menu'!D4="MwERT", 'full menu'!D4="ERwMT", 'full menu'!D4="M&ERT", 'full menu'!D4="MwIT", 'full menu'!D4="IwMT", 'full menu'!D4="M&IT", 'full menu'!D4="IwERT", 'full menu'!D4="ERwIT", 'full menu'!D4="I&ERT", 'full menu'!D4="ER&M&IT"),"MixedTs",IF('full menu'!D4="UD","UD",IF('full menu'!D4="LSD","LSD",IF('full menu'!D4="WSD","WSD",IF('full menu'!D4="UASC","UASC","")))))))))) -> MDC | E4: =IF('full menu'!E4="MDC","MDC",IF(OR('full menu'!E4="PERF",'full menu'!E4="AERF",'full menu'!E4="PCB"),"ERfix",IF(OR('full menu'!E4="ACB", 'full menu'!E4="LCERT", 'full menu'!E4="LERT",'full menu'!E4="FCERT",'full menu'!E4="FERT"),"ERTs",IF(OR('full menu'!E4="FCMT",'full menu'!E4="FMT",'full menu'!E4="LMT",'full menu'!E4="LCMT"),"MTs",IF(OR('full menu'!E4="LCIT",'full menu'!E4="FCIT",'full menu'!E4="LIT",'full menu'!E4="FIT"),"ITs",IF(OR('full menu'!E4="MwERT", 'full menu'!E4="ERwMT", 'full menu'!E4="M&ERT", 'full menu'!E4="MwIT", 'full menu'!E4="IwMT", 'full menu'!E4="M&IT", 'full menu'!E4="IwERT", 'full menu'!E4="ERwIT", 'full menu'!E4="I&ERT", 'full menu'!E4="ER&M&IT"),"MixedTs",IF('full menu'!E4="UD","UD",IF('full menu'!E4="LSD","LSD",IF('full menu'!E4="WSD","WSD",IF('full menu'!E4="UASC","UASC","")))))))))) -> MDC | F4: =IF('full menu'!F4="MDC","MDC",IF(OR('full menu'!F4="PERF",'full menu'!F4="AERF",'full menu'!F4="PCB"),"ERfix",IF(OR('full menu'!F4="ACB", 'full menu'!F4="LCERT", 'full menu'!F4="LERT",'full menu'!F4="FCERT",'full menu'!F4="FERT"),"ERTs",IF(OR('full menu'!F4="FCMT",'full menu'!F4="FMT",'full menu'!F4="LMT",'full menu'!F4="LCMT"),"MTs",IF(OR('full menu'!F4="LCIT",'full menu'!F4="FCIT",'full menu'!F4="LIT",'full menu'!F4="FIT"),"ITs",IF(OR('full menu'!F4="MwERT", 'full menu'!F4="ERwMT", 'full menu'!F4="M&ERT", 'full menu'!F4="MwIT", 'full menu'!F4="IwMT", 'full menu'!F4="M&IT", 'full menu'!F4="IwERT", 'full menu'!F4="ERwIT", 'full menu'!F4="I&ERT", 'full menu'!F4="ER&M&IT"),"MixedTs",IF('full menu'!F4="UD","UD",IF('full menu'!F4="LSD","LSD",IF('full menu'!F4="WSD","WSD",IF('full menu'!F4="UASC","UASC","")))))))))) -> MDC | G4: =IF('full menu'!G4="MDC","MDC",IF(OR('full menu'!G4="PERF",'full menu'!G4="AERF",'full menu'!G4="PCB"),"ERfix",IF(OR('full menu'!G4="ACB", 'full menu'!G4="LCERT", 'full menu'!G4="LERT",'full menu'!G4="FCERT",'full menu'!G4="FERT"),"ERTs",IF(OR('full menu'!G4="FCMT",'full menu'!G4="FMT",'full menu'!G4="LMT",'full menu'!G4="LCMT"),"MTs",IF(OR('full menu'!G4="LCIT",'full menu'!G4="FCIT",'full menu'!G4="LIT",'full menu'!G4="FIT"),"ITs",IF(OR('full menu'!G4="MwERT", 'full menu'!G4="ERwMT", 'full menu'!G4="M&ERT", 'full menu'!G4="MwIT", 'full menu'!G4="IwMT", 'full menu'!G4="M&IT", 'full menu'!G4="IwERT", 'full menu'!G4="ERwIT", 'full menu'!G4="I&ERT", 'full menu'!G4="ER&M&IT"),"MixedTs",IF('full menu'!G4="UD","UD",IF('full menu'!G4="LSD","LSD",IF('full menu'!G4="WSD","WSD",IF('full menu'!G4="UASC","UASC","")))))))))) -> MDC | H4: =IF('full menu'!H4="MDC","MDC",IF(OR('full menu'!H4="PERF",'full menu'!H4="AERF",'full menu'!H4="PCB"),"ERfix",IF(OR('full menu'!H4="ACB", 'full menu'!H4="LCERT", 'full menu'!H4="LERT",'full menu'!H4="FCERT",'full menu'!H4="FERT"),"ERTs",IF(OR('full menu'!H4="FCMT",'full menu'!H4="FMT",'full menu'!H4="LMT",'full menu'!H4="LCMT"),"MTs",IF(OR('full menu'!H4="LCIT",'full menu'!H4="FCIT",'full menu'!H4="LIT",'full menu'!H4="FIT"),"ITs",IF(OR('full menu'!H4="MwERT", 'full menu'!H4="ERwMT", 'full menu'!H4="M&ERT", 'full menu'!H4="MwIT", 'full menu'!H4="IwMT", 'full menu'!H4="M&IT", 'full menu'!H4="IwERT", 'full menu'!H4="ERwIT", 'full menu'!H4="I&ERT", 'full menu'!H4="ER&M&IT"),"MixedTs",IF('full menu'!H4="UD","UD",IF('full menu'!H4="LSD","LSD",IF('full menu'!H4="WSD","WSD",IF('full menu'!H4="UASC","UASC","")))))))))) -> MDC | I4: =IF('full menu'!I4="MDC","MDC",IF(OR('full menu'!I4="PERF",'full menu'!I4="AERF",'full menu'!I4="PCB"),"ERfix",IF(OR('full menu'!I4="ACB", 'full menu'!I4="LCERT", 'full menu'!I4="LERT",'full menu'!I4="FCERT",'full menu'!I4="FERT"),"ERTs",IF(OR('full menu'!I4="FCMT",'full menu'!I4="FMT",'full menu'!I4="LMT",'full menu'!I4="LCMT"),"MTs",IF(OR('full menu'!I4="LCIT",'full menu'!I4="FCIT",'full menu'!I4="LIT",'full menu'!I4="FIT"),"ITs",IF(OR('full menu'!I4="MwERT", 'full menu'!I4="ERwMT", 'full menu'!I4="M&ERT", 'full menu'!I4="MwIT", 'full menu'!I4="IwMT", 'full menu'!I4="M&IT", 'full menu'!I4="IwERT", 'full menu'!I4="ERwIT", 'full menu'!I4="I&ERT", 'full menu'!I4="ER&M&IT"),"MixedTs",IF('full menu'!I4="UD","UD",IF('full menu'!I4="LSD","LSD",IF('full menu'!I4="WSD","WSD",IF('full menu'!I4="UASC","UASC","")))))))))) -> MDC | ... AY4: =IF('full menu'!AY4="MDC","MDC",IF(OR('full menu'!AY4="PERF",'full menu'!AY4="AERF",'full menu'!AY4="PCB"),"ERfix",IF(OR('full menu'!AY4="ACB", 'full menu'!AY4="LCERT", 'full menu'!AY4="LERT",'full menu'!AY4="FCERT",'full menu'!AY4="FERT"),"ERTs",IF(OR('full menu'!AY4="FCMT",'full menu'!AY4="FMT",'full menu'!AY4="LMT",'full menu'!AY4="LCMT"),"MTs",IF(OR('full menu'!AY4="LCIT",'full menu'!AY4="FCIT",'full menu'!AY4="LIT",'full menu'!AY4="FIT"),"ITs",IF(OR('full menu'!AY4="MwERT", 'full menu'!AY4="ERwMT", 'full menu'!AY4="M&ERT", 'full menu'!AY4="MwIT", 'full menu'!AY4="IwMT", 'full menu'!AY4="M&IT", 'full menu'!AY4="IwERT", 'full menu'!AY4="ERwIT", 'full menu'!AY4="I&ERT", 'full menu'!AY4="ER&M&IT"),"MixedTs",IF('full menu'!AY4="UD","UD",IF('full menu'!AY4="LSD","LSD",IF('full menu'!AY4="WSD","WSD",IF('full menu'!AY4="UASC","UASC","")))))))))) -> LSD
A5: Angola | B5: =IF('full menu'!B5="MDC","MDC",IF(OR('full menu'!B5="PERF",'full menu'!B5="AERF",'full menu'!B5="PCB"),"ERfix",IF(OR('full menu'!B5="ACB", 'full menu'!B5="LCERT", 'full menu'!B5="LERT",'full menu'!B5="FCERT",'full menu'!B5="FERT"),"ERTs",IF(OR('full menu'!B5="FCMT",'full menu'!B5="FMT",'full menu'!B5="LMT",'full menu'!B5="LCMT"),"MTs",IF(OR('full menu'!B5="LCIT",'full menu'!B5="FCIT",'full menu'!B5="LIT",'full menu'!B5="FIT"),"ITs",IF(OR('full menu'!B5="MwERT", 'full menu'!B5="ERwMT", 'full menu'!B5="M&ERT", 'full menu'!B5="MwIT", 'full menu'!B5="IwMT", 'full menu'!B5="M&IT", 'full menu'!B5="IwERT", 'full menu'!B5="ERwIT", 'full menu'!B5="I&ERT", 'full menu'!B5="ER&M&IT"),"MixedTs",IF('full menu'!B5="UD","UD",IF('full menu'!B5="LSD","LSD",IF('full menu'!B5="WSD","WSD",IF('full menu'!B5="UASC","UASC","")))))))))) | C5: =IF('full menu'!C5="MDC","MDC",IF(OR('full menu'!C5="PERF",'full menu'!C5="AERF",'full menu'!C5="PCB"),"ERfix",IF(OR('full menu'!C5="ACB", 'full menu'!C5="LCERT", 'full menu'!C5="LERT",'full menu'!C5="FCERT",'full menu'!C5="FERT"),"ERTs",IF(OR('full menu'!C5="FCMT",'full menu'!C5="FMT",'full menu'!C5="LMT",'full menu'!C5="LCMT"),"MTs",IF(OR('full menu'!C5="LCIT",'full menu'!C5="FCIT",'full menu'!C5="LIT",'full menu'!C5="FIT"),"ITs",IF(OR('full menu'!C5="MwERT", 'full menu'!C5="ERwMT", 'full menu'!C5="M&ERT", 'full menu'!C5="MwIT", 'full menu'!C5="IwMT", 'full menu'!C5="M&IT", 'full menu'!C5="IwERT", 'full menu'!C5="ERwIT", 'full menu'!C5="I&ERT", 'full menu'!C5="ER&M&IT"),"MixedTs",IF('full menu'!C5="UD","UD",IF('full menu'!C5="LSD","LSD",IF('full menu'!C5="WSD","WSD",IF('full menu'!C5="UASC","UASC","")))))))))) | D5: =IF('full menu'!D5="MDC","MDC",IF(OR('full menu'!D5="PERF",'full menu'!D5="AERF",'full menu'!D5="PCB"),"ERfix",IF(OR('full menu'!D5="ACB", 'full menu'!D5="LCERT", 'full menu'!D5="LERT",'full menu'!D5="FCERT",'full menu'!D5="FERT"),"ERTs",IF(OR('full menu'!D5="FCMT",'full menu'!D5="FMT",'full menu'!D5="LMT",'full menu'!D5="LCMT"),"MTs",IF(OR('full menu'!D5="LCIT",'full menu'!D5="FCIT",'full menu'!D5="LIT",'full menu'!D5="FIT"),"ITs",IF(OR('full menu'!D5="MwERT", 'full menu'!D5="ERwMT", 'full menu'!D5="M&ERT", 'full menu'!D5="MwIT", 'full menu'!D5="IwMT", 'full menu'!D5="M&IT", 'full menu'!D5="IwERT", 'full menu'!D5="ERwIT", 'full menu'!D5="I&ERT", 'full menu'!D5="ER&M&IT"),"MixedTs",IF('full menu'!D5="UD","UD",IF('full menu'!D5="LSD","LSD",IF('full menu'!D5="WSD","WSD",IF('full menu'!D5="UASC","UASC","")))))))))) -> UD | E5: =IF('full menu'!E5="MDC","MDC",IF(OR('full menu'!E5="PERF",'full menu'!E5="AERF",'full menu'!E5="PCB"),"ERfix",IF(OR('full menu'!E5="ACB", 'full menu'!E5="LCERT", 'full menu'!E5="LERT",'full menu'!E5="FCERT",'full menu'!E5="FERT"),"ERTs",IF(OR('full menu'!E5="FCMT",'full menu'!E5="FMT",'full menu'!E5="LMT",'full menu'!E5="LCMT"),"MTs",IF(OR('full menu'!E5="LCIT",'full menu'!E5="FCIT",'full menu'!E5="LIT",'full menu'!E5="FIT"),"ITs",IF(OR('full menu'!E5="MwERT", 'full menu'!E5="ERwMT", 'full menu'!E5="M&ERT", 'full menu'!E5="MwIT", 'full menu'!E5="IwMT", 'full menu'!E5="M&IT", 'full menu'!E5="IwERT", 'full menu'!E5="ERwIT", 'full menu'!E5="I&ERT", 'full menu'!E5="ER&M&IT"),"MixedTs",IF('full menu'!E5="UD","UD",IF('full menu'!E5="LSD","LSD",IF('full menu'!E5="WSD","WSD",IF('full menu'!E5="UASC","UASC","")))))))))) -> UD | F5: =IF('full menu'!F5="MDC","MDC",IF(OR('full menu'!F5="PERF",'full menu'!F5="AERF",'full menu'!F5="PCB"),"ERfix",IF(OR('full menu'!F5="ACB", 'full menu'!F5="LCERT", 'full menu'!F5="LERT",'full menu'!F5="FCERT",'full menu'!F5="FERT"),"ERTs",IF(OR('full menu'!F5="FCMT",'full menu'!F5="FMT",'full menu'!F5="LMT",'full menu'!F5="LCMT"),"MTs",IF(OR('full menu'!F5="LCIT",'full menu'!F5="FCIT",'full menu'!F5="LIT",'full menu'!F5="FIT"),"ITs",IF(OR('full menu'!F5="MwERT", 'full menu'!F5="ERwMT", 'full menu'!F5="M&ERT", 'full menu'!F5="MwIT", 'full menu'!F5="IwMT", 'full menu'!F5="M&IT", 'full menu'!F5="IwERT", 'full menu'!F5="ERwIT", 'full menu'!F5="I&ERT", 'full menu'!F5="ER&M&IT"),"MixedTs",IF('full menu'!F5="UD","UD",IF('full menu'!F5="LSD","LSD",IF('full menu'!F5="WSD","WSD",IF('full menu'!F5="UASC","UASC","")))))))))) -> UD | G5: =IF('full menu'!G5="MDC","MDC",IF(OR('full menu'!G5="PERF",'full menu'!G5="AERF",'full menu'!G5="PCB"),"ERfix",IF(OR('full menu'!G5="ACB", 'full menu'!G5="LCERT", 'full menu'!G5="LERT",'full menu'!G5="FCERT",'full menu'!G5="FERT"),"ERTs",IF(OR('full menu'!G5="FCMT",'full menu'!G5="FMT",'full menu'!G5="LMT",'full menu'!G5="LCMT"),"MTs",IF(OR('full menu'!G5="LCIT",'full menu'!G5="FCIT",'full menu'!G5="LIT",'full menu'!G5="FIT"),"ITs",IF(OR('full menu'!G5="MwERT", 'full menu'!G5="ERwMT", 'full menu'!G5="M&ERT", 'full menu'!G5="MwIT", 'full menu'!G5="IwMT", 'full menu'!G5="M&IT", 'full menu'!G5="IwERT", 'full menu'!G5="ERwIT", 'full menu'!G5="I&ERT", 'full menu'!G5="ER&M&IT"),"MixedTs",IF('full menu'!G5="UD","UD",IF('full menu'!G5="LSD","LSD",IF('full menu'!G5="WSD","WSD",IF('full menu'!G5="UASC","UASC","")))))))))) -> UD | H5: =IF('full menu'!H5="MDC","MDC",IF(OR('full menu'!H5="PERF",'full menu'!H5="AERF",'full menu'!H5="PCB"),"ERfix",IF(OR('full menu'!H5="ACB", 'full menu'!H5="LCERT", 'full menu'!H5="LERT",'full menu'!H5="FCERT",'full menu'!H5="FERT"),"ERTs",IF(OR('full menu'!H5="FCMT",'full menu'!H5="FMT",'full menu'!H5="LMT",'full menu'!H5="LCMT"),"MTs",IF(OR('full menu'!H5="LCIT",'full menu'!H5="FCIT",'full menu'!H5="LIT",'full menu'!H5="FIT"),"ITs",IF(OR('full menu'!H5="MwERT", 'full menu'!H5="ERwMT", 'full menu'!H5="M&ERT", 'full menu'!H5="MwIT", 'full menu'!H5="IwMT", 'full menu'!H5="M&IT", 'full menu'!H5="IwERT", 'full menu'!H5="ERwIT", 'full menu'!H5="I&ERT", 'full menu'!H5="ER&M&IT"),"MixedTs",IF('full menu'!H5="UD","UD",IF('full menu'!H5="LSD","LSD",IF('full menu'!H5="WSD","WSD",IF('full menu'!H5="UASC","UASC","")))))))))) -> UD | I5: =IF('full menu'!I5="MDC","MDC",IF(OR('full menu'!I5="PERF",'full menu'!I5="AERF",'full menu'!I5="PCB"),"ERfix",IF(OR('full menu'!I5="ACB", 'full menu'!I5="LCERT", 'full menu'!I5="LERT",'full menu'!I5="FCERT",'full menu'!I5="FERT"),"ERTs",IF(OR('full menu'!I5="FCMT",'full menu'!I5="FMT",'full menu'!I5="LMT",'full menu'!I5="LCMT"),"MTs",IF(OR('full menu'!I5="LCIT",'full menu'!I5="FCIT",'full menu'!I5="LIT",'full menu'!I5="FIT"),"ITs",IF(OR('full menu'!I5="MwERT", 'full menu'!I5="ERwMT", 'full menu'!I5="M&ERT", 'full menu'!I5="MwIT", 'full menu'!I5="IwMT", 'full menu'!I5="M&IT", 'full menu'!I5="IwERT", 'full menu'!I5="ERwIT", 'full menu'!I5="I&ERT", 'full menu'!I5="ER&M&IT"),"MixedTs",IF('full menu'!I5="UD","UD",IF('full menu'!I5="LSD","LSD",IF('full menu'!I5="WSD","WSD",IF('full menu'!I5="UASC","UASC","")))))))))) -> UD | ... AY5: =IF('full menu'!AY5="MDC","MDC",IF(OR('full menu'!AY5="PERF",'full menu'!AY5="AERF",'full menu'!AY5="PCB"),"ERfix",IF(OR('full menu'!AY5="ACB", 'full menu'!AY5="LCERT", 'full menu'!AY5="LERT",'full menu'!AY5="FCERT",'full menu'!AY5="FERT"),"ERTs",IF(OR('full menu'!AY5="FCMT",'full menu'!AY5="FMT",'full menu'!AY5="LMT",'full menu'!AY5="LCMT"),"MTs",IF(OR('full menu'!AY5="LCIT",'full menu'!AY5="FCIT",'full menu'!AY5="LIT",'full menu'!AY5="FIT"),"ITs",IF(OR('full menu'!AY5="MwERT", 'full menu'!AY5="ERwMT", 'full menu'!AY5="M&ERT", 'full menu'!AY5="MwIT", 'full menu'!AY5="IwMT", 'full menu'!AY5="M&IT", 'full menu'!AY5="IwERT", 'full menu'!AY5="ERwIT", 'full menu'!AY5="I&ERT", 'full menu'!AY5="ER&M&IT"),"MixedTs",IF('full menu'!AY5="UD","UD",IF('full menu'!AY5="LSD","LSD",IF('full menu'!AY5="WSD","WSD",IF('full menu'!AY5="UASC","UASC","")))))))))) -> LSD
A6: Argentina | B6: =IF('full menu'!B6="MDC","MDC",IF(OR('full menu'!B6="PERF",'full menu'!B6="AERF",'full menu'!B6="PCB"),"ERfix",IF(OR('full menu'!B6="ACB", 'full menu'!B6="LCERT", 'full menu'!B6="LERT",'full menu'!B6="FCERT",'full menu'!B6="FERT"),"ERTs",IF(OR('full menu'!B6="FCMT",'full menu'!B6="FMT",'full menu'!B6="LMT",'full menu'!B6="LCMT"),"MTs",IF(OR('full menu'!B6="LCIT",'full menu'!B6="FCIT",'full menu'!B6="LIT",'full menu'!B6="FIT"),"ITs",IF(OR('full menu'!B6="MwERT", 'full menu'!B6="ERwMT", 'full menu'!B6="M&ERT", 'full menu'!B6="MwIT", 'full menu'!B6="IwMT", 'full menu'!B6="M&IT", 'full menu'!B6="IwERT", 'full menu'!B6="ERwIT", 'full menu'!B6="I&ERT", 'full menu'!B6="ER&M&IT"),"MixedTs",IF('full menu'!B6="UD","UD",IF('full menu'!B6="LSD","LSD",IF('full menu'!B6="WSD","WSD",IF('full menu'!B6="UASC","UASC","")))))))))) -> MDC | C6: =IF('full menu'!C6="MDC","MDC",IF(OR('full menu'!C6="PERF",'full menu'!C6="AERF",'full menu'!C6="PCB"),"ERfix",IF(OR('full menu'!C6="ACB", 'full menu'!C6="LCERT", 'full menu'!C6="LERT",'full menu'!C6="FCERT",'full menu'!C6="FERT"),"ERTs",IF(OR('full menu'!C6="FCMT",'full menu'!C6="FMT",'full menu'!C6="LMT",'full menu'!C6="LCMT"),"MTs",IF(OR('full menu'!C6="LCIT",'full menu'!C6="FCIT",'full menu'!C6="LIT",'full menu'!C6="FIT"),"ITs",IF(OR('full menu'!C6="MwERT", 'full menu'!C6="ERwMT", 'full menu'!C6="M&ERT", 'full menu'!C6="MwIT", 'full menu'!C6="IwMT", 'full menu'!C6="M&IT", 'full menu'!C6="IwERT", 'full menu'!C6="ERwIT", 'full menu'!C6="I&ERT", 'full menu'!C6="ER&M&IT"),"MixedTs",IF('full menu'!C6="UD","UD",IF('full menu'!C6="LSD","LSD",IF('full menu'!C6="WSD","WSD",IF('full menu'!C6="UASC","UASC","")))))))))) -> MDC | D6: =IF('full menu'!D6="MDC","MDC",IF(OR('full menu'!D6="PERF",'full menu'!D6="AERF",'full menu'!D6="PCB"),"ERfix",IF(OR('full menu'!D6="ACB", 'full menu'!D6="LCERT", 'full menu'!D6="LERT",'full menu'!D6="FCERT",'full menu'!D6="FERT"),"ERTs",IF(OR('full menu'!D6="FCMT",'full menu'!D6="FMT",'full menu'!D6="LMT",'full menu'!D6="LCMT"),"MTs",IF(OR('full menu'!D6="LCIT",'full menu'!D6="FCIT",'full menu'!D6="LIT",'full menu'!D6="FIT"),"ITs",IF(OR('full menu'!D6="MwERT", 'full menu'!D6="ERwMT", 'full menu'!D6="M&ERT", 'full menu'!D6="MwIT", 'full menu'!D6="IwMT", 'full menu'!D6="M&IT", 'full menu'!D6="IwERT", 'full menu'!D6="ERwIT", 'full menu'!D6="I&ERT", 'full menu'!D6="ER&M&IT"),"MixedTs",IF('full menu'!D6="UD","UD",IF('full menu'!D6="LSD","LSD",IF('full menu'!D6="WSD","WSD",IF('full menu'!D6="UASC","UASC","")))))))))) -> MDC | E6: =IF('full menu'!E6="MDC","MDC",IF(OR('full menu'!E6="PERF",'full menu'!E6="AERF",'full menu'!E6="PCB"),"ERfix",IF(OR('full menu'!E6="ACB", 'full menu'!E6="LCERT", 'full menu'!E6="LERT",'full menu'!E6="FCERT",'full menu'!E6="FERT"),"ERTs",IF(OR('full menu'!E6="FCMT",'full menu'!E6="FMT",'full menu'!E6="LMT",'full menu'!E6="LCMT"),"MTs",IF(OR('full menu'!E6="LCIT",'full menu'!E6="FCIT",'full menu'!E6="LIT",'full menu'!E6="FIT"),"ITs",IF(OR('full menu'!E6="MwERT", 'full menu'!E6="ERwMT", 'full menu'!E6="M&ERT", 'full menu'!E6="MwIT", 'full menu'!E6="IwMT", 'full menu'!E6="M&IT", 'full menu'!E6="IwERT", 'full menu'!E6="ERwIT", 'full menu'!E6="I&ERT", 'full menu'!E6="ER&M&IT"),"MixedTs",IF('full menu'!E6="UD","UD",IF('full menu'!E6="LSD","LSD",IF('full menu'!E6="WSD","WSD",IF('full menu'!E6="UASC","UASC","")))))))))) -> UD | F6: =IF('full menu'!F6="MDC","MDC",IF(OR('full menu'!F6="PERF",'full menu'!F6="AERF",'full menu'!F6="PCB"),"ERfix",IF(OR('full menu'!F6="ACB", 'full menu'!F6="LCERT", 'full menu'!F6="LERT",'full menu'!F6="FCERT",'full menu'!F6="FERT"),"ERTs",IF(OR('full menu'!F6="FCMT",'full menu'!F6="FMT",'full menu'!F6="LMT",'full menu'!F6="LCMT"),"MTs",IF(OR('full menu'!F6="LCIT",'full menu'!F6="FCIT",'full menu'!F6="LIT",'full menu'!F6="FIT"),"ITs",IF(OR('full menu'!F6="MwERT", 'full menu'!F6="ERwMT", 'full menu'!F6="M&ERT", 'full menu'!F6="MwIT", 'full menu'!F6="IwMT", 'full menu'!F6="M&IT", 'full menu'!F6="IwERT", 'full menu'!F6="ERwIT", 'full menu'!F6="I&ERT", 'full menu'!F6="ER&M&IT"),"MixedTs",IF('full menu'!F6="UD","UD",IF('full menu'!F6="LSD","LSD",IF('full menu'!F6="WSD","WSD",IF('full menu'!F6="UASC","UASC","")))))))))) -> UD | G6: =IF('full menu'!G6="MDC","MDC",IF(OR('full menu'!G6="PERF",'full menu'!G6="AERF",'full menu'!G6="PCB"),"ERfix",IF(OR('full menu'!G6="ACB", 'full menu'!G6="LCERT", 'full menu'!G6="LERT",'full menu'!G6="FCERT",'full menu'!G6="FERT"),"ERTs",IF(OR('full menu'!G6="FCMT",'full menu'!G6="FMT",'full menu'!G6="LMT",'full menu'!G6="LCMT"),"MTs",IF(OR('full menu'!G6="LCIT",'full menu'!G6="FCIT",'full menu'!G6="LIT",'full menu'!G6="FIT"),"ITs",IF(OR('full menu'!G6="MwERT", 'full menu'!G6="ERwMT", 'full menu'!G6="M&ERT", 'full menu'!G6="MwIT", 'full menu'!G6="IwMT", 'full menu'!G6="M&IT", 'full menu'!G6="IwERT", 'full menu'!G6="ERwIT", 'full menu'!G6="I&ERT", 'full menu'!G6="ER&M&IT"),"MixedTs",IF('full menu'!G6="UD","UD",IF('full menu'!G6="LSD","LSD",IF('full menu'!G6="WSD","WSD",IF('full menu'!G6="UASC","UASC","")))))))))) -> UD | H6: =IF('full menu'!H6="MDC","MDC",IF(OR('full menu'!H6="PERF",'full menu'!H6="AERF",'full menu'!H6="PCB"),"ERfix",IF(OR('full menu'!H6="ACB", 'full menu'!H6="LCERT", 'full menu'!H6="LERT",'full menu'!H6="FCERT",'full menu'!H6="FERT"),"ERTs",IF(OR('full menu'!H6="FCMT",'full menu'!H6="FMT",'full menu'!H6="LMT",'full menu'!H6="LCMT"),"MTs",IF(OR('full menu'!H6="LCIT",'full menu'!H6="FCIT",'full menu'!H6="LIT",'full menu'!H6="FIT"),"ITs",IF(OR('full menu'!H6="MwERT", 'full menu'!H6="ERwMT", 'full menu'!H6="M&ERT", 'full menu'!H6="MwIT", 'full menu'!H6="IwMT", 'full menu'!H6="M&IT", 'full menu'!H6="IwERT", 'full menu'!H6="ERwIT", 'full menu'!H6="I&ERT", 'full menu'!H6="ER&M&IT"),"MixedTs",IF('full menu'!H6="UD","UD",IF('full menu'!H6="LSD","LSD",IF('full menu'!H6="WSD","WSD",IF('full menu'!H6="UASC","UASC","")))))))))) -> UD | I6: =IF('full menu'!I6="MDC","MDC",IF(OR('full menu'!I6="PERF",'full menu'!I6="AERF",'full menu'!I6="PCB"),"ERfix",IF(OR('full menu'!I6="ACB", 'full menu'!I6="LCERT", 'full menu'!I6="LERT",'full menu'!I6="FCERT",'full menu'!I6="FERT"),"ERTs",IF(OR('full menu'!I6="FCMT",'full menu'!I6="FMT",'full menu'!I6="LMT",'full menu'!I6="LCMT"),"MTs",IF(OR('full menu'!I6="LCIT",'full menu'!I6="FCIT",'full menu'!I6="LIT",'full menu'!I6="FIT"),"ITs",IF(OR('full menu'!I6="MwERT", 'full menu'!I6="ERwMT", 'full menu'!I6="M&ERT", 'full menu'!I6="MwIT", 'full menu'!I6="IwMT", 'full menu'!I6="M&IT", 'full menu'!I6="IwERT", 'full menu'!I6="ERwIT", 'full menu'!I6="I&ERT", 'full menu'!I6="ER&M&IT"),"MixedTs",IF('full menu'!I6="UD","UD",IF('full menu'!I6="LSD","LSD",IF('full menu'!I6="WSD","WSD",IF('full menu'!I6="UASC","UASC","")))))))))) -> UD | ... AY6: =IF('full menu'!AY6="MDC","MDC",IF(OR('full menu'!AY6="PERF",'full menu'!AY6="AERF",'full menu'!AY6="PCB"),"ERfix",IF(OR('full menu'!AY6="ACB", 'full menu'!AY6="LCERT", 'full menu'!AY6="LERT",'full menu'!AY6="FCERT",'full menu'!AY6="FERT"),"ERTs",IF(OR('full menu'!AY6="FCMT",'full menu'!AY6="FMT",'full menu'!AY6="LMT",'full menu'!AY6="LCMT"),"MTs",IF(OR('full menu'!AY6="LCIT",'full menu'!AY6="FCIT",'full menu'!AY6="LIT",'full menu'!AY6="FIT"),"ITs",IF(OR('full menu'!AY6="MwERT", 'full menu'!AY6="ERwMT", 'full menu'!AY6="M&ERT", 'full menu'!AY6="MwIT", 'full menu'!AY6="IwMT", 'full menu'!AY6="M&IT", 'full menu'!AY6="IwERT", 'full menu'!AY6="ERwIT", 'full menu'!AY6="I&ERT", 'full menu'!AY6="ER&M&IT"),"MixedTs",IF('full menu'!AY6="UD","UD",IF('full menu'!AY6="LSD","LSD",IF('full menu'!AY6="WSD","WSD",IF('full menu'!AY6="UASC","UASC","")))))))))) -> LSD
A7: Armenia | B7: =IF('full menu'!B7="MDC","MDC",IF(OR('full menu'!B7="PERF",'full menu'!B7="AERF",'full menu'!B7="PCB"),"ERfix",IF(OR('full menu'!B7="ACB", 'full menu'!B7="LCERT", 'full menu'!B7="LERT",'full menu'!B7="FCERT",'full menu'!B7="FERT"),"ERTs",IF(OR('full menu'!B7="FCMT",'full menu'!B7="FMT",'full menu'!B7="LMT",'full menu'!B7="LCMT"),"MTs",IF(OR('full menu'!B7="LCIT",'full menu'!B7="FCIT",'full menu'!B7="LIT",'full menu'!B7="FIT"),"ITs",IF(OR('full menu'!B7="MwERT", 'full menu'!B7="ERwMT", 'full menu'!B7="M&ERT", 'full menu'!B7="MwIT", 'full menu'!B7="IwMT", 'full menu'!B7="M&IT", 'full menu'!B7="IwERT", 'full menu'!B7="ERwIT", 'full menu'!B7="I&ERT", 'full menu'!B7="ER&M&IT"),"MixedTs",IF('full menu'!B7="UD","UD",IF('full menu'!B7="LSD","LSD",IF('full menu'!B7="WSD","WSD",IF('full menu'!B7="UASC","UASC","")))))))))) | C7: =IF('full menu'!C7="MDC","MDC",IF(OR('full menu'!C7="PERF",'full menu'!C7="AERF",'full menu'!C7="PCB"),"ERfix",IF(OR('full menu'!C7="ACB", 'full menu'!C7="LCERT", 'full menu'!C7="LERT",'full menu'!C7="FCERT",'full menu'!C7="FERT"),"ERTs",IF(OR('full menu'!C7="FCMT",'full menu'!C7="FMT",'full menu'!C7="LMT",'full menu'!C7="LCMT"),"MTs",IF(OR('full menu'!C7="LCIT",'full menu'!C7="FCIT",'full menu'!C7="LIT",'full menu'!C7="FIT"),"ITs",IF(OR('full menu'!C7="MwERT", 'full menu'!C7="ERwMT", 'full menu'!C7="M&ERT", 'full menu'!C7="MwIT", 'full menu'!C7="IwMT", 'full menu'!C7="M&IT", 'full menu'!C7="IwERT", 'full menu'!C7="ERwIT", 'full menu'!C7="I&ERT", 'full menu'!C7="ER&M&IT"),"MixedTs",IF('full menu'!C7="UD","UD",IF('full menu'!C7="LSD","LSD",IF('full menu'!C7="WSD","WSD",IF('full menu'!C7="UASC","UASC","")))))))))) | D7: =IF('full menu'!D7="MDC","MDC",IF(OR('full menu'!D7="PERF",'full menu'!D7="AERF",'full menu'!D7="PCB"),"ERfix",IF(OR('full menu'!D7="ACB", 'full menu'!D7="LCERT", 'full menu'!D7="LERT",'full menu'!D7="FCERT",'full menu'!D7="FERT"),"ERTs",IF(OR('full menu'!D7="FCMT",'full menu'!D7="FMT",'full menu'!D7="LMT",'full menu'!D7="LCMT"),"MTs",IF(OR('full menu'!D7="LCIT",'full menu'!D7="FCIT",'full menu'!D7="LIT",'full menu'!D7="FIT"),"ITs",IF(OR('full menu'!D7="MwERT", 'full menu'!D7="ERwMT", 'full menu'!D7="M&ERT", 'full menu'!D7="MwIT", 'full menu'!D7="IwMT", 'full menu'!D7="M&IT", 'full menu'!D7="IwERT", 'full menu'!D7="ERwIT", 'full menu'!D7="I&ERT", 'full menu'!D7="ER&M&IT"),"MixedTs",IF('full menu'!D7="UD","UD",IF('full menu'!D7="LSD","LSD",IF('full menu'!D7="WSD","WSD",IF('full menu'!D7="UASC","UASC","")))))))))) | E7: =IF('full menu'!E7="MDC","MDC",IF(OR('full menu'!E7="PERF",'full menu'!E7="AERF",'full menu'!E7="PCB"),"ERfix",IF(OR('full menu'!E7="ACB", 'full menu'!E7="LCERT", 'full menu'!E7="LERT",'full menu'!E7="FCERT",'full menu'!E7="FERT"),"ERTs",IF(OR('full menu'!E7="FCMT",'full menu'!E7="FMT",'full menu'!E7="LMT",'full menu'!E7="LCMT"),"MTs",IF(OR('full menu'!E7="LCIT",'full menu'!E7="FCIT",'full menu'!E7="LIT",'full menu'!E7="FIT"),"ITs",IF(OR('full menu'!E7="MwERT", 'full menu'!E7="ERwMT", 'full menu'!E7="M&ERT", 'full menu'!E7="MwIT", 'full menu'!E7="IwMT", 'full menu'!E7="M&IT", 'full menu'!E7="IwERT", 'full menu'!E7="ERwIT", 'full menu'!E7="I&ERT", 'full menu'!E7="ER&M&IT"),"MixedTs",IF('full menu'!E7="UD","UD",IF('full menu'!E7="LSD","LSD",IF('full menu'!E7="WSD","WSD",IF('full menu'!E7="UASC","UASC","")))))))))) | F7: =IF('full menu'!F7="MDC","MDC",IF(OR('full menu'!F7="PERF",'full menu'!F7="AERF",'full menu'!F7="PCB"),"ERfix",IF(OR('full menu'!F7="ACB", 'full menu'!F7="LCERT", 'full menu'!F7="LERT",'full menu'!F7="FCERT",'full menu'!F7="FERT"),"ERTs",IF(OR('full menu'!F7="FCMT",'full menu'!F7="FMT",'full menu'!F7="LMT",'full menu'!F7="LCMT"),"MTs",IF(OR('full menu'!F7="LCIT",'full menu'!F7="FCIT",'full menu'!F7="LIT",'full menu'!F7="FIT"),"ITs",IF(OR('full menu'!F7="MwERT", 'full menu'!F7="ERwMT", 'full menu'!F7="M&ERT", 'full menu'!F7="MwIT", 'full menu'!F7="IwMT", 'full menu'!F7="M&IT", 'full menu'!F7="IwERT", 'full menu'!F7="ERwIT", 'full menu'!F7="I&ERT", 'full menu'!F7="ER&M&IT"),"MixedTs",IF('full menu'!F7="UD","UD",IF('full menu'!F7="LSD","LSD",IF('full menu'!F7="WSD","WSD",IF('full menu'!F7="UASC","UASC","")))))))))) | G7: =IF('full menu'!G7="MDC","MDC",IF(OR('full menu'!G7="PERF",'full menu'!G7="AERF",'full menu'!G7="PCB"),"ERfix",IF(OR('full menu'!G7="ACB", 'full menu'!G7="LCERT", 'full menu'!G7="LERT",'full menu'!G7="FCERT",'full menu'!G7="FERT"),"ERTs",IF(OR('full menu'!G7="FCMT",'full menu'!G7="FMT",'full menu'!G7="LMT",'full menu'!G7="LCMT"),"MTs",IF(OR('full menu'!G7="LCIT",'full menu'!G7="FCIT",'full menu'!G7="LIT",'full menu'!G7="FIT"),"ITs",IF(OR('full menu'!G7="MwERT", 'full menu'!G7="ERwMT", 'full menu'!G7="M&ERT", 'full menu'!G7="MwIT", 'full menu'!G7="IwMT", 'full menu'!G7="M&IT", 'full menu'!G7="IwERT", 'full menu'!G7="ERwIT", 'full menu'!G7="I&ERT", 'full menu'!G7="ER&M&IT"),"MixedTs",IF('full menu'!G7="UD","UD",IF('full menu'!G7="LSD","LSD",IF('full menu'!G7="WSD","WSD",IF('full menu'!G7="UASC","UASC","")))))))))) | H7: =IF('full menu'!H7="MDC","MDC",IF(OR('full menu'!H7="PERF",'full menu'!H7="AERF",'full menu'!H7="PCB"),"ERfix",IF(OR('full menu'!H7="ACB", 'full menu'!H7="LCERT", 'full menu'!H7="LERT",'full menu'!H7="FCERT",'full menu'!H7="FERT"),"ERTs",IF(OR('full menu'!H7="FCMT",'full menu'!H7="FMT",'full menu'!H7="LMT",'full menu'!H7="LCMT"),"MTs",IF(OR('full menu'!H7="LCIT",'full menu'!H7="FCIT",'full menu'!H7="LIT",'full menu'!H7="FIT"),"ITs",IF(OR('full menu'!H7="MwERT", 'full menu'!H7="ERwMT", 'full menu'!H7="M&ERT", 'full menu'!H7="MwIT", 'full menu'!H7="IwMT", 'full menu'!H7="M&IT", 'full menu'!H7="IwERT", 'full menu'!H7="ERwIT", 'full menu'!H7="I&ERT", 'full menu'!H7="ER&M&IT"),"MixedTs",IF('full menu'!H7="UD","UD",IF('full menu'!H7="LSD","LSD",IF('full menu'!H7="WSD","WSD",IF('full menu'!H7="UASC","UASC","")))))))))) | I7: =IF('full menu'!I7="MDC","MDC",IF(OR('full menu'!I7="PERF",'full menu'!I7="AERF",'full menu'!I7="PCB"),"ERfix",IF(OR('full menu'!I7="ACB", 'full menu'!I7="LCERT", 'full menu'!I7="LERT",'full menu'!I7="FCERT",'full menu'!I7="FERT"),"ERTs",IF(OR('full menu'!I7="FCMT",'full menu'!I7="FMT",'full menu'!I7="LMT",'full menu'!I7="LCMT"),"MTs",IF(OR('full menu'!I7="LCIT",'full menu'!I7="FCIT",'full menu'!I7="LIT",'full menu'!I7="FIT"),"ITs",IF(OR('full menu'!I7="MwERT", 'full menu'!I7="ERwMT", 'full menu'!I7="M&ERT", 'full menu'!I7="MwIT", 'full menu'!I7="IwMT", 'full menu'!I7="M&IT", 'full menu'!I7="IwERT", 'full menu'!I7="ERwIT", 'full menu'!I7="I&ERT", 'full menu'!I7="ER&M&IT"),"MixedTs",IF('full menu'!I7="UD","UD",IF('full menu'!I7="LSD","LSD",IF('full menu'!I7="WSD","WSD",IF('full menu'!I7="UASC","UASC","")))))))))) | ... AY7: =IF('full menu'!AY7="MDC","MDC",IF(OR('full menu'!AY7="PERF",'full menu'!AY7="AERF",'full menu'!AY7="PCB"),"ERfix",IF(OR('full menu'!AY7="ACB", 'full menu'!AY7="LCERT", 'full menu'!AY7="LERT",'full menu'!AY7="FCERT",'full menu'!AY7="FERT"),"ERTs",IF(OR('full menu'!AY7="FCMT",'full menu'!AY7="FMT",'full menu'!AY7="LMT",'full menu'!AY7="LCMT"),"MTs",IF(OR('full menu'!AY7="LCIT",'full menu'!AY7="FCIT",'full menu'!AY7="LIT",'full menu'!AY7="FIT"),"ITs",IF(OR('full menu'!AY7="MwERT", 'full menu'!AY7="ERwMT", 'full menu'!AY7="M&ERT", 'full menu'!AY7="MwIT", 'full menu'!AY7="IwMT", 'full menu'!AY7="M&IT", 'full menu'!AY7="IwERT", 'full menu'!AY7="ERwIT", 'full menu'!AY7="I&ERT", 'full menu'!AY7="ER&M&IT"),"MixedTs",IF('full menu'!AY7="UD","UD",IF('full menu'!AY7="LSD","LSD",IF('full menu'!AY7="WSD","WSD",IF('full menu'!AY7="UASC","UASC","")))))))))) -> ITs
A8: Australia | B8: =IF('full menu'!B8="MDC","MDC",IF(OR('full menu'!B8="PERF",'full menu'!B8="AERF",'full menu'!B8="PCB"),"ERfix",IF(OR('full menu'!B8="ACB", 'full menu'!B8="LCERT", 'full menu'!B8="LERT",'full menu'!B8="FCERT",'full menu'!B8="FERT"),"ERTs",IF(OR('full menu'!B8="FCMT",'full menu'!B8="FMT",'full menu'!B8="LMT",'full menu'!B8="LCMT"),"MTs",IF(OR('full menu'!B8="LCIT",'full menu'!B8="FCIT",'full menu'!B8="LIT",'full menu'!B8="FIT"),"ITs",IF(OR('full menu'!B8="MwERT", 'full menu'!B8="ERwMT", 'full menu'!B8="M&ERT", 'full menu'!B8="MwIT", 'full menu'!B8="IwMT", 'full menu'!B8="M&IT", 'full menu'!B8="IwERT", 'full menu'!B8="ERwIT", 'full menu'!B8="I&ERT", 'full menu'!B8="ER&M&IT"),"MixedTs",IF('full menu'!B8="UD","UD",IF('full menu'!B8="LSD","LSD",IF('full menu'!B8="WSD","WSD",IF('full menu'!B8="UASC","UASC","")))))))))) -> ERfix | C8: =IF('full menu'!C8="MDC","MDC",IF(OR('full menu'!C8="PERF",'full menu'!C8="AERF",'full menu'!C8="PCB"),"ERfix",IF(OR('full menu'!C8="ACB", 'full menu'!C8="LCERT", 'full menu'!C8="LERT",'full menu'!C8="FCERT",'full menu'!C8="FERT"),"ERTs",IF(OR('full menu'!C8="FCMT",'full menu'!C8="FMT",'full menu'!C8="LMT",'full menu'!C8="LCMT"),"MTs",IF(OR('full menu'!C8="LCIT",'full menu'!C8="FCIT",'full menu'!C8="LIT",'full menu'!C8="FIT"),"ITs",IF(OR('full menu'!C8="MwERT", 'full menu'!C8="ERwMT", 'full menu'!C8="M&ERT", 'full menu'!C8="MwIT", 'full menu'!C8="IwMT", 'full menu'!C8="M&IT", 'full menu'!C8="IwERT", 'full menu'!C8="ERwIT", 'full menu'!C8="I&ERT", 'full menu'!C8="ER&M&IT"),"MixedTs",IF('full menu'!C8="UD","UD",IF('full menu'!C8="LSD","LSD",IF('full menu'!C8="WSD","WSD",IF('full menu'!C8="UASC","UASC","")))))))))) -> ERfix | D8: =IF('full menu'!D8="MDC","MDC",IF(OR('full menu'!D8="PERF",'full menu'!D8="AERF",'full menu'!D8="PCB"),"ERfix",IF(OR('full menu'!D8="ACB", 'full menu'!D8="LCERT", 'full menu'!D8="LERT",'full menu'!D8="FCERT",'full menu'!D8="FERT"),"ERTs",IF(OR('full menu'!D8="FCMT",'full menu'!D8="FMT",'full menu'!D8="LMT",'full menu'!D8="LCMT"),"MTs",IF(OR('full menu'!D8="LCIT",'full menu'!D8="FCIT",'full menu'!D8="LIT",'full menu'!D8="FIT"),"ITs",IF(OR('full menu'!D8="MwERT", 'full menu'!D8="ERwMT", 'full menu'!D8="M&ERT", 'full menu'!D8="MwIT", 'full menu'!D8="IwMT", 'full menu'!D8="M&IT", 'full menu'!D8="IwERT", 'full menu'!D8="ERwIT", 'full menu'!D8="I&ERT", 'full menu'!D8="ER&M&IT"),"MixedTs",IF('full menu'!D8="UD","UD",IF('full menu'!D8="LSD","LSD",IF('full menu'!D8="WSD","WSD",IF('full menu'!D8="UASC","UASC","")))))))))) -> ERfix | E8: =IF('full menu'!E8="MDC","MDC",IF(OR('full menu'!E8="PERF",'full menu'!E8="AERF",'full menu'!E8="PCB"),"ERfix",IF(OR('full menu'!E8="ACB", 'full menu'!E8="LCERT", 'full menu'!E8="LERT",'full menu'!E8="FCERT",'full menu'!E8="FERT"),"ERTs",IF(OR('full menu'!E8="FCMT",'full menu'!E8="FMT",'full menu'!E8="LMT",'full menu'!E8="LCMT"),"MTs",IF(OR('full menu'!E8="LCIT",'full menu'!E8="FCIT",'full menu'!E8="LIT",'full menu'!E8="FIT"),"ITs",IF(OR('full menu'!E8="MwERT", 'full menu'!E8="ERwMT", 'full menu'!E8="M&ERT", 'full menu'!E8="MwIT", 'full menu'!E8="IwMT", 'full menu'!E8="M&IT", 'full menu'!E8="IwERT", 'full menu'!E8="ERwIT", 'full menu'!E8="I&ERT", 'full menu'!E8="ER&M&IT"),"MixedTs",IF('full menu'!E8="UD","UD",IF('full menu'!E8="LSD","LSD",IF('full menu'!E8="WSD","WSD",IF('full menu'!E8="UASC","UASC","")))))))))) -> MTs | F8: =IF('full menu'!F8="MDC","MDC",IF(OR('full menu'!F8="PERF",'full menu'!F8="AERF",'full menu'!F8="PCB"),"ERfix",IF(OR('full menu'!F8="ACB", 'full menu'!F8="LCERT", 'full menu'!F8="LERT",'full menu'!F8="FCERT",'full menu'!F8="FERT"),"ERTs",IF(OR('full menu'!F8="FCMT",'full menu'!F8="FMT",'full menu'!F8="LMT",'full menu'!F8="LCMT"),"MTs",IF(OR('full menu'!F8="LCIT",'full menu'!F8="FCIT",'full menu'!F8="LIT",'full menu'!F8="FIT"),"ITs",IF(OR('full menu'!F8="MwERT", 'full menu'!F8="ERwMT", 'full menu'!F8="M&ERT", 'full menu'!F8="MwIT", 'full menu'!F8="IwMT", 'full menu'!F8="M&IT", 'full menu'!F8="IwERT", 'full menu'!F8="ERwIT", 'full menu'!F8="I&ERT", 'full menu'!F8="ER&M&IT"),"MixedTs",IF('full menu'!F8="UD","UD",IF('full menu'!F8="LSD","LSD",IF('full menu'!F8="WSD","WSD",IF('full menu'!F8="UASC","UASC","")))))))))) -> MTs | G8: =IF('full menu'!G8="MDC","MDC",IF(OR('full menu'!G8="PERF",'full menu'!G8="AERF",'full menu'!G8="PCB"),"ERfix",IF(OR('full menu'!G8="ACB", 'full menu'!G8="LCERT", 'full menu'!G8="LERT",'full menu'!G8="FCERT",'full menu'!G8="FERT"),"ERTs",IF(OR('full menu'!G8="FCMT",'full menu'!G8="FMT",'full menu'!G8="LMT",'full menu'!G8="LCMT"),"MTs",IF(OR('full menu'!G8="LCIT",'full menu'!G8="FCIT",'full menu'!G8="LIT",'full menu'!G8="FIT"),"ITs",IF(OR('full menu'!G8="MwERT", 'full menu'!G8="ERwMT", 'full menu'!G8="M&ERT", 'full menu'!G8="MwIT", 'full menu'!G8="IwMT", 'full menu'!G8="M&IT", 'full menu'!G8="IwERT", 'full menu'!G8="ERwIT", 'full menu'!G8="I&ERT", 'full menu'!G8="ER&M&IT"),"MixedTs",IF('full menu'!G8="UD","UD",IF('full menu'!G8="LSD","LSD",IF('full menu'!G8="WSD","WSD",IF('full menu'!G8="UASC","UASC","")))))))))) -> MTs | H8: =IF('full menu'!H8="MDC","MDC",IF(OR('full menu'!H8="PERF",'full menu'!H8="AERF",'full menu'!H8="PCB"),"ERfix",IF(OR('full menu'!H8="ACB", 'full menu'!H8="LCERT", 'full menu'!H8="LERT",'full menu'!H8="FCERT",'full menu'!H8="FERT"),"ERTs",IF(OR('full menu'!H8="FCMT",'full menu'!H8="FMT",'full menu'!H8="LMT",'full menu'!H8="LCMT"),"MTs",IF(OR('full menu'!H8="LCIT",'full menu'!H8="FCIT",'full menu'!H8="LIT",'full menu'!H8="FIT"),"ITs",IF(OR('full menu'!H8="MwERT", 'full menu'!H8="ERwMT", 'full menu'!H8="M&ERT", 'full menu'!H8="MwIT", 'full menu'!H8="IwMT", 'full menu'!H8="M&IT", 'full menu'!H8="IwERT", 'full menu'!H8="ERwIT", 'full menu'!H8="I&ERT", 'full menu'!H8="ER&M&IT"),"MixedTs",IF('full menu'!H8="UD","UD",IF('full menu'!H8="LSD","LSD",IF('full menu'!H8="WSD","WSD",IF('full menu'!H8="UASC","UASC","")))))))))) -> MTs | I8: =IF('full menu'!I8="MDC","MDC",IF(OR('full menu'!I8="PERF",'full menu'!I8="AERF",'full menu'!I8="PCB"),"ERfix",IF(OR('full menu'!I8="ACB", 'full menu'!I8="LCERT", 'full menu'!I8="LERT",'full menu'!I8="FCERT",'full menu'!I8="FERT"),"ERTs",IF(OR('full menu'!I8="FCMT",'full menu'!I8="FMT",'full menu'!I8="LMT",'full menu'!I8="LCMT"),"MTs",IF(OR('full menu'!I8="LCIT",'full menu'!I8="FCIT",'full menu'!I8="LIT",'full menu'!I8="FIT"),"ITs",IF(OR('full menu'!I8="MwERT", 'full menu'!I8="ERwMT", 'full menu'!I8="M&ERT", 'full menu'!I8="MwIT", 'full menu'!I8="IwMT", 'full menu'!I8="M&IT", 'full menu'!I8="IwERT", 'full menu'!I8="ERwIT", 'full menu'!I8="I&ERT", 'full menu'!I8="ER&M&IT"),"MixedTs",IF('full menu'!I8="UD","UD",IF('full menu'!I8="LSD","LSD",IF('full menu'!I8="WSD","WSD",IF('full menu'!I8="UASC","UASC","")))))))))) -> MTs | ... AY8: =IF('full menu'!AY8="MDC","MDC",IF(OR('full menu'!AY8="PERF",'full menu'!AY8="AERF",'full menu'!AY8="PCB"),"ERfix",IF(OR('full menu'!AY8="ACB", 'full menu'!AY8="LCERT", 'full menu'!AY8="LERT",'full menu'!AY8="FCERT",'full menu'!AY8="FERT"),"ERTs",IF(OR('full menu'!AY8="FCMT",'full menu'!AY8="FMT",'full menu'!AY8="LMT",'full menu'!AY8="LCMT"),"MTs",IF(OR('full menu'!AY8="LCIT",'full menu'!AY8="FCIT",'full menu'!AY8="LIT",'full menu'!AY8="FIT"),"ITs",IF(OR('full menu'!AY8="MwERT", 'full menu'!AY8="ERwMT", 'full menu'!AY8="M&ERT", 'full menu'!AY8="MwIT", 'full menu'!AY8="IwMT", 'full menu'!AY8="M&IT", 'full menu'!AY8="IwERT", 'full menu'!AY8="ERwIT", 'full menu'!AY8="I&ERT", 'full menu'!AY8="ER&M&IT"),"MixedTs",IF('full menu'!AY8="UD","UD",IF('full menu'!AY8="LSD","LSD",IF('full menu'!AY8="WSD","WSD",IF('full menu'!AY8="UASC","UASC","")))))))))) -> ITs
A9: Austria | B9: =IF('full menu'!B9="MDC","MDC",IF(OR('full menu'!B9="PERF",'full menu'!B9="AERF",'full menu'!B9="PCB"),"ERfix",IF(OR('full menu'!B9="ACB", 'full menu'!B9="LCERT", 'full menu'!B9="LERT",'full menu'!B9="FCERT",'full menu'!B9="FERT"),"ERTs",IF(OR('full menu'!B9="FCMT",'full menu'!B9="FMT",'full menu'!B9="LMT",'full menu'!B9="LCMT"),"MTs",IF(OR('full menu'!B9="LCIT",'full menu'!B9="FCIT",'full menu'!B9="LIT",'full menu'!B9="FIT"),"ITs",IF(OR('full menu'!B9="MwERT", 'full menu'!B9="ERwMT", 'full menu'!B9="M&ERT", 'full menu'!B9="MwIT", 'full menu'!B9="IwMT", 'full menu'!B9="M&IT", 'full menu'!B9="IwERT", 'full menu'!B9="ERwIT", 'full menu'!B9="I&ERT", 'full menu'!B9="ER&M&IT"),"MixedTs",IF('full menu'!B9="UD","UD",IF('full menu'!B9="LSD","LSD",IF('full menu'!B9="WSD","WSD",IF('full menu'!B9="UASC","UASC","")))))))))) -> ERTs | C9: =IF('full menu'!C9="MDC","MDC",IF(OR('full menu'!C9="PERF",'full menu'!C9="AERF",'full menu'!C9="PCB"),"ERfix",IF(OR('full menu'!C9="ACB", 'full menu'!C9="LCERT", 'full menu'!C9="LERT",'full menu'!C9="FCERT",'full menu'!C9="FERT"),"ERTs",IF(OR('full menu'!C9="FCMT",'full menu'!C9="FMT",'full menu'!C9="LMT",'full menu'!C9="LCMT"),"MTs",IF(OR('full menu'!C9="LCIT",'full menu'!C9="FCIT",'full menu'!C9="LIT",'full menu'!C9="FIT"),"ITs",IF(OR('full menu'!C9="MwERT", 'full menu'!C9="ERwMT", 'full menu'!C9="M&ERT", 'full menu'!C9="MwIT", 'full menu'!C9="IwMT", 'full menu'!C9="M&IT", 'full menu'!C9="IwERT", 'full menu'!C9="ERwIT", 'full menu'!C9="I&ERT", 'full menu'!C9="ER&M&IT"),"MixedTs",IF('full menu'!C9="UD","UD",IF('full menu'!C9="LSD","LSD",IF('full menu'!C9="WSD","WSD",IF('full menu'!C9="UASC","UASC","")))))))))) -> ERTs | D9: =IF('full menu'!D9="MDC","MDC",IF(OR('full menu'!D9="PERF",'full menu'!D9="AERF",'full menu'!D9="PCB"),"ERfix",IF(OR('full menu'!D9="ACB", 'full menu'!D9="LCERT", 'full menu'!D9="LERT",'full menu'!D9="FCERT",'full menu'!D9="FERT"),"ERTs",IF(OR('full menu'!D9="FCMT",'full menu'!D9="FMT",'full menu'!D9="LMT",'full menu'!D9="LCMT"),"MTs",IF(OR('full menu'!D9="LCIT",'full menu'!D9="FCIT",'full menu'!D9="LIT",'full menu'!D9="FIT"),"ITs",IF(OR('full menu'!D9="MwERT", 'full menu'!D9="ERwMT", 'full menu'!D9="M&ERT", 'full menu'!D9="MwIT", 'full menu'!D9="IwMT", 'full menu'!D9="M&IT", 'full menu'!D9="IwERT", 'full menu'!D9="ERwIT", 'full menu'!D9="I&ERT", 'full menu'!D9="ER&M&IT"),"MixedTs",IF('full menu'!D9="UD","UD",IF('full menu'!D9="LSD","LSD",IF('full menu'!D9="WSD","WSD",IF('full menu'!D9="UASC","UASC","")))))))))) -> ERTs | E9: =IF('full menu'!E9="MDC","MDC",IF(OR('full menu'!E9="PERF",'full menu'!E9="AERF",'full menu'!E9="PCB"),"ERfix",IF(OR('full menu'!E9="ACB", 'full menu'!E9="LCERT", 'full menu'!E9="LERT",'full menu'!E9="FCERT",'full menu'!E9="FERT"),"ERTs",IF(OR('full menu'!E9="FCMT",'full menu'!E9="FMT",'full menu'!E9="LMT",'full menu'!E9="LCMT"),"MTs",IF(OR('full menu'!E9="LCIT",'full menu'!E9="FCIT",'full menu'!E9="LIT",'full menu'!E9="FIT"),"ITs",IF(OR('full menu'!E9="MwERT", 'full menu'!E9="ERwMT", 'full menu'!E9="M&ERT", 'full menu'!E9="MwIT", 'full menu'!E9="IwMT", 'full menu'!E9="M&IT", 'full menu'!E9="IwERT", 'full menu'!E9="ERwIT", 'full menu'!E9="I&ERT", 'full menu'!E9="ER&M&IT"),"MixedTs",IF('full menu'!E9="UD","UD",IF('full menu'!E9="LSD","LSD",IF('full menu'!E9="WSD","WSD",IF('full menu'!E9="UASC","UASC","")))))))))) -> ERTs | F9: =IF('full menu'!F9="MDC","MDC",IF(OR('full menu'!F9="PERF",'full menu'!F9="AERF",'full menu'!F9="PCB"),"ERfix",IF(OR('full menu'!F9="ACB", 'full menu'!F9="LCERT", 'full menu'!F9="LERT",'full menu'!F9="FCERT",'full menu'!F9="FERT"),"ERTs",IF(OR('full menu'!F9="FCMT",'full menu'!F9="FMT",'full menu'!F9="LMT",'full menu'!F9="LCMT"),"MTs",IF(OR('full menu'!F9="LCIT",'full menu'!F9="FCIT",'full menu'!F9="LIT",'full menu'!F9="FIT"),"ITs",IF(OR('full menu'!F9="MwERT", 'full menu'!F9="ERwMT", 'full menu'!F9="M&ERT", 'full menu'!F9="MwIT", 'full menu'!F9="IwMT", 'full menu'!F9="M&IT", 'full menu'!F9="IwERT", 'full menu'!F9="ERwIT", 'full menu'!F9="I&ERT", 'full menu'!F9="ER&M&IT"),"MixedTs",IF('full menu'!F9="UD","UD",IF('full menu'!F9="LSD","LSD",IF('full menu'!F9="WSD","WSD",IF('full menu'!F9="UASC","UASC","")))))))))) -> ERTs | G9: =IF('full menu'!G9="MDC","MDC",IF(OR('full menu'!G9="PERF",'full menu'!G9="AERF",'full menu'!G9="PCB"),"ERfix",IF(OR('full menu'!G9="ACB", 'full menu'!G9="LCERT", 'full menu'!G9="LERT",'full menu'!G9="FCERT",'full menu'!G9="FERT"),"ERTs",IF(OR('full menu'!G9="FCMT",'full menu'!G9="FMT",'full menu'!G9="LMT",'full menu'!G9="LCMT"),"MTs",IF(OR('full menu'!G9="LCIT",'full menu'!G9="FCIT",'full menu'!G9="LIT",'full menu'!G9="FIT"),"ITs",IF(OR('full menu'!G9="MwERT", 'full menu'!G9="ERwMT", 'full menu'!G9="M&ERT", 'full menu'!G9="MwIT", 'full menu'!G9="IwMT", 'full menu'!G9="M&IT", 'full menu'!G9="IwERT", 'full menu'!G9="ERwIT", 'full menu'!G9="I&ERT", 'full menu'!G9="ER&M&IT"),"MixedTs",IF('full menu'!G9="UD","UD",IF('full menu'!G9="LSD","LSD",IF('full menu'!G9="WSD","WSD",IF('full menu'!G9="UASC","UASC","")))))))))) -> ERTs | H9: =IF('full menu'!H9="MDC","MDC",IF(OR('full menu'!H9="PERF",'full menu'!H9="AERF",'full menu'!H9="PCB"),"ERfix",IF(OR('full menu'!H9="ACB", 'full menu'!H9="LCERT", 'full menu'!H9="LERT",'full menu'!H9="FCERT",'full menu'!H9="FERT"),"ERTs",IF(OR('full menu'!H9="FCMT",'full menu'!H9="FMT",'full menu'!H9="LMT",'full menu'!H9="LCMT"),"MTs",IF(OR('full menu'!H9="LCIT",'full menu'!H9="FCIT",'full menu'!H9="LIT",'full menu'!H9="FIT"),"ITs",IF(OR('full menu'!H9="MwERT", 'full menu'!H9="ERwMT", 'full menu'!H9="M&ERT", 'full menu'!H9="MwIT", 'full menu'!H9="IwMT", 'full menu'!H9="M&IT", 'full menu'!H9="IwERT", 'full menu'!H9="ERwIT", 'full menu'!H9="I&ERT", 'full menu'!H9="ER&M&IT"),"MixedTs",IF('full menu'!H9="UD","UD",IF('full menu'!H9="LSD","LSD",IF('full menu'!H9="WSD","WSD",IF('full menu'!H9="UASC","UASC","")))))))))) -> ERTs | I9: =IF('full menu'!I9="MDC","MDC",IF(OR('full menu'!I9="PERF",'full menu'!I9="AERF",'full menu'!I9="PCB"),"ERfix",IF(OR('full menu'!I9="ACB", 'full menu'!I9="LCERT", 'full menu'!I9="LERT",'full menu'!I9="FCERT",'full menu'!I9="FERT"),"ERTs",IF(OR('full menu'!I9="FCMT",'full menu'!I9="FMT",'full menu'!I9="LMT",'full menu'!I9="LCMT"),"MTs",IF(OR('full menu'!I9="LCIT",'full menu'!I9="FCIT",'full menu'!I9="LIT",'full menu'!I9="FIT"),"ITs",IF(OR('full menu'!I9="MwERT", 'full menu'!I9="ERwMT", 'full menu'!I9="M&ERT", 'full menu'!I9="MwIT", 'full menu'!I9="IwMT", 'full menu'!I9="M&IT", 'full menu'!I9="IwERT", 'full menu'!I9="ERwIT", 'full menu'!I9="I&ERT", 'full menu'!I9="ER&M&IT"),"MixedTs",IF('full menu'!I9="UD","UD",IF('full menu'!I9="LSD","LSD",IF('full menu'!I9="WSD","WSD",IF('full menu'!I9="UASC","UASC","")))))))))) -> ERTs | ... AY9: =IF('full menu'!AY9="MDC","MDC",IF(OR('full menu'!AY9="PERF",'full menu'!AY9="AERF",'full menu'!AY9="PCB"),"ERfix",IF(OR('full menu'!AY9="ACB", 'full menu'!AY9="LCERT", 'full menu'!AY9="LERT",'full menu'!AY9="FCERT",'full menu'!AY9="FERT"),"ERTs",IF(OR('full menu'!AY9="FCMT",'full menu'!AY9="FMT",'full menu'!AY9="LMT",'full menu'!AY9="LCMT"),"MTs",IF(OR('full menu'!AY9="LCIT",'full menu'!AY9="FCIT",'full menu'!AY9="LIT",'full menu'!AY9="FIT"),"ITs",IF(OR('full menu'!AY9="MwERT", 'full menu'!AY9="ERwMT", 'full menu'!AY9="M&ERT", 'full menu'!AY9="MwIT", 'full menu'!AY9="IwMT", 'full menu'!AY9="M&IT", 'full menu'!AY9="IwERT", 'full menu'!AY9="ERwIT", 'full menu'!AY9="I&ERT", 'full menu'!AY9="ER&M&IT"),"MixedTs",IF('full menu'!AY9="UD","UD",IF('full menu'!AY9="LSD","LSD",IF('full menu'!AY9="WSD","WSD",IF('full menu'!AY9="UASC","UASC",""))))))))))
A10: Azerbaijan | B10: =IF('full menu'!B10="MDC","MDC",IF(OR('full menu'!B10="PERF",'full menu'!B10="AERF",'full menu'!B10="PCB"),"ERfix",IF(OR('full menu'!B10="ACB", 'full menu'!B10="LCERT", 'full menu'!B10="LERT",'full menu'!B10="FCERT",'full menu'!B10="FERT"),"ERTs",IF(OR('full menu'!B10="FCMT",'full menu'!B10="FMT",'full menu'!B10="LMT",'full menu'!B10="LCMT"),"MTs",IF(OR('full menu'!B10="LCIT",'full menu'!B10="FCIT",'full menu'!B10="LIT",'full menu'!B10="FIT"),"ITs",IF(OR('full menu'!B10="MwERT", 'full menu'!B10="ERwMT", 'full menu'!B10="M&ERT", 'full menu'!B10="MwIT", 'full menu'!B10="IwMT", 'full menu'!B10="M&IT", 'full menu'!B10="IwERT", 'full menu'!B10="ERwIT", 'full menu'!B10="I&ERT", 'full menu'!B10="ER&M&IT"),"MixedTs",IF('full menu'!B10="UD","UD",IF('full menu'!B10="LSD","LSD",IF('full menu'!B10="WSD","WSD",IF('full menu'!B10="UASC","UASC","")))))))))) | C10: =IF('full menu'!C10="MDC","MDC",IF(OR('full menu'!C10="PERF",'full menu'!C10="AERF",'full menu'!C10="PCB"),"ERfix",IF(OR('full menu'!C10="ACB", 'full menu'!C10="LCERT", 'full menu'!C10="LERT",'full menu'!C10="FCERT",'full menu'!C10="FERT"),"ERTs",IF(OR('full menu'!C10="FCMT",'full menu'!C10="FMT",'full menu'!C10="LMT",'full menu'!C10="LCMT"),"MTs",IF(OR('full menu'!C10="LCIT",'full menu'!C10="FCIT",'full menu'!C10="LIT",'full menu'!C10="FIT"),"ITs",IF(OR('full menu'!C10="MwERT", 'full menu'!C10="ERwMT", 'full menu'!C10="M&ERT", 'full menu'!C10="MwIT", 'full menu'!C10="IwMT", 'full menu'!C10="M&IT", 'full menu'!C10="IwERT", 'full menu'!C10="ERwIT", 'full menu'!C10="I&ERT", 'full menu'!C10="ER&M&IT"),"MixedTs",IF('full menu'!C10="UD","UD",IF('full menu'!C10="LSD","LSD",IF('full menu'!C10="WSD","WSD",IF('full menu'!C10="UASC","UASC","")))))))))) | D10: =IF('full menu'!D10="MDC","MDC",IF(OR('full menu'!D10="PERF",'full menu'!D10="AERF",'full menu'!D10="PCB"),"ERfix",IF(OR('full menu'!D10="ACB", 'full menu'!D10="LCERT", 'full menu'!D10="LERT",'full menu'!D10="FCERT",'full menu'!D10="FERT"),"ERTs",IF(OR('full menu'!D10="FCMT",'full menu'!D10="FMT",'full menu'!D10="LMT",'full menu'!D10="LCMT"),"MTs",IF(OR('full menu'!D10="LCIT",'full menu'!D10="FCIT",'full menu'!D10="LIT",'full menu'!D10="FIT"),"ITs",IF(OR('full menu'!D10="MwERT", 'full menu'!D10="ERwMT", 'full menu'!D10="M&ERT", 'full menu'!D10="MwIT", 'full menu'!D10="IwMT", 'full menu'!D10="M&IT", 'full menu'!D10="IwERT", 'full menu'!D10="ERwIT", 'full menu'!D10="I&ERT", 'full menu'!D10="ER&M&IT"),"MixedTs",IF('full menu'!D10="UD","UD",IF('full menu'!D10="LSD","LSD",IF('full menu'!D10="WSD","WSD",IF('full menu'!D10="UASC","UASC","")))))))))) | E10: =IF('full menu'!E10="MDC","MDC",IF(OR('full menu'!E10="PERF",'full menu'!E10="AERF",'full menu'!E10="PCB"),"ERfix",IF(OR('full menu'!E10="ACB", 'full menu'!E10="LCERT", 'full menu'!E10="LERT",'full menu'!E10="FCERT",'full menu'!E10="FERT"),"ERTs",IF(OR('full menu'!E10="FCMT",'full menu'!E10="FMT",'full menu'!E10="LMT",'full menu'!E10="LCMT"),"MTs",IF(OR('full menu'!E10="LCIT",'full menu'!E10="FCIT",'full menu'!E10="LIT",'full menu'!E10="FIT"),"ITs",IF(OR('full menu'!E10="MwERT", 'full menu'!E10="ERwMT", 'full menu'!E10="M&ERT", 'full menu'!E10="MwIT", 'full menu'!E10="IwMT", 'full menu'!E10="M&IT", 'full menu'!E10="IwERT", 'full menu'!E10="ERwIT", 'full menu'!E10="I&ERT", 'full menu'!E10="ER&M&IT"),"MixedTs",IF('full menu'!E10="UD","UD",IF('full menu'!E10="LSD","LSD",IF('full menu'!E10="WSD","WSD",IF('full menu'!E10="UASC","UASC","")))))))))) | F10: =IF('full menu'!F10="MDC","MDC",IF(OR('full menu'!F10="PERF",'full menu'!F10="AERF",'full menu'!F10="PCB"),"ERfix",IF(OR('full menu'!F10="ACB", 'full menu'!F10="LCERT", 'full menu'!F10="LERT",'full menu'!F10="FCERT",'full menu'!F10="FERT"),"ERTs",IF(OR('full menu'!F10="FCMT",'full menu'!F10="FMT",'full menu'!F10="LMT",'full menu'!F10="LCMT"),"MTs",IF(OR('full menu'!F10="LCIT",'full menu'!F10="FCIT",'full menu'!F10="LIT",'full menu'!F10="FIT"),"ITs",IF(OR('full menu'!F10="MwERT", 'full menu'!F10="ERwMT", 'full menu'!F10="M&ERT", 'full menu'!F10="MwIT", 'full menu'!F10="IwMT", 'full menu'!F10="M&IT", 'full menu'!F10="IwERT", 'full menu'!F10="ERwIT", 'full menu'!F10="I&ERT", 'full menu'!F10="ER&M&IT"),"MixedTs",IF('full menu'!F10="UD","UD",IF('full menu'!F10="LSD","LSD",IF('full menu'!F10="WSD","WSD",IF('full menu'!F10="UASC","UASC","")))))))))) | G10: =IF('full menu'!G10="MDC","MDC",IF(OR('full menu'!G10="PERF",'full menu'!G10="AERF",'full menu'!G10="PCB"),"ERfix",IF(OR('full menu'!G10="ACB", 'full menu'!G10="LCERT", 'full menu'!G10="LERT",'full menu'!G10="FCERT",'full menu'!G10="FERT"),"ERTs",IF(OR('full menu'!G10="FCMT",'full menu'!G10="FMT",'full menu'!G10="LMT",'full menu'!G10="LCMT"),"MTs",IF(OR('full menu'!G10="LCIT",'full menu'!G10="FCIT",'full menu'!G10="LIT",'full menu'!G10="FIT"),"ITs",IF(OR('full menu'!G10="MwERT", 'full menu'!G10="ERwMT", 'full menu'!G10="M&ERT", 'full menu'!G10="MwIT", 'full menu'!G10="IwMT", 'full menu'!G10="M&IT", 'full menu'!G10="IwERT", 'full menu'!G10="ERwIT", 'full menu'!G10="I&ERT", 'full menu'!G10="ER&M&IT"),"MixedTs",IF('full menu'!G10="UD","UD",IF('full menu'!G10="LSD","LSD",IF('full menu'!G10="WSD","WSD",IF('full menu'!G10="UASC","UASC","")))))))))) | H10: =IF('full menu'!H10="MDC","MDC",IF(OR('full menu'!H10="PERF",'full menu'!H10="AERF",'full menu'!H10="PCB"),"ERfix",IF(OR('full menu'!H10="ACB", 'full menu'!H10="LCERT", 'full menu'!H10="LERT",'full menu'!H10="FCERT",'full menu'!H10="FERT"),"ERTs",IF(OR('full menu'!H10="FCMT",'full menu'!H10="FMT",'full menu'!H10="LMT",'full menu'!H10="LCMT"),"MTs",IF(OR('full menu'!H10="LCIT",'full menu'!H10="FCIT",'full menu'!H10="LIT",'full menu'!H10="FIT"),"ITs",IF(OR('full menu'!H10="MwERT", 'full menu'!H10="ERwMT", 'full menu'!H10="M&ERT", 'full menu'!H10="MwIT", 'full menu'!H10="IwMT", 'full menu'!H10="M&IT", 'full menu'!H10="IwERT", 'full menu'!H10="ERwIT", 'full menu'!H10="I&ERT", 'full menu'!H10="ER&M&IT"),"MixedTs",IF('full menu'!H10="UD","UD",IF('full menu'!H10="LSD","LSD",IF('full menu'!H10="WSD","WSD",IF('full menu'!H10="UASC","UASC","")))))))))) | I10: =IF('full menu'!I10="MDC","MDC",IF(OR('full menu'!I10="PERF",'full menu'!I10="AERF",'full menu'!I10="PCB"),"ERfix",IF(OR('full menu'!I10="ACB", 'full menu'!I10="LCERT", 'full menu'!I10="LERT",'full menu'!I10="FCERT",'full menu'!I10="FERT"),"ERTs",IF(OR('full menu'!I10="FCMT",'full menu'!I10="FMT",'full menu'!I10="LMT",'full menu'!I10="LCMT"),"MTs",IF(OR('full menu'!I10="LCIT",'full menu'!I10="FCIT",'full menu'!I10="LIT",'full menu'!I10="FIT"),"ITs",IF(OR('full menu'!I10="MwERT", 'full menu'!I10="ERwMT", 'full menu'!I10="M&ERT", 'full menu'!I10="MwIT", 'full menu'!I10="IwMT", 'full menu'!I10="M&IT", 'full menu'!I10="IwERT", 'full menu'!I10="ERwIT", 'full menu'!I10="I&ERT", 'full menu'!I10="ER&M&IT"),"MixedTs",IF('full menu'!I10="UD","UD",IF('full menu'!I10="LSD","LSD",IF('full menu'!I10="WSD","WSD",IF('full menu'!I10="UASC","UASC","")))))))))) | ... AY10: =IF('full menu'!AY10="MDC","MDC",IF(OR('full menu'!AY10="PERF",'full menu'!AY10="AERF",'full menu'!AY10="PCB"),"ERfix",IF(OR('full menu'!AY10="ACB", 'full menu'!AY10="LCERT", 'full menu'!AY10="LERT",'full menu'!AY10="FCERT",'full menu'!AY10="FERT"),"ERTs",IF(OR('full menu'!AY10="FCMT",'full menu'!AY10="FMT",'full menu'!AY10="LMT",'full menu'!AY10="LCMT"),"MTs",IF(OR('full menu'!AY10="LCIT",'full menu'!AY10="FCIT",'full menu'!AY10="LIT",'full menu'!AY10="FIT"),"ITs",IF(OR('full menu'!AY10="MwERT", 'full menu'!AY10="ERwMT", 'full menu'!AY10="M&ERT", 'full menu'!AY10="MwIT", 'full menu'!AY10="IwMT", 'full menu'!AY10="M&IT", 'full menu'!AY10="IwERT", 'full menu'!AY10="ERwIT", 'full menu'!AY10="I&ERT", 'full menu'!AY10="ER&M&IT"),"MixedTs",IF('full menu'!AY10="UD","UD",IF('full menu'!AY10="LSD","LSD",IF('full menu'!AY10="WSD","WSD",IF('full menu'!AY10="UASC","UASC","")))))))))) -> LSD
A11: Bahamas | B11: =IF('full menu'!B11="MDC","MDC",IF(OR('full menu'!B11="PERF",'full menu'!B11="AERF",'full menu'!B11="PCB"),"ERfix",IF(OR('full menu'!B11="ACB", 'full menu'!B11="LCERT", 'full menu'!B11="LERT",'full menu'!B11="FCERT",'full menu'!B11="FERT"),"ERTs",IF(OR('full menu'!B11="FCMT",'full menu'!B11="FMT",'full menu'!B11="LMT",'full menu'!B11="LCMT"),"MTs",IF(OR('full menu'!B11="LCIT",'full menu'!B11="FCIT",'full menu'!B11="LIT",'full menu'!B11="FIT"),"ITs",IF(OR('full menu'!B11="MwERT", 'full menu'!B11="ERwMT", 'full menu'!B11="M&ERT", 'full menu'!B11="MwIT", 'full menu'!B11="IwMT", 'full menu'!B11="M&IT", 'full menu'!B11="IwERT", 'full menu'!B11="ERwIT", 'full menu'!B11="I&ERT", 'full menu'!B11="ER&M&IT"),"MixedTs",IF('full menu'!B11="UD","UD",IF('full menu'!B11="LSD","LSD",IF('full menu'!B11="WSD","WSD",IF('full menu'!B11="UASC","UASC","")))))))))) -> ERfix | C11: =IF('full menu'!C11="MDC","MDC",IF(OR('full menu'!C11="PERF",'full menu'!C11="AERF",'full menu'!C11="PCB"),"ERfix",IF(OR('full menu'!C11="ACB", 'full menu'!C11="LCERT", 'full menu'!C11="LERT",'full menu'!C11="FCERT",'full menu'!C11="FERT"),"ERTs",IF(OR('full menu'!C11="FCMT",'full menu'!C11="FMT",'full menu'!C11="LMT",'full menu'!C11="LCMT"),"MTs",IF(OR('full menu'!C11="LCIT",'full menu'!C11="FCIT",'full menu'!C11="LIT",'full menu'!C11="FIT"),"ITs",IF(OR('full menu'!C11="MwERT", 'full menu'!C11="ERwMT", 'full menu'!C11="M&ERT", 'full menu'!C11="MwIT", 'full menu'!C11="IwMT", 'full menu'!C11="M&IT", 'full menu'!C11="IwERT", 'full menu'!C11="ERwIT", 'full menu'!C11="I&ERT", 'full menu'!C11="ER&M&IT"),"MixedTs",IF('full menu'!C11="UD","UD",IF('full menu'!C11="LSD","LSD",IF('full menu'!C11="WSD","WSD",IF('full menu'!C11="UASC","UASC","")))))))))) -> ERfix | D11: =IF('full menu'!D11="MDC","MDC",IF(OR('full menu'!D11="PERF",'full menu'!D11="AERF",'full menu'!D11="PCB"),"ERfix",IF(OR('full menu'!D11="ACB", 'full menu'!D11="LCERT", 'full menu'!D11="LERT",'full menu'!D11="FCERT",'full menu'!D11="FERT"),"ERTs",IF(OR('full menu'!D11="FCMT",'full menu'!D11="FMT",'full menu'!D11="LMT",'full menu'!D11="LCMT"),"MTs",IF(OR('full menu'!D11="LCIT",'full menu'!D11="FCIT",'full menu'!D11="LIT",'full menu'!D11="FIT"),"ITs",IF(OR('full menu'!D11="MwERT", 'full menu'!D11="ERwMT", 'full menu'!D11="M&ERT", 'full menu'!D11="MwIT", 'full menu'!D11="IwMT", 'full menu'!D11="M&IT", 'full menu'!D11="IwERT", 'full menu'!D11="ERwIT", 'full menu'!D11="I&ERT", 'full menu'!D11="ER&M&IT"),"MixedTs",IF('full menu'!D11="UD","UD",IF('full menu'!D11="LSD","LSD",IF('full menu'!D11="WSD","WSD",IF('full menu'!D11="UASC","UASC","")))))))))) -> ERfix | E11: =IF('full menu'!E11="MDC","MDC",IF(OR('full menu'!E11="PERF",'full menu'!E11="AERF",'full menu'!E11="PCB"),"ERfix",IF(OR('full menu'!E11="ACB", 'full menu'!E11="LCERT", 'full menu'!E11="LERT",'full menu'!E11="FCERT",'full menu'!E11="FERT"),"ERTs",IF(OR('full menu'!E11="FCMT",'full menu'!E11="FMT",'full menu'!E11="LMT",'full menu'!E11="LCMT"),"MTs",IF(OR('full menu'!E11="LCIT",'full menu'!E11="FCIT",'full menu'!E11="LIT",'full menu'!E11="FIT"),"ITs",IF(OR('full menu'!E11="MwERT", 'full menu'!E11="ERwMT", 'full menu'!E11="M&ERT", 'full menu'!E11="MwIT", 'full menu'!E11="IwMT", 'full menu'!E11="M&IT", 'full menu'!E11="IwERT", 'full menu'!E11="ERwIT", 'full menu'!E11="I&ERT", 'full menu'!E11="ER&M&IT"),"MixedTs",IF('full menu'!E11="UD","UD",IF('full menu'!E11="LSD","LSD",IF('full menu'!E11="WSD","WSD",IF('full menu'!E11="UASC","UASC","")))))))))) -> ERfix | F11: =IF('full menu'!F11="MDC","MDC",IF(OR('full menu'!F11="PERF",'full menu'!F11="AERF",'full menu'!F11="PCB"),"ERfix",IF(OR('full menu'!F11="ACB", 'full menu'!F11="LCERT", 'full menu'!F11="LERT",'full menu'!F11="FCERT",'full menu'!F11="FERT"),"ERTs",IF(OR('full menu'!F11="FCMT",'full menu'!F11="FMT",'full menu'!F11="LMT",'full menu'!F11="LCMT"),"MTs",IF(OR('full menu'!F11="LCIT",'full menu'!F11="FCIT",'full menu'!F11="LIT",'full menu'!F11="FIT"),"ITs",IF(OR('full menu'!F11="MwERT", 'full menu'!F11="ERwMT", 'full menu'!F11="M&ERT", 'full menu'!F11="MwIT", 'full menu'!F11="IwMT", 'full menu'!F11="M&IT", 'full menu'!F11="IwERT", 'full menu'!F11="ERwIT", 'full menu'!F11="I&ERT", 'full menu'!F11="ER&M&IT"),"MixedTs",IF('full menu'!F11="UD","UD",IF('full menu'!F11="LSD","LSD",IF('full menu'!F11="WSD","WSD",IF('full menu'!F11="UASC","UASC","")))))))))) -> ERfix | G11: =IF('full menu'!G11="MDC","MDC",IF(OR('full menu'!G11="PERF",'full menu'!G11="AERF",'full menu'!G11="PCB"),"ERfix",IF(OR('full menu'!G11="ACB", 'full menu'!G11="LCERT", 'full menu'!G11="LERT",'full menu'!G11="FCERT",'full menu'!G11="FERT"),"ERTs",IF(OR('full menu'!G11="FCMT",'full menu'!G11="FMT",'full menu'!G11="LMT",'full menu'!G11="LCMT"),"MTs",IF(OR('full menu'!G11="LCIT",'full menu'!G11="FCIT",'full menu'!G11="LIT",'full menu'!G11="FIT"),"ITs",IF(OR('full menu'!G11="MwERT", 'full menu'!G11="ERwMT", 'full menu'!G11="M&ERT", 'full menu'!G11="MwIT", 'full menu'!G11="IwMT", 'full menu'!G11="M&IT", 'full menu'!G11="IwERT", 'full menu'!G11="ERwIT", 'full menu'!G11="I&ERT", 'full menu'!G11="ER&M&IT"),"MixedTs",IF('full menu'!G11="UD","UD",IF('full menu'!G11="LSD","LSD",IF('full menu'!G11="WSD","WSD",IF('full menu'!G11="UASC","UASC","")))))))))) -> ERfix | H11: =IF('full menu'!H11="MDC","MDC",IF(OR('full menu'!H11="PERF",'full menu'!H11="AERF",'full menu'!H11="PCB"),"ERfix",IF(OR('full menu'!H11="ACB", 'full menu'!H11="LCERT", 'full menu'!H11="LERT",'full menu'!H11="FCERT",'full menu'!H11="FERT"),"ERTs",IF(OR('full menu'!H11="FCMT",'full menu'!H11="FMT",'full menu'!H11="LMT",'full menu'!H11="LCMT"),"MTs",IF(OR('full menu'!H11="LCIT",'full menu'!H11="FCIT",'full menu'!H11="LIT",'full menu'!H11="FIT"),"ITs",IF(OR('full menu'!H11="MwERT", 'full menu'!H11="ERwMT", 'full menu'!H11="M&ERT", 'full menu'!H11="MwIT", 'full menu'!H11="IwMT", 'full menu'!H11="M&IT", 'full menu'!H11="IwERT", 'full menu'!H11="ERwIT", 'full menu'!H11="I&ERT", 'full menu'!H11="ER&M&IT"),"MixedTs",IF('full menu'!H11="UD","UD",IF('full menu'!H11="LSD","LSD",IF('full menu'!H11="WSD","WSD",IF('full menu'!H11="UASC","UASC","")))))))))) -> ERfix | I11: =IF('full menu'!I11="MDC","MDC",IF(OR('full menu'!I11="PERF",'full menu'!I11="AERF",'full menu'!I11="PCB"),"ERfix",IF(OR('full menu'!I11="ACB", 'full menu'!I11="LCERT", 'full menu'!I11="LERT",'full menu'!I11="FCERT",'full menu'!I11="FERT"),"ERTs",IF(OR('full menu'!I11="FCMT",'full menu'!I11="FMT",'full menu'!I11="LMT",'full menu'!I11="LCMT"),"MTs",IF(OR('full menu'!I11="LCIT",'full menu'!I11="FCIT",'full menu'!I11="LIT",'full menu'!I11="FIT"),"ITs",IF(OR('full menu'!I11="MwERT", 'full menu'!I11="ERwMT", 'full menu'!I11="M&ERT", 'full menu'!I11="MwIT", 'full menu'!I11="IwMT", 'full menu'!I11="M&IT", 'full menu'!I11="IwERT", 'full menu'!I11="ERwIT", 'full menu'!I11="I&ERT", 'full menu'!I11="ER&M&IT"),"MixedTs",IF('full menu'!I11="UD","UD",IF('full menu'!I11="LSD","LSD",IF('full menu'!I11="WSD","WSD",IF('full menu'!I11="UASC","UASC","")))))))))) -> ERfix | ... AY11: =IF('full menu'!AY11="MDC","MDC",IF(OR('full menu'!AY11="PERF",'full menu'!AY11="AERF",'full menu'!AY11="PCB"),"ERfix",IF(OR('full menu'!AY11="ACB", 'full menu'!AY11="LCERT", 'full menu'!AY11="LERT",'full menu'!AY11="FCERT",'full menu'!AY11="FERT"),"ERTs",IF(OR('full menu'!AY11="FCMT",'full menu'!AY11="FMT",'full menu'!AY11="LMT",'full menu'!AY11="LCMT"),"MTs",IF(OR('full menu'!AY11="LCIT",'full menu'!AY11="FCIT",'full menu'!AY11="LIT",'full menu'!AY11="FIT"),"ITs",IF(OR('full menu'!AY11="MwERT", 'full menu'!AY11="ERwMT", 'full menu'!AY11="M&ERT", 'full menu'!AY11="MwIT", 'full menu'!AY11="IwMT", 'full menu'!AY11="M&IT", 'full menu'!AY11="IwERT", 'full menu'!AY11="ERwIT", 'full menu'!AY11="I&ERT", 'full menu'!AY11="ER&M&IT"),"MixedTs",IF('full menu'!AY11="UD","UD",IF('full menu'!AY11="LSD","LSD",IF('full menu'!AY11="WSD","WSD",IF('full menu'!AY11="UASC","UASC","")))))))))) -> ERfix
A12: Bahrain | B12: =IF('full menu'!B12="MDC","MDC",IF(OR('full menu'!B12="PERF",'full menu'!B12="AERF",'full menu'!B12="PCB"),"ERfix",IF(OR('full menu'!B12="ACB", 'full menu'!B12="LCERT", 'full menu'!B12="LERT",'full menu'!B12="FCERT",'full menu'!B12="FERT"),"ERTs",IF(OR('full menu'!B12="FCMT",'full menu'!B12="FMT",'full menu'!B12="LMT",'full menu'!B12="LCMT"),"MTs",IF(OR('full menu'!B12="LCIT",'full menu'!B12="FCIT",'full menu'!B12="LIT",'full menu'!B12="FIT"),"ITs",IF(OR('full menu'!B12="MwERT", 'full menu'!B12="ERwMT", 'full menu'!B12="M&ERT", 'full menu'!B12="MwIT", 'full menu'!B12="IwMT", 'full menu'!B12="M&IT", 'full menu'!B12="IwERT", 'full menu'!B12="ERwIT", 'full menu'!B12="I&ERT", 'full menu'!B12="ER&M&IT"),"MixedTs",IF('full menu'!B12="UD","UD",IF('full menu'!B12="LSD","LSD",IF('full menu'!B12="WSD","WSD",IF('full menu'!B12="UASC","UASC","")))))))))) -> ERTs | C12: =IF('full menu'!C12="MDC","MDC",IF(OR('full menu'!C12="PERF",'full menu'!C12="AERF",'full menu'!C12="PCB"),"ERfix",IF(OR('full menu'!C12="ACB", 'full menu'!C12="LCERT", 'full menu'!C12="LERT",'full menu'!C12="FCERT",'full menu'!C12="FERT"),"ERTs",IF(OR('full menu'!C12="FCMT",'full menu'!C12="FMT",'full menu'!C12="LMT",'full menu'!C12="LCMT"),"MTs",IF(OR('full menu'!C12="LCIT",'full menu'!C12="FCIT",'full menu'!C12="LIT",'full menu'!C12="FIT"),"ITs",IF(OR('full menu'!C12="MwERT", 'full menu'!C12="ERwMT", 'full menu'!C12="M&ERT", 'full menu'!C12="MwIT", 'full menu'!C12="IwMT", 'full menu'!C12="M&IT", 'full menu'!C12="IwERT", 'full menu'!C12="ERwIT", 'full menu'!C12="I&ERT", 'full menu'!C12="ER&M&IT"),"MixedTs",IF('full menu'!C12="UD","UD",IF('full menu'!C12="LSD","LSD",IF('full menu'!C12="WSD","WSD",IF('full menu'!C12="UASC","UASC","")))))))))) -> ERfix | D12: =IF('full menu'!D12="MDC","MDC",IF(OR('full menu'!D12="PERF",'full menu'!D12="AERF",'full menu'!D12="PCB"),"ERfix",IF(OR('full menu'!D12="ACB", 'full menu'!D12="LCERT", 'full menu'!D12="LERT",'full menu'!D12="FCERT",'full menu'!D12="FERT"),"ERTs",IF(OR('full menu'!D12="FCMT",'full menu'!D12="FMT",'full menu'!D12="LMT",'full menu'!D12="LCMT"),"MTs",IF(OR('full menu'!D12="LCIT",'full menu'!D12="FCIT",'full menu'!D12="LIT",'full menu'!D12="FIT"),"ITs",IF(OR('full menu'!D12="MwERT", 'full menu'!D12="ERwMT", 'full menu'!D12="M&ERT", 'full menu'!D12="MwIT", 'full menu'!D12="IwMT", 'full menu'!D12="M&IT", 'full menu'!D12="IwERT", 'full menu'!D12="ERwIT", 'full menu'!D12="I&ERT", 'full menu'!D12="ER&M&IT"),"MixedTs",IF('full menu'!D12="UD","UD",IF('full menu'!D12="LSD","LSD",IF('full menu'!D12="WSD","WSD",IF('full menu'!D12="UASC","UASC","")))))))))) -> ERfix | E12: =IF('full menu'!E12="MDC","MDC",IF(OR('full menu'!E12="PERF",'full menu'!E12="AERF",'full menu'!E12="PCB"),"ERfix",IF(OR('full menu'!E12="ACB", 'full menu'!E12="LCERT", 'full menu'!E12="LERT",'full menu'!E12="FCERT",'full menu'!E12="FERT"),"ERTs",IF(OR('full menu'!E12="FCMT",'full menu'!E12="FMT",'full menu'!E12="LMT",'full menu'!E12="LCMT"),"MTs",IF(OR('full menu'!E12="LCIT",'full menu'!E12="FCIT",'full menu'!E12="LIT",'full menu'!E12="FIT"),"ITs",IF(OR('full menu'!E12="MwERT", 'full menu'!E12="ERwMT", 'full menu'!E12="M&ERT", 'full menu'!E12="MwIT", 'full menu'!E12="IwMT", 'full menu'!E12="M&IT", 'full menu'!E12="IwERT", 'full menu'!E12="ERwIT", 'full menu'!E12="I&ERT", 'full menu'!E12="ER&M&IT"),"MixedTs",IF('full menu'!E12="UD","UD",IF('full menu'!E12="LSD","LSD",IF('full menu'!E12="WSD","WSD",IF('full menu'!E12="UASC","UASC","")))))))))) -> ERfix | F12: =IF('full menu'!F12="MDC","MDC",IF(OR('full menu'!F12="PERF",'full menu'!F12="AERF",'full menu'!F12="PCB"),"ERfix",IF(OR('full menu'!F12="ACB", 'full menu'!F12="LCERT", 'full menu'!F12="LERT",'full menu'!F12="FCERT",'full menu'!F12="FERT"),"ERTs",IF(OR('full menu'!F12="FCMT",'full menu'!F12="FMT",'full menu'!F12="LMT",'full menu'!F12="LCMT"),"MTs",IF(OR('full menu'!F12="LCIT",'full menu'!F12="FCIT",'full menu'!F12="LIT",'full menu'!F12="FIT"),"ITs",IF(OR('full menu'!F12="MwERT", 'full menu'!F12="ERwMT", 'full menu'!F12="M&ERT", 'full menu'!F12="MwIT", 'full menu'!F12="IwMT", 'full menu'!F12="M&IT", 'full menu'!F12="IwERT", 'full menu'!F12="ERwIT", 'full menu'!F12="I&ERT", 'full menu'!F12="ER&M&IT"),"MixedTs",IF('full menu'!F12="UD","UD",IF('full menu'!F12="LSD","LSD",IF('full menu'!F12="WSD","WSD",IF('full menu'!F12="UASC","UASC","")))))))))) -> ERfix | G12: =IF('full menu'!G12="MDC","MDC",IF(OR('full menu'!G12="PERF",'full menu'!G12="AERF",'full menu'!G12="PCB"),"ERfix",IF(OR('full menu'!G12="ACB", 'full menu'!G12="LCERT", 'full menu'!G12="LERT",'full menu'!G12="FCERT",'full menu'!G12="FERT"),"ERTs",IF(OR('full menu'!G12="FCMT",'full menu'!G12="FMT",'full menu'!G12="LMT",'full menu'!G12="LCMT"),"MTs",IF(OR('full menu'!G12="LCIT",'full menu'!G12="FCIT",'full menu'!G12="LIT",'full menu'!G12="FIT"),"ITs",IF(OR('full menu'!G12="MwERT", 'full menu'!G12="ERwMT", 'full menu'!G12="M&ERT", 'full menu'!G12="MwIT", 'full menu'!G12="IwMT", 'full menu'!G12="M&IT", 'full menu'!G12="IwERT", 'full menu'!G12="ERwIT", 'full menu'!G12="I&ERT", 'full menu'!G12="ER&M&IT"),"MixedTs",IF('full menu'!G12="UD","UD",IF('full menu'!G12="LSD","LSD",IF('full menu'!G12="WSD","WSD",IF('full menu'!G12="UASC","UASC","")))))))))) -> ERfix | H12: =IF('full menu'!H12="MDC","MDC",IF(OR('full menu'!H12="PERF",'full menu'!H12="AERF",'full menu'!H12="PCB"),"ERfix",IF(OR('full menu'!H12="ACB", 'full menu'!H12="LCERT", 'full menu'!H12="LERT",'full menu'!H12="FCERT",'full menu'!H12="FERT"),"ERTs",IF(OR('full menu'!H12="FCMT",'full menu'!H12="FMT",'full menu'!H12="LMT",'full menu'!H12="LCMT"),"MTs",IF(OR('full menu'!H12="LCIT",'full menu'!H12="FCIT",'full menu'!H12="LIT",'full menu'!H12="FIT"),"ITs",IF(OR('full menu'!H12="MwERT", 'full menu'!H12="ERwMT", 'full menu'!H12="M&ERT", 'full menu'!H12="MwIT", 'full menu'!H12="IwMT", 'full menu'!H12="M&IT", 'full menu'!H12="IwERT", 'full menu'!H12="ERwIT", 'full menu'!H12="I&ERT", 'full menu'!H12="ER&M&IT"),"MixedTs",IF('full menu'!H12="UD","UD",IF('full menu'!H12="LSD","LSD",IF('full menu'!H12="WSD","WSD",IF('full menu'!H12="UASC","UASC","")))))))))) -> ERfix | I12: =IF('full menu'!I12="MDC","MDC",IF(OR('full menu'!I12="PERF",'full menu'!I12="AERF",'full menu'!I12="PCB"),"ERfix",IF(OR('full menu'!I12="ACB", 'full menu'!I12="LCERT", 'full menu'!I12="LERT",'full menu'!I12="FCERT",'full menu'!I12="FERT"),"ERTs",IF(OR('full menu'!I12="FCMT",'full menu'!I12="FMT",'full menu'!I12="LMT",'full menu'!I12="LCMT"),"MTs",IF(OR('full menu'!I12="LCIT",'full menu'!I12="FCIT",'full menu'!I12="LIT",'full menu'!I12="FIT"),"ITs",IF(OR('full menu'!I12="MwERT", 'full menu'!I12="ERwMT", 'full menu'!I12="M&ERT", 'full menu'!I12="MwIT", 'full menu'!I12="IwMT", 'full menu'!I12="M&IT", 'full menu'!I12="IwERT", 'full menu'!I12="ERwIT", 'full menu'!I12="I&ERT", 'full menu'!I12="ER&M&IT"),"MixedTs",IF('full menu'!I12="UD","UD",IF('full menu'!I12="LSD","LSD",IF('full menu'!I12="WSD","WSD",IF('full menu'!I12="UASC","UASC","")))))))))) -> ERfix | ... AY12: =IF('full menu'!AY12="MDC","MDC",IF(OR('full menu'!AY12="PERF",'full menu'!AY12="AERF",'full menu'!AY12="PCB"),"ERfix",IF(OR('full menu'!AY12="ACB", 'full menu'!AY12="LCERT", 'full menu'!AY12="LERT",'full menu'!AY12="FCERT",'full menu'!AY12="FERT"),"ERTs",IF(OR('full menu'!AY12="FCMT",'full menu'!AY12="FMT",'full menu'!AY12="LMT",'full menu'!AY12="LCMT"),"MTs",IF(OR('full menu'!AY12="LCIT",'full menu'!AY12="FCIT",'full menu'!AY12="LIT",'full menu'!AY12="FIT"),"ITs",IF(OR('full menu'!AY12="MwERT", 'full menu'!AY12="ERwMT", 'full menu'!AY12="M&ERT", 'full menu'!AY12="MwIT", 'full menu'!AY12="IwMT", 'full menu'!AY12="M&IT", 'full menu'!AY12="IwERT", 'full menu'!AY12="ERwIT", 'full menu'!AY12="I&ERT", 'full menu'!AY12="ER&M&IT"),"MixedTs",IF('full menu'!AY12="UD","UD",IF('full menu'!AY12="LSD","LSD",IF('full menu'!AY12="WSD","WSD",IF('full menu'!AY12="UASC","UASC","")))))))))) -> ERTs
A13: Bangladesh | B13: =IF('full menu'!B13="MDC","MDC",IF(OR('full menu'!B13="PERF",'full menu'!B13="AERF",'full menu'!B13="PCB"),"ERfix",IF(OR('full menu'!B13="ACB", 'full menu'!B13="LCERT", 'full menu'!B13="LERT",'full menu'!B13="FCERT",'full menu'!B13="FERT"),"ERTs",IF(OR('full menu'!B13="FCMT",'full menu'!B13="FMT",'full menu'!B13="LMT",'full menu'!B13="LCMT"),"MTs",IF(OR('full menu'!B13="LCIT",'full menu'!B13="FCIT",'full menu'!B13="LIT",'full menu'!B13="FIT"),"ITs",IF(OR('full menu'!B13="MwERT", 'full menu'!B13="ERwMT", 'full menu'!B13="M&ERT", 'full menu'!B13="MwIT", 'full menu'!B13="IwMT", 'full menu'!B13="M&IT", 'full menu'!B13="IwERT", 'full menu'!B13="ERwIT", 'full menu'!B13="I&ERT", 'full menu'!B13="ER&M&IT"),"MixedTs",IF('full menu'!B13="UD","UD",IF('full menu'!B13="LSD","LSD",IF('full menu'!B13="WSD","WSD",IF('full menu'!B13="UASC","UASC","")))))))))) -> ERfix | C13: =IF('full menu'!C13="MDC","MDC",IF(OR('full menu'!C13="PERF",'full menu'!C13="AERF",'full menu'!C13="PCB"),"ERfix",IF(OR('full menu'!C13="ACB", 'full menu'!C13="LCERT", 'full menu'!C13="LERT",'full menu'!C13="FCERT",'full menu'!C13="FERT"),"ERTs",IF(OR('full menu'!C13="FCMT",'full menu'!C13="FMT",'full menu'!C13="LMT",'full menu'!C13="LCMT"),"MTs",IF(OR('full menu'!C13="LCIT",'full menu'!C13="FCIT",'full menu'!C13="LIT",'full menu'!C13="FIT"),"ITs",IF(OR('full menu'!C13="MwERT", 'full menu'!C13="ERwMT", 'full menu'!C13="M&ERT", 'full menu'!C13="MwIT", 'full menu'!C13="IwMT", 'full menu'!C13="M&IT", 'full menu'!C13="IwERT", 'full menu'!C13="ERwIT", 'full menu'!C13="I&ERT", 'full menu'!C13="ER&M&IT"),"MixedTs",IF('full menu'!C13="UD","UD",IF('full menu'!C13="LSD","LSD",IF('full menu'!C13="WSD","WSD",IF('full menu'!C13="UASC","UASC","")))))))))) -> LSD | D13: =IF('full menu'!D13="MDC","MDC",IF(OR('full menu'!D13="PERF",'full menu'!D13="AERF",'full menu'!D13="PCB"),"ERfix",IF(OR('full menu'!D13="ACB", 'full menu'!D13="LCERT", 'full menu'!D13="LERT",'full menu'!D13="FCERT",'full menu'!D13="FERT"),"ERTs",IF(OR('full menu'!D13="FCMT",'full menu'!D13="FMT",'full menu'!D13="LMT",'full menu'!D13="LCMT"),"MTs",IF(OR('full menu'!D13="LCIT",'full menu'!D13="FCIT",'full menu'!D13="LIT",'full menu'!D13="FIT"),"ITs",IF(OR('full menu'!D13="MwERT", 'full menu'!D13="ERwMT", 'full menu'!D13="M&ERT", 'full menu'!D13="MwIT", 'full menu'!D13="IwMT", 'full menu'!D13="M&IT", 'full menu'!D13="IwERT", 'full menu'!D13="ERwIT", 'full menu'!D13="I&ERT", 'full menu'!D13="ER&M&IT"),"MixedTs",IF('full menu'!D13="UD","UD",IF('full menu'!D13="LSD","LSD",IF('full menu'!D13="WSD","WSD",IF('full menu'!D13="UASC","UASC","")))))))))) -> LSD | E13: =IF('full menu'!E13="MDC","MDC",IF(OR('full menu'!E13="PERF",'full menu'!E13="AERF",'full menu'!E13="PCB"),"ERfix",IF(OR('full menu'!E13="ACB", 'full menu'!E13="LCERT", 'full menu'!E13="LERT",'full menu'!E13="FCERT",'full menu'!E13="FERT"),"ERTs",IF(OR('full menu'!E13="FCMT",'full menu'!E13="FMT",'full menu'!E13="LMT",'full menu'!E13="LCMT"),"MTs",IF(OR('full menu'!E13="LCIT",'full menu'!E13="FCIT",'full menu'!E13="LIT",'full menu'!E13="FIT"),"ITs",IF(OR('full menu'!E13="MwERT", 'full menu'!E13="ERwMT", 'full menu'!E13="M&ERT", 'full menu'!E13="MwIT", 'full menu'!E13="IwMT", 'full menu'!E13="M&IT", 'full menu'!E13="IwERT", 'full menu'!E13="ERwIT", 'full menu'!E13="I&ERT", 'full menu'!E13="ER&M&IT"),"MixedTs",IF('full menu'!E13="UD","UD",IF('full menu'!E13="LSD","LSD",IF('full menu'!E13="WSD","WSD",IF('full menu'!E13="UASC","UASC","")))))))))) -> LSD | F13: =IF('full menu'!F13="MDC","MDC",IF(OR('full menu'!F13="PERF",'full menu'!F13="AERF",'full menu'!F13="PCB"),"ERfix",IF(OR('full menu'!F13="ACB", 'full menu'!F13="LCERT", 'full menu'!F13="LERT",'full menu'!F13="FCERT",'full menu'!F13="FERT"),"ERTs",IF(OR('full menu'!F13="FCMT",'full menu'!F13="FMT",'full menu'!F13="LMT",'full menu'!F13="LCMT"),"MTs",IF(OR('full menu'!F13="LCIT",'full menu'!F13="FCIT",'full menu'!F13="LIT",'full menu'!F13="FIT"),"ITs",IF(OR('full menu'!F13="MwERT", 'full menu'!F13="ERwMT", 'full menu'!F13="M&ERT", 'full menu'!F13="MwIT", 'full menu'!F13="IwMT", 'full menu'!F13="M&IT", 'full menu'!F13="IwERT", 'full menu'!F13="ERwIT", 'full menu'!F13="I&ERT", 'full menu'!F13="ER&M&IT"),"MixedTs",IF('full menu'!F13="UD","UD",IF('full menu'!F13="LSD","LSD",IF('full menu'!F13="WSD","WSD",IF('full menu'!F13="UASC","UASC","")))))))))) -> LSD | G13: =IF('full menu'!G13="MDC","MDC",IF(OR('full menu'!G13="PERF",'full menu'!G13="AERF",'full menu'!G13="PCB"),"ERfix",IF(OR('full menu'!G13="ACB", 'full menu'!G13="LCERT", 'full menu'!G13="LERT",'full menu'!G13="FCERT",'full menu'!G13="FERT"),"ERTs",IF(OR('full menu'!G13="FCMT",'full menu'!G13="FMT",'full menu'!G13="LMT",'full menu'!G13="LCMT"),"MTs",IF(OR('full menu'!G13="LCIT",'full menu'!G13="FCIT",'full menu'!G13="LIT",'full menu'!G13="FIT"),"ITs",IF(OR('full menu'!G13="MwERT", 'full menu'!G13="ERwMT", 'full menu'!G13="M&ERT", 'full menu'!G13="MwIT", 'full menu'!G13="IwMT", 'full menu'!G13="M&IT", 'full menu'!G13="IwERT", 'full menu'!G13="ERwIT", 'full menu'!G13="I&ERT", 'full menu'!G13="ER&M&IT"),"MixedTs",IF('full menu'!G13="UD","UD",IF('full menu'!G13="LSD","LSD",IF('full menu'!G13="WSD","WSD",IF('full menu'!G13="UASC","UASC","")))))))))) -> LSD | H13: =IF('full menu'!H13="MDC","MDC",IF(OR('full menu'!H13="PERF",'full menu'!H13="AERF",'full menu'!H13="PCB"),"ERfix",IF(OR('full menu'!H13="ACB", 'full menu'!H13="LCERT", 'full menu'!H13="LERT",'full menu'!H13="FCERT",'full menu'!H13="FERT"),"ERTs",IF(OR('full menu'!H13="FCMT",'full menu'!H13="FMT",'full menu'!H13="LMT",'full menu'!H13="LCMT"),"MTs",IF(OR('full menu'!H13="LCIT",'full menu'!H13="FCIT",'full menu'!H13="LIT",'full menu'!H13="FIT"),"ITs",IF(OR('full menu'!H13="MwERT", 'full menu'!H13="ERwMT", 'full menu'!H13="M&ERT", 'full menu'!H13="MwIT", 'full menu'!H13="IwMT", 'full menu'!H13="M&IT", 'full menu'!H13="IwERT", 'full menu'!H13="ERwIT", 'full menu'!H13="I&ERT", 'full menu'!H13="ER&M&IT"),"MixedTs",IF('full menu'!H13="UD","UD",IF('full menu'!H13="LSD","LSD",IF('full menu'!H13="WSD","WSD",IF('full menu'!H13="UASC","UASC","")))))))))) -> LSD | I13: =IF('full menu'!I13="MDC","MDC",IF(OR('full menu'!I13="PERF",'full menu'!I13="AERF",'full menu'!I13="PCB"),"ERfix",IF(OR('full menu'!I13="ACB", 'full menu'!I13="LCERT", 'full menu'!I13="LERT",'full menu'!I13="FCERT",'full menu'!I13="FERT"),"ERTs",IF(OR('full menu'!I13="FCMT",'full menu'!I13="FMT",'full menu'!I13="LMT",'full menu'!I13="LCMT"),"MTs",IF(OR('full menu'!I13="LCIT",'full menu'!I13="FCIT",'full menu'!I13="LIT",'full menu'!I13="FIT"),"ITs",IF(OR('full menu'!I13="MwERT", 'full menu'!I13="ERwMT", 'full menu'!I13="M&ERT", 'full menu'!I13="MwIT", 'full menu'!I13="IwMT", 'full menu'!I13="M&IT", 'full menu'!I13="IwERT", 'full menu'!I13="ERwIT", 'full menu'!I13="I&ERT", 'full menu'!I13="ER&M&IT"),"MixedTs",IF('full menu'!I13="UD","UD",IF('full menu'!I13="LSD","LSD",IF('full menu'!I13="WSD","WSD",IF('full menu'!I13="UASC","UASC","")))))))))) -> LSD | ... AY13: =IF('full menu'!AY13="MDC","MDC",IF(OR('full menu'!AY13="PERF",'full menu'!AY13="AERF",'full menu'!AY13="PCB"),"ERfix",IF(OR('full menu'!AY13="ACB", 'full menu'!AY13="LCERT", 'full menu'!AY13="LERT",'full menu'!AY13="FCERT",'full menu'!AY13="FERT"),"ERTs",IF(OR('full menu'!AY13="FCMT",'full menu'!AY13="FMT",'full menu'!AY13="LMT",'full menu'!AY13="LCMT"),"MTs",IF(OR('full menu'!AY13="LCIT",'full menu'!AY13="FCIT",'full menu'!AY13="LIT",'full menu'!AY13="FIT"),"ITs",IF(OR('full menu'!AY13="MwERT", 'full menu'!AY13="ERwMT", 'full menu'!AY13="M&ERT", 'full menu'!AY13="MwIT", 'full menu'!AY13="IwMT", 'full menu'!AY13="M&IT", 'full menu'!AY13="IwERT", 'full menu'!AY13="ERwIT", 'full menu'!AY13="I&ERT", 'full menu'!AY13="ER&M&IT"),"MixedTs",IF('full menu'!AY13="UD","UD",IF('full menu'!AY13="LSD","LSD",IF('full menu'!AY13="WSD","WSD",IF('full menu'!AY13="UASC","UASC","")))))))))) -> LSD
... A62: Finland | B62: =IF('full menu'!B62="MDC","MDC",IF(OR('full menu'!B62="PERF",'full menu'!B62="AERF",'full menu'!B62="PCB"),"ERfix",IF(OR('full menu'!B62="ACB", 'full menu'!B62="LCERT", 'full menu'!B62="LERT",'full menu'!B62="FCERT",'full menu'!B62="FERT"),"ERTs",IF(OR('full menu'!B62="FCMT",'full menu'!B62="FMT",'full menu'!B62="LMT",'full menu'!B62="LCMT"),"MTs",IF(OR('full menu'!B62="LCIT",'full menu'!B62="FCIT",'full menu'!B62="LIT",'full menu'!B62="FIT"),"ITs",IF(OR('full menu'!B62="MwERT", 'full menu'!B62="ERwMT", 'full menu'!B62="M&ERT", 'full menu'!B62="MwIT", 'full menu'!B62="IwMT", 'full menu'!B62="M&IT", 'full menu'!B62="IwERT", 'full menu'!B62="ERwIT", 'full menu'!B62="I&ERT", 'full menu'!B62="ER&M&IT"),"MixedTs",IF('full menu'!B62="UD","UD",IF('full menu'!B62="LSD","LSD",IF('full menu'!B62="WSD","WSD",IF('full menu'!B62="UASC","UASC","")))))))))) -> ERTs | C62: =IF('full menu'!C62="MDC","MDC",IF(OR('full menu'!C62="PERF",'full menu'!C62="AERF",'full menu'!C62="PCB"),"ERfix",IF(OR('full menu'!C62="ACB", 'full menu'!C62="LCERT", 'full menu'!C62="LERT",'full menu'!C62="FCERT",'full menu'!C62="FERT"),"ERTs",IF(OR('full menu'!C62="FCMT",'full menu'!C62="FMT",'full menu'!C62="LMT",'full menu'!C62="LCMT"),"MTs",IF(OR('full menu'!C62="LCIT",'full menu'!C62="FCIT",'full menu'!C62="LIT",'full menu'!C62="FIT"),"ITs",IF(OR('full menu'!C62="MwERT", 'full menu'!C62="ERwMT", 'full menu'!C62="M&ERT", 'full menu'!C62="MwIT", 'full menu'!C62="IwMT", 'full menu'!C62="M&IT", 'full menu'!C62="IwERT", 'full menu'!C62="ERwIT", 'full menu'!C62="I&ERT", 'full menu'!C62="ER&M&IT"),"MixedTs",IF('full menu'!C62="UD","UD",IF('full menu'!C62="LSD","LSD",IF('full menu'!C62="WSD","WSD",IF('full menu'!C62="UASC","UASC","")))))))))) -> ERTs | D62: =IF('full menu'!D62="MDC","MDC",IF(OR('full menu'!D62="PERF",'full menu'!D62="AERF",'full menu'!D62="PCB"),"ERfix",IF(OR('full menu'!D62="ACB", 'full menu'!D62="LCERT", 'full menu'!D62="LERT",'full menu'!D62="FCERT",'full menu'!D62="FERT"),"ERTs",IF(OR('full menu'!D62="FCMT",'full menu'!D62="FMT",'full menu'!D62="LMT",'full menu'!D62="LCMT"),"MTs",IF(OR('full menu'!D62="LCIT",'full menu'!D62="FCIT",'full menu'!D62="LIT",'full menu'!D62="FIT"),"ITs",IF(OR('full menu'!D62="MwERT", 'full menu'!D62="ERwMT", 'full menu'!D62="M&ERT", 'full menu'!D62="MwIT", 'full menu'!D62="IwMT", 'full menu'!D62="M&IT", 'full menu'!D62="IwERT", 'full menu'!D62="ERwIT", 'full menu'!D62="I&ERT", 'full menu'!D62="ER&M&IT"),"MixedTs",IF('full menu'!D62="UD","UD",IF('full menu'!D62="LSD","LSD",IF('full menu'!D62="WSD","WSD",IF('full menu'!D62="UASC","UASC","")))))))))) -> ERTs | E62: =IF('full menu'!E62="MDC","MDC",IF(OR('full menu'!E62="PERF",'full menu'!E62="AERF",'full menu'!E62="PCB"),"ERfix",IF(OR('full menu'!E62="ACB", 'full menu'!E62="LCERT", 'full menu'!E62="LERT",'full menu'!E62="FCERT",'full menu'!E62="FERT"),"ERTs",IF(OR('full menu'!E62="FCMT",'full menu'!E62="FMT",'full menu'!E62="LMT",'full menu'!E62="LCMT"),"MTs",IF(OR('full menu'!E62="LCIT",'full menu'!E62="FCIT",'full menu'!E62="LIT",'full menu'!E62="FIT"),"ITs",IF(OR('full menu'!E62="MwERT", 'full menu'!E62="ERwMT", 'full menu'!E62="M&ERT", 'full menu'!E62="MwIT", 'full menu'!E62="IwMT", 'full menu'!E62="M&IT", 'full menu'!E62="IwERT", 'full menu'!E62="ERwIT", 'full menu'!E62="I&ERT", 'full menu'!E62="ER&M&IT"),"MixedTs",IF('full menu'!E62="UD","UD",IF('full menu'!E62="LSD","LSD",IF('full menu'!E62="WSD","WSD",IF('full menu'!E62="UASC","UASC","")))))))))) -> ERTs | F62: =IF('full menu'!F62="MDC","MDC",IF(OR('full menu'!F62="PERF",'full menu'!F62="AERF",'full menu'!F62="PCB"),"ERfix",IF(OR('full menu'!F62="ACB", 'full menu'!F62="LCERT", 'full menu'!F62="LERT",'full menu'!F62="FCERT",'full menu'!F62="FERT"),"ERTs",IF(OR('full menu'!F62="FCMT",'full menu'!F62="FMT",'full menu'!F62="LMT",'full menu'!F62="LCMT"),"MTs",IF(OR('full menu'!F62="LCIT",'full menu'!F62="FCIT",'full menu'!F62="LIT",'full menu'!F62="FIT"),"ITs",IF(OR('full menu'!F62="MwERT", 'full menu'!F62="ERwMT", 'full menu'!F62="M&ERT", 'full menu'!F62="MwIT", 'full menu'!F62="IwMT", 'full menu'!F62="M&IT", 'full menu'!F62="IwERT", 'full menu'!F62="ERwIT", 'full menu'!F62="I&ERT", 'full menu'!F62="ER&M&IT"),"MixedTs",IF('full menu'!F62="UD","UD",IF('full menu'!F62="LSD","LSD",IF('full menu'!F62="WSD","WSD",IF('full menu'!F62="UASC","UASC","")))))))))) -> ERTs | G62: =IF('full menu'!G62="MDC","MDC",IF(OR('full menu'!G62="PERF",'full menu'!G62="AERF",'full menu'!G62="PCB"),"ERfix",IF(OR('full menu'!G62="ACB", 'full menu'!G62="LCERT", 'full menu'!G62="LERT",'full menu'!G62="FCERT",'full menu'!G62="FERT"),"ERTs",IF(OR('full menu'!G62="FCMT",'full menu'!G62="FMT",'full menu'!G62="LMT",'full menu'!G62="LCMT"),"MTs",IF(OR('full menu'!G62="LCIT",'full menu'!G62="FCIT",'full menu'!G62="LIT",'full menu'!G62="FIT"),"ITs",IF(OR('full menu'!G62="MwERT", 'full menu'!G62="ERwMT", 'full menu'!G62="M&ERT", 'full menu'!G62="MwIT", 'full menu'!G62="IwMT", 'full menu'!G62="M&IT", 'full menu'!G62="IwERT", 'full menu'!G62="ERwIT", 'full menu'!G62="I&ERT", 'full menu'!G62="ER&M&IT"),"MixedTs",IF('full menu'!G62="UD","UD",IF('full menu'!G62="LSD","LSD",IF('full menu'!G62="WSD","WSD",IF('full menu'!G62="UASC","UASC","")))))))))) -> ERTs | H62: =IF('full menu'!H62="MDC","MDC",IF(OR('full menu'!H62="PERF",'full menu'!H62="AERF",'full menu'!H62="PCB"),"ERfix",IF(OR('full menu'!H62="ACB", 'full menu'!H62="LCERT", 'full menu'!H62="LERT",'full menu'!H62="FCERT",'full menu'!H62="FERT"),"ERTs",IF(OR('full menu'!H62="FCMT",'full menu'!H62="FMT",'full menu'!H62="LMT",'full menu'!H62="LCMT"),"MTs",IF(OR('full menu'!H62="LCIT",'full menu'!H62="FCIT",'full menu'!H62="LIT",'full menu'!H62="FIT"),"ITs",IF(OR('full menu'!H62="MwERT", 'full menu'!H62="ERwMT", 'full menu'!H62="M&ERT", 'full menu'!H62="MwIT", 'full menu'!H62="IwMT", 'full menu'!H62="M&IT", 'full menu'!H62="IwERT", 'full menu'!H62="ERwIT", 'full menu'!H62="I&ERT", 'full menu'!H62="ER&M&IT"),"MixedTs",IF('full menu'!H62="UD","UD",IF('full menu'!H62="LSD","LSD",IF('full menu'!H62="WSD","WSD",IF('full menu'!H62="UASC","UASC","")))))))))) -> ERTs | I62: =IF('full menu'!I62="MDC","MDC",IF(OR('full menu'!I62="PERF",'full menu'!I62="AERF",'full menu'!I62="PCB"),"ERfix",IF(OR('full menu'!I62="ACB", 'full menu'!I62="LCERT", 'full menu'!I62="LERT",'full menu'!I62="FCERT",'full menu'!I62="FERT"),"ERTs",IF(OR('full menu'!I62="FCMT",'full menu'!I62="FMT",'full menu'!I62="LMT",'full menu'!I62="LCMT"),"MTs",IF(OR('full menu'!I62="LCIT",'full menu'!I62="FCIT",'full menu'!I62="LIT",'full menu'!I62="FIT"),"ITs",IF(OR('full menu'!I62="MwERT", 'full menu'!I62="ERwMT", 'full menu'!I62="M&ERT", 'full menu'!I62="MwIT", 'full menu'!I62="IwMT", 'full menu'!I62="M&IT", 'full menu'!I62="IwERT", 'full menu'!I62="ERwIT", 'full menu'!I62="I&ERT", 'full menu'!I62="ER&M&IT"),"MixedTs",IF('full menu'!I62="UD","UD",IF('full menu'!I62="LSD","LSD",IF('full menu'!I62="WSD","WSD",IF('full menu'!I62="UASC","UASC","")))))))))) -> ERTs | ... AY62: =IF('full menu'!AY62="MDC","MDC",IF(OR('full menu'!AY62="PERF",'full menu'!AY62="AERF",'full menu'!AY62="PCB"),"ERfix",IF(OR('full menu'!AY62="ACB", 'full menu'!AY62="LCERT", 'full menu'!AY62="LERT",'full menu'!AY62="FCERT",'full menu'!AY62="FERT"),"ERTs",IF(OR('full menu'!AY62="FCMT",'full menu'!AY62="FMT",'full menu'!AY62="LMT",'full menu'!AY62="LCMT"),"MTs",IF(OR('full menu'!AY62="LCIT",'full menu'!AY62="FCIT",'full menu'!AY62="LIT",'full menu'!AY62="FIT"),"ITs",IF(OR('full menu'!AY62="MwERT", 'full menu'!AY62="ERwMT", 'full menu'!AY62="M&ERT", 'full menu'!AY62="MwIT", 'full menu'!AY62="IwMT", 'full menu'!AY62="M&IT", 'full menu'!AY62="IwERT", 'full menu'!AY62="ERwIT", 'full menu'!AY62="I&ERT", 'full menu'!AY62="ER&M&IT"),"MixedTs",IF('full menu'!AY62="UD","UD",IF('full menu'!AY62="LSD","LSD",IF('full menu'!AY62="WSD","WSD",IF('full menu'!AY62="UASC","UASC",""))))))))))
A63: France | B63: =IF('full menu'!B63="MDC","MDC",IF(OR('full menu'!B63="PERF",'full menu'!B63="AERF",'full menu'!B63="PCB"),"ERfix",IF(OR('full menu'!B63="ACB", 'full menu'!B63="LCERT", 'full menu'!B63="LERT",'full menu'!B63="FCERT",'full menu'!B63="FERT"),"ERTs",IF(OR('full menu'!B63="FCMT",'full menu'!B63="FMT",'full menu'!B63="LMT",'full menu'!B63="LCMT"),"MTs",IF(OR('full menu'!B63="LCIT",'full menu'!B63="FCIT",'full menu'!B63="LIT",'full menu'!B63="FIT"),"ITs",IF(OR('full menu'!B63="MwERT", 'full menu'!B63="ERwMT", 'full menu'!B63="M&ERT", 'full menu'!B63="MwIT", 'full menu'!B63="IwMT", 'full menu'!B63="M&IT", 'full menu'!B63="IwERT", 'full menu'!B63="ERwIT", 'full menu'!B63="I&ERT", 'full menu'!B63="ER&M&IT"),"MixedTs",IF('full menu'!B63="UD","UD",IF('full menu'!B63="LSD","LSD",IF('full menu'!B63="WSD","WSD",IF('full menu'!B63="UASC","UASC","")))))))))) -> LSD | C63: =IF('full menu'!C63="MDC","MDC",IF(OR('full menu'!C63="PERF",'full menu'!C63="AERF",'full menu'!C63="PCB"),"ERfix",IF(OR('full menu'!C63="ACB", 'full menu'!C63="LCERT", 'full menu'!C63="LERT",'full menu'!C63="FCERT",'full menu'!C63="FERT"),"ERTs",IF(OR('full menu'!C63="FCMT",'full menu'!C63="FMT",'full menu'!C63="LMT",'full menu'!C63="LCMT"),"MTs",IF(OR('full menu'!C63="LCIT",'full menu'!C63="FCIT",'full menu'!C63="LIT",'full menu'!C63="FIT"),"ITs",IF(OR('full menu'!C63="MwERT", 'full menu'!C63="ERwMT", 'full menu'!C63="M&ERT", 'full menu'!C63="MwIT", 'full menu'!C63="IwMT", 'full menu'!C63="M&IT", 'full menu'!C63="IwERT", 'full menu'!C63="ERwIT", 'full menu'!C63="I&ERT", 'full menu'!C63="ER&M&IT"),"MixedTs",IF('full menu'!C63="UD","UD",IF('full menu'!C63="LSD","LSD",IF('full menu'!C63="WSD","WSD",IF('full menu'!C63="UASC","UASC","")))))))))) -> LSD | D63: =IF('full menu'!D63="MDC","MDC",IF(OR('full menu'!D63="PERF",'full menu'!D63="AERF",'full menu'!D63="PCB"),"ERfix",IF(OR('full menu'!D63="ACB", 'full menu'!D63="LCERT", 'full menu'!D63="LERT",'full menu'!D63="FCERT",'full menu'!D63="FERT"),"ERTs",IF(OR('full menu'!D63="FCMT",'full menu'!D63="FMT",'full menu'!D63="LMT",'full menu'!D63="LCMT"),"MTs",IF(OR('full menu'!D63="LCIT",'full menu'!D63="FCIT",'full menu'!D63="LIT",'full menu'!D63="FIT"),"ITs",IF(OR('full menu'!D63="MwERT", 'full menu'!D63="ERwMT", 'full menu'!D63="M&ERT", 'full menu'!D63="MwIT", 'full menu'!D63="IwMT", 'full menu'!D63="M&IT", 'full menu'!D63="IwERT", 'full menu'!D63="ERwIT", 'full menu'!D63="I&ERT", 'full menu'!D63="ER&M&IT"),"MixedTs",IF('full menu'!D63="UD","UD",IF('full menu'!D63="LSD","LSD",IF('full menu'!D63="WSD","WSD",IF('full menu'!D63="UASC","UASC","")))))))))) -> LSD | E63: =IF('full menu'!E63="MDC","MDC",IF(OR('full menu'!E63="PERF",'full menu'!E63="AERF",'full menu'!E63="PCB"),"ERfix",IF(OR('full menu'!E63="ACB", 'full menu'!E63="LCERT", 'full menu'!E63="LERT",'full menu'!E63="FCERT",'full menu'!E63="FERT"),"ERTs",IF(OR('full menu'!E63="FCMT",'full menu'!E63="FMT",'full menu'!E63="LMT",'full menu'!E63="LCMT"),"MTs",IF(OR('full menu'!E63="LCIT",'full menu'!E63="FCIT",'full menu'!E63="LIT",'full menu'!E63="FIT"),"ITs",IF(OR('full menu'!E63="MwERT", 'full menu'!E63="ERwMT", 'full menu'!E63="M&ERT", 'full menu'!E63="MwIT", 'full menu'!E63="IwMT", 'full menu'!E63="M&IT", 'full menu'!E63="IwERT", 'full menu'!E63="ERwIT", 'full menu'!E63="I&ERT", 'full menu'!E63="ER&M&IT"),"MixedTs",IF('full menu'!E63="UD","UD",IF('full menu'!E63="LSD","LSD",IF('full menu'!E63="WSD","WSD",IF('full menu'!E63="UASC","UASC","")))))))))) -> MixedTs | F63: =IF('full menu'!F63="MDC","MDC",IF(OR('full menu'!F63="PERF",'full menu'!F63="AERF",'full menu'!F63="PCB"),"ERfix",IF(OR('full menu'!F63="ACB", 'full menu'!F63="LCERT", 'full menu'!F63="LERT",'full menu'!F63="FCERT",'full menu'!F63="FERT"),"ERTs",IF(OR('full menu'!F63="FCMT",'full menu'!F63="FMT",'full menu'!F63="LMT",'full menu'!F63="LCMT"),"MTs",IF(OR('full menu'!F63="LCIT",'full menu'!F63="FCIT",'full menu'!F63="LIT",'full menu'!F63="FIT"),"ITs",IF(OR('full menu'!F63="MwERT", 'full menu'!F63="ERwMT", 'full menu'!F63="M&ERT", 'full menu'!F63="MwIT", 'full menu'!F63="IwMT", 'full menu'!F63="M&IT", 'full menu'!F63="IwERT", 'full menu'!F63="ERwIT", 'full menu'!F63="I&ERT", 'full menu'!F63="ER&M&IT"),"MixedTs",IF('full menu'!F63="UD","UD",IF('full menu'!F63="LSD","LSD",IF('full menu'!F63="WSD","WSD",IF('full menu'!F63="UASC","UASC","")))))))))) -> MixedTs | G63: =IF('full menu'!G63="MDC","MDC",IF(OR('full menu'!G63="PERF",'full menu'!G63="AERF",'full menu'!G63="PCB"),"ERfix",IF(OR('full menu'!G63="ACB", 'full menu'!G63="LCERT", 'full menu'!G63="LERT",'full menu'!G63="FCERT",'full menu'!G63="FERT"),"ERTs",IF(OR('full menu'!G63="FCMT",'full menu'!G63="FMT",'full menu'!G63="LMT",'full menu'!G63="LCMT"),"MTs",IF(OR('full menu'!G63="LCIT",'full menu'!G63="FCIT",'full menu'!G63="LIT",'full menu'!G63="FIT"),"ITs",IF(OR('full menu'!G63="MwERT", 'full menu'!G63="ERwMT", 'full menu'!G63="M&ERT", 'full menu'!G63="MwIT", 'full menu'!G63="IwMT", 'full menu'!G63="M&IT", 'full menu'!G63="IwERT", 'full menu'!G63="ERwIT", 'full menu'!G63="I&ERT", 'full menu'!G63="ER&M&IT"),"MixedTs",IF('full menu'!G63="UD","UD",IF('full menu'!G63="LSD","LSD",IF('full menu'!G63="WSD","WSD",IF('full menu'!G63="UASC","UASC","")))))))))) -> MixedTs | H63: =IF('full menu'!H63="MDC","MDC",IF(OR('full menu'!H63="PERF",'full menu'!H63="AERF",'full menu'!H63="PCB"),"ERfix",IF(OR('full menu'!H63="ACB", 'full menu'!H63="LCERT", 'full menu'!H63="LERT",'full menu'!H63="FCERT",'full menu'!H63="FERT"),"ERTs",IF(OR('full menu'!H63="FCMT",'full menu'!H63="FMT",'full menu'!H63="LMT",'full menu'!H63="LCMT"),"MTs",IF(OR('full menu'!H63="LCIT",'full menu'!H63="FCIT",'full menu'!H63="LIT",'full menu'!H63="FIT"),"ITs",IF(OR('full menu'!H63="MwERT", 'full menu'!H63="ERwMT", 'full menu'!H63="M&ERT", 'full menu'!H63="MwIT", 'full menu'!H63="IwMT", 'full menu'!H63="M&IT", 'full menu'!H63="IwERT", 'full menu'!H63="ERwIT", 'full menu'!H63="I&ERT", 'full menu'!H63="ER&M&IT"),"MixedTs",IF('full menu'!H63="UD","UD",IF('full menu'!H63="LSD","LSD",IF('full menu'!H63="WSD","WSD",IF('full menu'!H63="UASC","UASC","")))))))))) -> MixedTs | I63: =IF('full menu'!I63="MDC","MDC",IF(OR('full menu'!I63="PERF",'full menu'!I63="AERF",'full menu'!I63="PCB"),"ERfix",IF(OR('full menu'!I63="ACB", 'full menu'!I63="LCERT", 'full menu'!I63="LERT",'full menu'!I63="FCERT",'full menu'!I63="FERT"),"ERTs",IF(OR('full menu'!I63="FCMT",'full menu'!I63="FMT",'full menu'!I63="LMT",'full menu'!I63="LCMT"),"MTs",IF(OR('full menu'!I63="LCIT",'full menu'!I63="FCIT",'full menu'!I63="LIT",'full menu'!I63="FIT"),"ITs",IF(OR('full menu'!I63="MwERT", 'full menu'!I63="ERwMT", 'full menu'!I63="M&ERT", 'full menu'!I63="MwIT", 'full menu'!I63="IwMT", 'full menu'!I63="M&IT", 'full menu'!I63="IwERT", 'full menu'!I63="ERwIT", 'full menu'!I63="I&ERT", 'full menu'!I63="ER&M&IT"),"MixedTs",IF('full menu'!I63="UD","UD",IF('full menu'!I63="LSD","LSD",IF('full menu'!I63="WSD","WSD",IF('full menu'!I63="UASC","UASC","")))))))))) -> MixedTs | ... AS63: =IF('full menu'!AS63="MDC","MDC",IF(OR('full menu'!AS63="PERF",'full menu'!AS63="AERF",'full menu'!AS63="PCB"),"ERfix",IF(OR('full menu'!AS63="ACB", 'full menu'!AS63="LCERT", 'full menu'!AS63="LERT",'full menu'!AS63="FCERT",'full menu'!AS63="FERT"),"ERTs",IF(OR('full menu'!AS63="FCMT",'full menu'!AS63="FMT",'full menu'!AS63="LMT",'full menu'!AS63="LCMT"),"MTs",IF(OR('full menu'!AS63="LCIT",'full menu'!AS63="FCIT",'full menu'!AS63="LIT",'full menu'!AS63="FIT"),"ITs",IF(OR('full menu'!AS63="MwERT", 'full menu'!AS63="ERwMT", 'full menu'!AS63="M&ERT", 'full menu'!AS63="MwIT", 'full menu'!AS63="IwMT", 'full menu'!AS63="M&IT", 'full menu'!AS63="IwERT", 'full menu'!AS63="ERwIT", 'full menu'!AS63="I&ERT", 'full menu'!AS63="ER&M&IT"),"MixedTs",IF('full menu'!AS63="UD","UD",IF('full menu'!AS63="LSD","LSD",IF('full menu'!AS63="WSD","WSD",IF('full menu'!AS63="UASC","UASC",""))))))))))
A64: Gabon | B64: =IF('full menu'!B64="MDC","MDC",IF(OR('full menu'!B64="PERF",'full menu'!B64="AERF",'full menu'!B64="PCB"),"ERfix",IF(OR('full menu'!B64="ACB", 'full menu'!B64="LCERT", 'full menu'!B64="LERT",'full menu'!B64="FCERT",'full menu'!B64="FERT"),"ERTs",IF(OR('full menu'!B64="FCMT",'full menu'!B64="FMT",'full menu'!B64="LMT",'full menu'!B64="LCMT"),"MTs",IF(OR('full menu'!B64="LCIT",'full menu'!B64="FCIT",'full menu'!B64="LIT",'full menu'!B64="FIT"),"ITs",IF(OR('full menu'!B64="MwERT", 'full menu'!B64="ERwMT", 'full menu'!B64="M&ERT", 'full menu'!B64="MwIT", 'full menu'!B64="IwMT", 'full menu'!B64="M&IT", 'full menu'!B64="IwERT", 'full menu'!B64="ERwIT", 'full menu'!B64="I&ERT", 'full menu'!B64="ER&M&IT"),"MixedTs",IF('full menu'!B64="UD","UD",IF('full menu'!B64="LSD","LSD",IF('full menu'!B64="WSD","WSD",IF('full menu'!B64="UASC","UASC","")))))))))) | C64: =IF('full menu'!C64="MDC","MDC",IF(OR('full menu'!C64="PERF",'full menu'!C64="AERF",'full menu'!C64="PCB"),"ERfix",IF(OR('full menu'!C64="ACB", 'full menu'!C64="LCERT", 'full menu'!C64="LERT",'full menu'!C64="FCERT",'full menu'!C64="FERT"),"ERTs",IF(OR('full menu'!C64="FCMT",'full menu'!C64="FMT",'full menu'!C64="LMT",'full menu'!C64="LCMT"),"MTs",IF(OR('full menu'!C64="LCIT",'full menu'!C64="FCIT",'full menu'!C64="LIT",'full menu'!C64="FIT"),"ITs",IF(OR('full menu'!C64="MwERT", 'full menu'!C64="ERwMT", 'full menu'!C64="M&ERT", 'full menu'!C64="MwIT", 'full menu'!C64="IwMT", 'full menu'!C64="M&IT", 'full menu'!C64="IwERT", 'full menu'!C64="ERwIT", 'full menu'!C64="I&ERT", 'full menu'!C64="ER&M&IT"),"MixedTs",IF('full menu'!C64="UD","UD",IF('full menu'!C64="LSD","LSD",IF('full menu'!C64="WSD","WSD",IF('full menu'!C64="UASC","UASC","")))))))))) | D64: =IF('full menu'!D64="MDC","MDC",IF(OR('full menu'!D64="PERF",'full menu'!D64="AERF",'full menu'!D64="PCB"),"ERfix",IF(OR('full menu'!D64="ACB", 'full menu'!D64="LCERT", 'full menu'!D64="LERT",'full menu'!D64="FCERT",'full menu'!D64="FERT"),"ERTs",IF(OR('full menu'!D64="FCMT",'full menu'!D64="FMT",'full menu'!D64="LMT",'full menu'!D64="LCMT"),"MTs",IF(OR('full menu'!D64="LCIT",'full menu'!D64="FCIT",'full menu'!D64="LIT",'full menu'!D64="FIT"),"ITs",IF(OR('full menu'!D64="MwERT", 'full menu'!D64="ERwMT", 'full menu'!D64="M&ERT", 'full menu'!D64="MwIT", 'full menu'!D64="IwMT", 'full menu'!D64="M&IT", 'full menu'!D64="IwERT", 'full menu'!D64="ERwIT", 'full menu'!D64="I&ERT", 'full menu'!D64="ER&M&IT"),"MixedTs",IF('full menu'!D64="UD","UD",IF('full menu'!D64="LSD","LSD",IF('full menu'!D64="WSD","WSD",IF('full menu'!D64="UASC","UASC","")))))))))) | E64: =IF('full menu'!E64="MDC","MDC",IF(OR('full menu'!E64="PERF",'full menu'!E64="AERF",'full menu'!E64="PCB"),"ERfix",IF(OR('full menu'!E64="ACB", 'full menu'!E64="LCERT", 'full menu'!E64="LERT",'full menu'!E64="FCERT",'full menu'!E64="FERT"),"ERTs",IF(OR('full menu'!E64="FCMT",'full menu'!E64="FMT",'full menu'!E64="LMT",'full menu'!E64="LCMT"),"MTs",IF(OR('full menu'!E64="LCIT",'full menu'!E64="FCIT",'full menu'!E64="LIT",'full menu'!E64="FIT"),"ITs",IF(OR('full menu'!E64="MwERT", 'full menu'!E64="ERwMT", 'full menu'!E64="M&ERT", 'full menu'!E64="MwIT", 'full menu'!E64="IwMT", 'full menu'!E64="M&IT", 'full menu'!E64="IwERT", 'full menu'!E64="ERwIT", 'full menu'!E64="I&ERT", 'full menu'!E64="ER&M&IT"),"MixedTs",IF('full menu'!E64="UD","UD",IF('full menu'!E64="LSD","LSD",IF('full menu'!E64="WSD","WSD",IF('full menu'!E64="UASC","UASC","")))))))))) | F64: =IF('full menu'!F64="MDC","MDC",IF(OR('full menu'!F64="PERF",'full menu'!F64="AERF",'full menu'!F64="PCB"),"ERfix",IF(OR('full menu'!F64="ACB", 'full menu'!F64="LCERT", 'full menu'!F64="LERT",'full menu'!F64="FCERT",'full menu'!F64="FERT"),"ERTs",IF(OR('full menu'!F64="FCMT",'full menu'!F64="FMT",'full menu'!F64="LMT",'full menu'!F64="LCMT"),"MTs",IF(OR('full menu'!F64="LCIT",'full menu'!F64="FCIT",'full menu'!F64="LIT",'full menu'!F64="FIT"),"ITs",IF(OR('full menu'!F64="MwERT", 'full menu'!F64="ERwMT", 'full menu'!F64="M&ERT", 'full menu'!F64="MwIT", 'full menu'!F64="IwMT", 'full menu'!F64="M&IT", 'full menu'!F64="IwERT", 'full menu'!F64="ERwIT", 'full menu'!F64="I&ERT", 'full menu'!F64="ER&M&IT"),"MixedTs",IF('full menu'!F64="UD","UD",IF('full menu'!F64="LSD","LSD",IF('full menu'!F64="WSD","WSD",IF('full menu'!F64="UASC","UASC","")))))))))) | G64: =IF('full menu'!G64="MDC","MDC",IF(OR('full menu'!G64="PERF",'full menu'!G64="AERF",'full menu'!G64="PCB"),"ERfix",IF(OR('full menu'!G64="ACB", 'full menu'!G64="LCERT", 'full menu'!G64="LERT",'full menu'!G64="FCERT",'full menu'!G64="FERT"),"ERTs",IF(OR('full menu'!G64="FCMT",'full menu'!G64="FMT",'full menu'!G64="LMT",'full menu'!G64="LCMT"),"MTs",IF(OR('full menu'!G64="LCIT",'full menu'!G64="FCIT",'full menu'!G64="LIT",'full menu'!G64="FIT"),"ITs",IF(OR('full menu'!G64="MwERT", 'full menu'!G64="ERwMT", 'full menu'!G64="M&ERT", 'full menu'!G64="MwIT", 'full menu'!G64="IwMT", 'full menu'!G64="M&IT", 'full menu'!G64="IwERT", 'full menu'!G64="ERwIT", 'full menu'!G64="I&ERT", 'full menu'!G64="ER&M&IT"),"MixedTs",IF('full menu'!G64="UD","UD",IF('full menu'!G64="LSD","LSD",IF('full menu'!G64="WSD","WSD",IF('full menu'!G64="UASC","UASC","")))))))))) | H64: =IF('full menu'!H64="MDC","MDC",IF(OR('full menu'!H64="PERF",'full menu'!H64="AERF",'full menu'!H64="PCB"),"ERfix",IF(OR('full menu'!H64="ACB", 'full menu'!H64="LCERT", 'full menu'!H64="LERT",'full menu'!H64="FCERT",'full menu'!H64="FERT"),"ERTs",IF(OR('full menu'!H64="FCMT",'full menu'!H64="FMT",'full menu'!H64="LMT",'full menu'!H64="LCMT"),"MTs",IF(OR('full menu'!H64="LCIT",'full menu'!H64="FCIT",'full menu'!H64="LIT",'full menu'!H64="FIT"),"ITs",IF(OR('full menu'!H64="MwERT", 'full menu'!H64="ERwMT", 'full menu'!H64="M&ERT", 'full menu'!H64="MwIT", 'full menu'!H64="IwMT", 'full menu'!H64="M&IT", 'full menu'!H64="IwERT", 'full menu'!H64="ERwIT", 'full menu'!H64="I&ERT", 'full menu'!H64="ER&M&IT"),"MixedTs",IF('full menu'!H64="UD","UD",IF('full menu'!H64="LSD","LSD",IF('full menu'!H64="WSD","WSD",IF('full menu'!H64="UASC","UASC","")))))))))) | I64: =IF('full menu'!I64="MDC","MDC",IF(OR('full menu'!I64="PERF",'full menu'!I64="AERF",'full menu'!I64="PCB"),"ERfix",IF(OR('full menu'!I64="ACB", 'full menu'!I64="LCERT", 'full menu'!I64="LERT",'full menu'!I64="FCERT",'full menu'!I64="FERT"),"ERTs",IF(OR('full menu'!I64="FCMT",'full menu'!I64="FMT",'full menu'!I64="LMT",'full menu'!I64="LCMT"),"MTs",IF(OR('full menu'!I64="LCIT",'full menu'!I64="FCIT",'full menu'!I64="LIT",'full menu'!I64="FIT"),"ITs",IF(OR('full menu'!I64="MwERT", 'full menu'!I64="ERwMT", 'full menu'!I64="M&ERT", 'full menu'!I64="MwIT", 'full menu'!I64="IwMT", 'full menu'!I64="M&IT", 'full menu'!I64="IwERT", 'full menu'!I64="ERwIT", 'full menu'!I64="I&ERT", 'full menu'!I64="ER&M&IT"),"MixedTs",IF('full menu'!I64="UD","UD",IF('full menu'!I64="LSD","LSD",IF('full menu'!I64="WSD","WSD",IF('full menu'!I64="UASC","UASC","")))))))))) | ... AS64: =IF('full menu'!AS64="MDC","MDC",IF(OR('full menu'!AS64="PERF",'full menu'!AS64="AERF",'full menu'!AS64="PCB"),"ERfix",IF(OR('full menu'!AS64="ACB", 'full menu'!AS64="LCERT", 'full menu'!AS64="LERT",'full menu'!AS64="FCERT",'full menu'!AS64="FERT"),"ERTs",IF(OR('full menu'!AS64="FCMT",'full menu'!AS64="FMT",'full menu'!AS64="LMT",'full menu'!AS64="LCMT"),"MTs",IF(OR('full menu'!AS64="LCIT",'full menu'!AS64="FCIT",'full menu'!AS64="LIT",'full menu'!AS64="FIT"),"ITs",IF(OR('full menu'!AS64="MwERT", 'full menu'!AS64="ERwMT", 'full menu'!AS64="M&ERT", 'full menu'!AS64="MwIT", 'full menu'!AS64="IwMT", 'full menu'!AS64="M&IT", 'full menu'!AS64="IwERT", 'full menu'!AS64="ERwIT", 'full menu'!AS64="I&ERT", 'full menu'!AS64="ER&M&IT"),"MixedTs",IF('full menu'!AS64="UD","UD",IF('full menu'!AS64="LSD","LSD",IF('full menu'!AS64="WSD","WSD",IF('full menu'!AS64="UASC","UASC",""))))))))))
A65: Gambia | B65: =IF('full menu'!B65="MDC","MDC",IF(OR('full menu'!B65="PERF",'full menu'!B65="AERF",'full menu'!B65="PCB"),"ERfix",IF(OR('full menu'!B65="ACB", 'full menu'!B65="LCERT", 'full menu'!B65="LERT",'full menu'!B65="FCERT",'full menu'!B65="FERT"),"ERTs",IF(OR('full menu'!B65="FCMT",'full menu'!B65="FMT",'full menu'!B65="LMT",'full menu'!B65="LCMT"),"MTs",IF(OR('full menu'!B65="LCIT",'full menu'!B65="FCIT",'full menu'!B65="LIT",'full menu'!B65="FIT"),"ITs",IF(OR('full menu'!B65="MwERT", 'full menu'!B65="ERwMT", 'full menu'!B65="M&ERT", 'full menu'!B65="MwIT", 'full menu'!B65="IwMT", 'full menu'!B65="M&IT", 'full menu'!B65="IwERT", 'full menu'!B65="ERwIT", 'full menu'!B65="I&ERT", 'full menu'!B65="ER&M&IT"),"MixedTs",IF('full menu'!B65="UD","UD",IF('full menu'!B65="LSD","LSD",IF('full menu'!B65="WSD","WSD",IF('full menu'!B65="UASC","UASC","")))))))))) -> ERfix | C65: =IF('full menu'!C65="MDC","MDC",IF(OR('full menu'!C65="PERF",'full menu'!C65="AERF",'full menu'!C65="PCB"),"ERfix",IF(OR('full menu'!C65="ACB", 'full menu'!C65="LCERT", 'full menu'!C65="LERT",'full menu'!C65="FCERT",'full menu'!C65="FERT"),"ERTs",IF(OR('full menu'!C65="FCMT",'full menu'!C65="FMT",'full menu'!C65="LMT",'full menu'!C65="LCMT"),"MTs",IF(OR('full menu'!C65="LCIT",'full menu'!C65="FCIT",'full menu'!C65="LIT",'full menu'!C65="FIT"),"ITs",IF(OR('full menu'!C65="MwERT", 'full menu'!C65="ERwMT", 'full menu'!C65="M&ERT", 'full menu'!C65="MwIT", 'full menu'!C65="IwMT", 'full menu'!C65="M&IT", 'full menu'!C65="IwERT", 'full menu'!C65="ERwIT", 'full menu'!C65="I&ERT", 'full menu'!C65="ER&M&IT"),"MixedTs",IF('full menu'!C65="UD","UD",IF('full menu'!C65="LSD","LSD",IF('full menu'!C65="WSD","WSD",IF('full menu'!C65="UASC","UASC","")))))))))) -> ERfix | D65: =IF('full menu'!D65="MDC","MDC",IF(OR('full menu'!D65="PERF",'full menu'!D65="AERF",'full menu'!D65="PCB"),"ERfix",IF(OR('full menu'!D65="ACB", 'full menu'!D65="LCERT", 'full menu'!D65="LERT",'full menu'!D65="FCERT",'full menu'!D65="FERT"),"ERTs",IF(OR('full menu'!D65="FCMT",'full menu'!D65="FMT",'full menu'!D65="LMT",'full menu'!D65="LCMT"),"MTs",IF(OR('full menu'!D65="LCIT",'full menu'!D65="FCIT",'full menu'!D65="LIT",'full menu'!D65="FIT"),"ITs",IF(OR('full menu'!D65="MwERT", 'full menu'!D65="ERwMT", 'full menu'!D65="M&ERT", 'full menu'!D65="MwIT", 'full menu'!D65="IwMT", 'full menu'!D65="M&IT", 'full menu'!D65="IwERT", 'full menu'!D65="ERwIT", 'full menu'!D65="I&ERT", 'full menu'!D65="ER&M&IT"),"MixedTs",IF('full menu'!D65="UD","UD",IF('full menu'!D65="LSD","LSD",IF('full menu'!D65="WSD","WSD",IF('full menu'!D65="UASC","UASC","")))))))))) -> ERfix | E65: =IF('full menu'!E65="MDC","MDC",IF(OR('full menu'!E65="PERF",'full menu'!E65="AERF",'full menu'!E65="PCB"),"ERfix",IF(OR('full menu'!E65="ACB", 'full menu'!E65="LCERT", 'full menu'!E65="LERT",'full menu'!E65="FCERT",'full menu'!E65="FERT"),"ERTs",IF(OR('full menu'!E65="FCMT",'full menu'!E65="FMT",'full menu'!E65="LMT",'full menu'!E65="LCMT"),"MTs",IF(OR('full menu'!E65="LCIT",'full menu'!E65="FCIT",'full menu'!E65="LIT",'full menu'!E65="FIT"),"ITs",IF(OR('full menu'!E65="MwERT", 'full menu'!E65="ERwMT", 'full menu'!E65="M&ERT", 'full menu'!E65="MwIT", 'full menu'!E65="IwMT", 'full menu'!E65="M&IT", 'full menu'!E65="IwERT", 'full menu'!E65="ERwIT", 'full menu'!E65="I&ERT", 'full menu'!E65="ER&M&IT"),"MixedTs",IF('full menu'!E65="UD","UD",IF('full menu'!E65="LSD","LSD",IF('full menu'!E65="WSD","WSD",IF('full menu'!E65="UASC","UASC","")))))))))) -> ERfix | F65: =IF('full menu'!F65="MDC","MDC",IF(OR('full menu'!F65="PERF",'full menu'!F65="AERF",'full menu'!F65="PCB"),"ERfix",IF(OR('full menu'!F65="ACB", 'full menu'!F65="LCERT", 'full menu'!F65="LERT",'full menu'!F65="FCERT",'full menu'!F65="FERT"),"ERTs",IF(OR('full menu'!F65="FCMT",'full menu'!F65="FMT",'full menu'!F65="LMT",'full menu'!F65="LCMT"),"MTs",IF(OR('full menu'!F65="LCIT",'full menu'!F65="FCIT",'full menu'!F65="LIT",'full menu'!F65="FIT"),"ITs",IF(OR('full menu'!F65="MwERT", 'full menu'!F65="ERwMT", 'full menu'!F65="M&ERT", 'full menu'!F65="MwIT", 'full menu'!F65="IwMT", 'full menu'!F65="M&IT", 'full menu'!F65="IwERT", 'full menu'!F65="ERwIT", 'full menu'!F65="I&ERT", 'full menu'!F65="ER&M&IT"),"MixedTs",IF('full menu'!F65="UD","UD",IF('full menu'!F65="LSD","LSD",IF('full menu'!F65="WSD","WSD",IF('full menu'!F65="UASC","UASC","")))))))))) -> ERfix | G65: =IF('full menu'!G65="MDC","MDC",IF(OR('full menu'!G65="PERF",'full menu'!G65="AERF",'full menu'!G65="PCB"),"ERfix",IF(OR('full menu'!G65="ACB", 'full menu'!G65="LCERT", 'full menu'!G65="LERT",'full menu'!G65="FCERT",'full menu'!G65="FERT"),"ERTs",IF(OR('full menu'!G65="FCMT",'full menu'!G65="FMT",'full menu'!G65="LMT",'full menu'!G65="LCMT"),"MTs",IF(OR('full menu'!G65="LCIT",'full menu'!G65="FCIT",'full menu'!G65="LIT",'full menu'!G65="FIT"),"ITs",IF(OR('full menu'!G65="MwERT", 'full menu'!G65="ERwMT", 'full menu'!G65="M&ERT", 'full menu'!G65="MwIT", 'full menu'!G65="IwMT", 'full menu'!G65="M&IT", 'full menu'!G65="IwERT", 'full menu'!G65="ERwIT", 'full menu'!G65="I&ERT", 'full menu'!G65="ER&M&IT"),"MixedTs",IF('full menu'!G65="UD","UD",IF('full menu'!G65="LSD","LSD",IF('full menu'!G65="WSD","WSD",IF('full menu'!G65="UASC","UASC","")))))))))) -> ERfix | H65: =IF('full menu'!H65="MDC","MDC",IF(OR('full menu'!H65="PERF",'full menu'!H65="AERF",'full menu'!H65="PCB"),"ERfix",IF(OR('full menu'!H65="ACB", 'full menu'!H65="LCERT", 'full menu'!H65="LERT",'full menu'!H65="FCERT",'full menu'!H65="FERT"),"ERTs",IF(OR('full menu'!H65="FCMT",'full menu'!H65="FMT",'full menu'!H65="LMT",'full menu'!H65="LCMT"),"MTs",IF(OR('full menu'!H65="LCIT",'full menu'!H65="FCIT",'full menu'!H65="LIT",'full menu'!H65="FIT"),"ITs",IF(OR('full menu'!H65="MwERT", 'full menu'!H65="ERwMT", 'full menu'!H65="M&ERT", 'full menu'!H65="MwIT", 'full menu'!H65="IwMT", 'full menu'!H65="M&IT", 'full menu'!H65="IwERT", 'full menu'!H65="ERwIT", 'full menu'!H65="I&ERT", 'full menu'!H65="ER&M&IT"),"MixedTs",IF('full menu'!H65="UD","UD",IF('full menu'!H65="LSD","LSD",IF('full menu'!H65="WSD","WSD",IF('full menu'!H65="UASC","UASC","")))))))))) -> ERfix | I65: =IF('full menu'!I65="MDC","MDC",IF(OR('full menu'!I65="PERF",'full menu'!I65="AERF",'full menu'!I65="PCB"),"ERfix",IF(OR('full menu'!I65="ACB", 'full menu'!I65="LCERT", 'full menu'!I65="LERT",'full menu'!I65="FCERT",'full menu'!I65="FERT"),"ERTs",IF(OR('full menu'!I65="FCMT",'full menu'!I65="FMT",'full menu'!I65="LMT",'full menu'!I65="LCMT"),"MTs",IF(OR('full menu'!I65="LCIT",'full menu'!I65="FCIT",'full menu'!I65="LIT",'full menu'!I65="FIT"),"ITs",IF(OR('full menu'!I65="MwERT", 'full menu'!I65="ERwMT", 'full menu'!I65="M&ERT", 'full menu'!I65="MwIT", 'full menu'!I65="IwMT", 'full menu'!I65="M&IT", 'full menu'!I65="IwERT", 'full menu'!I65="ERwIT", 'full menu'!I65="I&ERT", 'full menu'!I65="ER&M&IT"),"MixedTs",IF('full menu'!I65="UD","UD",IF('full menu'!I65="LSD","LSD",IF('full menu'!I65="WSD","WSD",IF('full menu'!I65="UASC","UASC","")))))))))) -> ERfix | ... AY65: =IF('full menu'!AY65="MDC","MDC",IF(OR('full menu'!AY65="PERF",'full menu'!AY65="AERF",'full menu'!AY65="PCB"),"ERfix",IF(OR('full menu'!AY65="ACB", 'full menu'!AY65="LCERT", 'full menu'!AY65="LERT",'full menu'!AY65="FCERT",'full menu'!AY65="FERT"),"ERTs",IF(OR('full menu'!AY65="FCMT",'full menu'!AY65="FMT",'full menu'!AY65="LMT",'full menu'!AY65="LCMT"),"MTs",IF(OR('full menu'!AY65="LCIT",'full menu'!AY65="FCIT",'full menu'!AY65="LIT",'full menu'!AY65="FIT"),"ITs",IF(OR('full menu'!AY65="MwERT", 'full menu'!AY65="ERwMT", 'full menu'!AY65="M&ERT", 'full menu'!AY65="MwIT", 'full menu'!AY65="IwMT", 'full menu'!AY65="M&IT", 'full menu'!AY65="IwERT", 'full menu'!AY65="ERwIT", 'full menu'!AY65="I&ERT", 'full menu'!AY65="ER&M&IT"),"MixedTs",IF('full menu'!AY65="UD","UD",IF('full menu'!AY65="LSD","LSD",IF('full menu'!AY65="WSD","WSD",IF('full menu'!AY65="UASC","UASC","")))))))))) -> LSD
A66: Georgia | B66: =IF('full menu'!B66="MDC","MDC",IF(OR('full menu'!B66="PERF",'full menu'!B66="AERF",'full menu'!B66="PCB"),"ERfix",IF(OR('full menu'!B66="ACB", 'full menu'!B66="LCERT", 'full menu'!B66="LERT",'full menu'!B66="FCERT",'full menu'!B66="FERT"),"ERTs",IF(OR('full menu'!B66="FCMT",'full menu'!B66="FMT",'full menu'!B66="LMT",'full menu'!B66="LCMT"),"MTs",IF(OR('full menu'!B66="LCIT",'full menu'!B66="FCIT",'full menu'!B66="LIT",'full menu'!B66="FIT"),"ITs",IF(OR('full menu'!B66="MwERT", 'full menu'!B66="ERwMT", 'full menu'!B66="M&ERT", 'full menu'!B66="MwIT", 'full menu'!B66="IwMT", 'full menu'!B66="M&IT", 'full menu'!B66="IwERT", 'full menu'!B66="ERwIT", 'full menu'!B66="I&ERT", 'full menu'!B66="ER&M&IT"),"MixedTs",IF('full menu'!B66="UD","UD",IF('full menu'!B66="LSD","LSD",IF('full menu'!B66="WSD","WSD",IF('full menu'!B66="UASC","UASC","")))))))))) | C66: =IF('full menu'!C66="MDC","MDC",IF(OR('full menu'!C66="PERF",'full menu'!C66="AERF",'full menu'!C66="PCB"),"ERfix",IF(OR('full menu'!C66="ACB", 'full menu'!C66="LCERT", 'full menu'!C66="LERT",'full menu'!C66="FCERT",'full menu'!C66="FERT"),"ERTs",IF(OR('full menu'!C66="FCMT",'full menu'!C66="FMT",'full menu'!C66="LMT",'full menu'!C66="LCMT"),"MTs",IF(OR('full menu'!C66="LCIT",'full menu'!C66="FCIT",'full menu'!C66="LIT",'full menu'!C66="FIT"),"ITs",IF(OR('full menu'!C66="MwERT", 'full menu'!C66="ERwMT", 'full menu'!C66="M&ERT", 'full menu'!C66="MwIT", 'full menu'!C66="IwMT", 'full menu'!C66="M&IT", 'full menu'!C66="IwERT", 'full menu'!C66="ERwIT", 'full menu'!C66="I&ERT", 'full menu'!C66="ER&M&IT"),"MixedTs",IF('full menu'!C66="UD","UD",IF('full menu'!C66="LSD","LSD",IF('full menu'!C66="WSD","WSD",IF('full menu'!C66="UASC","UASC","")))))))))) | D66: =IF('full menu'!D66="MDC","MDC",IF(OR('full menu'!D66="PERF",'full menu'!D66="AERF",'full menu'!D66="PCB"),"ERfix",IF(OR('full menu'!D66="ACB", 'full menu'!D66="LCERT", 'full menu'!D66="LERT",'full menu'!D66="FCERT",'full menu'!D66="FERT"),"ERTs",IF(OR('full menu'!D66="FCMT",'full menu'!D66="FMT",'full menu'!D66="LMT",'full menu'!D66="LCMT"),"MTs",IF(OR('full menu'!D66="LCIT",'full menu'!D66="FCIT",'full menu'!D66="LIT",'full menu'!D66="FIT"),"ITs",IF(OR('full menu'!D66="MwERT", 'full menu'!D66="ERwMT", 'full menu'!D66="M&ERT", 'full menu'!D66="MwIT", 'full menu'!D66="IwMT", 'full menu'!D66="M&IT", 'full menu'!D66="IwERT", 'full menu'!D66="ERwIT", 'full menu'!D66="I&ERT", 'full menu'!D66="ER&M&IT"),"MixedTs",IF('full menu'!D66="UD","UD",IF('full menu'!D66="LSD","LSD",IF('full menu'!D66="WSD","WSD",IF('full menu'!D66="UASC","UASC","")))))))))) | E66: =IF('full menu'!E66="MDC","MDC",IF(OR('full menu'!E66="PERF",'full menu'!E66="AERF",'full menu'!E66="PCB"),"ERfix",IF(OR('full menu'!E66="ACB", 'full menu'!E66="LCERT", 'full menu'!E66="LERT",'full menu'!E66="FCERT",'full menu'!E66="FERT"),"ERTs",IF(OR('full menu'!E66="FCMT",'full menu'!E66="FMT",'full menu'!E66="LMT",'full menu'!E66="LCMT"),"MTs",IF(OR('full menu'!E66="LCIT",'full menu'!E66="FCIT",'full menu'!E66="LIT",'full menu'!E66="FIT"),"ITs",IF(OR('full menu'!E66="MwERT", 'full menu'!E66="ERwMT", 'full menu'!E66="M&ERT", 'full menu'!E66="MwIT", 'full menu'!E66="IwMT", 'full menu'!E66="M&IT", 'full menu'!E66="IwERT", 'full menu'!E66="ERwIT", 'full menu'!E66="I&ERT", 'full menu'!E66="ER&M&IT"),"MixedTs",IF('full menu'!E66="UD","UD",IF('full menu'!E66="LSD","LSD",IF('full menu'!E66="WSD","WSD",IF('full menu'!E66="UASC","UASC","")))))))))) | F66: =IF('full menu'!F66="MDC","MDC",IF(OR('full menu'!F66="PERF",'full menu'!F66="AERF",'full menu'!F66="PCB"),"ERfix",IF(OR('full menu'!F66="ACB", 'full menu'!F66="LCERT", 'full menu'!F66="LERT",'full menu'!F66="FCERT",'full menu'!F66="FERT"),"ERTs",IF(OR('full menu'!F66="FCMT",'full menu'!F66="FMT",'full menu'!F66="LMT",'full menu'!F66="LCMT"),"MTs",IF(OR('full menu'!F66="LCIT",'full menu'!F66="FCIT",'full menu'!F66="LIT",'full menu'!F66="FIT"),"ITs",IF(OR('full menu'!F66="MwERT", 'full menu'!F66="ERwMT", 'full menu'!F66="M&ERT", 'full menu'!F66="MwIT", 'full menu'!F66="IwMT", 'full menu'!F66="M&IT", 'full menu'!F66="IwERT", 'full menu'!F66="ERwIT", 'full menu'!F66="I&ERT", 'full menu'!F66="ER&M&IT"),"MixedTs",IF('full menu'!F66="UD","UD",IF('full menu'!F66="LSD","LSD",IF('full menu'!F66="WSD","WSD",IF('full menu'!F66="UASC","UASC","")))))))))) | G66: =IF('full menu'!G66="MDC","MDC",IF(OR('full menu'!G66="PERF",'full menu'!G66="AERF",'full menu'!G66="PCB"),"ERfix",IF(OR('full menu'!G66="ACB", 'full menu'!G66="LCERT", 'full menu'!G66="LERT",'full menu'!G66="FCERT",'full menu'!G66="FERT"),"ERTs",IF(OR('full menu'!G66="FCMT",'full menu'!G66="FMT",'full menu'!G66="LMT",'full menu'!G66="LCMT"),"MTs",IF(OR('full menu'!G66="LCIT",'full menu'!G66="FCIT",'full menu'!G66="LIT",'full menu'!G66="FIT"),"ITs",IF(OR('full menu'!G66="MwERT", 'full menu'!G66="ERwMT", 'full menu'!G66="M&ERT", 'full menu'!G66="MwIT", 'full menu'!G66="IwMT", 'full menu'!G66="M&IT", 'full menu'!G66="IwERT", 'full menu'!G66="ERwIT", 'full menu'!G66="I&ERT", 'full menu'!G66="ER&M&IT"),"MixedTs",IF('full menu'!G66="UD","UD",IF('full menu'!G66="LSD","LSD",IF('full menu'!G66="WSD","WSD",IF('full menu'!G66="UASC","UASC","")))))))))) | H66: =IF('full menu'!H66="MDC","MDC",IF(OR('full menu'!H66="PERF",'full menu'!H66="AERF",'full menu'!H66="PCB"),"ERfix",IF(OR('full menu'!H66="ACB", 'full menu'!H66="LCERT", 'full menu'!H66="LERT",'full menu'!H66="FCERT",'full menu'!H66="FERT"),"ERTs",IF(OR('full menu'!H66="FCMT",'full menu'!H66="FMT",'full menu'!H66="LMT",'full menu'!H66="LCMT"),"MTs",IF(OR('full menu'!H66="LCIT",'full menu'!H66="FCIT",'full menu'!H66="LIT",'full menu'!H66="FIT"),"ITs",IF(OR('full menu'!H66="MwERT", 'full menu'!H66="ERwMT", 'full menu'!H66="M&ERT", 'full menu'!H66="MwIT", 'full menu'!H66="IwMT", 'full menu'!H66="M&IT", 'full menu'!H66="IwERT", 'full menu'!H66="ERwIT", 'full menu'!H66="I&ERT", 'full menu'!H66="ER&M&IT"),"MixedTs",IF('full menu'!H66="UD","UD",IF('full menu'!H66="LSD","LSD",IF('full menu'!H66="WSD","WSD",IF('full menu'!H66="UASC","UASC","")))))))))) | I66: =IF('full menu'!I66="MDC","MDC",IF(OR('full menu'!I66="PERF",'full menu'!I66="AERF",'full menu'!I66="PCB"),"ERfix",IF(OR('full menu'!I66="ACB", 'full menu'!I66="LCERT", 'full menu'!I66="LERT",'full menu'!I66="FCERT",'full menu'!I66="FERT"),"ERTs",IF(OR('full menu'!I66="FCMT",'full menu'!I66="FMT",'full menu'!I66="LMT",'full menu'!I66="LCMT"),"MTs",IF(OR('full menu'!I66="LCIT",'full menu'!I66="FCIT",'full menu'!I66="LIT",'full menu'!I66="FIT"),"ITs",IF(OR('full menu'!I66="MwERT", 'full menu'!I66="ERwMT", 'full menu'!I66="M&ERT", 'full menu'!I66="MwIT", 'full menu'!I66="IwMT", 'full menu'!I66="M&IT", 'full menu'!I66="IwERT", 'full menu'!I66="ERwIT", 'full menu'!I66="I&ERT", 'full menu'!I66="ER&M&IT"),"MixedTs",IF('full menu'!I66="UD","UD",IF('full menu'!I66="LSD","LSD",IF('full menu'!I66="WSD","WSD",IF('full menu'!I66="UASC","UASC","")))))))))) | ... AY66: =IF('full menu'!AY66="MDC","MDC",IF(OR('full menu'!AY66="PERF",'full menu'!AY66="AERF",'full menu'!AY66="PCB"),"ERfix",IF(OR('full menu'!AY66="ACB", 'full menu'!AY66="LCERT", 'full menu'!AY66="LERT",'full menu'!AY66="FCERT",'full menu'!AY66="FERT"),"ERTs",IF(OR('full menu'!AY66="FCMT",'full menu'!AY66="FMT",'full menu'!AY66="LMT",'full menu'!AY66="LCMT"),"MTs",IF(OR('full menu'!AY66="LCIT",'full menu'!AY66="FCIT",'full menu'!AY66="LIT",'full menu'!AY66="FIT"),"ITs",IF(OR('full menu'!AY66="MwERT", 'full menu'!AY66="ERwMT", 'full menu'!AY66="M&ERT", 'full menu'!AY66="MwIT", 'full menu'!AY66="IwMT", 'full menu'!AY66="M&IT", 'full menu'!AY66="IwERT", 'full menu'!AY66="ERwIT", 'full menu'!AY66="I&ERT", 'full menu'!AY66="ER&M&IT"),"MixedTs",IF('full menu'!AY66="UD","UD",IF('full menu'!AY66="LSD","LSD",IF('full menu'!AY66="WSD","WSD",IF('full menu'!AY66="UASC","UASC","")))))))))) -> LSD
