Workbook

Sheet Full menu
B1: 1974 | C1: 1975 | D1: 1976 | E1: 1977 | F1: 1978 | G1: 1979 | H1: 1980 | I1: 1981 | J1: 1982 | K1: 1983 | L1: 1984 | M1: 1985 | N1: 1986 | O1: 1987 | P1: 1988 | Q1: 1989 | R1: 1990 | S1: 1991 | T1: 1992 | U1: 1993 | V1: 1994 | W1: 1995 | X1: 1996 | Y1: 1997 | Z1: 1998 | AA1: 1999 | AB1: 2000 | AC1: 2001 | AD1: 2002 | AE1: 2003 | AF1: 2004 | AG1: 2005 | AH1: 2006 | AI1: 2007 | AJ1: 2008 | AK1: 2009 | AL1: 2010 | AM1: 2011 | AN1: 2012 | AO1: 2013 | AP1: 2014 | AQ1: 2015 | AR1: 2016 | AS1: 2017 | AT1: 2018 | AU1: 2019 | AV1: 2020 | AW1: 2021 | AX1: 2022 | AY1: 2023
A2: Euro area | B2: X | C2: X | D2: X | E2: X | F2: X | G2: X | H2: X | I2: X | J2: X | K2: X | L2: X | M2: X | N2: X | O2: X | P2: X | Q2: X | R2: X | S2: X | T2: X | U2: X | V2: X | W2: X | X2: X | Y2: X | Z2: X | AA2: LIT | AB2: LIT | AC2: LIT | AD2: LIT | AE2: LIT | AF2: LIT | AG2: LIT | AH2: LIT | AI2: LIT | AJ2: LIT | AK2: LIT | AL2: LIT | AM2: LIT | AN2: LIT | AO2: LIT | AP2: LIT | AQ2: LIT | AR2: LIT | AS2: LIT | AT2: LIT | AU2: LIT | AV2: LIT | AW2: LIT | AX2: FIT | AY2: FIT
A3: Austria | B3: LERT | C3: LERT | D3: LERT | E3: LERT | F3: LERT | G3: LERT | H3: FERT | I3: FERT | J3: FERT | K3: FERT | L3: FERT | M3: FERT | N3: FERT | O3: FERT | P3: FERT | Q3: FERT | R3: FERT | S3: FERT | T3: FERT | U3: FERT | V3: FERT | W3: FERT | X3: FERT | Y3: FERT | Z3: FERT | AA3: CU | AB3: CU | AC3: CU | AD3: CU | AE3: CU | AF3: CU | AG3: CU | AH3: CU | AI3: CU | AJ3: CU | AK3: CU | AL3: CU | AM3: CU | AN3: CU | AO3: CU | AP3: CU | AQ3: CU | AR3: CU | AS3: CU | AT3: CU | AU3: CU | AV3: CU | AW3: CU | AX3: CU | AY3: CU
A4: Belgium | B4: LERT | C4: LERT | D4: LERT | E4: LERT | F4: LERT | G4: LERT | H4: LERT | I4: LERT | J4: LERT | K4: FERT | L4: FERT | M4: FERT | N4: FERT | O4: FERT | P4: FERT | Q4: FERT | R4: FERT | S4: FERT | T4: FERT | U4: FERT | V4: FERT | W4: FERT | X4: FERT | Y4: FERT | Z4: FERT | AA4: CU | AB4: CU | AC4: CU | AD4: CU | AE4: CU | AF4: CU | AG4: CU | AH4: CU | AI4: CU | AJ4: CU | AK4: CU | AL4: CU | AM4: CU | AN4: CU | AO4: CU | AP4: CU | AQ4: CU | AR4: CU | AS4: CU | AT4: CU | AU4: CU | AV4: CU | AW4: CU | AX4: CU | AY4: CU
A5: Finland | B5: LERT | C5: LERT | D5: LERT | E5: LERT | F5: LERT | G5: LERT | H5: LERT | I5: LERT | J5: LERT | K5: FERT | L5: FERT | M5: FERT | N5: FERT | O5: FERT | P5: FERT | Q5: FERT | R5: FERT | S5: FERT | T5: FERT | U5: FIT | V5: FIT | W5: FIT | X5: FIT | Y5: IwERT | Z5: IwERT | AA5: CU | AB5: CU | AC5: CU | AD5: CU | AE5: CU | AF5: CU | AG5: CU | AH5: CU | AI5: CU | AJ5: CU | AK5: CU | AL5: CU | AM5: CU | AN5: CU | AO5: CU | AP5: CU | AQ5: CU | AR5: CU | AS5: CU | AT5: CU | AU5: CU | AV5: CU | AW5: CU | AX5: CU | AY5: CU
A6: France | B6: LSD | C6: LSD | D6: LSD | E6: MwERT | F6: MwERT | G6: MwERT | H6: MwERT | I6: MwERT | J6: MwERT | K6: M&ERT | L6: M&ERT | M6: M&ERT | N6: M&ERT | O6: ERwMT | P6: ERwMT | Q6: ERwMT | R6: ERwMT | S6: ERwMT | T6: ERwMT | U6: FERT | V6: FERT | W6: FERT | X6: FERT | Y6: FERT | Z6: FERT | AA6: CU | AB6: CU | AC6: CU | AD6: CU | AE6: CU | AF6: CU | AG6: CU | AH6: CU | AI6: CU | AJ6: CU | AK6: CU | AL6: CU | AM6: CU | AN6: CU | AO6: CU | AP6: CU | AQ6: CU | AR6: CU | AS6: CU | AT6: CU | AU6: CU | AV6: CU | AW6: CU | AX6: CU | AY6: CU
A7: Germany | B7: LSD | C7: MwERT | D7: MwERT | E7: MwERT | F7: MwERT | G7: MwERT | H7: MwERT | I7: MwERT | J7: MwERT | K7: MwERT | L7: MwERT | M7: MwERT | N7: ERwMT | O7: ERwMT | P7: MwERT | Q7: MwERT | R7: MwERT | S7: MwERT | T7: ERwMT | U7: ERwMT | V7: MwERT | W7: MwERT | X7: MwERT | Y7: MwERT | Z7: MwERT | AA7: CU | AB7: CU | AC7: CU | AD7: CU | AE7: CU | AF7: CU | AG7: CU | AH7: CU | AI7: CU | AJ7: CU | AK7: CU | AL7: CU | AM7: CU | AN7: CU | AO7: CU | AP7: CU | AQ7: CU | AR7: CU | AS7: CU | AT7: CU | AU7: CU | AV7: CU | AW7: CU | AX7: CU | AY7: CU
A8: Greece | B8: UD | C8: UD | D8: UD | E8: UD | F8: UD | G8: UD | H8: UD | I8: UD | J8: UD | K8: UD | L8: UD | M8: UD | N8: UD | O8: UD | P8: UD | Q8: UD | R8: UD | S8: LSD | T8: LSD | U8: LSD | V8: LSD | W8: ERwMT | X8: ERwMT | Y8: ERwMT | Z8: ERwMT | AA8: ERwMT | AB8: ERwMT | AC8: CU | AD8: CU | AE8: CU | AF8: CU | AG8: CU | AH8: CU | AI8: CU | AJ8: CU | AK8: CU | AL8: CU | AM8: CU | AN8: CU | AO8: CU | AP8: CU | AQ8: CU | AR8: CU | AS8: CU | AT8: CU | AU8: CU | AV8: CU | AW8: CU | AX8: CU | AY8: CU
A9: Ireland | B9: ACB | C9: ACB | D9: ACB | E9: ACB | F9: ACB | G9: LERT | H9: LERT | I9: LERT | J9: LERT | K9: LERT | L9: LERT | M9: LERT | N9: LERT | O9: FERT | P9: FERT | Q9: FERT | R9: FERT | S9: FERT | T9: FERT | U9: FERT | V9: FERT | W9: FERT | X9: FERT | Y9: FERT | Z9: FERT | AA9: CU | AB9: CU | AC9: CU | AD9: CU | AE9: CU | AF9: CU | AG9: CU | AH9: CU | AI9: CU | AJ9: CU | AK9: CU | AL9: CU | AM9: CU | AN9: CU | AO9: CU | AP9: CU | AQ9: CU | AR9: CU | AS9: CU | AT9: CU | AU9: CU | AV9: CU | AW9: CU | AX9: CU | AY9: CU
A10: Italy | B10: UD | C10: UD | D10: UD | E10: UD | F10: UD | G10: MwERT | H10: MwERT | I10: MwERT | J10: MwERT | K10: MwERT | L10: MwERT | M10: MwERT | N10: MwERT | O10: MwERT | P10: M&ERT | Q10: M&ERT | R10: M&ERT | S10: M&ERT | T10: M&ERT | U10: LMT | V10: LMT | W10: M&IT | X10: M&IT | Y10: ER&M&IT | Z10: ER&M&IT | AA10: CU | AB10: CU | AC10: CU | AD10: CU | AE10: CU | AF10: CU | AG10: CU | AH10: CU | AI10: CU | AJ10: CU | AK10: CU | AL10: CU | AM10: CU | AN10: CU | AO10: CU | AP10: CU | AQ10: CU | AR10: CU | AS10: CU | AT10: CU | AU10: CU | AV10: CU | AW10: CU | AX10: CU | AY10: CU
A11: Luxembourg | B11: UASC | C11: UASC | D11: UASC | E11: UASC | F11: UASC | G11: UASC | H11: UASC | I11: UASC | J11: UASC | K11: UASC | L11: UASC | M11: UASC | N11: UASC | O11: UASC | P11: UASC | Q11: UASC | R11: UASC | S11: UASC | T11: UASC | U11: UASC | V11: UASC | W11: UASC | X11: UASC | Y11: UASC | Z11: UASC | AA11: CU | AB11: CU | AC11: CU | AD11: CU | AE11: CU | AF11: CU | AG11: CU | AH11: CU | AI11: CU | AJ11: CU | AK11: CU | AL11: CU | AM11: CU | AN11: CU | AO11: CU | AP11: CU | AQ11: CU | AR11: CU | AS11: CU | AT11: CU | AU11: CU | AV11: CU | AW11: CU | AX11: CU | AY11: CU
A12: Netherlands | B12: FERT | C12: FERT | D12: FERT | E12: FERT | F12: FERT | G12: FERT | H12: FERT | I12: FERT | J12: FERT | K12: FERT | L12: FERT | M12: FERT | N12: FERT | O12: FERT | P12: FERT | Q12: FERT | R12: FERT | S12: FERT | T12: FERT | U12: FERT | V12: FERT | W12: FERT | X12: FERT | Y12: FERT | Z12: FERT | AA12: CU | AB12: CU | AC12: CU | AD12: CU | AE12: CU | AF12: CU | AG12: CU | AH12: CU | AI12: CU | AJ12: CU | AK12: CU | AL12: CU | AM12: CU | AN12: CU | AO12: CU | AP12: CU | AQ12: CU | AR12: CU | AS12: CU | AT12: CU | AU12: CU | AV12: CU | AW12: CU | AX12: CU | AY12: CU
A13: Portugal | B13: UD | C13: UD | D13: UD | E13: UD | F13: LCERT | G13: LCERT | H13: LCERT | I13: LCERT | J13: LCERT | K13: LCERT | L13: LCERT | M13: LCERT | N13: LCERT | O13: LCERT | P13: LCERT | Q13: LCERT | R13: LCERT | S13: LERT | T13: LERT | U13: LERT | V13: LERT | W13: FERT | X13: FERT | Y13: FERT | Z13: FERT | AA13: CU | AB13: CU | AC13: CU | AD13: CU | AE13: CU | AF13: CU | AG13: CU | AH13: CU | AI13: CU | AJ13: CU | AK13: CU | AL13: CU | AM13: CU | AN13: CU | AO13: CU | AP13: CU | AQ13: CU | AR13: CU | AS13: CU | AT13: CU | AU13: CU | AV13: CU | AW13: CU | AX13: CU | AY13: CU
... A28: USA | B28: LSD | C28: FCMT | D28: FCMT | E28: FCMT | F28: FCMT | G28: FCMT | H28: FCMT | I28: LMT | J28: LMT | K28: LMT | L28: LMT | M28: LMT | N28: LMT | O28: LMT | P28: LMT | Q28: LMT | R28: LSD | S28: LSD | T28: LSD | U28: LSD | V28: LSD | W28: LSD | X28: LIT | Y28: LIT | Z28: LIT | AA28: LIT | AB28: LIT | AC28: LIT | AD28: LIT | AE28: LIT | AF28: LIT | AG28: LIT | AH28: LIT | AI28: LIT | AJ28: LIT | AK28: LIT | AL28: LIT | AM28: LIT | AN28: FIT | AO28: FIT | AP28: FIT | AQ28: FIT | AR28: FIT | AS28: FIT | AT28: FIT | AU28: FIT | AV28: FIT | AW28: FIT | AX28: FIT | AY28: FIT
B32: 1974 | C32: 1975 | D32: 1976 | E32: 1977 | F32: 1978 | G32: 1979 | H32: 1980 | I32: 1981 | J32: 1982 | K32: 1983 | L32: 1984 | M32: 1985 | N32: 1986 | O32: 1987 | P32: 1988 | Q32: 1989 | R32: 1990 | S32: 1991 | T32: 1992 | U32: 1993 | V32: 1994 | W32: 1995 | X32: 1996 | Y32: 1997 | Z32: 1998 | AA32: 1999 | AB32: 2000 | AC32: 2001 | AD32: 2002 | AE32: 2003 | AF32: 2004 | AG32: 2005 | AH32: 2006 | AI32: 2007 | AJ32: 2008 | AK32: 2009 | AL32: 2010 | AM32: 2011 | AN32: 2012 | AO32: 2013 | AP32: 2014 | AQ32: 2015 | AR32: 2016 | AS32: 2017 | AT32: 2018 | AU32: 2019 | AV32: 2020 | AW32: 2021 | AX32: 2022 | AY32: 2023
A33: X | B33: =COUNTIF(B2:B29,"X") -> 1 | C33: =COUNTIF(C2:C29,"X") -> 1 | D33: =COUNTIF(D2:D29,"X") -> 1 | E33: =COUNTIF(E2:E29,"X") -> 1 | F33: =COUNTIF(F2:F29,"X") -> 1 | G33: =COUNTIF(G2:G29,"X") -> 1 | H33: =COUNTIF(H2:H29,"X") -> 1 | I33: =COUNTIF(I2:I29,"X") -> 1 | ... AY33: =COUNTIF(AY2:AY29,"X") -> 0 | BD33: =SUM(B33:AY33) -> 25
A34: MDC | B34: =COUNTIF(B2:B29,"MDC") -> 0 | C34: =COUNTIF(C2:C29,"MDC") -> 0 | D34: =COUNTIF(D2:D29,"MDC") -> 0 | E34: =COUNTIF(E2:E29,"MDC") -> 0 | F34: =COUNTIF(F2:F29,"MDC") -> 0 | G34: =COUNTIF(G2:G29,"MDC") -> 0 | H34: =COUNTIF(H2:H29,"MDC") -> 0 | I34: =COUNTIF(I2:I29,"MDC") -> 0 | ... AY34: =COUNTIF(AY2:AY29,"MDC") -> 0 | BD34: =SUM(B34:AY34) -> 0
A35: PERF | B35: =COUNTIF(B2:B29,"PERF") -> 0 | C35: =COUNTIF(C2:C29,"PERF") -> 0 | D35: =COUNTIF(D2:D29,"PERF") -> 0 | E35: =COUNTIF(E2:E29,"PERF") -> 0 | F35: =COUNTIF(F2:F29,"PERF") -> 0 | G35: =COUNTIF(G2:G29,"PERF") -> 0 | H35: =COUNTIF(H2:H29,"PERF") -> 0 | I35: =COUNTIF(I2:I29,"PERF") -> 0 | ... AY35: =COUNTIF(AY2:AY29,"PERF") -> 0 | BD35: =SUM(B35:AY35) -> 0
A36: AERF | B36: =COUNTIF(B2:B29,"AERF") -> 2 | C36: =COUNTIF(C2:C29,"AERF") -> 2 | D36: =COUNTIF(D2:D29,"AERF") -> 2 | E36: =COUNTIF(E2:E29,"AERF") -> 1 | F36: =COUNTIF(F2:F29,"AERF") -> 1 | G36: =COUNTIF(G2:G29,"AERF") -> 0 | H36: =COUNTIF(H2:H29,"AERF") -> 0 | I36: =COUNTIF(I2:I29,"AERF") -> 0 | ... AY36: =COUNTIF(AY2:AY29,"AERF") -> 0 | BD36: =SUM(B36:AY36) -> 8
A37: PCB | B37: =COUNTIF(B2:B29,"PCB") -> 0 | C37: =COUNTIF(C2:C29,"PCB") -> 0 | D37: =COUNTIF(D2:D29,"PCB") -> 0 | E37: =COUNTIF(E2:E29,"PCB") -> 0 | F37: =COUNTIF(F2:F29,"PCB") -> 0 | G37: =COUNTIF(G2:G29,"PCB") -> 0 | H37: =COUNTIF(H2:H29,"PCB") -> 0 | I37: =COUNTIF(I2:I29,"PCB") -> 0 | ... AY37: =COUNTIF(AY2:AY29,"PCB") -> 0 | BD37: =SUM(B37:AY37) -> 0
A38: ACB | B38: =COUNTIF(B2:B29,"ACB") -> 1 | C38: =COUNTIF(C2:C29,"ACB") -> 1 | D38: =COUNTIF(D2:D29,"ACB") -> 1 | E38: =COUNTIF(E2:E29,"ACB") -> 1 | F38: =COUNTIF(F2:F29,"ACB") -> 1 | G38: =COUNTIF(G2:G29,"ACB") -> 0 | H38: =COUNTIF(H2:H29,"ACB") -> 0 | I38: =COUNTIF(I2:I29,"ACB") -> 0 | ... AY38: =COUNTIF(AY2:AY29,"ACB") -> 1 | BD38: =SUM(B38:AY38) -> 45
A39: UD | B39: =COUNTIF(B2:B29,"UD") -> 5 | C39: =COUNTIF(C2:C29,"UD") -> 6 | D39: =COUNTIF(D2:D29,"UD") -> 6 | E39: =COUNTIF(E2:E29,"UD") -> 6 | F39: =COUNTIF(F2:F29,"UD") -> 5 | G39: =COUNTIF(G2:G29,"UD") -> 4 | H39: =COUNTIF(H2:H29,"UD") -> 4 | I39: =COUNTIF(I2:I29,"UD") -> 4 | ... AY39: =COUNTIF(AY2:AY29,"UD") -> 0 | BD39: =SUM(B39:AY39) -> 57
A40: LERT | B40: =COUNTIF(B2:B29,"LERT") -> 6 | C40: =COUNTIF(C2:C29,"LERT") -> 6 | D40: =COUNTIF(D2:D29,"LERT") -> 7 | E40: =COUNTIF(E2:E29,"LERT") -> 7 | F40: =COUNTIF(F2:F29,"LERT") -> 7 | G40: =COUNTIF(G2:G29,"LERT") -> 8 | H40: =COUNTIF(H2:H29,"LERT") -> 7 | I40: =COUNTIF(I2:I29,"LERT") -> 6 | ... AY40: =COUNTIF(AY2:AY29,"LERT") -> 0 | BD40: =SUM(B40:AY40) -> 85
A41: LCERT | B41: =COUNTIF(B2:B29,"LCERT") -> 0 | C41: =COUNTIF(C2:C29,"LCERT") -> 0 | D41: =COUNTIF(D2:D29,"LCERT") -> 0 | E41: =COUNTIF(E2:E29,"LCERT") -> 0 | F41: =COUNTIF(F2:F29,"LCERT") -> 1 | G41: =COUNTIF(G2:G29,"LCERT") -> 1 | H41: =COUNTIF(H2:H29,"LCERT") -> 1 | I41: =COUNTIF(I2:I29,"LCERT") -> 1 | ... AY41: =COUNTIF(AY2:AY29,"LCERT") -> 0 | BD41: =SUM(B41:AY41) -> 13
A42: LMT | B42: =COUNTIF(B2:B29,"LMT") -> 1 | C42: =COUNTIF(C2:C29,"LMT") -> 2 | D42: =COUNTIF(D2:D29,"LMT") -> 2 | E42: =COUNTIF(E2:E29,"LMT") -> 3 | F42: =COUNTIF(F2:F29,"LMT") -> 1 | G42: =COUNTIF(G2:G29,"LMT") -> 1 | H42: =COUNTIF(H2:H29,"LMT") -> 1 | I42: =COUNTIF(I2:I29,"LMT") -> 2 | ... AY42: =COUNTIF(AY2:AY29,"LMT") -> 0 | BD42: =SUM(B42:AY42) -> 36
A43: LCMT | B43: =COUNTIF(B2:B29,"LCMT") -> 0 | C43: =COUNTIF(C2:C29,"LCMT") -> 0 | D43: =COUNTIF(D2:D29,"LCMT") -> 1 | E43: =COUNTIF(E2:E29,"LCMT") -> 1 | F43: =COUNTIF(F2:F29,"LCMT") -> 1 | G43: =COUNTIF(G2:G29,"LCMT") -> 2 | H43: =COUNTIF(H2:H29,"LCMT") -> 2 | I43: =COUNTIF(I2:I29,"LCMT") -> 1 | ... AY43: =COUNTIF(AY2:AY29,"LCMT") -> 0 | BD43: =SUM(B43:AY43) -> 14
A44: LIT | B44: =COUNTIF(B2:B29,"LIT") -> 0 | C44: =COUNTIF(C2:C29,"LIT") -> 0 | D44: =COUNTIF(D2:D29,"LIT") -> 0 | E44: =COUNTIF(E2:E29,"LIT") -> 0 | F44: =COUNTIF(F2:F29,"LIT") -> 0 | G44: =COUNTIF(G2:G29,"LIT") -> 0 | H44: =COUNTIF(H2:H29,"LIT") -> 0 | I44: =COUNTIF(I2:I29,"LIT") -> 0 | ... AY44: =COUNTIF(AY2:AY29,"LIT") -> 2 | BD44: =SUM(B44:AY44) -> 127
A45: LCIT | B45: =COUNTIF(B2:B29,"LCIT") -> 0 | C45: =COUNTIF(C2:C29,"LCIT") -> 0 | D45: =COUNTIF(D2:D29,"LCIT") -> 0 | E45: =COUNTIF(E2:E29,"LCIT") -> 0 | F45: =COUNTIF(F2:F29,"LCIT") -> 0 | G45: =COUNTIF(G2:G29,"LCIT") -> 0 | H45: =COUNTIF(H2:H29,"LCIT") -> 0 | I45: =COUNTIF(I2:I29,"LCIT") -> 0 | ... AY45: =COUNTIF(AY2:AY29,"LCIT") -> 0 | BD45: =SUM(B45:AY45) -> 0
A46: MwERT | B46: =COUNTIF(B2:B29,"MwERT") -> 0 | C46: =COUNTIF(C2:C29,"MwERT") -> 1 | D46: =COUNTIF(D2:D29,"MwERT") -> 1 | E46: =COUNTIF(E2:E29,"MwERT") -> 2 | F46: =COUNTIF(F2:F29,"MwERT") -> 2 | G46: =COUNTIF(G2:G29,"MwERT") -> 3 | H46: =COUNTIF(H2:H29,"MwERT") -> 3 | I46: =COUNTIF(I2:I29,"MwERT") -> 3 | ... AY46: =COUNTIF(AY2:AY29,"MwERT") -> 0 | BD46: =SUM(B46:AY46) -> 35
A47: ERwMT | B47: =COUNTIF(B2:B29,"ERwMT") -> 0 | C47: =COUNTIF(C2:C29,"ERwMT") -> 0 | D47: =COUNTIF(D2:D29,"ERwMT") -> 0 | E47: =COUNTIF(E2:E29,"ERwMT") -> 0 | F47: =COUNTIF(F2:F29,"ERwMT") -> 0 | G47: =COUNTIF(G2:G29,"ERwMT") -> 0 | H47: =COUNTIF(H2:H29,"ERwMT") -> 0 | I47: =COUNTIF(I2:I29,"ERwMT") -> 0 | ... AY47: =COUNTIF(AY2:AY29,"ERwMT") -> 0 | BD47: =SUM(B47:AY47) -> 16
A48: M&ERT | B48: =COUNTIF(B2:B29,"M&ERT") -> 0 | C48: =COUNTIF(C2:C29,"M&ERT") -> 0 | D48: =COUNTIF(D2:D29,"M&ERT") -> 0 | E48: =COUNTIF(E2:E29,"M&ERT") -> 0 | F48: =COUNTIF(F2:F29,"M&ERT") -> 0 | G48: =COUNTIF(G2:G29,"M&ERT") -> 0 | H48: =COUNTIF(H2:H29,"M&ERT") -> 0 | I48: =COUNTIF(I2:I29,"M&ERT") -> 0 | ... AY48: =COUNTIF(AY2:AY29,"M&ERT") -> 0 | BD48: =SUM(B48:AY48) -> 15
A49: MwIT | B49: =COUNTIF(B2:B29,"MwIT") -> 0 | C49: =COUNTIF(C2:C29,"MwIT") -> 0 | D49: =COUNTIF(D2:D29,"MwIT") -> 0 | E49: =COUNTIF(E2:E29,"MwIT") -> 0 | F49: =COUNTIF(F2:F29,"MwIT") -> 0 | G49: =COUNTIF(G2:G29,"MwIT") -> 0 | H49: =COUNTIF(H2:H29,"MwIT") -> 0 | I49: =COUNTIF(I2:I29,"MwIT") -> 0 | ... AY49: =COUNTIF(AY2:AY29,"MwIT") -> 0 | BD49: =SUM(B49:AY49) -> 0
A50: IwMT | B50: =COUNTIF(B2:B29,"IwMT") -> 0 | C50: =COUNTIF(C2:C29,"IwMT") -> 0 | D50: =COUNTIF(D2:D29,"IwMT") -> 0 | E50: =COUNTIF(E2:E29,"IwMT") -> 0 | F50: =COUNTIF(F2:F29,"IwMT") -> 0 | G50: =COUNTIF(G2:G29,"IwMT") -> 0 | H50: =COUNTIF(H2:H29,"IwMT") -> 0 | I50: =COUNTIF(I2:I29,"IwMT") -> 0 | ... AY50: =COUNTIF(AY2:AY29,"IwMT") -> 0 | BD50: =SUM(B50:AY50) -> 0
A51: M&IT | B51: =COUNTIF(B2:B29,"M&IT") -> 0 | C51: =COUNTIF(C2:C29,"M&IT") -> 0 | D51: =COUNTIF(D2:D29,"M&IT") -> 0 | E51: =COUNTIF(E2:E29,"M&IT") -> 0 | F51: =COUNTIF(F2:F29,"M&IT") -> 0 | G51: =COUNTIF(G2:G29,"M&IT") -> 0 | H51: =COUNTIF(H2:H29,"M&IT") -> 0 | I51: =COUNTIF(I2:I29,"M&IT") -> 0 | ... AY51: =COUNTIF(AY2:AY29,"M&IT") -> 0 | BD51: =SUM(B51:AY51) -> 2
A52: IwERT | B52: =COUNTIF(B2:B29,"IwERT") -> 0 | C52: =COUNTIF(C2:C29,"IwERT") -> 0 | D52: =COUNTIF(D2:D29,"IwERT") -> 0 | E52: =COUNTIF(E2:E29,"IwERT") -> 0 | F52: =COUNTIF(F2:F29,"IwERT") -> 0 | G52: =COUNTIF(G2:G29,"IwERT") -> 0 | H52: =COUNTIF(H2:H29,"IwERT") -> 0 | I52: =COUNTIF(I2:I29,"IwERT") -> 0 | ... AY52: =COUNTIF(AY2:AY29,"IwERT") -> 0 | BD52: =SUM(B52:AY52) -> 5
A53: ERwIT | B53: =COUNTIF(B2:B29,"ERwIT") -> 0 | C53: =COUNTIF(C2:C29,"ERwIT") -> 0 | D53: =COUNTIF(D2:D29,"ERwIT") -> 0 | E53: =COUNTIF(E2:E29,"ERwIT") -> 0 | F53: =COUNTIF(F2:F29,"ERwIT") -> 0 | G53: =COUNTIF(G2:G29,"ERwIT") -> 0 | H53: =COUNTIF(H2:H29,"ERwIT") -> 0 | I53: =COUNTIF(I2:I29,"ERwIT") -> 0 | ... AY53: =COUNTIF(AY2:AY29,"ERwIT") -> 0 | BD53: =SUM(B53:AY53) -> 0
A54: I&ERT | B54: =COUNTIF(B2:B29,"I&ERT") -> 0 | C54: =COUNTIF(C2:C29,"I&ERT") -> 0 | D54: =COUNTIF(D2:D29,"I&ERT") -> 0 | E54: =COUNTIF(E2:E29,"I&ERT") -> 0 | F54: =COUNTIF(F2:F29,"I&ERT") -> 0 | G54: =COUNTIF(G2:G29,"I&ERT") -> 0 | H54: =COUNTIF(H2:H29,"I&ERT") -> 0 | I54: =COUNTIF(I2:I29,"I&ERT") -> 0 | ... AY54: =COUNTIF(AY2:AY29,"I&ERT") -> 0 | BD54: =SUM(B54:AY54) -> 4
A55: ER&M&IT | B55: =COUNTIF(B2:B29,"ER&M&IT") -> 0 | C55: =COUNTIF(C2:C29,"ER&M&IT") -> 0 | D55: =COUNTIF(D2:D29,"ER&M&IT") -> 0 | E55: =COUNTIF(E2:E29,"ER&M&IT") -> 0 | F55: =COUNTIF(F2:F29,"ER&M&IT") -> 0 | G55: =COUNTIF(G2:G29,"ER&M&IT") -> 0 | H55: =COUNTIF(H2:H29,"ER&M&IT") -> 0 | I55: =COUNTIF(I2:I29,"ER&M&IT") -> 0 | ... AY55: =COUNTIF(AY2:AY29,"ER&M&IT") -> 0 | BD55: =SUM(B55:AY55) -> 2
A56: LSD | B56: =COUNTIF(B2:B29,"LSD") -> 8 | C56: =COUNTIF(C2:C29,"LSD") -> 5 | D56: =COUNTIF(D2:D29,"LSD") -> 3 | E56: =COUNTIF(E2:E29,"LSD") -> 2 | F56: =COUNTIF(F2:F29,"LSD") -> 3 | G56: =COUNTIF(G2:G29,"LSD") -> 3 | H56: =COUNTIF(H2:H29,"LSD") -> 3 | I56: =COUNTIF(I2:I29,"LSD") -> 5 | ... AY56: =COUNTIF(AY2:AY29,"LSD") -> 1 | BD56: =SUM(B56:AY56) -> 137
A57: UASC | B57: =COUNTIF(B2:B29,"UASC") -> 1 | C57: =COUNTIF(C2:C29,"UASC") -> 1 | D57: =COUNTIF(D2:D29,"UASC") -> 1 | E57: =COUNTIF(E2:E29,"UASC") -> 1 | F57: =COUNTIF(F2:F29,"UASC") -> 1 | G57: =COUNTIF(G2:G29,"UASC") -> 1 | H57: =COUNTIF(H2:H29,"UASC") -> 1 | I57: =COUNTIF(I2:I29,"UASC") -> 1 | ... AY57: =COUNTIF(AY2:AY29,"UASC") -> 0 | BD57: =SUM(B57:AY57) -> 25
...

Sheet By target variable
B1: 1974 | C1: 1975 | D1: 1976 | E1: 1977 | F1: 1978 | G1: 1979 | H1: 1980 | I1: 1981 | J1: 1982 | K1: 1983 | L1: 1984 | M1: 1985 | N1: 1986 | O1: 1987 | P1: 1988 | Q1: 1989 | R1: 1990 | S1: 1991 | T1: 1992 | U1: 1993 | V1: 1994 | W1: 1995 | X1: 1996 | Y1: 1997 | Z1: 1998 | AA1: 1999 | AB1: 2000 | AC1: 2001 | AD1: 2002 | AE1: 2003 | AF1: 2004 | AG1: 2005 | AH1: 2006 | AI1: 2007 | AJ1: 2008 | AK1: 2009 | AL1: 2010 | AM1: 2011 | AN1: 2012 | AO1: 2013 | AP1: 2014 | AQ1: 2015 | AR1: 2016 | AS1: 2017 | AT1: 2018 | AU1: 2019 | AV1: 2020 | AW1: 2021 | AX1: 2022 | AY1: 2023
A2: Euro area | B2: =IF('Full menu'!B2="MDC","MDC",IF(OR('Full menu'!B2="PERF",'Full menu'!B2="AERF",'Full menu'!B2="PCB"),"ERfix",IF(OR('Full menu'!B2="ACB", 'Full menu'!B2="LCERT", 'Full menu'!B2="LERT",'Full menu'!B2="FCERT",'Full menu'!B2="FERT"),"ERTs",IF(OR('Full menu'!B2="FCMT",'Full menu'!B2="FMT",'Full menu'!B2="LMT",'Full menu'!B2="LCMT"),"MTs",IF(OR('Full menu'!B2="LCIT",'Full menu'!B2="FCIT",'Full menu'!B2="LIT",'Full menu'!B2="FIT"),"ITs",IF(OR('Full menu'!B2="MwERT", 'Full menu'!B2="ERwMT", 'Full menu'!B2="M&ERT", 'Full menu'!B2="MwIT", 'Full menu'!B2="IwMT", 'Full menu'!B2="M&IT", 'Full menu'!B2="IwERT", 'Full menu'!B2="ERwIT", 'Full menu'!B2="I&ERT", 'Full menu'!B2="ER&M&IT"),"MixedTs",IF('Full menu'!B2="UD","UD",IF('Full menu'!B2="LSD","LSD",IF('Full menu'!B2="WSD","WSD",""))))))))) | C2: =IF('Full menu'!C2="MDC","MDC",IF(OR('Full menu'!C2="PERF",'Full menu'!C2="AERF",'Full menu'!C2="PCB"),"ERfix",IF(OR('Full menu'!C2="ACB", 'Full menu'!C2="LCERT", 'Full menu'!C2="LERT",'Full menu'!C2="FCERT",'Full menu'!C2="FERT"),"ERTs",IF(OR('Full menu'!C2="FCMT",'Full menu'!C2="FMT",'Full menu'!C2="LMT",'Full menu'!C2="LCMT"),"MTs",IF(OR('Full menu'!C2="LCIT",'Full menu'!C2="FCIT",'Full menu'!C2="LIT",'Full menu'!C2="FIT"),"ITs",IF(OR('Full menu'!C2="MwERT", 'Full menu'!C2="ERwMT", 'Full menu'!C2="M&ERT", 'Full menu'!C2="MwIT", 'Full menu'!C2="IwMT", 'Full menu'!C2="M&IT", 'Full menu'!C2="IwERT", 'Full menu'!C2="ERwIT", 'Full menu'!C2="I&ERT", 'Full menu'!C2="ER&M&IT"),"MixedTs",IF('Full menu'!C2="UD","UD",IF('Full menu'!C2="LSD","LSD",IF('Full menu'!C2="WSD","WSD",""))))))))) | D2: =IF('Full menu'!D2="MDC","MDC",IF(OR('Full menu'!D2="PERF",'Full menu'!D2="AERF",'Full menu'!D2="PCB"),"ERfix",IF(OR('Full menu'!D2="ACB", 'Full menu'!D2="LCERT", 'Full menu'!D2="LERT",'Full menu'!D2="FCERT",'Full menu'!D2="FERT"),"ERTs",IF(OR('Full menu'!D2="FCMT",'Full menu'!D2="FMT",'Full menu'!D2="LMT",'Full menu'!D2="LCMT"),"MTs",IF(OR('Full menu'!D2="LCIT",'Full menu'!D2="FCIT",'Full menu'!D2="LIT",'Full menu'!D2="FIT"),"ITs",IF(OR('Full menu'!D2="MwERT", 'Full menu'!D2="ERwMT", 'Full menu'!D2="M&ERT", 'Full menu'!D2="MwIT", 'Full menu'!D2="IwMT", 'Full menu'!D2="M&IT", 'Full menu'!D2="IwERT", 'Full menu'!D2="ERwIT", 'Full menu'!D2="I&ERT", 'Full menu'!D2="ER&M&IT"),"MixedTs",IF('Full menu'!D2="UD","UD",IF('Full menu'!D2="LSD","LSD",IF('Full menu'!D2="WSD","WSD",""))))))))) | E2: =IF('Full menu'!E2="MDC","MDC",IF(OR('Full menu'!E2="PERF",'Full menu'!E2="AERF",'Full menu'!E2="PCB"),"ERfix",IF(OR('Full menu'!E2="ACB", 'Full menu'!E2="LCERT", 'Full menu'!E2="LERT",'Full menu'!E2="FCERT",'Full menu'!E2="FERT"),"ERTs",IF(OR('Full menu'!E2="FCMT",'Full menu'!E2="FMT",'Full menu'!E2="LMT",'Full menu'!E2="LCMT"),"MTs",IF(OR('Full menu'!E2="LCIT",'Full menu'!E2="FCIT",'Full menu'!E2="LIT",'Full menu'!E2="FIT"),"ITs",IF(OR('Full menu'!E2="MwERT", 'Full menu'!E2="ERwMT", 'Full menu'!E2="M&ERT", 'Full menu'!E2="MwIT", 'Full menu'!E2="IwMT", 'Full menu'!E2="M&IT", 'Full menu'!E2="IwERT", 'Full menu'!E2="ERwIT", 'Full menu'!E2="I&ERT", 'Full menu'!E2="ER&M&IT"),"MixedTs",IF('Full menu'!E2="UD","UD",IF('Full menu'!E2="LSD","LSD",IF('Full menu'!E2="WSD","WSD",""))))))))) | F2: =IF('Full menu'!F2="MDC","MDC",IF(OR('Full menu'!F2="PERF",'Full menu'!F2="AERF",'Full menu'!F2="PCB"),"ERfix",IF(OR('Full menu'!F2="ACB", 'Full menu'!F2="LCERT", 'Full menu'!F2="LERT",'Full menu'!F2="FCERT",'Full menu'!F2="FERT"),"ERTs",IF(OR('Full menu'!F2="FCMT",'Full menu'!F2="FMT",'Full menu'!F2="LMT",'Full menu'!F2="LCMT"),"MTs",IF(OR('Full menu'!F2="LCIT",'Full menu'!F2="FCIT",'Full menu'!F2="LIT",'Full menu'!F2="FIT"),"ITs",IF(OR('Full menu'!F2="MwERT", 'Full menu'!F2="ERwMT", 'Full menu'!F2="M&ERT", 'Full menu'!F2="MwIT", 'Full menu'!F2="IwMT", 'Full menu'!F2="M&IT", 'Full menu'!F2="IwERT", 'Full menu'!F2="ERwIT", 'Full menu'!F2="I&ERT", 'Full menu'!F2="ER&M&IT"),"MixedTs",IF('Full menu'!F2="UD","UD",IF('Full menu'!F2="LSD","LSD",IF('Full menu'!F2="WSD","WSD",""))))))))) | G2: =IF('Full menu'!G2="MDC","MDC",IF(OR('Full menu'!G2="PERF",'Full menu'!G2="AERF",'Full menu'!G2="PCB"),"ERfix",IF(OR('Full menu'!G2="ACB", 'Full menu'!G2="LCERT", 'Full menu'!G2="LERT",'Full menu'!G2="FCERT",'Full menu'!G2="FERT"),"ERTs",IF(OR('Full menu'!G2="FCMT",'Full menu'!G2="FMT",'Full menu'!G2="LMT",'Full menu'!G2="LCMT"),"MTs",IF(OR('Full menu'!G2="LCIT",'Full menu'!G2="FCIT",'Full menu'!G2="LIT",'Full menu'!G2="FIT"),"ITs",IF(OR('Full menu'!G2="MwERT", 'Full menu'!G2="ERwMT", 'Full menu'!G2="M&ERT", 'Full menu'!G2="MwIT", 'Full menu'!G2="IwMT", 'Full menu'!G2="M&IT", 'Full menu'!G2="IwERT", 'Full menu'!G2="ERwIT", 'Full menu'!G2="I&ERT", 'Full menu'!G2="ER&M&IT"),"MixedTs",IF('Full menu'!G2="UD","UD",IF('Full menu'!G2="LSD","LSD",IF('Full menu'!G2="WSD","WSD",""))))))))) | H2: =IF('Full menu'!H2="MDC","MDC",IF(OR('Full menu'!H2="PERF",'Full menu'!H2="AERF",'Full menu'!H2="PCB"),"ERfix",IF(OR('Full menu'!H2="ACB", 'Full menu'!H2="LCERT", 'Full menu'!H2="LERT",'Full menu'!H2="FCERT",'Full menu'!H2="FERT"),"ERTs",IF(OR('Full menu'!H2="FCMT",'Full menu'!H2="FMT",'Full menu'!H2="LMT",'Full menu'!H2="LCMT"),"MTs",IF(OR('Full menu'!H2="LCIT",'Full menu'!H2="FCIT",'Full menu'!H2="LIT",'Full menu'!H2="FIT"),"ITs",IF(OR('Full menu'!H2="MwERT", 'Full menu'!H2="ERwMT", 'Full menu'!H2="M&ERT", 'Full menu'!H2="MwIT", 'Full menu'!H2="IwMT", 'Full menu'!H2="M&IT", 'Full menu'!H2="IwERT", 'Full menu'!H2="ERwIT", 'Full menu'!H2="I&ERT", 'Full menu'!H2="ER&M&IT"),"MixedTs",IF('Full menu'!H2="UD","UD",IF('Full menu'!H2="LSD","LSD",IF('Full menu'!H2="WSD","WSD",""))))))))) | I2: =IF('Full menu'!I2="MDC","MDC",IF(OR('Full menu'!I2="PERF",'Full menu'!I2="AERF",'Full menu'!I2="PCB"),"ERfix",IF(OR('Full menu'!I2="ACB", 'Full menu'!I2="LCERT", 'Full menu'!I2="LERT",'Full menu'!I2="FCERT",'Full menu'!I2="FERT"),"ERTs",IF(OR('Full menu'!I2="FCMT",'Full menu'!I2="FMT",'Full menu'!I2="LMT",'Full menu'!I2="LCMT"),"MTs",IF(OR('Full menu'!I2="LCIT",'Full menu'!I2="FCIT",'Full menu'!I2="LIT",'Full menu'!I2="FIT"),"ITs",IF(OR('Full menu'!I2="MwERT", 'Full menu'!I2="ERwMT", 'Full menu'!I2="M&ERT", 'Full menu'!I2="MwIT", 'Full menu'!I2="IwMT", 'Full menu'!I2="M&IT", 'Full menu'!I2="IwERT", 'Full menu'!I2="ERwIT", 'Full menu'!I2="I&ERT", 'Full menu'!I2="ER&M&IT"),"MixedTs",IF('Full menu'!I2="UD","UD",IF('Full menu'!I2="LSD","LSD",IF('Full menu'!I2="WSD","WSD",""))))))))) | ... AY2: =IF('Full menu'!AY2="MDC","MDC",IF(OR('Full menu'!AY2="PERF",'Full menu'!AY2="AERF",'Full menu'!AY2="PCB"),"ERfix",IF(OR('Full menu'!AY2="ACB", 'Full menu'!AY2="LCERT", 'Full menu'!AY2="LERT",'Full menu'!AY2="FCERT",'Full menu'!AY2="FERT"),"ERTs",IF(OR('Full menu'!AY2="FCMT",'Full menu'!AY2="FMT",'Full menu'!AY2="LMT",'Full menu'!AY2="LCMT"),"MTs",IF(OR('Full menu'!AY2="LCIT",'Full menu'!AY2="FCIT",'Full menu'!AY2="LIT",'Full menu'!AY2="FIT"),"ITs",IF(OR('Full menu'!AY2="MwERT", 'Full menu'!AY2="ERwMT", 'Full menu'!AY2="M&ERT", 'Full menu'!AY2="MwIT", 'Full menu'!AY2="IwMT", 'Full menu'!AY2="M&IT", 'Full menu'!AY2="IwERT", 'Full menu'!AY2="ERwIT", 'Full menu'!AY2="I&ERT", 'Full menu'!AY2="ER&M&IT"),"MixedTs",IF('Full menu'!AY2="UD","UD",IF('Full menu'!AY2="LSD","LSD",IF('Full menu'!AY2="WSD","WSD",""))))))))) -> ITs | AZ2: =IF('Full menu'!AZ2="MDC","MDC",IF(OR('Full menu'!AZ2="PERF",'Full menu'!AZ2="AERF",'Full menu'!AZ2="PCB"),"ERfix",IF(OR('Full menu'!AZ2="ACB", 'Full menu'!AZ2="LCERT", 'Full menu'!AZ2="LERT",'Full menu'!AZ2="FCERT",'Full menu'!AZ2="FERT"),"ERT",IF(OR('Full menu'!AZ2="FCMT",'Full menu'!AZ2="FMT",'Full menu'!AZ2="LMT",'Full menu'!AZ2="LCMT"),"MT",IF(OR('Full menu'!AZ2="LCIT",'Full menu'!AZ2="FCIT",'Full menu'!AZ2="LMT",'Full menu'!AZ2="FMT"),"IT",IF(OR('Full menu'!AZ2="MwERT", 'Full menu'!AZ2="ERwMT", 'Full menu'!AZ2="M&ERT", 'Full menu'!AZ2="MwIT", 'Full menu'!AZ2="IwMT", 'Full menu'!AZ2="M&IT", 'Full menu'!AZ2="IwERT", 'Full menu'!AZ2="ERwIT", 'Full menu'!AZ2="I&ERT", 'Full menu'!AZ2="ER&M&IT"),"MixedT",IF('Full menu'!AZ2="UD","UD",IF('Full menu'!AZ2="LSD","LSD",IF('Full menu'!AZ2="WSD","WSD",""))))))))) | BA2: =IF('Full menu'!BA2="MDC","MDC",IF(OR('Full menu'!BA2="PERF",'Full menu'!BA2="AERF",'Full menu'!BA2="PCB"),"ERfix",IF(OR('Full menu'!BA2="ACB", 'Full menu'!BA2="LCERT", 'Full menu'!BA2="LERT",'Full menu'!BA2="FCERT",'Full menu'!BA2="FERT"),"ERT",IF(OR('Full menu'!BA2="FCMT",'Full menu'!BA2="FMT",'Full menu'!BA2="LMT",'Full menu'!BA2="LCMT"),"MT",IF(OR('Full menu'!BA2="LCIT",'Full menu'!BA2="FCIT",'Full menu'!BA2="LMT",'Full menu'!BA2="FMT"),"IT",IF(OR('Full menu'!BA2="MwERT", 'Full menu'!BA2="ERwMT", 'Full menu'!BA2="M&ERT", 'Full menu'!BA2="MwIT", 'Full menu'!BA2="IwMT", 'Full menu'!BA2="M&IT", 'Full menu'!BA2="IwERT", 'Full menu'!BA2="ERwIT", 'Full menu'!BA2="I&ERT", 'Full menu'!BA2="ER&M&IT"),"MixedT",IF('Full menu'!BA2="UD","UD",IF('Full menu'!BA2="LSD","LSD",IF('Full menu'!BA2="WSD","WSD",""))))))))) | BB2: =IF('Full menu'!BB2="MDC","MDC",IF(OR('Full menu'!BB2="PERF",'Full menu'!BB2="AERF",'Full menu'!BB2="PCB"),"ERfix",IF(OR('Full menu'!BB2="ACB", 'Full menu'!BB2="LCERT", 'Full menu'!BB2="LERT",'Full menu'!BB2="FCERT",'Full menu'!BB2="FERT"),"ERT",IF(OR('Full menu'!BB2="FCMT",'Full menu'!BB2="FMT",'Full menu'!BB2="LMT",'Full menu'!BB2="LCMT"),"MT",IF(OR('Full menu'!BB2="LCIT",'Full menu'!BB2="FCIT",'Full menu'!BB2="LMT",'Full menu'!BB2="FMT"),"IT",IF(OR('Full menu'!BB2="MwERT", 'Full menu'!BB2="ERwMT", 'Full menu'!BB2="M&ERT", 'Full menu'!BB2="MwIT", 'Full menu'!BB2="IwMT", 'Full menu'!BB2="M&IT", 'Full menu'!BB2="IwERT", 'Full menu'!BB2="ERwIT", 'Full menu'!BB2="I&ERT", 'Full menu'!BB2="ER&M&IT"),"MixedT",IF('Full menu'!BB2="UD","UD",IF('Full menu'!BB2="LSD","LSD",IF('Full menu'!BB2="WSD","WSD",""))))))))) | BC2: =IF('Full menu'!BC2="MDC","MDC",IF(OR('Full menu'!BC2="PERF",'Full menu'!BC2="AERF",'Full menu'!BC2="PCB"),"ERfix",IF(OR('Full menu'!BC2="ACB", 'Full menu'!BC2="LCERT", 'Full menu'!BC2="LERT",'Full menu'!BC2="FCERT",'Full menu'!BC2="FERT"),"ERT",IF(OR('Full menu'!BC2="FCMT",'Full menu'!BC2="FMT",'Full menu'!BC2="LMT",'Full menu'!BC2="LCMT"),"MT",IF(OR('Full menu'!BC2="LCIT",'Full menu'!BC2="FCIT",'Full menu'!BC2="LMT",'Full menu'!BC2="FMT"),"IT",IF(OR('Full menu'!BC2="MwERT", 'Full menu'!BC2="ERwMT", 'Full menu'!BC2="M&ERT", 'Full menu'!BC2="MwIT", 'Full menu'!BC2="IwMT", 'Full menu'!BC2="M&IT", 'Full menu'!BC2="IwERT", 'Full menu'!BC2="ERwIT", 'Full menu'!BC2="I&ERT", 'Full menu'!BC2="ER&M&IT"),"MixedT",IF('Full menu'!BC2="UD","UD",IF('Full menu'!BC2="LSD","LSD",IF('Full menu'!BC2="WSD","WSD","")))))))))
A3: Austria | B3: =IF('Full menu'!B3="MDC","MDC",IF(OR('Full menu'!B3="PERF",'Full menu'!B3="AERF",'Full menu'!B3="PCB"),"ERfix",IF(OR('Full menu'!B3="ACB", 'Full menu'!B3="LCERT", 'Full menu'!B3="LERT",'Full menu'!B3="FCERT",'Full menu'!B3="FERT"),"ERTs",IF(OR('Full menu'!B3="FCMT",'Full menu'!B3="FMT",'Full menu'!B3="LMT",'Full menu'!B3="LCMT"),"MTs",IF(OR('Full menu'!B3="LCIT",'Full menu'!B3="FCIT",'Full menu'!B3="LIT",'Full menu'!B3="FIT"),"ITs",IF(OR('Full menu'!B3="MwERT", 'Full menu'!B3="ERwMT", 'Full menu'!B3="M&ERT", 'Full menu'!B3="MwIT", 'Full menu'!B3="IwMT", 'Full menu'!B3="M&IT", 'Full menu'!B3="IwERT", 'Full menu'!B3="ERwIT", 'Full menu'!B3="I&ERT", 'Full menu'!B3="ER&M&IT"),"MixedTs",IF('Full menu'!B3="UD","UD",IF('Full menu'!B3="LSD","LSD",IF('Full menu'!B3="WSD","WSD",""))))))))) -> ERTs | C3: =IF('Full menu'!C3="MDC","MDC",IF(OR('Full menu'!C3="PERF",'Full menu'!C3="AERF",'Full menu'!C3="PCB"),"ERfix",IF(OR('Full menu'!C3="ACB", 'Full menu'!C3="LCERT", 'Full menu'!C3="LERT",'Full menu'!C3="FCERT",'Full menu'!C3="FERT"),"ERTs",IF(OR('Full menu'!C3="FCMT",'Full menu'!C3="FMT",'Full menu'!C3="LMT",'Full menu'!C3="LCMT"),"MTs",IF(OR('Full menu'!C3="LCIT",'Full menu'!C3="FCIT",'Full menu'!C3="LIT",'Full menu'!C3="FIT"),"ITs",IF(OR('Full menu'!C3="MwERT", 'Full menu'!C3="ERwMT", 'Full menu'!C3="M&ERT", 'Full menu'!C3="MwIT", 'Full menu'!C3="IwMT", 'Full menu'!C3="M&IT", 'Full menu'!C3="IwERT", 'Full menu'!C3="ERwIT", 'Full menu'!C3="I&ERT", 'Full menu'!C3="ER&M&IT"),"MixedTs",IF('Full menu'!C3="UD","UD",IF('Full menu'!C3="LSD","LSD",IF('Full menu'!C3="WSD","WSD",""))))))))) -> ERTs | D3: =IF('Full menu'!D3="MDC","MDC",IF(OR('Full menu'!D3="PERF",'Full menu'!D3="AERF",'Full menu'!D3="PCB"),"ERfix",IF(OR('Full menu'!D3="ACB", 'Full menu'!D3="LCERT", 'Full menu'!D3="LERT",'Full menu'!D3="FCERT",'Full menu'!D3="FERT"),"ERTs",IF(OR('Full menu'!D3="FCMT",'Full menu'!D3="FMT",'Full menu'!D3="LMT",'Full menu'!D3="LCMT"),"MTs",IF(OR('Full menu'!D3="LCIT",'Full menu'!D3="FCIT",'Full menu'!D3="LIT",'Full menu'!D3="FIT"),"ITs",IF(OR('Full menu'!D3="MwERT", 'Full menu'!D3="ERwMT", 'Full menu'!D3="M&ERT", 'Full menu'!D3="MwIT", 'Full menu'!D3="IwMT", 'Full menu'!D3="M&IT", 'Full menu'!D3="IwERT", 'Full menu'!D3="ERwIT", 'Full menu'!D3="I&ERT", 'Full menu'!D3="ER&M&IT"),"MixedTs",IF('Full menu'!D3="UD","UD",IF('Full menu'!D3="LSD","LSD",IF('Full menu'!D3="WSD","WSD",""))))))))) -> ERTs | E3: =IF('Full menu'!E3="MDC","MDC",IF(OR('Full menu'!E3="PERF",'Full menu'!E3="AERF",'Full menu'!E3="PCB"),"ERfix",IF(OR('Full menu'!E3="ACB", 'Full menu'!E3="LCERT", 'Full menu'!E3="LERT",'Full menu'!E3="FCERT",'Full menu'!E3="FERT"),"ERTs",IF(OR('Full menu'!E3="FCMT",'Full menu'!E3="FMT",'Full menu'!E3="LMT",'Full menu'!E3="LCMT"),"MTs",IF(OR('Full menu'!E3="LCIT",'Full menu'!E3="FCIT",'Full menu'!E3="LIT",'Full menu'!E3="FIT"),"ITs",IF(OR('Full menu'!E3="MwERT", 'Full menu'!E3="ERwMT", 'Full menu'!E3="M&ERT", 'Full menu'!E3="MwIT", 'Full menu'!E3="IwMT", 'Full menu'!E3="M&IT", 'Full menu'!E3="IwERT", 'Full menu'!E3="ERwIT", 'Full menu'!E3="I&ERT", 'Full menu'!E3="ER&M&IT"),"MixedTs",IF('Full menu'!E3="UD","UD",IF('Full menu'!E3="LSD","LSD",IF('Full menu'!E3="WSD","WSD",""))))))))) -> ERTs | F3: =IF('Full menu'!F3="MDC","MDC",IF(OR('Full menu'!F3="PERF",'Full menu'!F3="AERF",'Full menu'!F3="PCB"),"ERfix",IF(OR('Full menu'!F3="ACB", 'Full menu'!F3="LCERT", 'Full menu'!F3="LERT",'Full menu'!F3="FCERT",'Full menu'!F3="FERT"),"ERTs",IF(OR('Full menu'!F3="FCMT",'Full menu'!F3="FMT",'Full menu'!F3="LMT",'Full menu'!F3="LCMT"),"MTs",IF(OR('Full menu'!F3="LCIT",'Full menu'!F3="FCIT",'Full menu'!F3="LIT",'Full menu'!F3="FIT"),"ITs",IF(OR('Full menu'!F3="MwERT", 'Full menu'!F3="ERwMT", 'Full menu'!F3="M&ERT", 'Full menu'!F3="MwIT", 'Full menu'!F3="IwMT", 'Full menu'!F3="M&IT", 'Full menu'!F3="IwERT", 'Full menu'!F3="ERwIT", 'Full menu'!F3="I&ERT", 'Full menu'!F3="ER&M&IT"),"MixedTs",IF('Full menu'!F3="UD","UD",IF('Full menu'!F3="LSD","LSD",IF('Full menu'!F3="WSD","WSD",""))))))))) -> ERTs | G3: =IF('Full menu'!G3="MDC","MDC",IF(OR('Full menu'!G3="PERF",'Full menu'!G3="AERF",'Full menu'!G3="PCB"),"ERfix",IF(OR('Full menu'!G3="ACB", 'Full menu'!G3="LCERT", 'Full menu'!G3="LERT",'Full menu'!G3="FCERT",'Full menu'!G3="FERT"),"ERTs",IF(OR('Full menu'!G3="FCMT",'Full menu'!G3="FMT",'Full menu'!G3="LMT",'Full menu'!G3="LCMT"),"MTs",IF(OR('Full menu'!G3="LCIT",'Full menu'!G3="FCIT",'Full menu'!G3="LIT",'Full menu'!G3="FIT"),"ITs",IF(OR('Full menu'!G3="MwERT", 'Full menu'!G3="ERwMT", 'Full menu'!G3="M&ERT", 'Full menu'!G3="MwIT", 'Full menu'!G3="IwMT", 'Full menu'!G3="M&IT", 'Full menu'!G3="IwERT", 'Full menu'!G3="ERwIT", 'Full menu'!G3="I&ERT", 'Full menu'!G3="ER&M&IT"),"MixedTs",IF('Full menu'!G3="UD","UD",IF('Full menu'!G3="LSD","LSD",IF('Full menu'!G3="WSD","WSD",""))))))))) -> ERTs | H3: =IF('Full menu'!H3="MDC","MDC",IF(OR('Full menu'!H3="PERF",'Full menu'!H3="AERF",'Full menu'!H3="PCB"),"ERfix",IF(OR('Full menu'!H3="ACB", 'Full menu'!H3="LCERT", 'Full menu'!H3="LERT",'Full menu'!H3="FCERT",'Full menu'!H3="FERT"),"ERTs",IF(OR('Full menu'!H3="FCMT",'Full menu'!H3="FMT",'Full menu'!H3="LMT",'Full menu'!H3="LCMT"),"MTs",IF(OR('Full menu'!H3="LCIT",'Full menu'!H3="FCIT",'Full menu'!H3="LIT",'Full menu'!H3="FIT"),"ITs",IF(OR('Full menu'!H3="MwERT", 'Full menu'!H3="ERwMT", 'Full menu'!H3="M&ERT", 'Full menu'!H3="MwIT", 'Full menu'!H3="IwMT", 'Full menu'!H3="M&IT", 'Full menu'!H3="IwERT", 'Full menu'!H3="ERwIT", 'Full menu'!H3="I&ERT", 'Full menu'!H3="ER&M&IT"),"MixedTs",IF('Full menu'!H3="UD","UD",IF('Full menu'!H3="LSD","LSD",IF('Full menu'!H3="WSD","WSD",""))))))))) -> ERTs | I3: =IF('Full menu'!I3="MDC","MDC",IF(OR('Full menu'!I3="PERF",'Full menu'!I3="AERF",'Full menu'!I3="PCB"),"ERfix",IF(OR('Full menu'!I3="ACB", 'Full menu'!I3="LCERT", 'Full menu'!I3="LERT",'Full menu'!I3="FCERT",'Full menu'!I3="FERT"),"ERTs",IF(OR('Full menu'!I3="FCMT",'Full menu'!I3="FMT",'Full menu'!I3="LMT",'Full menu'!I3="LCMT"),"MTs",IF(OR('Full menu'!I3="LCIT",'Full menu'!I3="FCIT",'Full menu'!I3="LIT",'Full menu'!I3="FIT"),"ITs",IF(OR('Full menu'!I3="MwERT", 'Full menu'!I3="ERwMT", 'Full menu'!I3="M&ERT", 'Full menu'!I3="MwIT", 'Full menu'!I3="IwMT", 'Full menu'!I3="M&IT", 'Full menu'!I3="IwERT", 'Full menu'!I3="ERwIT", 'Full menu'!I3="I&ERT", 'Full menu'!I3="ER&M&IT"),"MixedTs",IF('Full menu'!I3="UD","UD",IF('Full menu'!I3="LSD","LSD",IF('Full menu'!I3="WSD","WSD",""))))))))) -> ERTs | ... AY3: =IF('Full menu'!AY3="MDC","MDC",IF(OR('Full menu'!AY3="PERF",'Full menu'!AY3="AERF",'Full menu'!AY3="PCB"),"ERfix",IF(OR('Full menu'!AY3="ACB", 'Full menu'!AY3="LCERT", 'Full menu'!AY3="LERT",'Full menu'!AY3="FCERT",'Full menu'!AY3="FERT"),"ERTs",IF(OR('Full menu'!AY3="FCMT",'Full menu'!AY3="FMT",'Full menu'!AY3="LMT",'Full menu'!AY3="LCMT"),"MTs",IF(OR('Full menu'!AY3="LCIT",'Full menu'!AY3="FCIT",'Full menu'!AY3="LIT",'Full menu'!AY3="FIT"),"ITs",IF(OR('Full menu'!AY3="MwERT", 'Full menu'!AY3="ERwMT", 'Full menu'!AY3="M&ERT", 'Full menu'!AY3="MwIT", 'Full menu'!AY3="IwMT", 'Full menu'!AY3="M&IT", 'Full menu'!AY3="IwERT", 'Full menu'!AY3="ERwIT", 'Full menu'!AY3="I&ERT", 'Full menu'!AY3="ER&M&IT"),"MixedTs",IF('Full menu'!AY3="UD","UD",IF('Full menu'!AY3="LSD","LSD",IF('Full menu'!AY3="WSD","WSD",""))))))))) | AZ3: =IF('Full menu'!AZ3="MDC","MDC",IF(OR('Full menu'!AZ3="PERF",'Full menu'!AZ3="AERF",'Full menu'!AZ3="PCB"),"ERfix",IF(OR('Full menu'!AZ3="ACB", 'Full menu'!AZ3="LCERT", 'Full menu'!AZ3="LERT",'Full menu'!AZ3="FCERT",'Full menu'!AZ3="FERT"),"ERT",IF(OR('Full menu'!AZ3="FCMT",'Full menu'!AZ3="FMT",'Full menu'!AZ3="LMT",'Full menu'!AZ3="LCMT"),"MT",IF(OR('Full menu'!AZ3="LCIT",'Full menu'!AZ3="FCIT",'Full menu'!AZ3="LMT",'Full menu'!AZ3="FMT"),"IT",IF(OR('Full menu'!AZ3="MwERT", 'Full menu'!AZ3="ERwMT", 'Full menu'!AZ3="M&ERT", 'Full menu'!AZ3="MwIT", 'Full menu'!AZ3="IwMT", 'Full menu'!AZ3="M&IT", 'Full menu'!AZ3="IwERT", 'Full menu'!AZ3="ERwIT", 'Full menu'!AZ3="I&ERT", 'Full menu'!AZ3="ER&M&IT"),"MixedT",IF('Full menu'!AZ3="UD","UD",IF('Full menu'!AZ3="LSD","LSD",IF('Full menu'!AZ3="WSD","WSD",""))))))))) | BA3: =IF('Full menu'!BA3="MDC","MDC",IF(OR('Full menu'!BA3="PERF",'Full menu'!BA3="AERF",'Full menu'!BA3="PCB"),"ERfix",IF(OR('Full menu'!BA3="ACB", 'Full menu'!BA3="LCERT", 'Full menu'!BA3="LERT",'Full menu'!BA3="FCERT",'Full menu'!BA3="FERT"),"ERT",IF(OR('Full menu'!BA3="FCMT",'Full menu'!BA3="FMT",'Full menu'!BA3="LMT",'Full menu'!BA3="LCMT"),"MT",IF(OR('Full menu'!BA3="LCIT",'Full menu'!BA3="FCIT",'Full menu'!BA3="LMT",'Full menu'!BA3="FMT"),"IT",IF(OR('Full menu'!BA3="MwERT", 'Full menu'!BA3="ERwMT", 'Full menu'!BA3="M&ERT", 'Full menu'!BA3="MwIT", 'Full menu'!BA3="IwMT", 'Full menu'!BA3="M&IT", 'Full menu'!BA3="IwERT", 'Full menu'!BA3="ERwIT", 'Full menu'!BA3="I&ERT", 'Full menu'!BA3="ER&M&IT"),"MixedT",IF('Full menu'!BA3="UD","UD",IF('Full menu'!BA3="LSD","LSD",IF('Full menu'!BA3="WSD","WSD",""))))))))) | BB3: =IF('Full menu'!BB3="MDC","MDC",IF(OR('Full menu'!BB3="PERF",'Full menu'!BB3="AERF",'Full menu'!BB3="PCB"),"ERfix",IF(OR('Full menu'!BB3="ACB", 'Full menu'!BB3="LCERT", 'Full menu'!BB3="LERT",'Full menu'!BB3="FCERT",'Full menu'!BB3="FERT"),"ERT",IF(OR('Full menu'!BB3="FCMT",'Full menu'!BB3="FMT",'Full menu'!BB3="LMT",'Full menu'!BB3="LCMT"),"MT",IF(OR('Full menu'!BB3="LCIT",'Full menu'!BB3="FCIT",'Full menu'!BB3="LMT",'Full menu'!BB3="FMT"),"IT",IF(OR('Full menu'!BB3="MwERT", 'Full menu'!BB3="ERwMT", 'Full menu'!BB3="M&ERT", 'Full menu'!BB3="MwIT", 'Full menu'!BB3="IwMT", 'Full menu'!BB3="M&IT", 'Full menu'!BB3="IwERT", 'Full menu'!BB3="ERwIT", 'Full menu'!BB3="I&ERT", 'Full menu'!BB3="ER&M&IT"),"MixedT",IF('Full menu'!BB3="UD","UD",IF('Full menu'!BB3="LSD","LSD",IF('Full menu'!BB3="WSD","WSD",""))))))))) | BC3: =IF('Full menu'!BC3="MDC","MDC",IF(OR('Full menu'!BC3="PERF",'Full menu'!BC3="AERF",'Full menu'!BC3="PCB"),"ERfix",IF(OR('Full menu'!BC3="ACB", 'Full menu'!BC3="LCERT", 'Full menu'!BC3="LERT",'Full menu'!BC3="FCERT",'Full menu'!BC3="FERT"),"ERT",IF(OR('Full menu'!BC3="FCMT",'Full menu'!BC3="FMT",'Full menu'!BC3="LMT",'Full menu'!BC3="LCMT"),"MT",IF(OR('Full menu'!BC3="LCIT",'Full menu'!BC3="FCIT",'Full menu'!BC3="LMT",'Full menu'!BC3="FMT"),"IT",IF(OR('Full menu'!BC3="MwERT", 'Full menu'!BC3="ERwMT", 'Full menu'!BC3="M&ERT", 'Full menu'!BC3="MwIT", 'Full menu'!BC3="IwMT", 'Full menu'!BC3="M&IT", 'Full menu'!BC3="IwERT", 'Full menu'!BC3="ERwIT", 'Full menu'!BC3="I&ERT", 'Full menu'!BC3="ER&M&IT"),"MixedT",IF('Full menu'!BC3="UD","UD",IF('Full menu'!BC3="LSD","LSD",IF('Full menu'!BC3="WSD","WSD","")))))))))
A4: Belgium | B4: =IF('Full menu'!B4="MDC","MDC",IF(OR('Full menu'!B4="PERF",'Full menu'!B4="AERF",'Full menu'!B4="PCB"),"ERfix",IF(OR('Full menu'!B4="ACB", 'Full menu'!B4="LCERT", 'Full menu'!B4="LERT",'Full menu'!B4="FCERT",'Full menu'!B4="FERT"),"ERTs",IF(OR('Full menu'!B4="FCMT",'Full menu'!B4="FMT",'Full menu'!B4="LMT",'Full menu'!B4="LCMT"),"MTs",IF(OR('Full menu'!B4="LCIT",'Full menu'!B4="FCIT",'Full menu'!B4="LIT",'Full menu'!B4="FIT"),"ITs",IF(OR('Full menu'!B4="MwERT", 'Full menu'!B4="ERwMT", 'Full menu'!B4="M&ERT", 'Full menu'!B4="MwIT", 'Full menu'!B4="IwMT", 'Full menu'!B4="M&IT", 'Full menu'!B4="IwERT", 'Full menu'!B4="ERwIT", 'Full menu'!B4="I&ERT", 'Full menu'!B4="ER&M&IT"),"MixedTs",IF('Full menu'!B4="UD","UD",IF('Full menu'!B4="LSD","LSD",IF('Full menu'!B4="WSD","WSD",""))))))))) -> ERTs | C4: =IF('Full menu'!C4="MDC","MDC",IF(OR('Full menu'!C4="PERF",'Full menu'!C4="AERF",'Full menu'!C4="PCB"),"ERfix",IF(OR('Full menu'!C4="ACB", 'Full menu'!C4="LCERT", 'Full menu'!C4="LERT",'Full menu'!C4="FCERT",'Full menu'!C4="FERT"),"ERTs",IF(OR('Full menu'!C4="FCMT",'Full menu'!C4="FMT",'Full menu'!C4="LMT",'Full menu'!C4="LCMT"),"MTs",IF(OR('Full menu'!C4="LCIT",'Full menu'!C4="FCIT",'Full menu'!C4="LIT",'Full menu'!C4="FIT"),"ITs",IF(OR('Full menu'!C4="MwERT", 'Full menu'!C4="ERwMT", 'Full menu'!C4="M&ERT", 'Full menu'!C4="MwIT", 'Full menu'!C4="IwMT", 'Full menu'!C4="M&IT", 'Full menu'!C4="IwERT", 'Full menu'!C4="ERwIT", 'Full menu'!C4="I&ERT", 'Full menu'!C4="ER&M&IT"),"MixedTs",IF('Full menu'!C4="UD","UD",IF('Full menu'!C4="LSD","LSD",IF('Full menu'!C4="WSD","WSD",""))))))))) -> ERTs | D4: =IF('Full menu'!D4="MDC","MDC",IF(OR('Full menu'!D4="PERF",'Full menu'!D4="AERF",'Full menu'!D4="PCB"),"ERfix",IF(OR('Full menu'!D4="ACB", 'Full menu'!D4="LCERT", 'Full menu'!D4="LERT",'Full menu'!D4="FCERT",'Full menu'!D4="FERT"),"ERTs",IF(OR('Full menu'!D4="FCMT",'Full menu'!D4="FMT",'Full menu'!D4="LMT",'Full menu'!D4="LCMT"),"MTs",IF(OR('Full menu'!D4="LCIT",'Full menu'!D4="FCIT",'Full menu'!D4="LIT",'Full menu'!D4="FIT"),"ITs",IF(OR('Full menu'!D4="MwERT", 'Full menu'!D4="ERwMT", 'Full menu'!D4="M&ERT", 'Full menu'!D4="MwIT", 'Full menu'!D4="IwMT", 'Full menu'!D4="M&IT", 'Full menu'!D4="IwERT", 'Full menu'!D4="ERwIT", 'Full menu'!D4="I&ERT", 'Full menu'!D4="ER&M&IT"),"MixedTs",IF('Full menu'!D4="UD","UD",IF('Full menu'!D4="LSD","LSD",IF('Full menu'!D4="WSD","WSD",""))))))))) -> ERTs | E4: =IF('Full menu'!E4="MDC","MDC",IF(OR('Full menu'!E4="PERF",'Full menu'!E4="AERF",'Full menu'!E4="PCB"),"ERfix",IF(OR('Full menu'!E4="ACB", 'Full menu'!E4="LCERT", 'Full menu'!E4="LERT",'Full menu'!E4="FCERT",'Full menu'!E4="FERT"),"ERTs",IF(OR('Full menu'!E4="FCMT",'Full menu'!E4="FMT",'Full menu'!E4="LMT",'Full menu'!E4="LCMT"),"MTs",IF(OR('Full menu'!E4="LCIT",'Full menu'!E4="FCIT",'Full menu'!E4="LIT",'Full menu'!E4="FIT"),"ITs",IF(OR('Full menu'!E4="MwERT", 'Full menu'!E4="ERwMT", 'Full menu'!E4="M&ERT", 'Full menu'!E4="MwIT", 'Full menu'!E4="IwMT", 'Full menu'!E4="M&IT", 'Full menu'!E4="IwERT", 'Full menu'!E4="ERwIT", 'Full menu'!E4="I&ERT", 'Full menu'!E4="ER&M&IT"),"MixedTs",IF('Full menu'!E4="UD","UD",IF('Full menu'!E4="LSD","LSD",IF('Full menu'!E4="WSD","WSD",""))))))))) -> ERTs | F4: =IF('Full menu'!F4="MDC","MDC",IF(OR('Full menu'!F4="PERF",'Full menu'!F4="AERF",'Full menu'!F4="PCB"),"ERfix",IF(OR('Full menu'!F4="ACB", 'Full menu'!F4="LCERT", 'Full menu'!F4="LERT",'Full menu'!F4="FCERT",'Full menu'!F4="FERT"),"ERTs",IF(OR('Full menu'!F4="FCMT",'Full menu'!F4="FMT",'Full menu'!F4="LMT",'Full menu'!F4="LCMT"),"MTs",IF(OR('Full menu'!F4="LCIT",'Full menu'!F4="FCIT",'Full menu'!F4="LIT",'Full menu'!F4="FIT"),"ITs",IF(OR('Full menu'!F4="MwERT", 'Full menu'!F4="ERwMT", 'Full menu'!F4="M&ERT", 'Full menu'!F4="MwIT", 'Full menu'!F4="IwMT", 'Full menu'!F4="M&IT", 'Full menu'!F4="IwERT", 'Full menu'!F4="ERwIT", 'Full menu'!F4="I&ERT", 'Full menu'!F4="ER&M&IT"),"MixedTs",IF('Full menu'!F4="UD","UD",IF('Full menu'!F4="LSD","LSD",IF('Full menu'!F4="WSD","WSD",""))))))))) -> ERTs | G4: =IF('Full menu'!G4="MDC","MDC",IF(OR('Full menu'!G4="PERF",'Full menu'!G4="AERF",'Full menu'!G4="PCB"),"ERfix",IF(OR('Full menu'!G4="ACB", 'Full menu'!G4="LCERT", 'Full menu'!G4="LERT",'Full menu'!G4="FCERT",'Full menu'!G4="FERT"),"ERTs",IF(OR('Full menu'!G4="FCMT",'Full menu'!G4="FMT",'Full menu'!G4="LMT",'Full menu'!G4="LCMT"),"MTs",IF(OR('Full menu'!G4="LCIT",'Full menu'!G4="FCIT",'Full menu'!G4="LIT",'Full menu'!G4="FIT"),"ITs",IF(OR('Full menu'!G4="MwERT", 'Full menu'!G4="ERwMT", 'Full menu'!G4="M&ERT", 'Full menu'!G4="MwIT", 'Full menu'!G4="IwMT", 'Full menu'!G4="M&IT", 'Full menu'!G4="IwERT", 'Full menu'!G4="ERwIT", 'Full menu'!G4="I&ERT", 'Full menu'!G4="ER&M&IT"),"MixedTs",IF('Full menu'!G4="UD","UD",IF('Full menu'!G4="LSD","LSD",IF('Full menu'!G4="WSD","WSD",""))))))))) -> ERTs | H4: =IF('Full menu'!H4="MDC","MDC",IF(OR('Full menu'!H4="PERF",'Full menu'!H4="AERF",'Full menu'!H4="PCB"),"ERfix",IF(OR('Full menu'!H4="ACB", 'Full menu'!H4="LCERT", 'Full menu'!H4="LERT",'Full menu'!H4="FCERT",'Full menu'!H4="FERT"),"ERTs",IF(OR('Full menu'!H4="FCMT",'Full menu'!H4="FMT",'Full menu'!H4="LMT",'Full menu'!H4="LCMT"),"MTs",IF(OR('Full menu'!H4="LCIT",'Full menu'!H4="FCIT",'Full menu'!H4="LIT",'Full menu'!H4="FIT"),"ITs",IF(OR('Full menu'!H4="MwERT", 'Full menu'!H4="ERwMT", 'Full menu'!H4="M&ERT", 'Full menu'!H4="MwIT", 'Full menu'!H4="IwMT", 'Full menu'!H4="M&IT", 'Full menu'!H4="IwERT", 'Full menu'!H4="ERwIT", 'Full menu'!H4="I&ERT", 'Full menu'!H4="ER&M&IT"),"MixedTs",IF('Full menu'!H4="UD","UD",IF('Full menu'!H4="LSD","LSD",IF('Full menu'!H4="WSD","WSD",""))))))))) -> ERTs | I4: =IF('Full menu'!I4="MDC","MDC",IF(OR('Full menu'!I4="PERF",'Full menu'!I4="AERF",'Full menu'!I4="PCB"),"ERfix",IF(OR('Full menu'!I4="ACB", 'Full menu'!I4="LCERT", 'Full menu'!I4="LERT",'Full menu'!I4="FCERT",'Full menu'!I4="FERT"),"ERTs",IF(OR('Full menu'!I4="FCMT",'Full menu'!I4="FMT",'Full menu'!I4="LMT",'Full menu'!I4="LCMT"),"MTs",IF(OR('Full menu'!I4="LCIT",'Full menu'!I4="FCIT",'Full menu'!I4="LIT",'Full menu'!I4="FIT"),"ITs",IF(OR('Full menu'!I4="MwERT", 'Full menu'!I4="ERwMT", 'Full menu'!I4="M&ERT", 'Full menu'!I4="MwIT", 'Full menu'!I4="IwMT", 'Full menu'!I4="M&IT", 'Full menu'!I4="IwERT", 'Full menu'!I4="ERwIT", 'Full menu'!I4="I&ERT", 'Full menu'!I4="ER&M&IT"),"MixedTs",IF('Full menu'!I4="UD","UD",IF('Full menu'!I4="LSD","LSD",IF('Full menu'!I4="WSD","WSD",""))))))))) -> ERTs | ... AY4: =IF('Full menu'!AY4="MDC","MDC",IF(OR('Full menu'!AY4="PERF",'Full menu'!AY4="AERF",'Full menu'!AY4="PCB"),"ERfix",IF(OR('Full menu'!AY4="ACB", 'Full menu'!AY4="LCERT", 'Full menu'!AY4="LERT",'Full menu'!AY4="FCERT",'Full menu'!AY4="FERT"),"ERTs",IF(OR('Full menu'!AY4="FCMT",'Full menu'!AY4="FMT",'Full menu'!AY4="LMT",'Full menu'!AY4="LCMT"),"MTs",IF(OR('Full menu'!AY4="LCIT",'Full menu'!AY4="FCIT",'Full menu'!AY4="LIT",'Full menu'!AY4="FIT"),"ITs",IF(OR('Full menu'!AY4="MwERT", 'Full menu'!AY4="ERwMT", 'Full menu'!AY4="M&ERT", 'Full menu'!AY4="MwIT", 'Full menu'!AY4="IwMT", 'Full menu'!AY4="M&IT", 'Full menu'!AY4="IwERT", 'Full menu'!AY4="ERwIT", 'Full menu'!AY4="I&ERT", 'Full menu'!AY4="ER&M&IT"),"MixedTs",IF('Full menu'!AY4="UD","UD",IF('Full menu'!AY4="LSD","LSD",IF('Full menu'!AY4="WSD","WSD",""))))))))) | AZ4: =IF('Full menu'!AZ4="MDC","MDC",IF(OR('Full menu'!AZ4="PERF",'Full menu'!AZ4="AERF",'Full menu'!AZ4="PCB"),"ERfix",IF(OR('Full menu'!AZ4="ACB", 'Full menu'!AZ4="LCERT", 'Full menu'!AZ4="LERT",'Full menu'!AZ4="FCERT",'Full menu'!AZ4="FERT"),"ERT",IF(OR('Full menu'!AZ4="FCMT",'Full menu'!AZ4="FMT",'Full menu'!AZ4="LMT",'Full menu'!AZ4="LCMT"),"MT",IF(OR('Full menu'!AZ4="LCIT",'Full menu'!AZ4="FCIT",'Full menu'!AZ4="LMT",'Full menu'!AZ4="FMT"),"IT",IF(OR('Full menu'!AZ4="MwERT", 'Full menu'!AZ4="ERwMT", 'Full menu'!AZ4="M&ERT", 'Full menu'!AZ4="MwIT", 'Full menu'!AZ4="IwMT", 'Full menu'!AZ4="M&IT", 'Full menu'!AZ4="IwERT", 'Full menu'!AZ4="ERwIT", 'Full menu'!AZ4="I&ERT", 'Full menu'!AZ4="ER&M&IT"),"MixedT",IF('Full menu'!AZ4="UD","UD",IF('Full menu'!AZ4="LSD","LSD",IF('Full menu'!AZ4="WSD","WSD",""))))))))) | BA4: =IF('Full menu'!BA4="MDC","MDC",IF(OR('Full menu'!BA4="PERF",'Full menu'!BA4="AERF",'Full menu'!BA4="PCB"),"ERfix",IF(OR('Full menu'!BA4="ACB", 'Full menu'!BA4="LCERT", 'Full menu'!BA4="LERT",'Full menu'!BA4="FCERT",'Full menu'!BA4="FERT"),"ERT",IF(OR('Full menu'!BA4="FCMT",'Full menu'!BA4="FMT",'Full menu'!BA4="LMT",'Full menu'!BA4="LCMT"),"MT",IF(OR('Full menu'!BA4="LCIT",'Full menu'!BA4="FCIT",'Full menu'!BA4="LMT",'Full menu'!BA4="FMT"),"IT",IF(OR('Full menu'!BA4="MwERT", 'Full menu'!BA4="ERwMT", 'Full menu'!BA4="M&ERT", 'Full menu'!BA4="MwIT", 'Full menu'!BA4="IwMT", 'Full menu'!BA4="M&IT", 'Full menu'!BA4="IwERT", 'Full menu'!BA4="ERwIT", 'Full menu'!BA4="I&ERT", 'Full menu'!BA4="ER&M&IT"),"MixedT",IF('Full menu'!BA4="UD","UD",IF('Full menu'!BA4="LSD","LSD",IF('Full menu'!BA4="WSD","WSD",""))))))))) | BB4: =IF('Full menu'!BB4="MDC","MDC",IF(OR('Full menu'!BB4="PERF",'Full menu'!BB4="AERF",'Full menu'!BB4="PCB"),"ERfix",IF(OR('Full menu'!BB4="ACB", 'Full menu'!BB4="LCERT", 'Full menu'!BB4="LERT",'Full menu'!BB4="FCERT",'Full menu'!BB4="FERT"),"ERT",IF(OR('Full menu'!BB4="FCMT",'Full menu'!BB4="FMT",'Full menu'!BB4="LMT",'Full menu'!BB4="LCMT"),"MT",IF(OR('Full menu'!BB4="LCIT",'Full menu'!BB4="FCIT",'Full menu'!BB4="LMT",'Full menu'!BB4="FMT"),"IT",IF(OR('Full menu'!BB4="MwERT", 'Full menu'!BB4="ERwMT", 'Full menu'!BB4="M&ERT", 'Full menu'!BB4="MwIT", 'Full menu'!BB4="IwMT", 'Full menu'!BB4="M&IT", 'Full menu'!BB4="IwERT", 'Full menu'!BB4="ERwIT", 'Full menu'!BB4="I&ERT", 'Full menu'!BB4="ER&M&IT"),"MixedT",IF('Full menu'!BB4="UD","UD",IF('Full menu'!BB4="LSD","LSD",IF('Full menu'!BB4="WSD","WSD",""))))))))) | BC4: =IF('Full menu'!BC4="MDC","MDC",IF(OR('Full menu'!BC4="PERF",'Full menu'!BC4="AERF",'Full menu'!BC4="PCB"),"ERfix",IF(OR('Full menu'!BC4="ACB", 'Full menu'!BC4="LCERT", 'Full menu'!BC4="LERT",'Full menu'!BC4="FCERT",'Full menu'!BC4="FERT"),"ERT",IF(OR('Full menu'!BC4="FCMT",'Full menu'!BC4="FMT",'Full menu'!BC4="LMT",'Full menu'!BC4="LCMT"),"MT",IF(OR('Full menu'!BC4="LCIT",'Full menu'!BC4="FCIT",'Full menu'!BC4="LMT",'Full menu'!BC4="FMT"),"IT",IF(OR('Full menu'!BC4="MwERT", 'Full menu'!BC4="ERwMT", 'Full menu'!BC4="M&ERT", 'Full menu'!BC4="MwIT", 'Full menu'!BC4="IwMT", 'Full menu'!BC4="M&IT", 'Full menu'!BC4="IwERT", 'Full menu'!BC4="ERwIT", 'Full menu'!BC4="I&ERT", 'Full menu'!BC4="ER&M&IT"),"MixedT",IF('Full menu'!BC4="UD","UD",IF('Full menu'!BC4="LSD","LSD",IF('Full menu'!BC4="WSD","WSD","")))))))))
