Workbook

Sheet Full menu
B1: 1974 | C1: 1975 | D1: 1976 | E1: 1977 | F1: 1978 | G1: 1979 | H1: 1980 | I1: 1981 | J1: 1982 | K1: 1983 | L1: 1984 | M1: 1985 | N1: 1986 | O1: 1987 | P1: 1988 | Q1: 1989 | R1: 1990 | S1: 1991 | T1: 1992 | U1: 1993 | V1: 1994 | W1: 1995 | X1: 1996 | Y1: 1997 | Z1: 1998 | AA1: 1999 | AB1: 2000 | AC1: 2001 | AD1: 2002 | AE1: 2003 | AF1: 2004 | AG1: 2005 | AH1: 2006 | AI1: 2007 | AJ1: 2008 | AK1: 2009 | AL1: 2010 | AM1: 2011 | AN1: 2012 | AO1: 2013 | AP1: 2014 | AQ1: 2015 | AR1: 2016 | AS1: 2017 | AT1: 2018 | AU1: 2019 | AV1: 2020 | AW1: 2021 | AX1: 2022 | AY1: 2023
A2: Euro area | B2: X | C2: X | D2: X | E2: X | F2: X | G2: X | H2: X | I2: X | J2: X | K2: X | L2: X | M2: X | N2: X | O2: X | P2: X | Q2: X | R2: X | S2: X | T2: X | U2: X | V2: X | W2: X | X2: X | Y2: X | Z2: X | AA2: LIT | AB2: LIT | AC2: LIT | AD2: LIT | AE2: LIT | AF2: LIT | AG2: LIT | AH2: LIT | AI2: LIT | AJ2: LIT | AK2: LIT | AL2: LIT | AM2: LIT | AN2: LIT | AO2: LIT | AP2: LIT | AQ2: LIT | AR2: LIT | AS2: LIT | AT2: LIT | AU2: LIT | AV2: LIT | AW2: LIT | AX2: FIT | AY2: FIT
A3: Austria | B3: LERT | C3: LERT | D3: LERT | E3: LERT | F3: LERT | G3: LERT | H3: FERT | I3: FERT | J3: FERT | K3: FERT | L3: FERT | M3: FERT | N3: FERT | O3: FERT | P3: FERT | Q3: FERT | R3: FERT | S3: FERT | T3: FERT | U3: FERT | V3: FERT | W3: FERT | X3: FERT | Y3: FERT | Z3: FERT | AA3: CU | AB3: CU | AC3: CU | AD3: CU | AE3: CU | AF3: CU | AG3: CU | AH3: CU | AI3: CU | AJ3: CU | AK3: CU | AL3: CU | AM3: CU | AN3: CU | AO3: CU | AP3: CU | AQ3: CU | AR3: CU | AS3: CU | AT3: CU | AU3: CU | AV3: CU | AW3: CU | AX3: CU | AY3: CU
A4: Belgium | B4: LERT | C4: LERT | D4: LERT | E4: LERT | F4: LERT | G4: LERT | H4: LERT | I4: LERT | J4: LERT | K4: FERT | L4: FERT | M4: FERT | N4: FERT | O4: FERT | P4: FERT | Q4: FERT | R4: FERT | S4: FERT | T4: FERT | U4: FERT | V4: FERT | W4: FERT | X4: FERT | Y4: FERT | Z4: FERT | AA4: CU | AB4: CU | AC4: CU | AD4: CU | AE4: CU | AF4: CU | AG4: CU | AH4: CU | AI4: CU | AJ4: CU | AK4: CU | AL4: CU | AM4: CU | AN4: CU | AO4: CU | AP4: CU | AQ4: CU | AR4: CU | AS4: CU | AT4: CU | AU4: CU | AV4: CU | AW4: CU | AX4: CU | AY4: CU
A5: Finland | B5: LERT | C5: LERT | D5: LERT | E5: LERT | F5: LERT | G5: LERT | H5: LERT | I5: LERT | J5: LERT | K5: FERT | L5: FERT | M5: FERT | N5: FERT | O5: FERT | P5: FERT | Q5: FERT | R5: FERT | S5: FERT | T5: FERT | U5: FIT | V5: FIT | W5: FIT | X5: FIT | Y5: IwERT | Z5: IwERT | AA5: CU | AB5: CU | AC5: CU | AD5: CU | AE5: CU | AF5: CU | AG5: CU | AH5: CU | AI5: CU | AJ5: CU | AK5: CU | AL5: CU | AM5: CU | AN5: CU | AO5: CU | AP5: CU | AQ5: CU | AR5: CU | AS5: CU | AT5: CU | AU5: CU | AV5: CU | AW5: CU | AX5: CU | AY5: CU
A6: France | B6: LSD | C6: LSD | D6: LSD | E6: MwERT | F6: MwERT | G6: MwERT | H6: MwERT | I6: MwERT | J6: MwERT | K6: M&ERT | L6: M&ERT | M6: M&ERT | N6: M&ERT | O6: ERwMT | P6: ERwMT | Q6: ERwMT | R6: ERwMT | S6: ERwMT | T6: ERwMT | U6: FERT | V6: FERT | W6: FERT | X6: FERT | Y6: FERT | Z6: FERT | AA6: CU | AB6: CU | AC6: CU | AD6: CU | AE6: CU | AF6: CU | AG6: CU | AH6: CU | AI6: CU | AJ6: CU | AK6: CU | AL6: CU | AM6: CU | AN6: CU | AO6: CU | AP6: CU | AQ6: CU | AR6: CU | AS6: CU | AT6: CU | AU6: CU | AV6: CU | AW6: CU | AX6: CU | AY6: CU
A7: Germany | B7: LSD | C7: MwERT | D7: MwERT | E7: MwERT | F7: MwERT | G7: MwERT | H7: MwERT | I7: MwERT | J7: MwERT | K7: MwERT | L7: MwERT | M7: MwERT | N7: ERwMT | O7: ERwMT | P7: MwERT | Q7: MwERT | R7: MwERT | S7: MwERT | T7: ERwMT | U7: ERwMT | V7: MwERT | W7: MwERT | X7: MwERT | Y7: MwERT | Z7: MwERT | AA7: CU | AB7: CU | AC7: CU | AD7: CU | AE7: CU | AF7: CU | AG7: CU | AH7: CU | AI7: CU | AJ7: CU | AK7: CU | AL7: CU | AM7: CU | AN7: CU | AO7: CU | AP7: CU | AQ7: CU | AR7: CU | AS7: CU | AT7: CU | AU7: CU | AV7: CU | AW7: CU | AX7: CU | AY7: CU
A8: Greece | B8: UD | C8: UD | D8: UD | E8: UD | F8: UD | G8: UD | H8: UD | I8: UD | J8: UD | K8: UD | L8: UD | M8: UD | N8: UD | O8: UD | P8: UD | Q8: UD | R8: UD | S8: LSD | T8: LSD | U8: LSD | V8: LSD | W8: ERwMT | X8: ERwMT | Y8: ERwMT | Z8: ERwMT | AA8: ERwMT | AB8: ERwMT | AC8: CU | AD8: CU | AE8: CU | AF8: CU | AG8: CU | AH8: CU | AI8: CU | AJ8: CU | AK8: CU | AL8: CU | AM8: CU | AN8: CU | AO8: CU | AP8: CU | AQ8: CU | AR8: CU | AS8: CU | AT8: CU | AU8: CU | AV8: CU | AW8: CU | AX8: CU | AY8: CU
A9: Ireland | B9: ACB | C9: ACB | D9: ACB | E9: ACB | F9: ACB | G9: LERT | H9: LERT | I9: LERT | J9: LERT | K9: LERT | L9: LERT | M9: LERT | N9: LERT | O9: FERT | P9: FERT | Q9: FERT | R9: FERT | S9: FERT | T9: FERT | U9: FERT | V9: FERT | W9: FERT | X9: FERT | Y9: FERT | Z9: FERT | AA9: CU | AB9: CU | AC9: CU | AD9: CU | AE9: CU | AF9: CU | AG9: CU | AH9: CU | AI9: CU | AJ9: CU | AK9: CU | AL9: CU | AM9: CU | AN9: CU | AO9: CU | AP9: CU | AQ9: CU | AR9: CU | AS9: CU | AT9: CU | AU9: CU | AV9: CU | AW9: CU | AX9: CU | AY9: CU
A10: Italy | B10: UD | C10: UD | D10: UD | E10: UD | F10: UD | G10: MwERT | H10: MwERT | I10: MwERT | J10: MwERT | K10: MwERT | L10: MwERT | M10: MwERT | N10: MwERT | O10: MwERT | P10: M&ERT | Q10: M&ERT | R10: M&ERT | S10: M&ERT | T10: M&ERT | U10: LMT | V10: LMT | W10: M&IT | X10: M&IT | Y10: ER&M&IT | Z10: ER&M&IT | AA10: CU | AB10: CU | AC10: CU | AD10: CU | AE10: CU | AF10: CU | AG10: CU | AH10: CU | AI10: CU | AJ10: CU | AK10: CU | AL10: CU | AM10: CU | AN10: CU | AO10: CU | AP10: CU | AQ10: CU | AR10: CU | AS10: CU | AT10: CU | AU10: CU | AV10: CU | AW10: CU | AX10: CU | AY10: CU
A11: Luxembourg | B11: UASC | C11: UASC | D11: UASC | E11: UASC | F11: UASC | G11: UASC | H11: UASC | I11: UASC | J11: UASC | K11: UASC | L11: UASC | M11: UASC | N11: UASC | O11: UASC | P11: UASC | Q11: UASC | R11: UASC | S11: UASC | T11: UASC | U11: UASC | V11: UASC | W11: UASC | X11: UASC | Y11: UASC | Z11: UASC | AA11: CU | AB11: CU | AC11: CU | AD11: CU | AE11: CU | AF11: CU | AG11: CU | AH11: CU | AI11: CU | AJ11: CU | AK11: CU | AL11: CU | AM11: CU | AN11: CU | AO11: CU | AP11: CU | AQ11: CU | AR11: CU | AS11: CU | AT11: CU | AU11: CU | AV11: CU | AW11: CU | AX11: CU | AY11: CU
A12: Netherlands | B12: FERT | C12: FERT | D12: FERT | E12: FERT | F12: FERT | G12: FERT | H12: FERT | I12: FERT | J12: FERT | K12: FERT | L12: FERT | M12: FERT | N12: FERT | O12: FERT | P12: FERT | Q12: FERT | R12: FERT | S12: FERT | T12: FERT | U12: FERT | V12: FERT | W12: FERT | X12: FERT | Y12: FERT | Z12: FERT | AA12: CU | AB12: CU | AC12: CU | AD12: CU | AE12: CU | AF12: CU | AG12: CU | AH12: CU | AI12: CU | AJ12: CU | AK12: CU | AL12: CU | AM12: CU | AN12: CU | AO12: CU | AP12: CU | AQ12: CU | AR12: CU | AS12: CU | AT12: CU | AU12: CU | AV12: CU | AW12: CU | AX12: CU | AY12: CU
A13: Portugal | B13: UD | C13: UD | D13: UD | E13: UD | F13: LCERT | G13: LCERT | H13: LCERT | I13: LCERT | J13: LCERT | K13: LCERT | L13: LCERT | M13: LCERT | N13: LCERT | O13: LCERT | P13: LCERT | Q13: LCERT | R13: LCERT | S13: LERT | T13: LERT | U13: LERT | V13: LERT | W13: FERT | X13: FERT | Y13: FERT | Z13: FERT | AA13: CU | AB13: CU | AC13: CU | AD13: CU | AE13: CU | AF13: CU | AG13: CU | AH13: CU | AI13: CU | AJ13: CU | AK13: CU | AL13: CU | AM13: CU | AN13: CU | AO13: CU | AP13: CU | AQ13: CU | AR13: CU | AS13: CU | AT13: CU | AU13: CU | AV13: CU | AW13: CU | AX13: CU | AY13: CU
... A28: USA | B28: LSD | C28: FCMT | D28: FCMT | E28: FCMT | F28: FCMT | G28: FCMT | H28: FCMT | I28: LMT | J28: LMT | K28: LMT | L28: LMT | M28: LMT | N28: LMT | O28: LMT | P28: LMT | Q28: LMT | R28: LSD | S28: LSD | T28: LSD | U28: LSD | V28: LSD | W28: LSD | X28: LIT | Y28: LIT | Z28: LIT | AA28: LIT | AB28: LIT | AC28: LIT | AD28: LIT | AE28: LIT | AF28: LIT | AG28: LIT | AH28: LIT | AI28: LIT | AJ28: LIT | AK28: LIT | AL28: LIT | AM28: LIT | AN28: FIT | AO28: FIT | AP28: FIT | AQ28: FIT | AR28: FIT | AS28: FIT | AT28: FIT | AU28: FIT | AV28: FIT | AW28: FIT | AX28: FIT | AY28: FIT
B32: 1974 | C32: 1975 | D32: 1976 | E32: 1977 | F32: 1978 | G32: 1979 | H32: 1980 | I32: 1981 | J32: 1982 | K32: 1983 | L32: 1984 | M32: 1985 | N32: 1986 | O32: 1987 | P32: 1988 | Q32: 1989 | R32: 1990 | S32: 1991 | T32: 1992 | U32: 1993 | V32: 1994 | W32: 1995 | X32: 1996 | Y32: 1997 | Z32: 1998 | AA32: 1999 | AB32: 2000 | AC32: 2001 | AD32: 2002 | AE32: 2003 | AF32: 2004 | AG32: 2005 | AH32: 2006 | AI32: 2007 | AJ32: 2008 | AK32: 2009 | AL32: 2010 | AM32: 2011 | AN32: 2012 | AO32: 2013 | AP32: 2014 | AQ32: 2015 | AR32: 2016 | AS32: 2017 | AT32: 2018 | AU32: 2019 | AV32: 2020 | AW32: 2021 | AX32: 2022 | AY32: 2023
A33: X | B33: =COUNTIF(B2:B29,"X") -> 1 | C33: =COUNTIF(C2:C29,"X") -> 1 | D33: =COUNTIF(D2:D29,"X") -> 1 | E33: =COUNTIF(E2:E29,"X") -> 1 | F33: =COUNTIF(F2:F29,"X") -> 1 | G33: =COUNTIF(G2:G29,"X") -> 1 | H33: =COUNTIF(H2:H29,"X") -> 1 | I33: =COUNTIF(I2:I29,"X") -> 1 | ... AY33: =COUNTIF(AY2:AY29,"X") -> 0 | BD33: =SUM(B33:AY33) -> 25
A34: MDC | B34: =COUNTIF(B2:B29,"MDC") -> 0 | C34: =COUNTIF(C2:C29,"MDC") -> 0 | D34: =COUNTIF(D2:D29,"MDC") -> 0 | E34: =COUNTIF(E2:E29,"MDC") -> 0 | F34: =COUNTIF(F2:F29,"MDC") -> 0 | G34: =COUNTIF(G2:G29,"MDC") -> 0 | H34: =COUNTIF(H2:H29,"MDC") -> 0 | I34: =COUNTIF(I2:I29,"MDC") -> 0 | ... AY34: =COUNTIF(AY2:AY29,"MDC") -> 0 | BD34: =SUM(B34:AY34) -> 0
A35: PERF | B35: =COUNTIF(B2:B29,"PERF") -> 0 | C35: =COUNTIF(C2:C29,"PERF") -> 0 | D35: =COUNTIF(D2:D29,"PERF") -> 0 | E35: =COUNTIF(E2:E29,"PERF") -> 0 | F35: =COUNTIF(F2:F29,"PERF") -> 0 | G35: =COUNTIF(G2:G29,"PERF") -> 0 | H35: =COUNTIF(H2:H29,"PERF") -> 0 | I35: =COUNTIF(I2:I29,"PERF") -> 0 | ... AY35: =COUNTIF(AY2:AY29,"PERF") -> 0 | BD35: =SUM(B35:AY35) -> 0
A36: AERF | B36: =COUNTIF(B2:B29,"AERF") -> 2 | C36: =COUNTIF(C2:C29,"AERF") -> 2 | D36: =COUNTIF(D2:D29,"AERF") -> 2 | E36: =COUNTIF(E2:E29,"AERF") -> 1 | F36: =COUNTIF(F2:F29,"AERF") -> 1 | G36: =COUNTIF(G2:G29,"AERF") -> 0 | H36: =COUNTIF(H2:H29,"AERF") -> 0 | I36: =COUNTIF(I2:I29,"AERF") -> 0 | ... AY36: =COUNTIF(AY2:AY29,"AERF") -> 0 | BD36: =SUM(B36:AY36) -> 8
A37: PCB | B37: =COUNTIF(B2:B29,"PCB") -> 0 | C37: =COUNTIF(C2:C29,"PCB") -> 0 | D37: =COUNTIF(D2:D29,"PCB") -> 0 | E37: =COUNTIF(E2:E29,"PCB") -> 0 | F37: =COUNTIF(F2:F29,"PCB") -> 0 | G37: =COUNTIF(G2:G29,"PCB") -> 0 | H37: =COUNTIF(H2:H29,"PCB") -> 0 | I37: =COUNTIF(I2:I29,"PCB") -> 0 | ... AY37: =COUNTIF(AY2:AY29,"PCB") -> 0 | BD37: =SUM(B37:AY37) -> 0
A38: ACB | B38: =COUNTIF(B2:B29,"ACB") -> 1 | C38: =COUNTIF(C2:C29,"ACB") -> 1 | D38: =COUNTIF(D2:D29,"ACB") -> 1 | E38: =COUNTIF(E2:E29,"ACB") -> 1 | F38: =COUNTIF(F2:F29,"ACB") -> 1 | G38: =COUNTIF(G2:G29,"ACB") -> 0 | H38: =COUNTIF(H2:H29,"ACB") -> 0 | I38: =COUNTIF(I2:I29,"ACB") -> 0 | ... AY38: =COUNTIF(AY2:AY29,"ACB") -> 1 | BD38: =SUM(B38:AY38) -> 45
A39: UD | B39: =COUNTIF(B2:B29,"UD") -> 5 | C39: =COUNTIF(C2:C29,"UD") -> 6 | D39: =COUNTIF(D2:D29,"UD") -> 6 | E39: =COUNTIF(E2:E29,"UD") -> 6 | F39: =COUNTIF(F2:F29,"UD") -> 5 | G39: =COUNTIF(G2:G29,"UD") -> 4 | H39: =COUNTIF(H2:H29,"UD") -> 4 | I39: =COUNTIF(I2:I29,"UD") -> 4 | ... AY39: =COUNTIF(AY2:AY29,"UD") -> 0 | BD39: =SUM(B39:AY39) -> 57
A40: LERT | B40: =COUNTIF(B2:B29,"LERT") -> 6 | C40: =COUNTIF(C2:C29,"LERT") -> 6 | D40: =COUNTIF(D2:D29,"LERT") -> 7 | E40: =COUNTIF(E2:E29,"LERT") -> 7 | F40: =COUNTIF(F2:F29,"LERT") -> 7 | G40: =COUNTIF(G2:G29,"LERT") -> 8 | H40: =COUNTIF(H2:H29,"LERT") -> 7 | I40: =COUNTIF(I2:I29,"LERT") -> 6 | ... AY40: =COUNTIF(AY2:AY29,"LERT") -> 0 | BD40: =SUM(B40:AY40) -> 85
A41: LCERT | B41: =COUNTIF(B2:B29,"LCERT") -> 0 | C41: =COUNTIF(C2:C29,"LCERT") -> 0 | D41: =COUNTIF(D2:D29,"LCERT") -> 0 | E41: =COUNTIF(E2:E29,"LCERT") -> 0 | F41: =COUNTIF(F2:F29,"LCERT") -> 1 | G41: =COUNTIF(G2:G29,"LCERT") -> 1 | H41: =COUNTIF(H2:H29,"LCERT") -> 1 | I41: =COUNTIF(I2:I29,"LCERT") -> 1 | ... AY41: =COUNTIF(AY2:AY29,"LCERT") -> 0 | BD41: =SUM(B41:AY41) -> 13
A42: LMT | B42: =COUNTIF(B2:B29,"LMT") -> 1 | C42: =COUNTIF(C2:C29,"LMT") -> 2 | D42: =COUNTIF(D2:D29,"LMT") -> 2 | E42: =COUNTIF(E2:E29,"LMT") -> 3 | F42: =COUNTIF(F2:F29,"LMT") -> 1 | G42: =COUNTIF(G2:G29,"LMT") -> 1 | H42: =COUNTIF(H2:H29,"LMT") -> 1 | I42: =COUNTIF(I2:I29,"LMT") -> 2 | ... AY42: =COUNTIF(AY2:AY29,"LMT") -> 0 | BD42: =SUM(B42:AY42) -> 36
A43: LCMT | B43: =COUNTIF(B2:B29,"LCMT") -> 0 | C43: =COUNTIF(C2:C29,"LCMT") -> 0 | D43: =COUNTIF(D2:D29,"LCMT") -> 1 | E43: =COUNTIF(E2:E29,"LCMT") -> 1 | F43: =COUNTIF(F2:F29,"LCMT") -> 1 | G43: =COUNTIF(G2:G29,"LCMT") -> 2 | H43: =COUNTIF(H2:H29,"LCMT") -> 2 | I43: =COUNTIF(I2:I29,"LCMT") -> 1 | ... AY43: =COUNTIF(AY2:AY29,"LCMT") -> 0 | BD43: =SUM(B43:AY43) -> 14
A44: LIT | B44: =COUNTIF(B2:B29,"LIT") -> 0 | C44: =COUNTIF(C2:C29,"LIT") -> 0 | D44: =COUNTIF(D2:D29,"LIT") -> 0 | E44: =COUNTIF(E2:E29,"LIT") -> 0 | F44: =COUNTIF(F2:F29,"LIT") -> 0 | G44: =COUNTIF(G2:G29,"LIT") -> 0 | H44: =COUNTIF(H2:H29,"LIT") -> 0 | I44: =COUNTIF(I2:I29,"LIT") -> 0 | ... AY44: =COUNTIF(AY2:AY29,"LIT") -> 2 | BD44: =SUM(B44:AY44) -> 127
A45: LCIT | B45: =COUNTIF(B2:B29,"LCIT") -> 0 | C45: =COUNTIF(C2:C29,"LCIT") -> 0 | D45: =COUNTIF(D2:D29,"LCIT") -> 0 | E45: =COUNTIF(E2:E29,"LCIT") -> 0 | F45: =COUNTIF(F2:F29,"LCIT") -> 0 | G45: =COUNTIF(G2:G29,"LCIT") -> 0 | H45: =COUNTIF(H2:H29,"LCIT") -> 0 | I45: =COUNTIF(I2:I29,"LCIT") -> 0 | ... AY45: =COUNTIF(AY2:AY29,"LCIT") -> 0 | BD45: =SUM(B45:AY45) -> 0
A46: MwERT | B46: =COUNTIF(B2:B29,"MwERT") -> 0 | C46: =COUNTIF(C2:C29,"MwERT") -> 1 | D46: =COUNTIF(D2:D29,"MwERT") -> 1 | E46: =COUNTIF(E2:E29,"MwERT") -> 2 | F46: =COUNTIF(F2:F29,"MwERT") -> 2 | G46: =COUNTIF(G2:G29,"MwERT") -> 3 | H46: =COUNTIF(H2:H29,"MwERT") -> 3 | I46: =COUNTIF(I2:I29,"MwERT") -> 3 | ... AY46: =COUNTIF(AY2:AY29,"MwERT") -> 0 | BD46: =SUM(B46:AY46) -> 35
A47: ERwMT | B47: =COUNTIF(B2:B29,"ERwMT") -> 0 | C47: =COUNTIF(C2:C29,"ERwMT") -> 0 | D47: =COUNTIF(D2:D29,"ERwMT") -> 0 | E47: =COUNTIF(E2:E29,"ERwMT") -> 0 | F47: =COUNTIF(F2:F29,"ERwMT") -> 0 | G47: =COUNTIF(G2:G29,"ERwMT") -> 0 | H47: =COUNTIF(H2:H29,"ERwMT") -> 0 | I47: =COUNTIF(I2:I29,"ERwMT") -> 0 | ... AY47: =COUNTIF(AY2:AY29,"ERwMT") -> 0 | BD47: =SUM(B47:AY47) -> 16
A48: M&ERT | B48: =COUNTIF(B2:B29,"M&ERT") -> 0 | C48: =COUNTIF(C2:C29,"M&ERT") -> 0 | D48: =COUNTIF(D2:D29,"M&ERT") -> 0 | E48: =COUNTIF(E2:E29,"M&ERT") -> 0 | F48: =COUNTIF(F2:F29,"M&ERT") -> 0 | G48: =COUNTIF(G2:G29,"M&ERT") -> 0 | H48: =COUNTIF(H2:H29,"M&ERT") -> 0 | I48: =COUNTIF(I2:I29,"M&ERT") -> 0 | ... AY48: =COUNTIF(AY2:AY29,"M&ERT") -> 0 | BD48: =SUM(B48:AY48) -> 15
A49: MwIT | B49: =COUNTIF(B2:B29,"MwIT") -> 0 | C49: =COUNTIF(C2:C29,"MwIT") -> 0 | D49: =COUNTIF(D2:D29,"MwIT") -> 0 | E49: =COUNTIF(E2:E29,"MwIT") -> 0 | F49: =COUNTIF(F2:F29,"MwIT") -> 0 | G49: =COUNTIF(G2:G29,"MwIT") -> 0 | H49: =COUNTIF(H2:H29,"MwIT") -> 0 | I49: =COUNTIF(I2:I29,"MwIT") -> 0 | ... AY49: =COUNTIF(AY2:AY29,"MwIT") -> 0 | BD49: =SUM(B49:AY49) -> 0
A50: IwMT | B50: =COUNTIF(B2:B29,"IwMT") -> 0 | C50: =COUNTIF(C2:C29,"IwMT") -> 0 | D50: =COUNTIF(D2:D29,"IwMT") -> 0 | E50: =COUNTIF(E2:E29,"IwMT") -> 0 | F50: =COUNTIF(F2:F29,"IwMT") -> 0 | G50: =COUNTIF(G2:G29,"IwMT") -> 0 | H50: =COUNTIF(H2:H29,"IwMT") -> 0 | I50: =COUNTIF(I2:I29,"IwMT") -> 0 | ... AY50: =COUNTIF(AY2:AY29,"IwMT") -> 0 | BD50: =SUM(B50:AY50) -> 0
A51: M&IT | B51: =COUNTIF(B2:B29,"M&IT") -> 0 | C51: =COUNTIF(C2:C29,"M&IT") -> 0 | D51: =COUNTIF(D2:D29,"M&IT") -> 0 | E51: =COUNTIF(E2:E29,"M&IT") -> 0 | F51: =COUNTIF(F2:F29,"M&IT") -> 0 | G51: =COUNTIF(G2:G29,"M&IT") -> 0 | H51: =COUNTIF(H2:H29,"M&IT") -> 0 | I51: =COUNTIF(I2:I29,"M&IT") -> 0 | ... AY51: =COUNTIF(AY2:AY29,"M&IT") -> 0 | BD51: =SUM(B51:AY51) -> 2
A52: IwERT | B52: =COUNTIF(B2:B29,"IwERT") -> 0 | C52: =COUNTIF(C2:C29,"IwERT") -> 0 | D52: =COUNTIF(D2:D29,"IwERT") -> 0 | E52: =COUNTIF(E2:E29,"IwERT") -> 0 | F52: =COUNTIF(F2:F29,"IwERT") -> 0 | G52: =COUNTIF(G2:G29,"IwERT") -> 0 | H52: =COUNTIF(H2:H29,"IwERT") -> 0 | I52: =COUNTIF(I2:I29,"IwERT") -> 0 | ... AY52: =COUNTIF(AY2:AY29,"IwERT") -> 0 | BD52: =SUM(B52:AY52) -> 5
A53: ERwIT | B53: =COUNTIF(B2:B29,"ERwIT") -> 0 | C53: =COUNTIF(C2:C29,"ERwIT") -> 0 | D53: =COUNTIF(D2:D29,"ERwIT") -> 0 | E53: =COUNTIF(E2:E29,"ERwIT") -> 0 | F53: =COUNTIF(F2:F29,"ERwIT") -> 0 | G53: =COUNTIF(G2:G29,"ERwIT") -> 0 | H53: =COUNTIF(H2:H29,"ERwIT") -> 0 | I53: =COUNTIF(I2:I29,"ERwIT") -> 0 | ... AY53: =COUNTIF(AY2:AY29,"ERwIT") -> 0 | BD53: =SUM(B53:AY53) -> 0
A54: I&ERT | B54: =COUNTIF(B2:B29,"I&ERT") -> 0 | C54: =COUNTIF(C2:C29,"I&ERT") -> 0 | D54: =COUNTIF(D2:D29,"I&ERT") -> 0 | E54: =COUNTIF(E2:E29,"I&ERT") -> 0 | F54: =COUNTIF(F2:F29,"I&ERT") -> 0 | G54: =COUNTIF(G2:G29,"I&ERT") -> 0 | H54: =COUNTIF(H2:H29,"I&ERT") -> 0 | I54: =COUNTIF(I2:I29,"I&ERT") -> 0 | ... AY54: =COUNTIF(AY2:AY29,"I&ERT") -> 0 | BD54: =SUM(B54:AY54) -> 4
A55: ER&M&IT | B55: =COUNTIF(B2:B29,"ER&M&IT") -> 0 | C55: =COUNTIF(C2:C29,"ER&M&IT") -> 0 | D55: =COUNTIF(D2:D29,"ER&M&IT") -> 0 | E55: =COUNTIF(E2:E29,"ER&M&IT") -> 0 | F55: =COUNTIF(F2:F29,"ER&M&IT") -> 0 | G55: =COUNTIF(G2:G29,"ER&M&IT") -> 0 | H55: =COUNTIF(H2:H29,"ER&M&IT") -> 0 | I55: =COUNTIF(I2:I29,"ER&M&IT") -> 0 | ... AY55: =COUNTIF(AY2:AY29,"ER&M&IT") -> 0 | BD55: =SUM(B55:AY55) -> 2
A56: LSD | B56: =COUNTIF(B2:B29,"LSD") -> 8 | C56: =COUNTIF(C2:C29,"LSD") -> 5 | D56: =COUNTIF(D2:D29,"LSD") -> 3 | E56: =COUNTIF(E2:E29,"LSD") -> 2 | F56: =COUNTIF(F2:F29,"LSD") -> 3 | G56: =COUNTIF(G2:G29,"LSD") -> 3 | H56: =COUNTIF(H2:H29,"LSD") -> 3 | I56: =COUNTIF(I2:I29,"LSD") -> 5 | ... AY56: =COUNTIF(AY2:AY29,"LSD") -> 1 | BD56: =SUM(B56:AY56) -> 137
A57: UASC | B57: =COUNTIF(B2:B29,"UASC") -> 1 | C57: =COUNTIF(C2:C29,"UASC") -> 1 | D57: =COUNTIF(D2:D29,"UASC") -> 1 | E57: =COUNTIF(E2:E29,"UASC") -> 1 | F57: =COUNTIF(F2:F29,"UASC") -> 1 | G57: =COUNTIF(G2:G29,"UASC") -> 1 | H57: =COUNTIF(H2:H29,"UASC") -> 1 | I57: =COUNTIF(I2:I29,"UASC") -> 1 | ... AY57: =COUNTIF(AY2:AY29,"UASC") -> 0 | BD57: =SUM(B57:AY57) -> 25
A58: CU | B58: =COUNTIF(B2:B29,"CU") -> 0 | C58: =COUNTIF(C2:C29,"CU") -> 0 | D58: =COUNTIF(D2:D29,"CU") -> 0 | E58: =COUNTIF(E2:E29,"CU") -> 0 | F58: =COUNTIF(F2:F29,"CU") -> 0 | G58: =COUNTIF(G2:G29,"CU") -> 0 | H58: =COUNTIF(H2:H29,"CU") -> 0 | I58: =COUNTIF(I2:I29,"CU") -> 0 | ... AY58: =COUNTIF(AY2:AY29,"CU") -> 12 | BD58: =SUM(B58:AY58) -> 298
A59: FERT | B59: =COUNTIF(B2:B29,"FERT") -> 2 | C59: =COUNTIF(C2:C29,"FERT") -> 1 | D59: =COUNTIF(D2:D29,"FERT") -> 1 | E59: =COUNTIF(E2:E29,"FERT") -> 1 | F59: =COUNTIF(F2:F29,"FERT") -> 1 | G59: =COUNTIF(G2:G29,"FERT") -> 1 | H59: =COUNTIF(H2:H29,"FERT") -> 2 | I59: =COUNTIF(I2:I29,"FERT") -> 2 | ... AY59: =COUNTIF(AY2:AY29,"FERT") -> 1 | BD59: =SUM(B59:AY59) -> 147
A60: FCERT | B60: =COUNTIF(B2:B29,"FCERT") -> 0 | C60: =COUNTIF(C2:C29,"FCERT") -> 0 | D60: =COUNTIF(D2:D29,"FCERT") -> 0 | E60: =COUNTIF(E2:E29,"FCERT") -> 0 | F60: =COUNTIF(F2:F29,"FCERT") -> 0 | G60: =COUNTIF(G2:G29,"FCERT") -> 0 | H60: =COUNTIF(H2:H29,"FCERT") -> 0 | I60: =COUNTIF(I2:I29,"FCERT") -> 0 | ... AY60: =COUNTIF(AY2:AY29,"FCERT") -> 0 | BD60: =SUM(B60:AY60) -> 0
A61: FMT | B61: =COUNTIF(B2:B29,"FMT") -> 0 | C61: =COUNTIF(C2:C29,"FMT") -> 0 | D61: =COUNTIF(D2:D29,"FMT") -> 0 | E61: =COUNTIF(E2:E29,"FMT") -> 0 | F61: =COUNTIF(F2:F29,"FMT") -> 1 | G61: =COUNTIF(G2:G29,"FMT") -> 1 | H61: =COUNTIF(H2:H29,"FMT") -> 1 | I61: =COUNTIF(I2:I29,"FMT") -> 0 | ... AY61: =COUNTIF(AY2:AY29,"FMT") -> 0 | BD61: =SUM(B61:AY61) -> 11
A62: FCMT | B62: =COUNTIF(B2:B29,"FCMT") -> 0 | C62: =COUNTIF(C2:C29,"FCMT") -> 1 | D62: =COUNTIF(D2:D29,"FCMT") -> 1 | E62: =COUNTIF(E2:E29,"FCMT") -> 1 | F62: =COUNTIF(F2:F29,"FCMT") -> 1 | G62: =COUNTIF(G2:G29,"FCMT") -> 1 | H62: =COUNTIF(H2:H29,"FCMT") -> 1 | I62: =COUNTIF(I2:I29,"FCMT") -> 1 | ... AY62: =COUNTIF(AY2:AY29,"FCMT") -> 0 | BD62: =SUM(B62:AY62) -> 14
A63: FIT | B63: =COUNTIF(B2:B29,"FIT") -> 0 | C63: =COUNTIF(C2:C29,"FIT") -> 0 | D63: =COUNTIF(D2:D29,"FIT") -> 0 | E63: =COUNTIF(E2:E29,"FIT") -> 0 | F63: =COUNTIF(F2:F29,"FIT") -> 0 | G63: =COUNTIF(G2:G29,"FIT") -> 0 | H63: =COUNTIF(H2:H29,"FIT") -> 0 | I63: =COUNTIF(I2:I29,"FIT") -> 0 | ... AY63: =COUNTIF(AY2:AY29,"FIT") -> 10 | BD63: =SUM(B63:AY63) -> 229
A64: FCIT | B64: =COUNTIF(B2:B29,"FCIT") -> 0 | C64: =COUNTIF(C2:C29,"FCIT") -> 0 | D64: =COUNTIF(D2:D29,"FCIT") -> 0 | E64: =COUNTIF(E2:E29,"FCIT") -> 0 | F64: =COUNTIF(F2:F29,"FCIT") -> 0 | G64: =COUNTIF(G2:G29,"FCIT") -> 0 | H64: =COUNTIF(H2:H29,"FCIT") -> 0 | I64: =COUNTIF(I2:I29,"FCIT") -> 0 | ... AY64: =COUNTIF(AY2:AY29,"FCIT") -> 0 | BD64: =SUM(B64:AY64) -> 0
A65: WSD | B65: =COUNTIF(B2:B29,"WSD") -> 0 | C65: =COUNTIF(C2:C29,"WSD") -> 0 | D65: =COUNTIF(D2:D29,"WSD") -> 0 | E65: =COUNTIF(E2:E29,"WSD") -> 0 | F65: =COUNTIF(F2:F29,"WSD") -> 0 | G65: =COUNTIF(G2:G29,"WSD") -> 0 | H65: =COUNTIF(H2:H29,"WSD") -> 0 | I65: =COUNTIF(I2:I29,"WSD") -> 0 | ... AY65: =COUNTIF(AY2:AY29,"WSD") -> 0 | BD65: =SUM(B65:AY65) -> 0
A67: total | B67: =SUM(B33:B65) -> 27 | C67: =SUM(C33:C65) -> 27 | D67: =SUM(D33:D65) -> 27 | E67: =SUM(E33:E65) -> 27 | F67: =SUM(F33:F65) -> 27 | G67: =SUM(G33:G65) -> 27 | H67: =SUM(H33:H65) -> 27 | I67: =SUM(I33:I65) -> 27 | ... AY67: =SUM(AY33:AY65) -> 27 | BD67: =SUM(BD33:BD65) -> 1350

Sheet By target variable
B1: 1974 | C1: 1975 | D1: 1976 | E1: 1977 | F1: 1978 | G1: 1979 | H1: 1980 | I1: 1981 | J1: 1982 | K1: 1983 | L1: 1984 | M1: 1985 | N1: 1986 | O1: 1987 | P1: 1988 | Q1: 1989 | R1: 1990 | S1: 1991 | T1: 1992 | U1: 1993 | V1: 1994 | W1: 1995 | X1: 1996 | Y1: 1997 | Z1: 1998 | AA1: 1999 | AB1: 2000 | AC1: 2001 | AD1: 2002 | AE1: 2003 | AF1: 2004 | AG1: 2005 | AH1: 2006 | AI1: 2007 | AJ1: 2008 | AK1: 2009 | AL1: 2010 | AM1: 2011 | AN1: 2012 | AO1: 2013 | AP1: 2014 | AQ1: 2015 | AR1: 2016 | AS1: 2017 | AT1: 2018 | AU1: 2019 | AV1: 2020 | AW1: 2021 | AX1: 2022 | AY1: 2023
A2: Euro area | B2: =IF('Full menu'!B2="MDC","MDC",IF(OR('Full menu'!B2="PERF",'Full menu'!B2="AERF",'Full menu'!B2="PCB"),"ERfix",IF(OR('Full menu'!B2="ACB", 'Full menu'!B2="LCERT", 'Full menu'!B2="LERT",'Full menu'!B2="FCERT",'Full menu'!B2="FERT"),"ERTs",IF(OR('Full menu'!B2="FCMT",'Full menu'!B2="FMT",'Full menu'!B2="LMT",'Full menu'!B2="LCMT"),"MTs",IF(OR('Full menu'!B2="LCIT",'Full menu'!B2="FCIT",'Full menu'!B2="LIT",'Full menu'!B2="FIT"),"ITs",IF(OR('Full menu'!B2="MwERT", 'Full menu'!B2="ERwMT", 'Full menu'!B2="M&ERT", 'Full menu'!B2="MwIT", 'Full menu'!B2="IwMT", 'Full menu'!B2="M&IT", 'Full menu'!B2="IwERT", 'Full menu'!B2="ERwIT", 'Full menu'!B2="I&ERT", 'Full menu'!B2="ER&M&IT"),"MixedTs",IF('Full menu'!B2="UD","UD",IF('Full menu'!B2="LSD","LSD",IF('Full menu'!B2="WSD","WSD",""))))))))) | C2: =IF('Full menu'!C2="MDC","MDC",IF(OR('Full menu'!C2="PERF",'Full menu'!C2="AERF",'Full menu'!C2="PCB"),"ERfix",IF(OR('Full menu'!C2="ACB", 'Full menu'!C2="LCERT", 'Full menu'!C2="LERT",'Full menu'!C2="FCERT",'Full menu'!C2="FERT"),"ERTs",IF(OR('Full menu'!C2="FCMT",'Full menu'!C2="FMT",'Full menu'!C2="LMT",'Full menu'!C2="LCMT"),"MTs",IF(OR('Full menu'!C2="LCIT",'Full menu'!C2="FCIT",'Full menu'!C2="LIT",'Full menu'!C2="FIT"),"ITs",IF(OR('Full menu'!C2="MwERT", 'Full menu'!C2="ERwMT", 'Full menu'!C2="M&ERT", 'Full menu'!C2="MwIT", 'Full menu'!C2="IwMT", 'Full menu'!C2="M&IT", 'Full menu'!C2="IwERT", 'Full menu'!C2="ERwIT", 'Full menu'!C2="I&ERT", 'Full menu'!C2="ER&M&IT"),"MixedTs",IF('Full menu'!C2="UD","UD",IF('Full menu'!C2="LSD","LSD",IF('Full menu'!C2="WSD","WSD",""))))))))) | D2: =IF('Full menu'!D2="MDC","MDC",IF(OR('Full menu'!D2="PERF",'Full menu'!D2="AERF",'Full menu'!D2="PCB"),"ERfix",IF(OR('Full menu'!D2="ACB", 'Full menu'!D2="LCERT", 'Full menu'!D2="LERT",'Full menu'!D2="FCERT",'Full menu'!D2="FERT"),"ERTs",IF(OR('Full menu'!D2="FCMT",'Full menu'!D2="FMT",'Full menu'!D2="LMT",'Full menu'!D2="LCMT"),"MTs",IF(OR('Full menu'!D2="LCIT",'Full menu'!D2="FCIT",'Full menu'!D2="LIT",'Full menu'!D2="FIT"),"ITs",IF(OR('Full menu'!D2="MwERT", 'Full menu'!D2="ERwMT", 'Full menu'!D2="M&ERT", 'Full menu'!D2="MwIT", 'Full menu'!D2="IwMT", 'Full menu'!D2="M&IT", 'Full menu'!D2="IwERT", 'Full menu'!D2="ERwIT", 'Full menu'!D2="I&ERT", 'Full menu'!D2="ER&M&IT"),"MixedTs",IF('Full menu'!D2="UD","UD",IF('Full menu'!D2="LSD","LSD",IF('Full menu'!D2="WSD","WSD",""))))))))) | E2: =IF('Full menu'!E2="MDC","MDC",IF(OR('Full menu'!E2="PERF",'Full menu'!E2="AERF",'Full menu'!E2="PCB"),"ERfix",IF(OR('Full menu'!E2="ACB", 'Full menu'!E2="LCERT", 'Full menu'!E2="LERT",'Full menu'!E2="FCERT",'Full menu'!E2="FERT"),"ERTs",IF(OR('Full menu'!E2="FCMT",'Full menu'!E2="FMT",'Full menu'!E2="LMT",'Full menu'!E2="LCMT"),"MTs",IF(OR('Full menu'!E2="LCIT",'Full menu'!E2="FCIT",'Full menu'!E2="LIT",'Full menu'!E2="FIT"),"ITs",IF(OR('Full menu'!E2="MwERT", 'Full menu'!E2="ERwMT", 'Full menu'!E2="M&ERT", 'Full menu'!E2="MwIT", 'Full menu'!E2="IwMT", 'Full menu'!E2="M&IT", 'Full menu'!E2="IwERT", 'Full menu'!E2="ERwIT", 'Full menu'!E2="I&ERT", 'Full menu'!E2="ER&M&IT"),"MixedTs",IF('Full menu'!E2="UD","UD",IF('Full menu'!E2="LSD","LSD",IF('Full menu'!E2="WSD","WSD",""))))))))) | F2: =IF('Full menu'!F2="MDC","MDC",IF(OR('Full menu'!F2="PERF",'Full menu'!F2="AERF",'Full menu'!F2="PCB"),"ERfix",IF(OR('Full menu'!F2="ACB", 'Full menu'!F2="LCERT", 'Full menu'!F2="LERT",'Full menu'!F2="FCERT",'Full menu'!F2="FERT"),"ERTs",IF(OR('Full menu'!F2="FCMT",'Full menu'!F2="FMT",'Full menu'!F2="LMT",'Full menu'!F2="LCMT"),"MTs",IF(OR('Full menu'!F2="LCIT",'Full menu'!F2="FCIT",'Full menu'!F2="LIT",'Full menu'!F2="FIT"),"ITs",IF(OR('Full menu'!F2="MwERT", 'Full menu'!F2="ERwMT", 'Full menu'!F2="M&ERT", 'Full menu'!F2="MwIT", 'Full menu'!F2="IwMT", 'Full menu'!F2="M&IT", 'Full menu'!F2="IwERT", 'Full menu'!F2="ERwIT", 'Full menu'!F2="I&ERT", 'Full menu'!F2="ER&M&IT"),"MixedTs",IF('Full menu'!F2="UD","UD",IF('Full menu'!F2="LSD","LSD",IF('Full menu'!F2="WSD","WSD",""))))))))) | G2: =IF('Full menu'!G2="MDC","MDC",IF(OR('Full menu'!G2="PERF",'Full menu'!G2="AERF",'Full menu'!G2="PCB"),"ERfix",IF(OR('Full menu'!G2="ACB", 'Full menu'!G2="LCERT", 'Full menu'!G2="LERT",'Full menu'!G2="FCERT",'Full menu'!G2="FERT"),"ERTs",IF(OR('Full menu'!G2="FCMT",'Full menu'!G2="FMT",'Full menu'!G2="LMT",'Full menu'!G2="LCMT"),"MTs",IF(OR('Full menu'!G2="LCIT",'Full menu'!G2="FCIT",'Full menu'!G2="LIT",'Full menu'!G2="FIT"),"ITs",IF(OR('Full menu'!G2="MwERT", 'Full menu'!G2="ERwMT", 'Full menu'!G2="M&ERT", 'Full menu'!G2="MwIT", 'Full menu'!G2="IwMT", 'Full menu'!G2="M&IT", 'Full menu'!G2="IwERT", 'Full menu'!G2="ERwIT", 'Full menu'!G2="I&ERT", 'Full menu'!G2="ER&M&IT"),"MixedTs",IF('Full menu'!G2="UD","UD",IF('Full menu'!G2="LSD","LSD",IF('Full menu'!G2="WSD","WSD",""))))))))) | H2: =IF('Full menu'!H2="MDC","MDC",IF(OR('Full menu'!H2="PERF",'Full menu'!H2="AERF",'Full menu'!H2="PCB"),"ERfix",IF(OR('Full menu'!H2="ACB", 'Full menu'!H2="LCERT", 'Full menu'!H2="LERT",'Full menu'!H2="FCERT",'Full menu'!H2="FERT"),"ERTs",IF(OR('Full menu'!H2="FCMT",'Full menu'!H2="FMT",'Full menu'!H2="LMT",'Full menu'!H2="LCMT"),"MTs",IF(OR('Full menu'!H2="LCIT",'Full menu'!H2="FCIT",'Full menu'!H2="LIT",'Full menu'!H2="FIT"),"ITs",IF(OR('Full menu'!H2="MwERT", 'Full menu'!H2="ERwMT", 'Full menu'!H2="M&ERT", 'Full menu'!H2="MwIT", 'Full menu'!H2="IwMT", 'Full menu'!H2="M&IT", 'Full menu'!H2="IwERT", 'Full menu'!H2="ERwIT", 'Full menu'!H2="I&ERT", 'Full menu'!H2="ER&M&IT"),"MixedTs",IF('Full menu'!H2="UD","UD",IF('Full menu'!H2="LSD","LSD",IF('Full menu'!H2="WSD","WSD",""))))))))) | I2: =IF('Full menu'!I2="MDC","MDC",IF(OR('Full menu'!I2="PERF",'Full menu'!I2="AERF",'Full menu'!I2="PCB"),"ERfix",IF(OR('Full menu'!I2="ACB", 'Full menu'!I2="LCERT", 'Full menu'!I2="LERT",'Full menu'!I2="FCERT",'Full menu'!I2="FERT"),"ERTs",IF(OR('Full menu'!I2="FCMT",'Full menu'!I2="FMT",'Full menu'!I2="LMT",'Full menu'!I2="LCMT"),"MTs",IF(OR('Full menu'!I2="LCIT",'Full menu'!I2="FCIT",'Full menu'!I2="LIT",'Full menu'!I2="FIT"),"ITs",IF(OR('Full menu'!I2="MwERT", 'Full menu'!I2="ERwMT", 'Full menu'!I2="M&ERT", 'Full menu'!I2="MwIT", 'Full menu'!I2="IwMT", 'Full menu'!I2="M&IT", 'Full menu'!I2="IwERT", 'Full menu'!I2="ERwIT", 'Full menu'!I2="I&ERT", 'Full menu'!I2="ER&M&IT"),"MixedTs",IF('Full menu'!I2="UD","UD",IF('Full menu'!I2="LSD","LSD",IF('Full menu'!I2="WSD","WSD",""))))))))) | ... AY2: =IF('Full menu'!AY2="MDC","MDC",IF(OR('Full menu'!AY2="PERF",'Full menu'!AY2="AERF",'Full menu'!AY2="PCB"),"ERfix",IF(OR('Full menu'!AY2="ACB", 'Full menu'!AY2="LCERT", 'Full menu'!AY2="LERT",'Full menu'!AY2="FCERT",'Full menu'!AY2="FERT"),"ERTs",IF(OR('Full menu'!AY2="FCMT",'Full menu'!AY2="FMT",'Full menu'!AY2="LMT",'Full menu'!AY2="LCMT"),"MTs",IF(OR('Full menu'!AY2="LCIT",'Full menu'!AY2="FCIT",'Full menu'!AY2="LIT",'Full menu'!AY2="FIT"),"ITs",IF(OR('Full menu'!AY2="MwERT", 'Full menu'!AY2="ERwMT", 'Full menu'!AY2="M&ERT", 'Full menu'!AY2="MwIT", 'Full menu'!AY2="IwMT", 'Full menu'!AY2="M&IT", 'Full menu'!AY2="IwERT", 'Full menu'!AY2="ERwIT", 'Full menu'!AY2="I&ERT", 'Full menu'!AY2="ER&M&IT"),"MixedTs",IF('Full menu'!AY2="UD","UD",IF('Full menu'!AY2="LSD","LSD",IF('Full menu'!AY2="WSD","WSD",""))))))))) -> ITs | AZ2: =IF('Full menu'!AZ2="MDC","MDC",IF(OR('Full menu'!AZ2="PERF",'Full menu'!AZ2="AERF",'Full menu'!AZ2="PCB"),"ERfix",IF(OR('Full menu'!AZ2="ACB", 'Full menu'!AZ2="LCERT", 'Full menu'!AZ2="LERT",'Full menu'!AZ2="FCERT",'Full menu'!AZ2="FERT"),"ERT",IF(OR('Full menu'!AZ2="FCMT",'Full menu'!AZ2="FMT",'Full menu'!AZ2="LMT",'Full menu'!AZ2="LCMT"),"MT",IF(OR('Full menu'!AZ2="LCIT",'Full menu'!AZ2="FCIT",'Full menu'!AZ2="LMT",'Full menu'!AZ2="FMT"),"IT",IF(OR('Full menu'!AZ2="MwERT", 'Full menu'!AZ2="ERwMT", 'Full menu'!AZ2="M&ERT", 'Full menu'!AZ2="MwIT", 'Full menu'!AZ2="IwMT", 'Full menu'!AZ2="M&IT", 'Full menu'!AZ2="IwERT", 'Full menu'!AZ2="ERwIT", 'Full menu'!AZ2="I&ERT", 'Full menu'!AZ2="ER&M&IT"),"MixedT",IF('Full menu'!AZ2="UD","UD",IF('Full menu'!AZ2="LSD","LSD",IF('Full menu'!AZ2="WSD","WSD",""))))))))) | BA2: =IF('Full menu'!BA2="MDC","MDC",IF(OR('Full menu'!BA2="PERF",'Full menu'!BA2="AERF",'Full menu'!BA2="PCB"),"ERfix",IF(OR('Full menu'!BA2="ACB", 'Full menu'!BA2="LCERT", 'Full menu'!BA2="LERT",'Full menu'!BA2="FCERT",'Full menu'!BA2="FERT"),"ERT",IF(OR('Full menu'!BA2="FCMT",'Full menu'!BA2="FMT",'Full menu'!BA2="LMT",'Full menu'!BA2="LCMT"),"MT",IF(OR('Full menu'!BA2="LCIT",'Full menu'!BA2="FCIT",'Full menu'!BA2="LMT",'Full menu'!BA2="FMT"),"IT",IF(OR('Full menu'!BA2="MwERT", 'Full menu'!BA2="ERwMT", 'Full menu'!BA2="M&ERT", 'Full menu'!BA2="MwIT", 'Full menu'!BA2="IwMT", 'Full menu'!BA2="M&IT", 'Full menu'!BA2="IwERT", 'Full menu'!BA2="ERwIT", 'Full menu'!BA2="I&ERT", 'Full menu'!BA2="ER&M&IT"),"MixedT",IF('Full menu'!BA2="UD","UD",IF('Full menu'!BA2="LSD","LSD",IF('Full menu'!BA2="WSD","WSD",""))))))))) | BB2: =IF('Full menu'!BB2="MDC","MDC",IF(OR('Full menu'!BB2="PERF",'Full menu'!BB2="AERF",'Full menu'!BB2="PCB"),"ERfix",IF(OR('Full menu'!BB2="ACB", 'Full menu'!BB2="LCERT", 'Full menu'!BB2="LERT",'Full menu'!BB2="FCERT",'Full menu'!BB2="FERT"),"ERT",IF(OR('Full menu'!BB2="FCMT",'Full menu'!BB2="FMT",'Full menu'!BB2="LMT",'Full menu'!BB2="LCMT"),"MT",IF(OR('Full menu'!BB2="LCIT",'Full menu'!BB2="FCIT",'Full menu'!BB2="LMT",'Full menu'!BB2="FMT"),"IT",IF(OR('Full menu'!BB2="MwERT", 'Full menu'!BB2="ERwMT", 'Full menu'!BB2="M&ERT", 'Full menu'!BB2="MwIT", 'Full menu'!BB2="IwMT", 'Full menu'!BB2="M&IT", 'Full menu'!BB2="IwERT", 'Full menu'!BB2="ERwIT", 'Full menu'!BB2="I&ERT", 'Full menu'!BB2="ER&M&IT"),"MixedT",IF('Full menu'!BB2="UD","UD",IF('Full menu'!BB2="LSD","LSD",IF('Full menu'!BB2="WSD","WSD",""))))))))) | BC2: =IF('Full menu'!BC2="MDC","MDC",IF(OR('Full menu'!BC2="PERF",'Full menu'!BC2="AERF",'Full menu'!BC2="PCB"),"ERfix",IF(OR('Full menu'!BC2="ACB", 'Full menu'!BC2="LCERT", 'Full menu'!BC2="LERT",'Full menu'!BC2="FCERT",'Full menu'!BC2="FERT"),"ERT",IF(OR('Full menu'!BC2="FCMT",'Full menu'!BC2="FMT",'Full menu'!BC2="LMT",'Full menu'!BC2="LCMT"),"MT",IF(OR('Full menu'!BC2="LCIT",'Full menu'!BC2="FCIT",'Full menu'!BC2="LMT",'Full menu'!BC2="FMT"),"IT",IF(OR('Full menu'!BC2="MwERT", 'Full menu'!BC2="ERwMT", 'Full menu'!BC2="M&ERT", 'Full menu'!BC2="MwIT", 'Full menu'!BC2="IwMT", 'Full menu'!BC2="M&IT", 'Full menu'!BC2="IwERT", 'Full menu'!BC2="ERwIT", 'Full menu'!BC2="I&ERT", 'Full menu'!BC2="ER&M&IT"),"MixedT",IF('Full menu'!BC2="UD","UD",IF('Full menu'!BC2="LSD","LSD",IF('Full menu'!BC2="WSD","WSD","")))))))))
A3: Austria | B3: =IF('Full menu'!B3="MDC","MDC",IF(OR('Full menu'!B3="PERF",'Full menu'!B3="AERF",'Full menu'!B3="PCB"),"ERfix",IF(OR('Full menu'!B3="ACB", 'Full menu'!B3="LCERT", 'Full menu'!B3="LERT",'Full menu'!B3="FCERT",'Full menu'!B3="FERT"),"ERTs",IF(OR('Full menu'!B3="FCMT",'Full menu'!B3="FMT",'Full menu'!B3="LMT",'Full menu'!B3="LCMT"),"MTs",IF(OR('Full menu'!B3="LCIT",'Full menu'!B3="FCIT",'Full menu'!B3="LIT",'Full menu'!B3="FIT"),"ITs",IF(OR('Full menu'!B3="MwERT", 'Full menu'!B3="ERwMT", 'Full menu'!B3="M&ERT", 'Full menu'!B3="MwIT", 'Full menu'!B3="IwMT", 'Full menu'!B3="M&IT", 'Full menu'!B3="IwERT", 'Full menu'!B3="ERwIT", 'Full menu'!B3="I&ERT", 'Full menu'!B3="ER&M&IT"),"MixedTs",IF('Full menu'!B3="UD","UD",IF('Full menu'!B3="LSD","LSD",IF('Full menu'!B3="WSD","WSD",""))))))))) -> ERTs | C3: =IF('Full menu'!C3="MDC","MDC",IF(OR('Full menu'!C3="PERF",'Full menu'!C3="AERF",'Full menu'!C3="PCB"),"ERfix",IF(OR('Full menu'!C3="ACB", 'Full menu'!C3="LCERT", 'Full menu'!C3="LERT",'Full menu'!C3="FCERT",'Full menu'!C3="FERT"),"ERTs",IF(OR('Full menu'!C3="FCMT",'Full menu'!C3="FMT",'Full menu'!C3="LMT",'Full menu'!C3="LCMT"),"MTs",IF(OR('Full menu'!C3="LCIT",'Full menu'!C3="FCIT",'Full menu'!C3="LIT",'Full menu'!C3="FIT"),"ITs",IF(OR('Full menu'!C3="MwERT", 'Full menu'!C3="ERwMT", 'Full menu'!C3="M&ERT", 'Full menu'!C3="MwIT", 'Full menu'!C3="IwMT", 'Full menu'!C3="M&IT", 'Full menu'!C3="IwERT", 'Full menu'!C3="ERwIT", 'Full menu'!C3="I&ERT", 'Full menu'!C3="ER&M&IT"),"MixedTs",IF('Full menu'!C3="UD","UD",IF('Full menu'!C3="LSD","LSD",IF('Full menu'!C3="WSD","WSD",""))))))))) -> ERTs | D3: =IF('Full menu'!D3="MDC","MDC",IF(OR('Full menu'!D3="PERF",'Full menu'!D3="AERF",'Full menu'!D3="PCB"),"ERfix",IF(OR('Full menu'!D3="ACB", 'Full menu'!D3="LCERT", 'Full menu'!D3="LERT",'Full menu'!D3="FCERT",'Full menu'!D3="FERT"),"ERTs",IF(OR('Full menu'!D3="FCMT",'Full menu'!D3="FMT",'Full menu'!D3="LMT",'Full menu'!D3="LCMT"),"MTs",IF(OR('Full menu'!D3="LCIT",'Full menu'!D3="FCIT",'Full menu'!D3="LIT",'Full menu'!D3="FIT"),"ITs",IF(OR('Full menu'!D3="MwERT", 'Full menu'!D3="ERwMT", 'Full menu'!D3="M&ERT", 'Full menu'!D3="MwIT", 'Full menu'!D3="IwMT", 'Full menu'!D3="M&IT", 'Full menu'!D3="IwERT", 'Full menu'!D3="ERwIT", 'Full menu'!D3="I&ERT", 'Full menu'!D3="ER&M&IT"),"MixedTs",IF('Full menu'!D3="UD","UD",IF('Full menu'!D3="LSD","LSD",IF('Full menu'!D3="WSD","WSD",""))))))))) -> ERTs | E3: =IF('Full menu'!E3="MDC","MDC",IF(OR('Full menu'!E3="PERF",'Full menu'!E3="AERF",'Full menu'!E3="PCB"),"ERfix",IF(OR('Full menu'!E3="ACB", 'Full menu'!E3="LCERT", 'Full menu'!E3="LERT",'Full menu'!E3="FCERT",'Full menu'!E3="FERT"),"ERTs",IF(OR('Full menu'!E3="FCMT",'Full menu'!E3="FMT",'Full menu'!E3="LMT",'Full menu'!E3="LCMT"),"MTs",IF(OR('Full menu'!E3="LCIT",'Full menu'!E3="FCIT",'Full menu'!E3="LIT",'Full menu'!E3="FIT"),"ITs",IF(OR('Full menu'!E3="MwERT", 'Full menu'!E3="ERwMT", 'Full menu'!E3="M&ERT", 'Full menu'!E3="MwIT", 'Full menu'!E3="IwMT", 'Full menu'!E3="M&IT", 'Full menu'!E3="IwERT", 'Full menu'!E3="ERwIT", 'Full menu'!E3="I&ERT", 'Full menu'!E3="ER&M&IT"),"MixedTs",IF('Full menu'!E3="UD","UD",IF('Full menu'!E3="LSD","LSD",IF('Full menu'!E3="WSD","WSD",""))))))))) -> ERTs | F3: =IF('Full menu'!F3="MDC","MDC",IF(OR('Full menu'!F3="PERF",'Full menu'!F3="AERF",'Full menu'!F3="PCB"),"ERfix",IF(OR('Full menu'!F3="ACB", 'Full menu'!F3="LCERT", 'Full menu'!F3="LERT",'Full menu'!F3="FCERT",'Full menu'!F3="FERT"),"ERTs",IF(OR('Full menu'!F3="FCMT",'Full menu'!F3="FMT",'Full menu'!F3="LMT",'Full menu'!F3="LCMT"),"MTs",IF(OR('Full menu'!F3="LCIT",'Full menu'!F3="FCIT",'Full menu'!F3="LIT",'Full menu'!F3="FIT"),"ITs",IF(OR('Full menu'!F3="MwERT", 'Full menu'!F3="ERwMT", 'Full menu'!F3="M&ERT", 'Full menu'!F3="MwIT", 'Full menu'!F3="IwMT", 'Full menu'!F3="M&IT", 'Full menu'!F3="IwERT", 'Full menu'!F3="ERwIT", 'Full menu'!F3="I&ERT", 'Full menu'!F3="ER&M&IT"),"MixedTs",IF('Full menu'!F3="UD","UD",IF('Full menu'!F3="LSD","LSD",IF('Full menu'!F3="WSD","WSD",""))))))))) -> ERTs | G3: =IF('Full menu'!G3="MDC","MDC",IF(OR('Full menu'!G3="PERF",'Full menu'!G3="AERF",'Full menu'!G3="PCB"),"ERfix",IF(OR('Full menu'!G3="ACB", 'Full menu'!G3="LCERT", 'Full menu'!G3="LERT",'Full menu'!G3="FCERT",'Full menu'!G3="FERT"),"ERTs",IF(OR('Full menu'!G3="FCMT",'Full menu'!G3="FMT",'Full menu'!G3="LMT",'Full menu'!G3="LCMT"),"MTs",IF(OR('Full menu'!G3="LCIT",'Full menu'!G3="FCIT",'Full menu'!G3="LIT",'Full menu'!G3="FIT"),"ITs",IF(OR('Full menu'!G3="MwERT", 'Full menu'!G3="ERwMT", 'Full menu'!G3="M&ERT", 'Full menu'!G3="MwIT", 'Full menu'!G3="IwMT", 'Full menu'!G3="M&IT", 'Full menu'!G3="IwERT", 'Full menu'!G3="ERwIT", 'Full menu'!G3="I&ERT", 'Full menu'!G3="ER&M&IT"),"MixedTs",IF('Full menu'!G3="UD","UD",IF('Full menu'!G3="LSD","LSD",IF('Full menu'!G3="WSD","WSD",""))))))))) -> ERTs | H3: =IF('Full menu'!H3="MDC","MDC",IF(OR('Full menu'!H3="PERF",'Full menu'!H3="AERF",'Full menu'!H3="PCB"),"ERfix",IF(OR('Full menu'!H3="ACB", 'Full menu'!H3="LCERT", 'Full menu'!H3="LERT",'Full menu'!H3="FCERT",'Full menu'!H3="FERT"),"ERTs",IF(OR('Full menu'!H3="FCMT",'Full menu'!H3="FMT",'Full menu'!H3="LMT",'Full menu'!H3="LCMT"),"MTs",IF(OR('Full menu'!H3="LCIT",'Full menu'!H3="FCIT",'Full menu'!H3="LIT",'Full menu'!H3="FIT"),"ITs",IF(OR('Full menu'!H3="MwERT", 'Full menu'!H3="ERwMT", 'Full menu'!H3="M&ERT", 'Full menu'!H3="MwIT", 'Full menu'!H3="IwMT", 'Full menu'!H3="M&IT", 'Full menu'!H3="IwERT", 'Full menu'!H3="ERwIT", 'Full menu'!H3="I&ERT", 'Full menu'!H3="ER&M&IT"),"MixedTs",IF('Full menu'!H3="UD","UD",IF('Full menu'!H3="LSD","LSD",IF('Full menu'!H3="WSD","WSD",""))))))))) -> ERTs | I3: =IF('Full menu'!I3="MDC","MDC",IF(OR('Full menu'!I3="PERF",'Full menu'!I3="AERF",'Full menu'!I3="PCB"),"ERfix",IF(OR('Full menu'!I3="ACB", 'Full menu'!I3="LCERT", 'Full menu'!I3="LERT",'Full menu'!I3="FCERT",'Full menu'!I3="FERT"),"ERTs",IF(OR('Full menu'!I3="FCMT",'Full menu'!I3="FMT",'Full menu'!I3="LMT",'Full menu'!I3="LCMT"),"MTs",IF(OR('Full menu'!I3="LCIT",'Full menu'!I3="FCIT",'Full menu'!I3="LIT",'Full menu'!I3="FIT"),"ITs",IF(OR('Full menu'!I3="MwERT", 'Full menu'!I3="ERwMT", 'Full menu'!I3="M&ERT", 'Full menu'!I3="MwIT", 'Full menu'!I3="IwMT", 'Full menu'!I3="M&IT", 'Full menu'!I3="IwERT", 'Full menu'!I3="ERwIT", 'Full menu'!I3="I&ERT", 'Full menu'!I3="ER&M&IT"),"MixedTs",IF('Full menu'!I3="UD","UD",IF('Full menu'!I3="LSD","LSD",IF('Full menu'!I3="WSD","WSD",""))))))))) -> ERTs | ... AY3: =IF('Full menu'!AY3="MDC","MDC",IF(OR('Full menu'!AY3="PERF",'Full menu'!AY3="AERF",'Full menu'!AY3="PCB"),"ERfix",IF(OR('Full menu'!AY3="ACB", 'Full menu'!AY3="LCERT", 'Full menu'!AY3="LERT",'Full menu'!AY3="FCERT",'Full menu'!AY3="FERT"),"ERTs",IF(OR('Full menu'!AY3="FCMT",'Full menu'!AY3="FMT",'Full menu'!AY3="LMT",'Full menu'!AY3="LCMT"),"MTs",IF(OR('Full menu'!AY3="LCIT",'Full menu'!AY3="FCIT",'Full menu'!AY3="LIT",'Full menu'!AY3="FIT"),"ITs",IF(OR('Full menu'!AY3="MwERT", 'Full menu'!AY3="ERwMT", 'Full menu'!AY3="M&ERT", 'Full menu'!AY3="MwIT", 'Full menu'!AY3="IwMT", 'Full menu'!AY3="M&IT", 'Full menu'!AY3="IwERT", 'Full menu'!AY3="ERwIT", 'Full menu'!AY3="I&ERT", 'Full menu'!AY3="ER&M&IT"),"MixedTs",IF('Full menu'!AY3="UD","UD",IF('Full menu'!AY3="LSD","LSD",IF('Full menu'!AY3="WSD","WSD",""))))))))) | AZ3: =IF('Full menu'!AZ3="MDC","MDC",IF(OR('Full menu'!AZ3="PERF",'Full menu'!AZ3="AERF",'Full menu'!AZ3="PCB"),"ERfix",IF(OR('Full menu'!AZ3="ACB", 'Full menu'!AZ3="LCERT", 'Full menu'!AZ3="LERT",'Full menu'!AZ3="FCERT",'Full menu'!AZ3="FERT"),"ERT",IF(OR('Full menu'!AZ3="FCMT",'Full menu'!AZ3="FMT",'Full menu'!AZ3="LMT",'Full menu'!AZ3="LCMT"),"MT",IF(OR('Full menu'!AZ3="LCIT",'Full menu'!AZ3="FCIT",'Full menu'!AZ3="LMT",'Full menu'!AZ3="FMT"),"IT",IF(OR('Full menu'!AZ3="MwERT", 'Full menu'!AZ3="ERwMT", 'Full menu'!AZ3="M&ERT", 'Full menu'!AZ3="MwIT", 'Full menu'!AZ3="IwMT", 'Full menu'!AZ3="M&IT", 'Full menu'!AZ3="IwERT", 'Full menu'!AZ3="ERwIT", 'Full menu'!AZ3="I&ERT", 'Full menu'!AZ3="ER&M&IT"),"MixedT",IF('Full menu'!AZ3="UD","UD",IF('Full menu'!AZ3="LSD","LSD",IF('Full menu'!AZ3="WSD","WSD",""))))))))) | BA3: =IF('Full menu'!BA3="MDC","MDC",IF(OR('Full menu'!BA3="PERF",'Full menu'!BA3="AERF",'Full menu'!BA3="PCB"),"ERfix",IF(OR('Full menu'!BA3="ACB", 'Full menu'!BA3="LCERT", 'Full menu'!BA3="LERT",'Full menu'!BA3="FCERT",'Full menu'!BA3="FERT"),"ERT",IF(OR('Full menu'!BA3="FCMT",'Full menu'!BA3="FMT",'Full menu'!BA3="LMT",'Full menu'!BA3="LCMT"),"MT",IF(OR('Full menu'!BA3="LCIT",'Full menu'!BA3="FCIT",'Full menu'!BA3="LMT",'Full menu'!BA3="FMT"),"IT",IF(OR('Full menu'!BA3="MwERT", 'Full menu'!BA3="ERwMT", 'Full menu'!BA3="M&ERT", 'Full menu'!BA3="MwIT", 'Full menu'!BA3="IwMT", 'Full menu'!BA3="M&IT", 'Full menu'!BA3="IwERT", 'Full menu'!BA3="ERwIT", 'Full menu'!BA3="I&ERT", 'Full menu'!BA3="ER&M&IT"),"MixedT",IF('Full menu'!BA3="UD","UD",IF('Full menu'!BA3="LSD","LSD",IF('Full menu'!BA3="WSD","WSD",""))))))))) | BB3: =IF('Full menu'!BB3="MDC","MDC",IF(OR('Full menu'!BB3="PERF",'Full menu'!BB3="AERF",'Full menu'!BB3="PCB"),"ERfix",IF(OR('Full menu'!BB3="ACB", 'Full menu'!BB3="LCERT", 'Full menu'!BB3="LERT",'Full menu'!BB3="FCERT",'Full menu'!BB3="FERT"),"ERT",IF(OR('Full menu'!BB3="FCMT",'Full menu'!BB3="FMT",'Full menu'!BB3="LMT",'Full menu'!BB3="LCMT"),"MT",IF(OR('Full menu'!BB3="LCIT",'Full menu'!BB3="FCIT",'Full menu'!BB3="LMT",'Full menu'!BB3="FMT"),"IT",IF(OR('Full menu'!BB3="MwERT", 'Full menu'!BB3="ERwMT", 'Full menu'!BB3="M&ERT", 'Full menu'!BB3="MwIT", 'Full menu'!BB3="IwMT", 'Full menu'!BB3="M&IT", 'Full menu'!BB3="IwERT", 'Full menu'!BB3="ERwIT", 'Full menu'!BB3="I&ERT", 'Full menu'!BB3="ER&M&IT"),"MixedT",IF('Full menu'!BB3="UD","UD",IF('Full menu'!BB3="LSD","LSD",IF('Full menu'!BB3="WSD","WSD",""))))))))) | BC3: =IF('Full menu'!BC3="MDC","MDC",IF(OR('Full menu'!BC3="PERF",'Full menu'!BC3="AERF",'Full menu'!BC3="PCB"),"ERfix",IF(OR('Full menu'!BC3="ACB", 'Full menu'!BC3="LCERT", 'Full menu'!BC3="LERT",'Full menu'!BC3="FCERT",'Full menu'!BC3="FERT"),"ERT",IF(OR('Full menu'!BC3="FCMT",'Full menu'!BC3="FMT",'Full menu'!BC3="LMT",'Full menu'!BC3="LCMT"),"MT",IF(OR('Full menu'!BC3="LCIT",'Full menu'!BC3="FCIT",'Full menu'!BC3="LMT",'Full menu'!BC3="FMT"),"IT",IF(OR('Full menu'!BC3="MwERT", 'Full menu'!BC3="ERwMT", 'Full menu'!BC3="M&ERT", 'Full menu'!BC3="MwIT", 'Full menu'!BC3="IwMT", 'Full menu'!BC3="M&IT", 'Full menu'!BC3="IwERT", 'Full menu'!BC3="ERwIT", 'Full menu'!BC3="I&ERT", 'Full menu'!BC3="ER&M&IT"),"MixedT",IF('Full menu'!BC3="UD","UD",IF('Full menu'!BC3="LSD","LSD",IF('Full menu'!BC3="WSD","WSD","")))))))))
A4: Belgium | B4: =IF('Full menu'!B4="MDC","MDC",IF(OR('Full menu'!B4="PERF",'Full menu'!B4="AERF",'Full menu'!B4="PCB"),"ERfix",IF(OR('Full menu'!B4="ACB", 'Full menu'!B4="LCERT", 'Full menu'!B4="LERT",'Full menu'!B4="FCERT",'Full menu'!B4="FERT"),"ERTs",IF(OR('Full menu'!B4="FCMT",'Full menu'!B4="FMT",'Full menu'!B4="LMT",'Full menu'!B4="LCMT"),"MTs",IF(OR('Full menu'!B4="LCIT",'Full menu'!B4="FCIT",'Full menu'!B4="LIT",'Full menu'!B4="FIT"),"ITs",IF(OR('Full menu'!B4="MwERT", 'Full menu'!B4="ERwMT", 'Full menu'!B4="M&ERT", 'Full menu'!B4="MwIT", 'Full menu'!B4="IwMT", 'Full menu'!B4="M&IT", 'Full menu'!B4="IwERT", 'Full menu'!B4="ERwIT", 'Full menu'!B4="I&ERT", 'Full menu'!B4="ER&M&IT"),"MixedTs",IF('Full menu'!B4="UD","UD",IF('Full menu'!B4="LSD","LSD",IF('Full menu'!B4="WSD","WSD",""))))))))) -> ERTs | C4: =IF('Full menu'!C4="MDC","MDC",IF(OR('Full menu'!C4="PERF",'Full menu'!C4="AERF",'Full menu'!C4="PCB"),"ERfix",IF(OR('Full menu'!C4="ACB", 'Full menu'!C4="LCERT", 'Full menu'!C4="LERT",'Full menu'!C4="FCERT",'Full menu'!C4="FERT"),"ERTs",IF(OR('Full menu'!C4="FCMT",'Full menu'!C4="FMT",'Full menu'!C4="LMT",'Full menu'!C4="LCMT"),"MTs",IF(OR('Full menu'!C4="LCIT",'Full menu'!C4="FCIT",'Full menu'!C4="LIT",'Full menu'!C4="FIT"),"ITs",IF(OR('Full menu'!C4="MwERT", 'Full menu'!C4="ERwMT", 'Full menu'!C4="M&ERT", 'Full menu'!C4="MwIT", 'Full menu'!C4="IwMT", 'Full menu'!C4="M&IT", 'Full menu'!C4="IwERT", 'Full menu'!C4="ERwIT", 'Full menu'!C4="I&ERT", 'Full menu'!C4="ER&M&IT"),"MixedTs",IF('Full menu'!C4="UD","UD",IF('Full menu'!C4="LSD","LSD",IF('Full menu'!C4="WSD","WSD",""))))))))) -> ERTs | D4: =IF('Full menu'!D4="MDC","MDC",IF(OR('Full menu'!D4="PERF",'Full menu'!D4="AERF",'Full menu'!D4="PCB"),"ERfix",IF(OR('Full menu'!D4="ACB", 'Full menu'!D4="LCERT", 'Full menu'!D4="LERT",'Full menu'!D4="FCERT",'Full menu'!D4="FERT"),"ERTs",IF(OR('Full menu'!D4="FCMT",'Full menu'!D4="FMT",'Full menu'!D4="LMT",'Full menu'!D4="LCMT"),"MTs",IF(OR('Full menu'!D4="LCIT",'Full menu'!D4="FCIT",'Full menu'!D4="LIT",'Full menu'!D4="FIT"),"ITs",IF(OR('Full menu'!D4="MwERT", 'Full menu'!D4="ERwMT", 'Full menu'!D4="M&ERT", 'Full menu'!D4="MwIT", 'Full menu'!D4="IwMT", 'Full menu'!D4="M&IT", 'Full menu'!D4="IwERT", 'Full menu'!D4="ERwIT", 'Full menu'!D4="I&ERT", 'Full menu'!D4="ER&M&IT"),"MixedTs",IF('Full menu'!D4="UD","UD",IF('Full menu'!D4="LSD","LSD",IF('Full menu'!D4="WSD","WSD",""))))))))) -> ERTs | E4: =IF('Full menu'!E4="MDC","MDC",IF(OR('Full menu'!E4="PERF",'Full menu'!E4="AERF",'Full menu'!E4="PCB"),"ERfix",IF(OR('Full menu'!E4="ACB", 'Full menu'!E4="LCERT", 'Full menu'!E4="LERT",'Full menu'!E4="FCERT",'Full menu'!E4="FERT"),"ERTs",IF(OR('Full menu'!E4="FCMT",'Full menu'!E4="FMT",'Full menu'!E4="LMT",'Full menu'!E4="LCMT"),"MTs",IF(OR('Full menu'!E4="LCIT",'Full menu'!E4="FCIT",'Full menu'!E4="LIT",'Full menu'!E4="FIT"),"ITs",IF(OR('Full menu'!E4="MwERT", 'Full menu'!E4="ERwMT", 'Full menu'!E4="M&ERT", 'Full menu'!E4="MwIT", 'Full menu'!E4="IwMT", 'Full menu'!E4="M&IT", 'Full menu'!E4="IwERT", 'Full menu'!E4="ERwIT", 'Full menu'!E4="I&ERT", 'Full menu'!E4="ER&M&IT"),"MixedTs",IF('Full menu'!E4="UD","UD",IF('Full menu'!E4="LSD","LSD",IF('Full menu'!E4="WSD","WSD",""))))))))) -> ERTs | F4: =IF('Full menu'!F4="MDC","MDC",IF(OR('Full menu'!F4="PERF",'Full menu'!F4="AERF",'Full menu'!F4="PCB"),"ERfix",IF(OR('Full menu'!F4="ACB", 'Full menu'!F4="LCERT", 'Full menu'!F4="LERT",'Full menu'!F4="FCERT",'Full menu'!F4="FERT"),"ERTs",IF(OR('Full menu'!F4="FCMT",'Full menu'!F4="FMT",'Full menu'!F4="LMT",'Full menu'!F4="LCMT"),"MTs",IF(OR('Full menu'!F4="LCIT",'Full menu'!F4="FCIT",'Full menu'!F4="LIT",'Full menu'!F4="FIT"),"ITs",IF(OR('Full menu'!F4="MwERT", 'Full menu'!F4="ERwMT", 'Full menu'!F4="M&ERT", 'Full menu'!F4="MwIT", 'Full menu'!F4="IwMT", 'Full menu'!F4="M&IT", 'Full menu'!F4="IwERT", 'Full menu'!F4="ERwIT", 'Full menu'!F4="I&ERT", 'Full menu'!F4="ER&M&IT"),"MixedTs",IF('Full menu'!F4="UD","UD",IF('Full menu'!F4="LSD","LSD",IF('Full menu'!F4="WSD","WSD",""))))))))) -> ERTs | G4: =IF('Full menu'!G4="MDC","MDC",IF(OR('Full menu'!G4="PERF",'Full menu'!G4="AERF",'Full menu'!G4="PCB"),"ERfix",IF(OR('Full menu'!G4="ACB", 'Full menu'!G4="LCERT", 'Full menu'!G4="LERT",'Full menu'!G4="FCERT",'Full menu'!G4="FERT"),"ERTs",IF(OR('Full menu'!G4="FCMT",'Full menu'!G4="FMT",'Full menu'!G4="LMT",'Full menu'!G4="LCMT"),"MTs",IF(OR('Full menu'!G4="LCIT",'Full menu'!G4="FCIT",'Full menu'!G4="LIT",'Full menu'!G4="FIT"),"ITs",IF(OR('Full menu'!G4="MwERT", 'Full menu'!G4="ERwMT", 'Full menu'!G4="M&ERT", 'Full menu'!G4="MwIT", 'Full menu'!G4="IwMT", 'Full menu'!G4="M&IT", 'Full menu'!G4="IwERT", 'Full menu'!G4="ERwIT", 'Full menu'!G4="I&ERT", 'Full menu'!G4="ER&M&IT"),"MixedTs",IF('Full menu'!G4="UD","UD",IF('Full menu'!G4="LSD","LSD",IF('Full menu'!G4="WSD","WSD",""))))))))) -> ERTs | H4: =IF('Full menu'!H4="MDC","MDC",IF(OR('Full menu'!H4="PERF",'Full menu'!H4="AERF",'Full menu'!H4="PCB"),"ERfix",IF(OR('Full menu'!H4="ACB", 'Full menu'!H4="LCERT", 'Full menu'!H4="LERT",'Full menu'!H4="FCERT",'Full menu'!H4="FERT"),"ERTs",IF(OR('Full menu'!H4="FCMT",'Full menu'!H4="FMT",'Full menu'!H4="LMT",'Full menu'!H4="LCMT"),"MTs",IF(OR('Full menu'!H4="LCIT",'Full menu'!H4="FCIT",'Full menu'!H4="LIT",'Full menu'!H4="FIT"),"ITs",IF(OR('Full menu'!H4="MwERT", 'Full menu'!H4="ERwMT", 'Full menu'!H4="M&ERT", 'Full menu'!H4="MwIT", 'Full menu'!H4="IwMT", 'Full menu'!H4="M&IT", 'Full menu'!H4="IwERT", 'Full menu'!H4="ERwIT", 'Full menu'!H4="I&ERT", 'Full menu'!H4="ER&M&IT"),"MixedTs",IF('Full menu'!H4="UD","UD",IF('Full menu'!H4="LSD","LSD",IF('Full menu'!H4="WSD","WSD",""))))))))) -> ERTs | I4: =IF('Full menu'!I4="MDC","MDC",IF(OR('Full menu'!I4="PERF",'Full menu'!I4="AERF",'Full menu'!I4="PCB"),"ERfix",IF(OR('Full menu'!I4="ACB", 'Full menu'!I4="LCERT", 'Full menu'!I4="LERT",'Full menu'!I4="FCERT",'Full menu'!I4="FERT"),"ERTs",IF(OR('Full menu'!I4="FCMT",'Full menu'!I4="FMT",'Full menu'!I4="LMT",'Full menu'!I4="LCMT"),"MTs",IF(OR('Full menu'!I4="LCIT",'Full menu'!I4="FCIT",'Full menu'!I4="LIT",'Full menu'!I4="FIT"),"ITs",IF(OR('Full menu'!I4="MwERT", 'Full menu'!I4="ERwMT", 'Full menu'!I4="M&ERT", 'Full menu'!I4="MwIT", 'Full menu'!I4="IwMT", 'Full menu'!I4="M&IT", 'Full menu'!I4="IwERT", 'Full menu'!I4="ERwIT", 'Full menu'!I4="I&ERT", 'Full menu'!I4="ER&M&IT"),"MixedTs",IF('Full menu'!I4="UD","UD",IF('Full menu'!I4="LSD","LSD",IF('Full menu'!I4="WSD","WSD",""))))))))) -> ERTs | ... AY4: =IF('Full menu'!AY4="MDC","MDC",IF(OR('Full menu'!AY4="PERF",'Full menu'!AY4="AERF",'Full menu'!AY4="PCB"),"ERfix",IF(OR('Full menu'!AY4="ACB", 'Full menu'!AY4="LCERT", 'Full menu'!AY4="LERT",'Full menu'!AY4="FCERT",'Full menu'!AY4="FERT"),"ERTs",IF(OR('Full menu'!AY4="FCMT",'Full menu'!AY4="FMT",'Full menu'!AY4="LMT",'Full menu'!AY4="LCMT"),"MTs",IF(OR('Full menu'!AY4="LCIT",'Full menu'!AY4="FCIT",'Full menu'!AY4="LIT",'Full menu'!AY4="FIT"),"ITs",IF(OR('Full menu'!AY4="MwERT", 'Full menu'!AY4="ERwMT", 'Full menu'!AY4="M&ERT", 'Full menu'!AY4="MwIT", 'Full menu'!AY4="IwMT", 'Full menu'!AY4="M&IT", 'Full menu'!AY4="IwERT", 'Full menu'!AY4="ERwIT", 'Full menu'!AY4="I&ERT", 'Full menu'!AY4="ER&M&IT"),"MixedTs",IF('Full menu'!AY4="UD","UD",IF('Full menu'!AY4="LSD","LSD",IF('Full menu'!AY4="WSD","WSD",""))))))))) | AZ4: =IF('Full menu'!AZ4="MDC","MDC",IF(OR('Full menu'!AZ4="PERF",'Full menu'!AZ4="AERF",'Full menu'!AZ4="PCB"),"ERfix",IF(OR('Full menu'!AZ4="ACB", 'Full menu'!AZ4="LCERT", 'Full menu'!AZ4="LERT",'Full menu'!AZ4="FCERT",'Full menu'!AZ4="FERT"),"ERT",IF(OR('Full menu'!AZ4="FCMT",'Full menu'!AZ4="FMT",'Full menu'!AZ4="LMT",'Full menu'!AZ4="LCMT"),"MT",IF(OR('Full menu'!AZ4="LCIT",'Full menu'!AZ4="FCIT",'Full menu'!AZ4="LMT",'Full menu'!AZ4="FMT"),"IT",IF(OR('Full menu'!AZ4="MwERT", 'Full menu'!AZ4="ERwMT", 'Full menu'!AZ4="M&ERT", 'Full menu'!AZ4="MwIT", 'Full menu'!AZ4="IwMT", 'Full menu'!AZ4="M&IT", 'Full menu'!AZ4="IwERT", 'Full menu'!AZ4="ERwIT", 'Full menu'!AZ4="I&ERT", 'Full menu'!AZ4="ER&M&IT"),"MixedT",IF('Full menu'!AZ4="UD","UD",IF('Full menu'!AZ4="LSD","LSD",IF('Full menu'!AZ4="WSD","WSD",""))))))))) | BA4: =IF('Full menu'!BA4="MDC","MDC",IF(OR('Full menu'!BA4="PERF",'Full menu'!BA4="AERF",'Full menu'!BA4="PCB"),"ERfix",IF(OR('Full menu'!BA4="ACB", 'Full menu'!BA4="LCERT", 'Full menu'!BA4="LERT",'Full menu'!BA4="FCERT",'Full menu'!BA4="FERT"),"ERT",IF(OR('Full menu'!BA4="FCMT",'Full menu'!BA4="FMT",'Full menu'!BA4="LMT",'Full menu'!BA4="LCMT"),"MT",IF(OR('Full menu'!BA4="LCIT",'Full menu'!BA4="FCIT",'Full menu'!BA4="LMT",'Full menu'!BA4="FMT"),"IT",IF(OR('Full menu'!BA4="MwERT", 'Full menu'!BA4="ERwMT", 'Full menu'!BA4="M&ERT", 'Full menu'!BA4="MwIT", 'Full menu'!BA4="IwMT", 'Full menu'!BA4="M&IT", 'Full menu'!BA4="IwERT", 'Full menu'!BA4="ERwIT", 'Full menu'!BA4="I&ERT", 'Full menu'!BA4="ER&M&IT"),"MixedT",IF('Full menu'!BA4="UD","UD",IF('Full menu'!BA4="LSD","LSD",IF('Full menu'!BA4="WSD","WSD",""))))))))) | BB4: =IF('Full menu'!BB4="MDC","MDC",IF(OR('Full menu'!BB4="PERF",'Full menu'!BB4="AERF",'Full menu'!BB4="PCB"),"ERfix",IF(OR('Full menu'!BB4="ACB", 'Full menu'!BB4="LCERT", 'Full menu'!BB4="LERT",'Full menu'!BB4="FCERT",'Full menu'!BB4="FERT"),"ERT",IF(OR('Full menu'!BB4="FCMT",'Full menu'!BB4="FMT",'Full menu'!BB4="LMT",'Full menu'!BB4="LCMT"),"MT",IF(OR('Full menu'!BB4="LCIT",'Full menu'!BB4="FCIT",'Full menu'!BB4="LMT",'Full menu'!BB4="FMT"),"IT",IF(OR('Full menu'!BB4="MwERT", 'Full menu'!BB4="ERwMT", 'Full menu'!BB4="M&ERT", 'Full menu'!BB4="MwIT", 'Full menu'!BB4="IwMT", 'Full menu'!BB4="M&IT", 'Full menu'!BB4="IwERT", 'Full menu'!BB4="ERwIT", 'Full menu'!BB4="I&ERT", 'Full menu'!BB4="ER&M&IT"),"MixedT",IF('Full menu'!BB4="UD","UD",IF('Full menu'!BB4="LSD","LSD",IF('Full menu'!BB4="WSD","WSD",""))))))))) | BC4: =IF('Full menu'!BC4="MDC","MDC",IF(OR('Full menu'!BC4="PERF",'Full menu'!BC4="AERF",'Full menu'!BC4="PCB"),"ERfix",IF(OR('Full menu'!BC4="ACB", 'Full menu'!BC4="LCERT", 'Full menu'!BC4="LERT",'Full menu'!BC4="FCERT",'Full menu'!BC4="FERT"),"ERT",IF(OR('Full menu'!BC4="FCMT",'Full menu'!BC4="FMT",'Full menu'!BC4="LMT",'Full menu'!BC4="LCMT"),"MT",IF(OR('Full menu'!BC4="LCIT",'Full menu'!BC4="FCIT",'Full menu'!BC4="LMT",'Full menu'!BC4="FMT"),"IT",IF(OR('Full menu'!BC4="MwERT", 'Full menu'!BC4="ERwMT", 'Full menu'!BC4="M&ERT", 'Full menu'!BC4="MwIT", 'Full menu'!BC4="IwMT", 'Full menu'!BC4="M&IT", 'Full menu'!BC4="IwERT", 'Full menu'!BC4="ERwIT", 'Full menu'!BC4="I&ERT", 'Full menu'!BC4="ER&M&IT"),"MixedT",IF('Full menu'!BC4="UD","UD",IF('Full menu'!BC4="LSD","LSD",IF('Full menu'!BC4="WSD","WSD","")))))))))
A5: Finland | B5: =IF('Full menu'!B5="MDC","MDC",IF(OR('Full menu'!B5="PERF",'Full menu'!B5="AERF",'Full menu'!B5="PCB"),"ERfix",IF(OR('Full menu'!B5="ACB", 'Full menu'!B5="LCERT", 'Full menu'!B5="LERT",'Full menu'!B5="FCERT",'Full menu'!B5="FERT"),"ERTs",IF(OR('Full menu'!B5="FCMT",'Full menu'!B5="FMT",'Full menu'!B5="LMT",'Full menu'!B5="LCMT"),"MTs",IF(OR('Full menu'!B5="LCIT",'Full menu'!B5="FCIT",'Full menu'!B5="LIT",'Full menu'!B5="FIT"),"ITs",IF(OR('Full menu'!B5="MwERT", 'Full menu'!B5="ERwMT", 'Full menu'!B5="M&ERT", 'Full menu'!B5="MwIT", 'Full menu'!B5="IwMT", 'Full menu'!B5="M&IT", 'Full menu'!B5="IwERT", 'Full menu'!B5="ERwIT", 'Full menu'!B5="I&ERT", 'Full menu'!B5="ER&M&IT"),"MixedTs",IF('Full menu'!B5="UD","UD",IF('Full menu'!B5="LSD","LSD",IF('Full menu'!B5="WSD","WSD",""))))))))) -> ERTs | C5: =IF('Full menu'!C5="MDC","MDC",IF(OR('Full menu'!C5="PERF",'Full menu'!C5="AERF",'Full menu'!C5="PCB"),"ERfix",IF(OR('Full menu'!C5="ACB", 'Full menu'!C5="LCERT", 'Full menu'!C5="LERT",'Full menu'!C5="FCERT",'Full menu'!C5="FERT"),"ERTs",IF(OR('Full menu'!C5="FCMT",'Full menu'!C5="FMT",'Full menu'!C5="LMT",'Full menu'!C5="LCMT"),"MTs",IF(OR('Full menu'!C5="LCIT",'Full menu'!C5="FCIT",'Full menu'!C5="LIT",'Full menu'!C5="FIT"),"ITs",IF(OR('Full menu'!C5="MwERT", 'Full menu'!C5="ERwMT", 'Full menu'!C5="M&ERT", 'Full menu'!C5="MwIT", 'Full menu'!C5="IwMT", 'Full menu'!C5="M&IT", 'Full menu'!C5="IwERT", 'Full menu'!C5="ERwIT", 'Full menu'!C5="I&ERT", 'Full menu'!C5="ER&M&IT"),"MixedTs",IF('Full menu'!C5="UD","UD",IF('Full menu'!C5="LSD","LSD",IF('Full menu'!C5="WSD","WSD",""))))))))) -> ERTs | D5: =IF('Full menu'!D5="MDC","MDC",IF(OR('Full menu'!D5="PERF",'Full menu'!D5="AERF",'Full menu'!D5="PCB"),"ERfix",IF(OR('Full menu'!D5="ACB", 'Full menu'!D5="LCERT", 'Full menu'!D5="LERT",'Full menu'!D5="FCERT",'Full menu'!D5="FERT"),"ERTs",IF(OR('Full menu'!D5="FCMT",'Full menu'!D5="FMT",'Full menu'!D5="LMT",'Full menu'!D5="LCMT"),"MTs",IF(OR('Full menu'!D5="LCIT",'Full menu'!D5="FCIT",'Full menu'!D5="LIT",'Full menu'!D5="FIT"),"ITs",IF(OR('Full menu'!D5="MwERT", 'Full menu'!D5="ERwMT", 'Full menu'!D5="M&ERT", 'Full menu'!D5="MwIT", 'Full menu'!D5="IwMT", 'Full menu'!D5="M&IT", 'Full menu'!D5="IwERT", 'Full menu'!D5="ERwIT", 'Full menu'!D5="I&ERT", 'Full menu'!D5="ER&M&IT"),"MixedTs",IF('Full menu'!D5="UD","UD",IF('Full menu'!D5="LSD","LSD",IF('Full menu'!D5="WSD","WSD",""))))))))) -> ERTs | E5: =IF('Full menu'!E5="MDC","MDC",IF(OR('Full menu'!E5="PERF",'Full menu'!E5="AERF",'Full menu'!E5="PCB"),"ERfix",IF(OR('Full menu'!E5="ACB", 'Full menu'!E5="LCERT", 'Full menu'!E5="LERT",'Full menu'!E5="FCERT",'Full menu'!E5="FERT"),"ERTs",IF(OR('Full menu'!E5="FCMT",'Full menu'!E5="FMT",'Full menu'!E5="LMT",'Full menu'!E5="LCMT"),"MTs",IF(OR('Full menu'!E5="LCIT",'Full menu'!E5="FCIT",'Full menu'!E5="LIT",'Full menu'!E5="FIT"),"ITs",IF(OR('Full menu'!E5="MwERT", 'Full menu'!E5="ERwMT", 'Full menu'!E5="M&ERT", 'Full menu'!E5="MwIT", 'Full menu'!E5="IwMT", 'Full menu'!E5="M&IT", 'Full menu'!E5="IwERT", 'Full menu'!E5="ERwIT", 'Full menu'!E5="I&ERT", 'Full menu'!E5="ER&M&IT"),"MixedTs",IF('Full menu'!E5="UD","UD",IF('Full menu'!E5="LSD","LSD",IF('Full menu'!E5="WSD","WSD",""))))))))) -> ERTs | F5: =IF('Full menu'!F5="MDC","MDC",IF(OR('Full menu'!F5="PERF",'Full menu'!F5="AERF",'Full menu'!F5="PCB"),"ERfix",IF(OR('Full menu'!F5="ACB", 'Full menu'!F5="LCERT", 'Full menu'!F5="LERT",'Full menu'!F5="FCERT",'Full menu'!F5="FERT"),"ERTs",IF(OR('Full menu'!F5="FCMT",'Full menu'!F5="FMT",'Full menu'!F5="LMT",'Full menu'!F5="LCMT"),"MTs",IF(OR('Full menu'!F5="LCIT",'Full menu'!F5="FCIT",'Full menu'!F5="LIT",'Full menu'!F5="FIT"),"ITs",IF(OR('Full menu'!F5="MwERT", 'Full menu'!F5="ERwMT", 'Full menu'!F5="M&ERT", 'Full menu'!F5="MwIT", 'Full menu'!F5="IwMT", 'Full menu'!F5="M&IT", 'Full menu'!F5="IwERT", 'Full menu'!F5="ERwIT", 'Full menu'!F5="I&ERT", 'Full menu'!F5="ER&M&IT"),"MixedTs",IF('Full menu'!F5="UD","UD",IF('Full menu'!F5="LSD","LSD",IF('Full menu'!F5="WSD","WSD",""))))))))) -> ERTs | G5: =IF('Full menu'!G5="MDC","MDC",IF(OR('Full menu'!G5="PERF",'Full menu'!G5="AERF",'Full menu'!G5="PCB"),"ERfix",IF(OR('Full menu'!G5="ACB", 'Full menu'!G5="LCERT", 'Full menu'!G5="LERT",'Full menu'!G5="FCERT",'Full menu'!G5="FERT"),"ERTs",IF(OR('Full menu'!G5="FCMT",'Full menu'!G5="FMT",'Full menu'!G5="LMT",'Full menu'!G5="LCMT"),"MTs",IF(OR('Full menu'!G5="LCIT",'Full menu'!G5="FCIT",'Full menu'!G5="LIT",'Full menu'!G5="FIT"),"ITs",IF(OR('Full menu'!G5="MwERT", 'Full menu'!G5="ERwMT", 'Full menu'!G5="M&ERT", 'Full menu'!G5="MwIT", 'Full menu'!G5="IwMT", 'Full menu'!G5="M&IT", 'Full menu'!G5="IwERT", 'Full menu'!G5="ERwIT", 'Full menu'!G5="I&ERT", 'Full menu'!G5="ER&M&IT"),"MixedTs",IF('Full menu'!G5="UD","UD",IF('Full menu'!G5="LSD","LSD",IF('Full menu'!G5="WSD","WSD",""))))))))) -> ERTs | H5: =IF('Full menu'!H5="MDC","MDC",IF(OR('Full menu'!H5="PERF",'Full menu'!H5="AERF",'Full menu'!H5="PCB"),"ERfix",IF(OR('Full menu'!H5="ACB", 'Full menu'!H5="LCERT", 'Full menu'!H5="LERT",'Full menu'!H5="FCERT",'Full menu'!H5="FERT"),"ERTs",IF(OR('Full menu'!H5="FCMT",'Full menu'!H5="FMT",'Full menu'!H5="LMT",'Full menu'!H5="LCMT"),"MTs",IF(OR('Full menu'!H5="LCIT",'Full menu'!H5="FCIT",'Full menu'!H5="LIT",'Full menu'!H5="FIT"),"ITs",IF(OR('Full menu'!H5="MwERT", 'Full menu'!H5="ERwMT", 'Full menu'!H5="M&ERT", 'Full menu'!H5="MwIT", 'Full menu'!H5="IwMT", 'Full menu'!H5="M&IT", 'Full menu'!H5="IwERT", 'Full menu'!H5="ERwIT", 'Full menu'!H5="I&ERT", 'Full menu'!H5="ER&M&IT"),"MixedTs",IF('Full menu'!H5="UD","UD",IF('Full menu'!H5="LSD","LSD",IF('Full menu'!H5="WSD","WSD",""))))))))) -> ERTs | I5: =IF('Full menu'!I5="MDC","MDC",IF(OR('Full menu'!I5="PERF",'Full menu'!I5="AERF",'Full menu'!I5="PCB"),"ERfix",IF(OR('Full menu'!I5="ACB", 'Full menu'!I5="LCERT", 'Full menu'!I5="LERT",'Full menu'!I5="FCERT",'Full menu'!I5="FERT"),"ERTs",IF(OR('Full menu'!I5="FCMT",'Full menu'!I5="FMT",'Full menu'!I5="LMT",'Full menu'!I5="LCMT"),"MTs",IF(OR('Full menu'!I5="LCIT",'Full menu'!I5="FCIT",'Full menu'!I5="LIT",'Full menu'!I5="FIT"),"ITs",IF(OR('Full menu'!I5="MwERT", 'Full menu'!I5="ERwMT", 'Full menu'!I5="M&ERT", 'Full menu'!I5="MwIT", 'Full menu'!I5="IwMT", 'Full menu'!I5="M&IT", 'Full menu'!I5="IwERT", 'Full menu'!I5="ERwIT", 'Full menu'!I5="I&ERT", 'Full menu'!I5="ER&M&IT"),"MixedTs",IF('Full menu'!I5="UD","UD",IF('Full menu'!I5="LSD","LSD",IF('Full menu'!I5="WSD","WSD",""))))))))) -> ERTs | ... AY5: =IF('Full menu'!AY5="MDC","MDC",IF(OR('Full menu'!AY5="PERF",'Full menu'!AY5="AERF",'Full menu'!AY5="PCB"),"ERfix",IF(OR('Full menu'!AY5="ACB", 'Full menu'!AY5="LCERT", 'Full menu'!AY5="LERT",'Full menu'!AY5="FCERT",'Full menu'!AY5="FERT"),"ERTs",IF(OR('Full menu'!AY5="FCMT",'Full menu'!AY5="FMT",'Full menu'!AY5="LMT",'Full menu'!AY5="LCMT"),"MTs",IF(OR('Full menu'!AY5="LCIT",'Full menu'!AY5="FCIT",'Full menu'!AY5="LIT",'Full menu'!AY5="FIT"),"ITs",IF(OR('Full menu'!AY5="MwERT", 'Full menu'!AY5="ERwMT", 'Full menu'!AY5="M&ERT", 'Full menu'!AY5="MwIT", 'Full menu'!AY5="IwMT", 'Full menu'!AY5="M&IT", 'Full menu'!AY5="IwERT", 'Full menu'!AY5="ERwIT", 'Full menu'!AY5="I&ERT", 'Full menu'!AY5="ER&M&IT"),"MixedTs",IF('Full menu'!AY5="UD","UD",IF('Full menu'!AY5="LSD","LSD",IF('Full menu'!AY5="WSD","WSD",""))))))))) | AZ5: =IF('Full menu'!AZ5="MDC","MDC",IF(OR('Full menu'!AZ5="PERF",'Full menu'!AZ5="AERF",'Full menu'!AZ5="PCB"),"ERfix",IF(OR('Full menu'!AZ5="ACB", 'Full menu'!AZ5="LCERT", 'Full menu'!AZ5="LERT",'Full menu'!AZ5="FCERT",'Full menu'!AZ5="FERT"),"ERT",IF(OR('Full menu'!AZ5="FCMT",'Full menu'!AZ5="FMT",'Full menu'!AZ5="LMT",'Full menu'!AZ5="LCMT"),"MT",IF(OR('Full menu'!AZ5="LCIT",'Full menu'!AZ5="FCIT",'Full menu'!AZ5="LMT",'Full menu'!AZ5="FMT"),"IT",IF(OR('Full menu'!AZ5="MwERT", 'Full menu'!AZ5="ERwMT", 'Full menu'!AZ5="M&ERT", 'Full menu'!AZ5="MwIT", 'Full menu'!AZ5="IwMT", 'Full menu'!AZ5="M&IT", 'Full menu'!AZ5="IwERT", 'Full menu'!AZ5="ERwIT", 'Full menu'!AZ5="I&ERT", 'Full menu'!AZ5="ER&M&IT"),"MixedT",IF('Full menu'!AZ5="UD","UD",IF('Full menu'!AZ5="LSD","LSD",IF('Full menu'!AZ5="WSD","WSD",""))))))))) | BA5: =IF('Full menu'!BA5="MDC","MDC",IF(OR('Full menu'!BA5="PERF",'Full menu'!BA5="AERF",'Full menu'!BA5="PCB"),"ERfix",IF(OR('Full menu'!BA5="ACB", 'Full menu'!BA5="LCERT", 'Full menu'!BA5="LERT",'Full menu'!BA5="FCERT",'Full menu'!BA5="FERT"),"ERT",IF(OR('Full menu'!BA5="FCMT",'Full menu'!BA5="FMT",'Full menu'!BA5="LMT",'Full menu'!BA5="LCMT"),"MT",IF(OR('Full menu'!BA5="LCIT",'Full menu'!BA5="FCIT",'Full menu'!BA5="LMT",'Full menu'!BA5="FMT"),"IT",IF(OR('Full menu'!BA5="MwERT", 'Full menu'!BA5="ERwMT", 'Full menu'!BA5="M&ERT", 'Full menu'!BA5="MwIT", 'Full menu'!BA5="IwMT", 'Full menu'!BA5="M&IT", 'Full menu'!BA5="IwERT", 'Full menu'!BA5="ERwIT", 'Full menu'!BA5="I&ERT", 'Full menu'!BA5="ER&M&IT"),"MixedT",IF('Full menu'!BA5="UD","UD",IF('Full menu'!BA5="LSD","LSD",IF('Full menu'!BA5="WSD","WSD",""))))))))) | BB5: =IF('Full menu'!BB5="MDC","MDC",IF(OR('Full menu'!BB5="PERF",'Full menu'!BB5="AERF",'Full menu'!BB5="PCB"),"ERfix",IF(OR('Full menu'!BB5="ACB", 'Full menu'!BB5="LCERT", 'Full menu'!BB5="LERT",'Full menu'!BB5="FCERT",'Full menu'!BB5="FERT"),"ERT",IF(OR('Full menu'!BB5="FCMT",'Full menu'!BB5="FMT",'Full menu'!BB5="LMT",'Full menu'!BB5="LCMT"),"MT",IF(OR('Full menu'!BB5="LCIT",'Full menu'!BB5="FCIT",'Full menu'!BB5="LMT",'Full menu'!BB5="FMT"),"IT",IF(OR('Full menu'!BB5="MwERT", 'Full menu'!BB5="ERwMT", 'Full menu'!BB5="M&ERT", 'Full menu'!BB5="MwIT", 'Full menu'!BB5="IwMT", 'Full menu'!BB5="M&IT", 'Full menu'!BB5="IwERT", 'Full menu'!BB5="ERwIT", 'Full menu'!BB5="I&ERT", 'Full menu'!BB5="ER&M&IT"),"MixedT",IF('Full menu'!BB5="UD","UD",IF('Full menu'!BB5="LSD","LSD",IF('Full menu'!BB5="WSD","WSD",""))))))))) | BC5: =IF('Full menu'!BC5="MDC","MDC",IF(OR('Full menu'!BC5="PERF",'Full menu'!BC5="AERF",'Full menu'!BC5="PCB"),"ERfix",IF(OR('Full menu'!BC5="ACB", 'Full menu'!BC5="LCERT", 'Full menu'!BC5="LERT",'Full menu'!BC5="FCERT",'Full menu'!BC5="FERT"),"ERT",IF(OR('Full menu'!BC5="FCMT",'Full menu'!BC5="FMT",'Full menu'!BC5="LMT",'Full menu'!BC5="LCMT"),"MT",IF(OR('Full menu'!BC5="LCIT",'Full menu'!BC5="FCIT",'Full menu'!BC5="LMT",'Full menu'!BC5="FMT"),"IT",IF(OR('Full menu'!BC5="MwERT", 'Full menu'!BC5="ERwMT", 'Full menu'!BC5="M&ERT", 'Full menu'!BC5="MwIT", 'Full menu'!BC5="IwMT", 'Full menu'!BC5="M&IT", 'Full menu'!BC5="IwERT", 'Full menu'!BC5="ERwIT", 'Full menu'!BC5="I&ERT", 'Full menu'!BC5="ER&M&IT"),"MixedT",IF('Full menu'!BC5="UD","UD",IF('Full menu'!BC5="LSD","LSD",IF('Full menu'!BC5="WSD","WSD","")))))))))
A6: France | B6: =IF('Full menu'!B6="MDC","MDC",IF(OR('Full menu'!B6="PERF",'Full menu'!B6="AERF",'Full menu'!B6="PCB"),"ERfix",IF(OR('Full menu'!B6="ACB", 'Full menu'!B6="LCERT", 'Full menu'!B6="LERT",'Full menu'!B6="FCERT",'Full menu'!B6="FERT"),"ERTs",IF(OR('Full menu'!B6="FCMT",'Full menu'!B6="FMT",'Full menu'!B6="LMT",'Full menu'!B6="LCMT"),"MTs",IF(OR('Full menu'!B6="LCIT",'Full menu'!B6="FCIT",'Full menu'!B6="LIT",'Full menu'!B6="FIT"),"ITs",IF(OR('Full menu'!B6="MwERT", 'Full menu'!B6="ERwMT", 'Full menu'!B6="M&ERT", 'Full menu'!B6="MwIT", 'Full menu'!B6="IwMT", 'Full menu'!B6="M&IT", 'Full menu'!B6="IwERT", 'Full menu'!B6="ERwIT", 'Full menu'!B6="I&ERT", 'Full menu'!B6="ER&M&IT"),"MixedTs",IF('Full menu'!B6="UD","UD",IF('Full menu'!B6="LSD","LSD",IF('Full menu'!B6="WSD","WSD",""))))))))) -> LSD | C6: =IF('Full menu'!C6="MDC","MDC",IF(OR('Full menu'!C6="PERF",'Full menu'!C6="AERF",'Full menu'!C6="PCB"),"ERfix",IF(OR('Full menu'!C6="ACB", 'Full menu'!C6="LCERT", 'Full menu'!C6="LERT",'Full menu'!C6="FCERT",'Full menu'!C6="FERT"),"ERTs",IF(OR('Full menu'!C6="FCMT",'Full menu'!C6="FMT",'Full menu'!C6="LMT",'Full menu'!C6="LCMT"),"MTs",IF(OR('Full menu'!C6="LCIT",'Full menu'!C6="FCIT",'Full menu'!C6="LIT",'Full menu'!C6="FIT"),"ITs",IF(OR('Full menu'!C6="MwERT", 'Full menu'!C6="ERwMT", 'Full menu'!C6="M&ERT", 'Full menu'!C6="MwIT", 'Full menu'!C6="IwMT", 'Full menu'!C6="M&IT", 'Full menu'!C6="IwERT", 'Full menu'!C6="ERwIT", 'Full menu'!C6="I&ERT", 'Full menu'!C6="ER&M&IT"),"MixedTs",IF('Full menu'!C6="UD","UD",IF('Full menu'!C6="LSD","LSD",IF('Full menu'!C6="WSD","WSD",""))))))))) -> LSD | D6: =IF('Full menu'!D6="MDC","MDC",IF(OR('Full menu'!D6="PERF",'Full menu'!D6="AERF",'Full menu'!D6="PCB"),"ERfix",IF(OR('Full menu'!D6="ACB", 'Full menu'!D6="LCERT", 'Full menu'!D6="LERT",'Full menu'!D6="FCERT",'Full menu'!D6="FERT"),"ERTs",IF(OR('Full menu'!D6="FCMT",'Full menu'!D6="FMT",'Full menu'!D6="LMT",'Full menu'!D6="LCMT"),"MTs",IF(OR('Full menu'!D6="LCIT",'Full menu'!D6="FCIT",'Full menu'!D6="LIT",'Full menu'!D6="FIT"),"ITs",IF(OR('Full menu'!D6="MwERT", 'Full menu'!D6="ERwMT", 'Full menu'!D6="M&ERT", 'Full menu'!D6="MwIT", 'Full menu'!D6="IwMT", 'Full menu'!D6="M&IT", 'Full menu'!D6="IwERT", 'Full menu'!D6="ERwIT", 'Full menu'!D6="I&ERT", 'Full menu'!D6="ER&M&IT"),"MixedTs",IF('Full menu'!D6="UD","UD",IF('Full menu'!D6="LSD","LSD",IF('Full menu'!D6="WSD","WSD",""))))))))) -> LSD | E6: =IF('Full menu'!E6="MDC","MDC",IF(OR('Full menu'!E6="PERF",'Full menu'!E6="AERF",'Full menu'!E6="PCB"),"ERfix",IF(OR('Full menu'!E6="ACB", 'Full menu'!E6="LCERT", 'Full menu'!E6="LERT",'Full menu'!E6="FCERT",'Full menu'!E6="FERT"),"ERTs",IF(OR('Full menu'!E6="FCMT",'Full menu'!E6="FMT",'Full menu'!E6="LMT",'Full menu'!E6="LCMT"),"MTs",IF(OR('Full menu'!E6="LCIT",'Full menu'!E6="FCIT",'Full menu'!E6="LIT",'Full menu'!E6="FIT"),"ITs",IF(OR('Full menu'!E6="MwERT", 'Full menu'!E6="ERwMT", 'Full menu'!E6="M&ERT", 'Full menu'!E6="MwIT", 'Full menu'!E6="IwMT", 'Full menu'!E6="M&IT", 'Full menu'!E6="IwERT", 'Full menu'!E6="ERwIT", 'Full menu'!E6="I&ERT", 'Full menu'!E6="ER&M&IT"),"MixedTs",IF('Full menu'!E6="UD","UD",IF('Full menu'!E6="LSD","LSD",IF('Full menu'!E6="WSD","WSD",""))))))))) -> MixedTs | F6: =IF('Full menu'!F6="MDC","MDC",IF(OR('Full menu'!F6="PERF",'Full menu'!F6="AERF",'Full menu'!F6="PCB"),"ERfix",IF(OR('Full menu'!F6="ACB", 'Full menu'!F6="LCERT", 'Full menu'!F6="LERT",'Full menu'!F6="FCERT",'Full menu'!F6="FERT"),"ERTs",IF(OR('Full menu'!F6="FCMT",'Full menu'!F6="FMT",'Full menu'!F6="LMT",'Full menu'!F6="LCMT"),"MTs",IF(OR('Full menu'!F6="LCIT",'Full menu'!F6="FCIT",'Full menu'!F6="LIT",'Full menu'!F6="FIT"),"ITs",IF(OR('Full menu'!F6="MwERT", 'Full menu'!F6="ERwMT", 'Full menu'!F6="M&ERT", 'Full menu'!F6="MwIT", 'Full menu'!F6="IwMT", 'Full menu'!F6="M&IT", 'Full menu'!F6="IwERT", 'Full menu'!F6="ERwIT", 'Full menu'!F6="I&ERT", 'Full menu'!F6="ER&M&IT"),"MixedTs",IF('Full menu'!F6="UD","UD",IF('Full menu'!F6="LSD","LSD",IF('Full menu'!F6="WSD","WSD",""))))))))) -> MixedTs | G6: =IF('Full menu'!G6="MDC","MDC",IF(OR('Full menu'!G6="PERF",'Full menu'!G6="AERF",'Full menu'!G6="PCB"),"ERfix",IF(OR('Full menu'!G6="ACB", 'Full menu'!G6="LCERT", 'Full menu'!G6="LERT",'Full menu'!G6="FCERT",'Full menu'!G6="FERT"),"ERTs",IF(OR('Full menu'!G6="FCMT",'Full menu'!G6="FMT",'Full menu'!G6="LMT",'Full menu'!G6="LCMT"),"MTs",IF(OR('Full menu'!G6="LCIT",'Full menu'!G6="FCIT",'Full menu'!G6="LIT",'Full menu'!G6="FIT"),"ITs",IF(OR('Full menu'!G6="MwERT", 'Full menu'!G6="ERwMT", 'Full menu'!G6="M&ERT", 'Full menu'!G6="MwIT", 'Full menu'!G6="IwMT", 'Full menu'!G6="M&IT", 'Full menu'!G6="IwERT", 'Full menu'!G6="ERwIT", 'Full menu'!G6="I&ERT", 'Full menu'!G6="ER&M&IT"),"MixedTs",IF('Full menu'!G6="UD","UD",IF('Full menu'!G6="LSD","LSD",IF('Full menu'!G6="WSD","WSD",""))))))))) -> MixedTs | H6: =IF('Full menu'!H6="MDC","MDC",IF(OR('Full menu'!H6="PERF",'Full menu'!H6="AERF",'Full menu'!H6="PCB"),"ERfix",IF(OR('Full menu'!H6="ACB", 'Full menu'!H6="LCERT", 'Full menu'!H6="LERT",'Full menu'!H6="FCERT",'Full menu'!H6="FERT"),"ERTs",IF(OR('Full menu'!H6="FCMT",'Full menu'!H6="FMT",'Full menu'!H6="LMT",'Full menu'!H6="LCMT"),"MTs",IF(OR('Full menu'!H6="LCIT",'Full menu'!H6="FCIT",'Full menu'!H6="LIT",'Full menu'!H6="FIT"),"ITs",IF(OR('Full menu'!H6="MwERT", 'Full menu'!H6="ERwMT", 'Full menu'!H6="M&ERT", 'Full menu'!H6="MwIT", 'Full menu'!H6="IwMT", 'Full menu'!H6="M&IT", 'Full menu'!H6="IwERT", 'Full menu'!H6="ERwIT", 'Full menu'!H6="I&ERT", 'Full menu'!H6="ER&M&IT"),"MixedTs",IF('Full menu'!H6="UD","UD",IF('Full menu'!H6="LSD","LSD",IF('Full menu'!H6="WSD","WSD",""))))))))) -> MixedTs | I6: =IF('Full menu'!I6="MDC","MDC",IF(OR('Full menu'!I6="PERF",'Full menu'!I6="AERF",'Full menu'!I6="PCB"),"ERfix",IF(OR('Full menu'!I6="ACB", 'Full menu'!I6="LCERT", 'Full menu'!I6="LERT",'Full menu'!I6="FCERT",'Full menu'!I6="FERT"),"ERTs",IF(OR('Full menu'!I6="FCMT",'Full menu'!I6="FMT",'Full menu'!I6="LMT",'Full menu'!I6="LCMT"),"MTs",IF(OR('Full menu'!I6="LCIT",'Full menu'!I6="FCIT",'Full menu'!I6="LIT",'Full menu'!I6="FIT"),"ITs",IF(OR('Full menu'!I6="MwERT", 'Full menu'!I6="ERwMT", 'Full menu'!I6="M&ERT", 'Full menu'!I6="MwIT", 'Full menu'!I6="IwMT", 'Full menu'!I6="M&IT", 'Full menu'!I6="IwERT", 'Full menu'!I6="ERwIT", 'Full menu'!I6="I&ERT", 'Full menu'!I6="ER&M&IT"),"MixedTs",IF('Full menu'!I6="UD","UD",IF('Full menu'!I6="LSD","LSD",IF('Full menu'!I6="WSD","WSD",""))))))))) -> MixedTs | ... AY6: =IF('Full menu'!AY6="MDC","MDC",IF(OR('Full menu'!AY6="PERF",'Full menu'!AY6="AERF",'Full menu'!AY6="PCB"),"ERfix",IF(OR('Full menu'!AY6="ACB", 'Full menu'!AY6="LCERT", 'Full menu'!AY6="LERT",'Full menu'!AY6="FCERT",'Full menu'!AY6="FERT"),"ERTs",IF(OR('Full menu'!AY6="FCMT",'Full menu'!AY6="FMT",'Full menu'!AY6="LMT",'Full menu'!AY6="LCMT"),"MTs",IF(OR('Full menu'!AY6="LCIT",'Full menu'!AY6="FCIT",'Full menu'!AY6="LIT",'Full menu'!AY6="FIT"),"ITs",IF(OR('Full menu'!AY6="MwERT", 'Full menu'!AY6="ERwMT", 'Full menu'!AY6="M&ERT", 'Full menu'!AY6="MwIT", 'Full menu'!AY6="IwMT", 'Full menu'!AY6="M&IT", 'Full menu'!AY6="IwERT", 'Full menu'!AY6="ERwIT", 'Full menu'!AY6="I&ERT", 'Full menu'!AY6="ER&M&IT"),"MixedTs",IF('Full menu'!AY6="UD","UD",IF('Full menu'!AY6="LSD","LSD",IF('Full menu'!AY6="WSD","WSD",""))))))))) | AZ6: =IF('Full menu'!AZ6="MDC","MDC",IF(OR('Full menu'!AZ6="PERF",'Full menu'!AZ6="AERF",'Full menu'!AZ6="PCB"),"ERfix",IF(OR('Full menu'!AZ6="ACB", 'Full menu'!AZ6="LCERT", 'Full menu'!AZ6="LERT",'Full menu'!AZ6="FCERT",'Full menu'!AZ6="FERT"),"ERT",IF(OR('Full menu'!AZ6="FCMT",'Full menu'!AZ6="FMT",'Full menu'!AZ6="LMT",'Full menu'!AZ6="LCMT"),"MT",IF(OR('Full menu'!AZ6="LCIT",'Full menu'!AZ6="FCIT",'Full menu'!AZ6="LMT",'Full menu'!AZ6="FMT"),"IT",IF(OR('Full menu'!AZ6="MwERT", 'Full menu'!AZ6="ERwMT", 'Full menu'!AZ6="M&ERT", 'Full menu'!AZ6="MwIT", 'Full menu'!AZ6="IwMT", 'Full menu'!AZ6="M&IT", 'Full menu'!AZ6="IwERT", 'Full menu'!AZ6="ERwIT", 'Full menu'!AZ6="I&ERT", 'Full menu'!AZ6="ER&M&IT"),"MixedT",IF('Full menu'!AZ6="UD","UD",IF('Full menu'!AZ6="LSD","LSD",IF('Full menu'!AZ6="WSD","WSD",""))))))))) | BA6: =IF('Full menu'!BA6="MDC","MDC",IF(OR('Full menu'!BA6="PERF",'Full menu'!BA6="AERF",'Full menu'!BA6="PCB"),"ERfix",IF(OR('Full menu'!BA6="ACB", 'Full menu'!BA6="LCERT", 'Full menu'!BA6="LERT",'Full menu'!BA6="FCERT",'Full menu'!BA6="FERT"),"ERT",IF(OR('Full menu'!BA6="FCMT",'Full menu'!BA6="FMT",'Full menu'!BA6="LMT",'Full menu'!BA6="LCMT"),"MT",IF(OR('Full menu'!BA6="LCIT",'Full menu'!BA6="FCIT",'Full menu'!BA6="LMT",'Full menu'!BA6="FMT"),"IT",IF(OR('Full menu'!BA6="MwERT", 'Full menu'!BA6="ERwMT", 'Full menu'!BA6="M&ERT", 'Full menu'!BA6="MwIT", 'Full menu'!BA6="IwMT", 'Full menu'!BA6="M&IT", 'Full menu'!BA6="IwERT", 'Full menu'!BA6="ERwIT", 'Full menu'!BA6="I&ERT", 'Full menu'!BA6="ER&M&IT"),"MixedT",IF('Full menu'!BA6="UD","UD",IF('Full menu'!BA6="LSD","LSD",IF('Full menu'!BA6="WSD","WSD",""))))))))) | BB6: =IF('Full menu'!BB6="MDC","MDC",IF(OR('Full menu'!BB6="PERF",'Full menu'!BB6="AERF",'Full menu'!BB6="PCB"),"ERfix",IF(OR('Full menu'!BB6="ACB", 'Full menu'!BB6="LCERT", 'Full menu'!BB6="LERT",'Full menu'!BB6="FCERT",'Full menu'!BB6="FERT"),"ERT",IF(OR('Full menu'!BB6="FCMT",'Full menu'!BB6="FMT",'Full menu'!BB6="LMT",'Full menu'!BB6="LCMT"),"MT",IF(OR('Full menu'!BB6="LCIT",'Full menu'!BB6="FCIT",'Full menu'!BB6="LMT",'Full menu'!BB6="FMT"),"IT",IF(OR('Full menu'!BB6="MwERT", 'Full menu'!BB6="ERwMT", 'Full menu'!BB6="M&ERT", 'Full menu'!BB6="MwIT", 'Full menu'!BB6="IwMT", 'Full menu'!BB6="M&IT", 'Full menu'!BB6="IwERT", 'Full menu'!BB6="ERwIT", 'Full menu'!BB6="I&ERT", 'Full menu'!BB6="ER&M&IT"),"MixedT",IF('Full menu'!BB6="UD","UD",IF('Full menu'!BB6="LSD","LSD",IF('Full menu'!BB6="WSD","WSD",""))))))))) | BC6: =IF('Full menu'!BC6="MDC","MDC",IF(OR('Full menu'!BC6="PERF",'Full menu'!BC6="AERF",'Full menu'!BC6="PCB"),"ERfix",IF(OR('Full menu'!BC6="ACB", 'Full menu'!BC6="LCERT", 'Full menu'!BC6="LERT",'Full menu'!BC6="FCERT",'Full menu'!BC6="FERT"),"ERT",IF(OR('Full menu'!BC6="FCMT",'Full menu'!BC6="FMT",'Full menu'!BC6="LMT",'Full menu'!BC6="LCMT"),"MT",IF(OR('Full menu'!BC6="LCIT",'Full menu'!BC6="FCIT",'Full menu'!BC6="LMT",'Full menu'!BC6="FMT"),"IT",IF(OR('Full menu'!BC6="MwERT", 'Full menu'!BC6="ERwMT", 'Full menu'!BC6="M&ERT", 'Full menu'!BC6="MwIT", 'Full menu'!BC6="IwMT", 'Full menu'!BC6="M&IT", 'Full menu'!BC6="IwERT", 'Full menu'!BC6="ERwIT", 'Full menu'!BC6="I&ERT", 'Full menu'!BC6="ER&M&IT"),"MixedT",IF('Full menu'!BC6="UD","UD",IF('Full menu'!BC6="LSD","LSD",IF('Full menu'!BC6="WSD","WSD","")))))))))
A7: Germany | B7: =IF('Full menu'!B7="MDC","MDC",IF(OR('Full menu'!B7="PERF",'Full menu'!B7="AERF",'Full menu'!B7="PCB"),"ERfix",IF(OR('Full menu'!B7="ACB", 'Full menu'!B7="LCERT", 'Full menu'!B7="LERT",'Full menu'!B7="FCERT",'Full menu'!B7="FERT"),"ERTs",IF(OR('Full menu'!B7="FCMT",'Full menu'!B7="FMT",'Full menu'!B7="LMT",'Full menu'!B7="LCMT"),"MTs",IF(OR('Full menu'!B7="LCIT",'Full menu'!B7="FCIT",'Full menu'!B7="LIT",'Full menu'!B7="FIT"),"ITs",IF(OR('Full menu'!B7="MwERT", 'Full menu'!B7="ERwMT", 'Full menu'!B7="M&ERT", 'Full menu'!B7="MwIT", 'Full menu'!B7="IwMT", 'Full menu'!B7="M&IT", 'Full menu'!B7="IwERT", 'Full menu'!B7="ERwIT", 'Full menu'!B7="I&ERT", 'Full menu'!B7="ER&M&IT"),"MixedTs",IF('Full menu'!B7="UD","UD",IF('Full menu'!B7="LSD","LSD",IF('Full menu'!B7="WSD","WSD",""))))))))) -> LSD | C7: =IF('Full menu'!C7="MDC","MDC",IF(OR('Full menu'!C7="PERF",'Full menu'!C7="AERF",'Full menu'!C7="PCB"),"ERfix",IF(OR('Full menu'!C7="ACB", 'Full menu'!C7="LCERT", 'Full menu'!C7="LERT",'Full menu'!C7="FCERT",'Full menu'!C7="FERT"),"ERTs",IF(OR('Full menu'!C7="FCMT",'Full menu'!C7="FMT",'Full menu'!C7="LMT",'Full menu'!C7="LCMT"),"MTs",IF(OR('Full menu'!C7="LCIT",'Full menu'!C7="FCIT",'Full menu'!C7="LIT",'Full menu'!C7="FIT"),"ITs",IF(OR('Full menu'!C7="MwERT", 'Full menu'!C7="ERwMT", 'Full menu'!C7="M&ERT", 'Full menu'!C7="MwIT", 'Full menu'!C7="IwMT", 'Full menu'!C7="M&IT", 'Full menu'!C7="IwERT", 'Full menu'!C7="ERwIT", 'Full menu'!C7="I&ERT", 'Full menu'!C7="ER&M&IT"),"MixedTs",IF('Full menu'!C7="UD","UD",IF('Full menu'!C7="LSD","LSD",IF('Full menu'!C7="WSD","WSD",""))))))))) -> MixedTs | D7: =IF('Full menu'!D7="MDC","MDC",IF(OR('Full menu'!D7="PERF",'Full menu'!D7="AERF",'Full menu'!D7="PCB"),"ERfix",IF(OR('Full menu'!D7="ACB", 'Full menu'!D7="LCERT", 'Full menu'!D7="LERT",'Full menu'!D7="FCERT",'Full menu'!D7="FERT"),"ERTs",IF(OR('Full menu'!D7="FCMT",'Full menu'!D7="FMT",'Full menu'!D7="LMT",'Full menu'!D7="LCMT"),"MTs",IF(OR('Full menu'!D7="LCIT",'Full menu'!D7="FCIT",'Full menu'!D7="LIT",'Full menu'!D7="FIT"),"ITs",IF(OR('Full menu'!D7="MwERT", 'Full menu'!D7="ERwMT", 'Full menu'!D7="M&ERT", 'Full menu'!D7="MwIT", 'Full menu'!D7="IwMT", 'Full menu'!D7="M&IT", 'Full menu'!D7="IwERT", 'Full menu'!D7="ERwIT", 'Full menu'!D7="I&ERT", 'Full menu'!D7="ER&M&IT"),"MixedTs",IF('Full menu'!D7="UD","UD",IF('Full menu'!D7="LSD","LSD",IF('Full menu'!D7="WSD","WSD",""))))))))) -> MixedTs | E7: =IF('Full menu'!E7="MDC","MDC",IF(OR('Full menu'!E7="PERF",'Full menu'!E7="AERF",'Full menu'!E7="PCB"),"ERfix",IF(OR('Full menu'!E7="ACB", 'Full menu'!E7="LCERT", 'Full menu'!E7="LERT",'Full menu'!E7="FCERT",'Full menu'!E7="FERT"),"ERTs",IF(OR('Full menu'!E7="FCMT",'Full menu'!E7="FMT",'Full menu'!E7="LMT",'Full menu'!E7="LCMT"),"MTs",IF(OR('Full menu'!E7="LCIT",'Full menu'!E7="FCIT",'Full menu'!E7="LIT",'Full menu'!E7="FIT"),"ITs",IF(OR('Full menu'!E7="MwERT", 'Full menu'!E7="ERwMT", 'Full menu'!E7="M&ERT", 'Full menu'!E7="MwIT", 'Full menu'!E7="IwMT", 'Full menu'!E7="M&IT", 'Full menu'!E7="IwERT", 'Full menu'!E7="ERwIT", 'Full menu'!E7="I&ERT", 'Full menu'!E7="ER&M&IT"),"MixedTs",IF('Full menu'!E7="UD","UD",IF('Full menu'!E7="LSD","LSD",IF('Full menu'!E7="WSD","WSD",""))))))))) -> MixedTs | F7: =IF('Full menu'!F7="MDC","MDC",IF(OR('Full menu'!F7="PERF",'Full menu'!F7="AERF",'Full menu'!F7="PCB"),"ERfix",IF(OR('Full menu'!F7="ACB", 'Full menu'!F7="LCERT", 'Full menu'!F7="LERT",'Full menu'!F7="FCERT",'Full menu'!F7="FERT"),"ERTs",IF(OR('Full menu'!F7="FCMT",'Full menu'!F7="FMT",'Full menu'!F7="LMT",'Full menu'!F7="LCMT"),"MTs",IF(OR('Full menu'!F7="LCIT",'Full menu'!F7="FCIT",'Full menu'!F7="LIT",'Full menu'!F7="FIT"),"ITs",IF(OR('Full menu'!F7="MwERT", 'Full menu'!F7="ERwMT", 'Full menu'!F7="M&ERT", 'Full menu'!F7="MwIT", 'Full menu'!F7="IwMT", 'Full menu'!F7="M&IT", 'Full menu'!F7="IwERT", 'Full menu'!F7="ERwIT", 'Full menu'!F7="I&ERT", 'Full menu'!F7="ER&M&IT"),"MixedTs",IF('Full menu'!F7="UD","UD",IF('Full menu'!F7="LSD","LSD",IF('Full menu'!F7="WSD","WSD",""))))))))) -> MixedTs | G7: =IF('Full menu'!G7="MDC","MDC",IF(OR('Full menu'!G7="PERF",'Full menu'!G7="AERF",'Full menu'!G7="PCB"),"ERfix",IF(OR('Full menu'!G7="ACB", 'Full menu'!G7="LCERT", 'Full menu'!G7="LERT",'Full menu'!G7="FCERT",'Full menu'!G7="FERT"),"ERTs",IF(OR('Full menu'!G7="FCMT",'Full menu'!G7="FMT",'Full menu'!G7="LMT",'Full menu'!G7="LCMT"),"MTs",IF(OR('Full menu'!G7="LCIT",'Full menu'!G7="FCIT",'Full menu'!G7="LIT",'Full menu'!G7="FIT"),"ITs",IF(OR('Full menu'!G7="MwERT", 'Full menu'!G7="ERwMT", 'Full menu'!G7="M&ERT", 'Full menu'!G7="MwIT", 'Full menu'!G7="IwMT", 'Full menu'!G7="M&IT", 'Full menu'!G7="IwERT", 'Full menu'!G7="ERwIT", 'Full menu'!G7="I&ERT", 'Full menu'!G7="ER&M&IT"),"MixedTs",IF('Full menu'!G7="UD","UD",IF('Full menu'!G7="LSD","LSD",IF('Full menu'!G7="WSD","WSD",""))))))))) -> MixedTs | H7: =IF('Full menu'!H7="MDC","MDC",IF(OR('Full menu'!H7="PERF",'Full menu'!H7="AERF",'Full menu'!H7="PCB"),"ERfix",IF(OR('Full menu'!H7="ACB", 'Full menu'!H7="LCERT", 'Full menu'!H7="LERT",'Full menu'!H7="FCERT",'Full menu'!H7="FERT"),"ERTs",IF(OR('Full menu'!H7="FCMT",'Full menu'!H7="FMT",'Full menu'!H7="LMT",'Full menu'!H7="LCMT"),"MTs",IF(OR('Full menu'!H7="LCIT",'Full menu'!H7="FCIT",'Full menu'!H7="LIT",'Full menu'!H7="FIT"),"ITs",IF(OR('Full menu'!H7="MwERT", 'Full menu'!H7="ERwMT", 'Full menu'!H7="M&ERT", 'Full menu'!H7="MwIT", 'Full menu'!H7="IwMT", 'Full menu'!H7="M&IT", 'Full menu'!H7="IwERT", 'Full menu'!H7="ERwIT", 'Full menu'!H7="I&ERT", 'Full menu'!H7="ER&M&IT"),"MixedTs",IF('Full menu'!H7="UD","UD",IF('Full menu'!H7="LSD","LSD",IF('Full menu'!H7="WSD","WSD",""))))))))) -> MixedTs | I7: =IF('Full menu'!I7="MDC","MDC",IF(OR('Full menu'!I7="PERF",'Full menu'!I7="AERF",'Full menu'!I7="PCB"),"ERfix",IF(OR('Full menu'!I7="ACB", 'Full menu'!I7="LCERT", 'Full menu'!I7="LERT",'Full menu'!I7="FCERT",'Full menu'!I7="FERT"),"ERTs",IF(OR('Full menu'!I7="FCMT",'Full menu'!I7="FMT",'Full menu'!I7="LMT",'Full menu'!I7="LCMT"),"MTs",IF(OR('Full menu'!I7="LCIT",'Full menu'!I7="FCIT",'Full menu'!I7="LIT",'Full menu'!I7="FIT"),"ITs",IF(OR('Full menu'!I7="MwERT", 'Full menu'!I7="ERwMT", 'Full menu'!I7="M&ERT", 'Full menu'!I7="MwIT", 'Full menu'!I7="IwMT", 'Full menu'!I7="M&IT", 'Full menu'!I7="IwERT", 'Full menu'!I7="ERwIT", 'Full menu'!I7="I&ERT", 'Full menu'!I7="ER&M&IT"),"MixedTs",IF('Full menu'!I7="UD","UD",IF('Full menu'!I7="LSD","LSD",IF('Full menu'!I7="WSD","WSD",""))))))))) -> MixedTs | ... AY7: =IF('Full menu'!AY7="MDC","MDC",IF(OR('Full menu'!AY7="PERF",'Full menu'!AY7="AERF",'Full menu'!AY7="PCB"),"ERfix",IF(OR('Full menu'!AY7="ACB", 'Full menu'!AY7="LCERT", 'Full menu'!AY7="LERT",'Full menu'!AY7="FCERT",'Full menu'!AY7="FERT"),"ERTs",IF(OR('Full menu'!AY7="FCMT",'Full menu'!AY7="FMT",'Full menu'!AY7="LMT",'Full menu'!AY7="LCMT"),"MTs",IF(OR('Full menu'!AY7="LCIT",'Full menu'!AY7="FCIT",'Full menu'!AY7="LIT",'Full menu'!AY7="FIT"),"ITs",IF(OR('Full menu'!AY7="MwERT", 'Full menu'!AY7="ERwMT", 'Full menu'!AY7="M&ERT", 'Full menu'!AY7="MwIT", 'Full menu'!AY7="IwMT", 'Full menu'!AY7="M&IT", 'Full menu'!AY7="IwERT", 'Full menu'!AY7="ERwIT", 'Full menu'!AY7="I&ERT", 'Full menu'!AY7="ER&M&IT"),"MixedTs",IF('Full menu'!AY7="UD","UD",IF('Full menu'!AY7="LSD","LSD",IF('Full menu'!AY7="WSD","WSD",""))))))))) | AZ7: =IF('Full menu'!AZ7="MDC","MDC",IF(OR('Full menu'!AZ7="PERF",'Full menu'!AZ7="AERF",'Full menu'!AZ7="PCB"),"ERfix",IF(OR('Full menu'!AZ7="ACB", 'Full menu'!AZ7="LCERT", 'Full menu'!AZ7="LERT",'Full menu'!AZ7="FCERT",'Full menu'!AZ7="FERT"),"ERT",IF(OR('Full menu'!AZ7="FCMT",'Full menu'!AZ7="FMT",'Full menu'!AZ7="LMT",'Full menu'!AZ7="LCMT"),"MT",IF(OR('Full menu'!AZ7="LCIT",'Full menu'!AZ7="FCIT",'Full menu'!AZ7="LMT",'Full menu'!AZ7="FMT"),"IT",IF(OR('Full menu'!AZ7="MwERT", 'Full menu'!AZ7="ERwMT", 'Full menu'!AZ7="M&ERT", 'Full menu'!AZ7="MwIT", 'Full menu'!AZ7="IwMT", 'Full menu'!AZ7="M&IT", 'Full menu'!AZ7="IwERT", 'Full menu'!AZ7="ERwIT", 'Full menu'!AZ7="I&ERT", 'Full menu'!AZ7="ER&M&IT"),"MixedT",IF('Full menu'!AZ7="UD","UD",IF('Full menu'!AZ7="LSD","LSD",IF('Full menu'!AZ7="WSD","WSD",""))))))))) | BA7: =IF('Full menu'!BA7="MDC","MDC",IF(OR('Full menu'!BA7="PERF",'Full menu'!BA7="AERF",'Full menu'!BA7="PCB"),"ERfix",IF(OR('Full menu'!BA7="ACB", 'Full menu'!BA7="LCERT", 'Full menu'!BA7="LERT",'Full menu'!BA7="FCERT",'Full menu'!BA7="FERT"),"ERT",IF(OR('Full menu'!BA7="FCMT",'Full menu'!BA7="FMT",'Full menu'!BA7="LMT",'Full menu'!BA7="LCMT"),"MT",IF(OR('Full menu'!BA7="LCIT",'Full menu'!BA7="FCIT",'Full menu'!BA7="LMT",'Full menu'!BA7="FMT"),"IT",IF(OR('Full menu'!BA7="MwERT", 'Full menu'!BA7="ERwMT", 'Full menu'!BA7="M&ERT", 'Full menu'!BA7="MwIT", 'Full menu'!BA7="IwMT", 'Full menu'!BA7="M&IT", 'Full menu'!BA7="IwERT", 'Full menu'!BA7="ERwIT", 'Full menu'!BA7="I&ERT", 'Full menu'!BA7="ER&M&IT"),"MixedT",IF('Full menu'!BA7="UD","UD",IF('Full menu'!BA7="LSD","LSD",IF('Full menu'!BA7="WSD","WSD",""))))))))) | BB7: =IF('Full menu'!BB7="MDC","MDC",IF(OR('Full menu'!BB7="PERF",'Full menu'!BB7="AERF",'Full menu'!BB7="PCB"),"ERfix",IF(OR('Full menu'!BB7="ACB", 'Full menu'!BB7="LCERT", 'Full menu'!BB7="LERT",'Full menu'!BB7="FCERT",'Full menu'!BB7="FERT"),"ERT",IF(OR('Full menu'!BB7="FCMT",'Full menu'!BB7="FMT",'Full menu'!BB7="LMT",'Full menu'!BB7="LCMT"),"MT",IF(OR('Full menu'!BB7="LCIT",'Full menu'!BB7="FCIT",'Full menu'!BB7="LMT",'Full menu'!BB7="FMT"),"IT",IF(OR('Full menu'!BB7="MwERT", 'Full menu'!BB7="ERwMT", 'Full menu'!BB7="M&ERT", 'Full menu'!BB7="MwIT", 'Full menu'!BB7="IwMT", 'Full menu'!BB7="M&IT", 'Full menu'!BB7="IwERT", 'Full menu'!BB7="ERwIT", 'Full menu'!BB7="I&ERT", 'Full menu'!BB7="ER&M&IT"),"MixedT",IF('Full menu'!BB7="UD","UD",IF('Full menu'!BB7="LSD","LSD",IF('Full menu'!BB7="WSD","WSD",""))))))))) | BC7: =IF('Full menu'!BC7="MDC","MDC",IF(OR('Full menu'!BC7="PERF",'Full menu'!BC7="AERF",'Full menu'!BC7="PCB"),"ERfix",IF(OR('Full menu'!BC7="ACB", 'Full menu'!BC7="LCERT", 'Full menu'!BC7="LERT",'Full menu'!BC7="FCERT",'Full menu'!BC7="FERT"),"ERT",IF(OR('Full menu'!BC7="FCMT",'Full menu'!BC7="FMT",'Full menu'!BC7="LMT",'Full menu'!BC7="LCMT"),"MT",IF(OR('Full menu'!BC7="LCIT",'Full menu'!BC7="FCIT",'Full menu'!BC7="LMT",'Full menu'!BC7="FMT"),"IT",IF(OR('Full menu'!BC7="MwERT", 'Full menu'!BC7="ERwMT", 'Full menu'!BC7="M&ERT", 'Full menu'!BC7="MwIT", 'Full menu'!BC7="IwMT", 'Full menu'!BC7="M&IT", 'Full menu'!BC7="IwERT", 'Full menu'!BC7="ERwIT", 'Full menu'!BC7="I&ERT", 'Full menu'!BC7="ER&M&IT"),"MixedT",IF('Full menu'!BC7="UD","UD",IF('Full menu'!BC7="LSD","LSD",IF('Full menu'!BC7="WSD","WSD","")))))))))
A8: Greece | B8: =IF('Full menu'!B8="MDC","MDC",IF(OR('Full menu'!B8="PERF",'Full menu'!B8="AERF",'Full menu'!B8="PCB"),"ERfix",IF(OR('Full menu'!B8="ACB", 'Full menu'!B8="LCERT", 'Full menu'!B8="LERT",'Full menu'!B8="FCERT",'Full menu'!B8="FERT"),"ERTs",IF(OR('Full menu'!B8="FCMT",'Full menu'!B8="FMT",'Full menu'!B8="LMT",'Full menu'!B8="LCMT"),"MTs",IF(OR('Full menu'!B8="LCIT",'Full menu'!B8="FCIT",'Full menu'!B8="LIT",'Full menu'!B8="FIT"),"ITs",IF(OR('Full menu'!B8="MwERT", 'Full menu'!B8="ERwMT", 'Full menu'!B8="M&ERT", 'Full menu'!B8="MwIT", 'Full menu'!B8="IwMT", 'Full menu'!B8="M&IT", 'Full menu'!B8="IwERT", 'Full menu'!B8="ERwIT", 'Full menu'!B8="I&ERT", 'Full menu'!B8="ER&M&IT"),"MixedTs",IF('Full menu'!B8="UD","UD",IF('Full menu'!B8="LSD","LSD",IF('Full menu'!B8="WSD","WSD",""))))))))) -> UD | C8: =IF('Full menu'!C8="MDC","MDC",IF(OR('Full menu'!C8="PERF",'Full menu'!C8="AERF",'Full menu'!C8="PCB"),"ERfix",IF(OR('Full menu'!C8="ACB", 'Full menu'!C8="LCERT", 'Full menu'!C8="LERT",'Full menu'!C8="FCERT",'Full menu'!C8="FERT"),"ERTs",IF(OR('Full menu'!C8="FCMT",'Full menu'!C8="FMT",'Full menu'!C8="LMT",'Full menu'!C8="LCMT"),"MTs",IF(OR('Full menu'!C8="LCIT",'Full menu'!C8="FCIT",'Full menu'!C8="LIT",'Full menu'!C8="FIT"),"ITs",IF(OR('Full menu'!C8="MwERT", 'Full menu'!C8="ERwMT", 'Full menu'!C8="M&ERT", 'Full menu'!C8="MwIT", 'Full menu'!C8="IwMT", 'Full menu'!C8="M&IT", 'Full menu'!C8="IwERT", 'Full menu'!C8="ERwIT", 'Full menu'!C8="I&ERT", 'Full menu'!C8="ER&M&IT"),"MixedTs",IF('Full menu'!C8="UD","UD",IF('Full menu'!C8="LSD","LSD",IF('Full menu'!C8="WSD","WSD",""))))))))) -> UD | D8: =IF('Full menu'!D8="MDC","MDC",IF(OR('Full menu'!D8="PERF",'Full menu'!D8="AERF",'Full menu'!D8="PCB"),"ERfix",IF(OR('Full menu'!D8="ACB", 'Full menu'!D8="LCERT", 'Full menu'!D8="LERT",'Full menu'!D8="FCERT",'Full menu'!D8="FERT"),"ERTs",IF(OR('Full menu'!D8="FCMT",'Full menu'!D8="FMT",'Full menu'!D8="LMT",'Full menu'!D8="LCMT"),"MTs",IF(OR('Full menu'!D8="LCIT",'Full menu'!D8="FCIT",'Full menu'!D8="LIT",'Full menu'!D8="FIT"),"ITs",IF(OR('Full menu'!D8="MwERT", 'Full menu'!D8="ERwMT", 'Full menu'!D8="M&ERT", 'Full menu'!D8="MwIT", 'Full menu'!D8="IwMT", 'Full menu'!D8="M&IT", 'Full menu'!D8="IwERT", 'Full menu'!D8="ERwIT", 'Full menu'!D8="I&ERT", 'Full menu'!D8="ER&M&IT"),"MixedTs",IF('Full menu'!D8="UD","UD",IF('Full menu'!D8="LSD","LSD",IF('Full menu'!D8="WSD","WSD",""))))))))) -> UD | E8: =IF('Full menu'!E8="MDC","MDC",IF(OR('Full menu'!E8="PERF",'Full menu'!E8="AERF",'Full menu'!E8="PCB"),"ERfix",IF(OR('Full menu'!E8="ACB", 'Full menu'!E8="LCERT", 'Full menu'!E8="LERT",'Full menu'!E8="FCERT",'Full menu'!E8="FERT"),"ERTs",IF(OR('Full menu'!E8="FCMT",'Full menu'!E8="FMT",'Full menu'!E8="LMT",'Full menu'!E8="LCMT"),"MTs",IF(OR('Full menu'!E8="LCIT",'Full menu'!E8="FCIT",'Full menu'!E8="LIT",'Full menu'!E8="FIT"),"ITs",IF(OR('Full menu'!E8="MwERT", 'Full menu'!E8="ERwMT", 'Full menu'!E8="M&ERT", 'Full menu'!E8="MwIT", 'Full menu'!E8="IwMT", 'Full menu'!E8="M&IT", 'Full menu'!E8="IwERT", 'Full menu'!E8="ERwIT", 'Full menu'!E8="I&ERT", 'Full menu'!E8="ER&M&IT"),"MixedTs",IF('Full menu'!E8="UD","UD",IF('Full menu'!E8="LSD","LSD",IF('Full menu'!E8="WSD","WSD",""))))))))) -> UD | F8: =IF('Full menu'!F8="MDC","MDC",IF(OR('Full menu'!F8="PERF",'Full menu'!F8="AERF",'Full menu'!F8="PCB"),"ERfix",IF(OR('Full menu'!F8="ACB", 'Full menu'!F8="LCERT", 'Full menu'!F8="LERT",'Full menu'!F8="FCERT",'Full menu'!F8="FERT"),"ERTs",IF(OR('Full menu'!F8="FCMT",'Full menu'!F8="FMT",'Full menu'!F8="LMT",'Full menu'!F8="LCMT"),"MTs",IF(OR('Full menu'!F8="LCIT",'Full menu'!F8="FCIT",'Full menu'!F8="LIT",'Full menu'!F8="FIT"),"ITs",IF(OR('Full menu'!F8="MwERT", 'Full menu'!F8="ERwMT", 'Full menu'!F8="M&ERT", 'Full menu'!F8="MwIT", 'Full menu'!F8="IwMT", 'Full menu'!F8="M&IT", 'Full menu'!F8="IwERT", 'Full menu'!F8="ERwIT", 'Full menu'!F8="I&ERT", 'Full menu'!F8="ER&M&IT"),"MixedTs",IF('Full menu'!F8="UD","UD",IF('Full menu'!F8="LSD","LSD",IF('Full menu'!F8="WSD","WSD",""))))))))) -> UD | G8: =IF('Full menu'!G8="MDC","MDC",IF(OR('Full menu'!G8="PERF",'Full menu'!G8="AERF",'Full menu'!G8="PCB"),"ERfix",IF(OR('Full menu'!G8="ACB", 'Full menu'!G8="LCERT", 'Full menu'!G8="LERT",'Full menu'!G8="FCERT",'Full menu'!G8="FERT"),"ERTs",IF(OR('Full menu'!G8="FCMT",'Full menu'!G8="FMT",'Full menu'!G8="LMT",'Full menu'!G8="LCMT"),"MTs",IF(OR('Full menu'!G8="LCIT",'Full menu'!G8="FCIT",'Full menu'!G8="LIT",'Full menu'!G8="FIT"),"ITs",IF(OR('Full menu'!G8="MwERT", 'Full menu'!G8="ERwMT", 'Full menu'!G8="M&ERT", 'Full menu'!G8="MwIT", 'Full menu'!G8="IwMT", 'Full menu'!G8="M&IT", 'Full menu'!G8="IwERT", 'Full menu'!G8="ERwIT", 'Full menu'!G8="I&ERT", 'Full menu'!G8="ER&M&IT"),"MixedTs",IF('Full menu'!G8="UD","UD",IF('Full menu'!G8="LSD","LSD",IF('Full menu'!G8="WSD","WSD",""))))))))) -> UD | H8: =IF('Full menu'!H8="MDC","MDC",IF(OR('Full menu'!H8="PERF",'Full menu'!H8="AERF",'Full menu'!H8="PCB"),"ERfix",IF(OR('Full menu'!H8="ACB", 'Full menu'!H8="LCERT", 'Full menu'!H8="LERT",'Full menu'!H8="FCERT",'Full menu'!H8="FERT"),"ERTs",IF(OR('Full menu'!H8="FCMT",'Full menu'!H8="FMT",'Full menu'!H8="LMT",'Full menu'!H8="LCMT"),"MTs",IF(OR('Full menu'!H8="LCIT",'Full menu'!H8="FCIT",'Full menu'!H8="LIT",'Full menu'!H8="FIT"),"ITs",IF(OR('Full menu'!H8="MwERT", 'Full menu'!H8="ERwMT", 'Full menu'!H8="M&ERT", 'Full menu'!H8="MwIT", 'Full menu'!H8="IwMT", 'Full menu'!H8="M&IT", 'Full menu'!H8="IwERT", 'Full menu'!H8="ERwIT", 'Full menu'!H8="I&ERT", 'Full menu'!H8="ER&M&IT"),"MixedTs",IF('Full menu'!H8="UD","UD",IF('Full menu'!H8="LSD","LSD",IF('Full menu'!H8="WSD","WSD",""))))))))) -> UD | I8: =IF('Full menu'!I8="MDC","MDC",IF(OR('Full menu'!I8="PERF",'Full menu'!I8="AERF",'Full menu'!I8="PCB"),"ERfix",IF(OR('Full menu'!I8="ACB", 'Full menu'!I8="LCERT", 'Full menu'!I8="LERT",'Full menu'!I8="FCERT",'Full menu'!I8="FERT"),"ERTs",IF(OR('Full menu'!I8="FCMT",'Full menu'!I8="FMT",'Full menu'!I8="LMT",'Full menu'!I8="LCMT"),"MTs",IF(OR('Full menu'!I8="LCIT",'Full menu'!I8="FCIT",'Full menu'!I8="LIT",'Full menu'!I8="FIT"),"ITs",IF(OR('Full menu'!I8="MwERT", 'Full menu'!I8="ERwMT", 'Full menu'!I8="M&ERT", 'Full menu'!I8="MwIT", 'Full menu'!I8="IwMT", 'Full menu'!I8="M&IT", 'Full menu'!I8="IwERT", 'Full menu'!I8="ERwIT", 'Full menu'!I8="I&ERT", 'Full menu'!I8="ER&M&IT"),"MixedTs",IF('Full menu'!I8="UD","UD",IF('Full menu'!I8="LSD","LSD",IF('Full menu'!I8="WSD","WSD",""))))))))) -> UD | ... AY8: =IF('Full menu'!AY8="MDC","MDC",IF(OR('Full menu'!AY8="PERF",'Full menu'!AY8="AERF",'Full menu'!AY8="PCB"),"ERfix",IF(OR('Full menu'!AY8="ACB", 'Full menu'!AY8="LCERT", 'Full menu'!AY8="LERT",'Full menu'!AY8="FCERT",'Full menu'!AY8="FERT"),"ERTs",IF(OR('Full menu'!AY8="FCMT",'Full menu'!AY8="FMT",'Full menu'!AY8="LMT",'Full menu'!AY8="LCMT"),"MTs",IF(OR('Full menu'!AY8="LCIT",'Full menu'!AY8="FCIT",'Full menu'!AY8="LIT",'Full menu'!AY8="FIT"),"ITs",IF(OR('Full menu'!AY8="MwERT", 'Full menu'!AY8="ERwMT", 'Full menu'!AY8="M&ERT", 'Full menu'!AY8="MwIT", 'Full menu'!AY8="IwMT", 'Full menu'!AY8="M&IT", 'Full menu'!AY8="IwERT", 'Full menu'!AY8="ERwIT", 'Full menu'!AY8="I&ERT", 'Full menu'!AY8="ER&M&IT"),"MixedTs",IF('Full menu'!AY8="UD","UD",IF('Full menu'!AY8="LSD","LSD",IF('Full menu'!AY8="WSD","WSD",""))))))))) | AZ8: =IF('Full menu'!AZ8="MDC","MDC",IF(OR('Full menu'!AZ8="PERF",'Full menu'!AZ8="AERF",'Full menu'!AZ8="PCB"),"ERfix",IF(OR('Full menu'!AZ8="ACB", 'Full menu'!AZ8="LCERT", 'Full menu'!AZ8="LERT",'Full menu'!AZ8="FCERT",'Full menu'!AZ8="FERT"),"ERT",IF(OR('Full menu'!AZ8="FCMT",'Full menu'!AZ8="FMT",'Full menu'!AZ8="LMT",'Full menu'!AZ8="LCMT"),"MT",IF(OR('Full menu'!AZ8="LCIT",'Full menu'!AZ8="FCIT",'Full menu'!AZ8="LMT",'Full menu'!AZ8="FMT"),"IT",IF(OR('Full menu'!AZ8="MwERT", 'Full menu'!AZ8="ERwMT", 'Full menu'!AZ8="M&ERT", 'Full menu'!AZ8="MwIT", 'Full menu'!AZ8="IwMT", 'Full menu'!AZ8="M&IT", 'Full menu'!AZ8="IwERT", 'Full menu'!AZ8="ERwIT", 'Full menu'!AZ8="I&ERT", 'Full menu'!AZ8="ER&M&IT"),"MixedT",IF('Full menu'!AZ8="UD","UD",IF('Full menu'!AZ8="LSD","LSD",IF('Full menu'!AZ8="WSD","WSD",""))))))))) | BA8: =IF('Full menu'!BA8="MDC","MDC",IF(OR('Full menu'!BA8="PERF",'Full menu'!BA8="AERF",'Full menu'!BA8="PCB"),"ERfix",IF(OR('Full menu'!BA8="ACB", 'Full menu'!BA8="LCERT", 'Full menu'!BA8="LERT",'Full menu'!BA8="FCERT",'Full menu'!BA8="FERT"),"ERT",IF(OR('Full menu'!BA8="FCMT",'Full menu'!BA8="FMT",'Full menu'!BA8="LMT",'Full menu'!BA8="LCMT"),"MT",IF(OR('Full menu'!BA8="LCIT",'Full menu'!BA8="FCIT",'Full menu'!BA8="LMT",'Full menu'!BA8="FMT"),"IT",IF(OR('Full menu'!BA8="MwERT", 'Full menu'!BA8="ERwMT", 'Full menu'!BA8="M&ERT", 'Full menu'!BA8="MwIT", 'Full menu'!BA8="IwMT", 'Full menu'!BA8="M&IT", 'Full menu'!BA8="IwERT", 'Full menu'!BA8="ERwIT", 'Full menu'!BA8="I&ERT", 'Full menu'!BA8="ER&M&IT"),"MixedT",IF('Full menu'!BA8="UD","UD",IF('Full menu'!BA8="LSD","LSD",IF('Full menu'!BA8="WSD","WSD",""))))))))) | BB8: =IF('Full menu'!BB8="MDC","MDC",IF(OR('Full menu'!BB8="PERF",'Full menu'!BB8="AERF",'Full menu'!BB8="PCB"),"ERfix",IF(OR('Full menu'!BB8="ACB", 'Full menu'!BB8="LCERT", 'Full menu'!BB8="LERT",'Full menu'!BB8="FCERT",'Full menu'!BB8="FERT"),"ERT",IF(OR('Full menu'!BB8="FCMT",'Full menu'!BB8="FMT",'Full menu'!BB8="LMT",'Full menu'!BB8="LCMT"),"MT",IF(OR('Full menu'!BB8="LCIT",'Full menu'!BB8="FCIT",'Full menu'!BB8="LMT",'Full menu'!BB8="FMT"),"IT",IF(OR('Full menu'!BB8="MwERT", 'Full menu'!BB8="ERwMT", 'Full menu'!BB8="M&ERT", 'Full menu'!BB8="MwIT", 'Full menu'!BB8="IwMT", 'Full menu'!BB8="M&IT", 'Full menu'!BB8="IwERT", 'Full menu'!BB8="ERwIT", 'Full menu'!BB8="I&ERT", 'Full menu'!BB8="ER&M&IT"),"MixedT",IF('Full menu'!BB8="UD","UD",IF('Full menu'!BB8="LSD","LSD",IF('Full menu'!BB8="WSD","WSD",""))))))))) | BC8: =IF('Full menu'!BC8="MDC","MDC",IF(OR('Full menu'!BC8="PERF",'Full menu'!BC8="AERF",'Full menu'!BC8="PCB"),"ERfix",IF(OR('Full menu'!BC8="ACB", 'Full menu'!BC8="LCERT", 'Full menu'!BC8="LERT",'Full menu'!BC8="FCERT",'Full menu'!BC8="FERT"),"ERT",IF(OR('Full menu'!BC8="FCMT",'Full menu'!BC8="FMT",'Full menu'!BC8="LMT",'Full menu'!BC8="LCMT"),"MT",IF(OR('Full menu'!BC8="LCIT",'Full menu'!BC8="FCIT",'Full menu'!BC8="LMT",'Full menu'!BC8="FMT"),"IT",IF(OR('Full menu'!BC8="MwERT", 'Full menu'!BC8="ERwMT", 'Full menu'!BC8="M&ERT", 'Full menu'!BC8="MwIT", 'Full menu'!BC8="IwMT", 'Full menu'!BC8="M&IT", 'Full menu'!BC8="IwERT", 'Full menu'!BC8="ERwIT", 'Full menu'!BC8="I&ERT", 'Full menu'!BC8="ER&M&IT"),"MixedT",IF('Full menu'!BC8="UD","UD",IF('Full menu'!BC8="LSD","LSD",IF('Full menu'!BC8="WSD","WSD","")))))))))
A9: Ireland | B9: =IF('Full menu'!B9="MDC","MDC",IF(OR('Full menu'!B9="PERF",'Full menu'!B9="AERF",'Full menu'!B9="PCB"),"ERfix",IF(OR('Full menu'!B9="ACB", 'Full menu'!B9="LCERT", 'Full menu'!B9="LERT",'Full menu'!B9="FCERT",'Full menu'!B9="FERT"),"ERTs",IF(OR('Full menu'!B9="FCMT",'Full menu'!B9="FMT",'Full menu'!B9="LMT",'Full menu'!B9="LCMT"),"MTs",IF(OR('Full menu'!B9="LCIT",'Full menu'!B9="FCIT",'Full menu'!B9="LIT",'Full menu'!B9="FIT"),"ITs",IF(OR('Full menu'!B9="MwERT", 'Full menu'!B9="ERwMT", 'Full menu'!B9="M&ERT", 'Full menu'!B9="MwIT", 'Full menu'!B9="IwMT", 'Full menu'!B9="M&IT", 'Full menu'!B9="IwERT", 'Full menu'!B9="ERwIT", 'Full menu'!B9="I&ERT", 'Full menu'!B9="ER&M&IT"),"MixedTs",IF('Full menu'!B9="UD","UD",IF('Full menu'!B9="LSD","LSD",IF('Full menu'!B9="WSD","WSD",""))))))))) -> ERTs | C9: =IF('Full menu'!C9="MDC","MDC",IF(OR('Full menu'!C9="PERF",'Full menu'!C9="AERF",'Full menu'!C9="PCB"),"ERfix",IF(OR('Full menu'!C9="ACB", 'Full menu'!C9="LCERT", 'Full menu'!C9="LERT",'Full menu'!C9="FCERT",'Full menu'!C9="FERT"),"ERTs",IF(OR('Full menu'!C9="FCMT",'Full menu'!C9="FMT",'Full menu'!C9="LMT",'Full menu'!C9="LCMT"),"MTs",IF(OR('Full menu'!C9="LCIT",'Full menu'!C9="FCIT",'Full menu'!C9="LIT",'Full menu'!C9="FIT"),"ITs",IF(OR('Full menu'!C9="MwERT", 'Full menu'!C9="ERwMT", 'Full menu'!C9="M&ERT", 'Full menu'!C9="MwIT", 'Full menu'!C9="IwMT", 'Full menu'!C9="M&IT", 'Full menu'!C9="IwERT", 'Full menu'!C9="ERwIT", 'Full menu'!C9="I&ERT", 'Full menu'!C9="ER&M&IT"),"MixedTs",IF('Full menu'!C9="UD","UD",IF('Full menu'!C9="LSD","LSD",IF('Full menu'!C9="WSD","WSD",""))))))))) -> ERTs | D9: =IF('Full menu'!D9="MDC","MDC",IF(OR('Full menu'!D9="PERF",'Full menu'!D9="AERF",'Full menu'!D9="PCB"),"ERfix",IF(OR('Full menu'!D9="ACB", 'Full menu'!D9="LCERT", 'Full menu'!D9="LERT",'Full menu'!D9="FCERT",'Full menu'!D9="FERT"),"ERTs",IF(OR('Full menu'!D9="FCMT",'Full menu'!D9="FMT",'Full menu'!D9="LMT",'Full menu'!D9="LCMT"),"MTs",IF(OR('Full menu'!D9="LCIT",'Full menu'!D9="FCIT",'Full menu'!D9="LIT",'Full menu'!D9="FIT"),"ITs",IF(OR('Full menu'!D9="MwERT", 'Full menu'!D9="ERwMT", 'Full menu'!D9="M&ERT", 'Full menu'!D9="MwIT", 'Full menu'!D9="IwMT", 'Full menu'!D9="M&IT", 'Full menu'!D9="IwERT", 'Full menu'!D9="ERwIT", 'Full menu'!D9="I&ERT", 'Full menu'!D9="ER&M&IT"),"MixedTs",IF('Full menu'!D9="UD","UD",IF('Full menu'!D9="LSD","LSD",IF('Full menu'!D9="WSD","WSD",""))))))))) -> ERTs | E9: =IF('Full menu'!E9="MDC","MDC",IF(OR('Full menu'!E9="PERF",'Full menu'!E9="AERF",'Full menu'!E9="PCB"),"ERfix",IF(OR('Full menu'!E9="ACB", 'Full menu'!E9="LCERT", 'Full menu'!E9="LERT",'Full menu'!E9="FCERT",'Full menu'!E9="FERT"),"ERTs",IF(OR('Full menu'!E9="FCMT",'Full menu'!E9="FMT",'Full menu'!E9="LMT",'Full menu'!E9="LCMT"),"MTs",IF(OR('Full menu'!E9="LCIT",'Full menu'!E9="FCIT",'Full menu'!E9="LIT",'Full menu'!E9="FIT"),"ITs",IF(OR('Full menu'!E9="MwERT", 'Full menu'!E9="ERwMT", 'Full menu'!E9="M&ERT", 'Full menu'!E9="MwIT", 'Full menu'!E9="IwMT", 'Full menu'!E9="M&IT", 'Full menu'!E9="IwERT", 'Full menu'!E9="ERwIT", 'Full menu'!E9="I&ERT", 'Full menu'!E9="ER&M&IT"),"MixedTs",IF('Full menu'!E9="UD","UD",IF('Full menu'!E9="LSD","LSD",IF('Full menu'!E9="WSD","WSD",""))))))))) -> ERTs | F9: =IF('Full menu'!F9="MDC","MDC",IF(OR('Full menu'!F9="PERF",'Full menu'!F9="AERF",'Full menu'!F9="PCB"),"ERfix",IF(OR('Full menu'!F9="ACB", 'Full menu'!F9="LCERT", 'Full menu'!F9="LERT",'Full menu'!F9="FCERT",'Full menu'!F9="FERT"),"ERTs",IF(OR('Full menu'!F9="FCMT",'Full menu'!F9="FMT",'Full menu'!F9="LMT",'Full menu'!F9="LCMT"),"MTs",IF(OR('Full menu'!F9="LCIT",'Full menu'!F9="FCIT",'Full menu'!F9="LIT",'Full menu'!F9="FIT"),"ITs",IF(OR('Full menu'!F9="MwERT", 'Full menu'!F9="ERwMT", 'Full menu'!F9="M&ERT", 'Full menu'!F9="MwIT", 'Full menu'!F9="IwMT", 'Full menu'!F9="M&IT", 'Full menu'!F9="IwERT", 'Full menu'!F9="ERwIT", 'Full menu'!F9="I&ERT", 'Full menu'!F9="ER&M&IT"),"MixedTs",IF('Full menu'!F9="UD","UD",IF('Full menu'!F9="LSD","LSD",IF('Full menu'!F9="WSD","WSD",""))))))))) -> ERTs | G9: =IF('Full menu'!G9="MDC","MDC",IF(OR('Full menu'!G9="PERF",'Full menu'!G9="AERF",'Full menu'!G9="PCB"),"ERfix",IF(OR('Full menu'!G9="ACB", 'Full menu'!G9="LCERT", 'Full menu'!G9="LERT",'Full menu'!G9="FCERT",'Full menu'!G9="FERT"),"ERTs",IF(OR('Full menu'!G9="FCMT",'Full menu'!G9="FMT",'Full menu'!G9="LMT",'Full menu'!G9="LCMT"),"MTs",IF(OR('Full menu'!G9="LCIT",'Full menu'!G9="FCIT",'Full menu'!G9="LIT",'Full menu'!G9="FIT"),"ITs",IF(OR('Full menu'!G9="MwERT", 'Full menu'!G9="ERwMT", 'Full menu'!G9="M&ERT", 'Full menu'!G9="MwIT", 'Full menu'!G9="IwMT", 'Full menu'!G9="M&IT", 'Full menu'!G9="IwERT", 'Full menu'!G9="ERwIT", 'Full menu'!G9="I&ERT", 'Full menu'!G9="ER&M&IT"),"MixedTs",IF('Full menu'!G9="UD","UD",IF('Full menu'!G9="LSD","LSD",IF('Full menu'!G9="WSD","WSD",""))))))))) -> ERTs | H9: =IF('Full menu'!H9="MDC","MDC",IF(OR('Full menu'!H9="PERF",'Full menu'!H9="AERF",'Full menu'!H9="PCB"),"ERfix",IF(OR('Full menu'!H9="ACB", 'Full menu'!H9="LCERT", 'Full menu'!H9="LERT",'Full menu'!H9="FCERT",'Full menu'!H9="FERT"),"ERTs",IF(OR('Full menu'!H9="FCMT",'Full menu'!H9="FMT",'Full menu'!H9="LMT",'Full menu'!H9="LCMT"),"MTs",IF(OR('Full menu'!H9="LCIT",'Full menu'!H9="FCIT",'Full menu'!H9="LIT",'Full menu'!H9="FIT"),"ITs",IF(OR('Full menu'!H9="MwERT", 'Full menu'!H9="ERwMT", 'Full menu'!H9="M&ERT", 'Full menu'!H9="MwIT", 'Full menu'!H9="IwMT", 'Full menu'!H9="M&IT", 'Full menu'!H9="IwERT", 'Full menu'!H9="ERwIT", 'Full menu'!H9="I&ERT", 'Full menu'!H9="ER&M&IT"),"MixedTs",IF('Full menu'!H9="UD","UD",IF('Full menu'!H9="LSD","LSD",IF('Full menu'!H9="WSD","WSD",""))))))))) -> ERTs | I9: =IF('Full menu'!I9="MDC","MDC",IF(OR('Full menu'!I9="PERF",'Full menu'!I9="AERF",'Full menu'!I9="PCB"),"ERfix",IF(OR('Full menu'!I9="ACB", 'Full menu'!I9="LCERT", 'Full menu'!I9="LERT",'Full menu'!I9="FCERT",'Full menu'!I9="FERT"),"ERTs",IF(OR('Full menu'!I9="FCMT",'Full menu'!I9="FMT",'Full menu'!I9="LMT",'Full menu'!I9="LCMT"),"MTs",IF(OR('Full menu'!I9="LCIT",'Full menu'!I9="FCIT",'Full menu'!I9="LIT",'Full menu'!I9="FIT"),"ITs",IF(OR('Full menu'!I9="MwERT", 'Full menu'!I9="ERwMT", 'Full menu'!I9="M&ERT", 'Full menu'!I9="MwIT", 'Full menu'!I9="IwMT", 'Full menu'!I9="M&IT", 'Full menu'!I9="IwERT", 'Full menu'!I9="ERwIT", 'Full menu'!I9="I&ERT", 'Full menu'!I9="ER&M&IT"),"MixedTs",IF('Full menu'!I9="UD","UD",IF('Full menu'!I9="LSD","LSD",IF('Full menu'!I9="WSD","WSD",""))))))))) -> ERTs | ... AY9: =IF('Full menu'!AY9="MDC","MDC",IF(OR('Full menu'!AY9="PERF",'Full menu'!AY9="AERF",'Full menu'!AY9="PCB"),"ERfix",IF(OR('Full menu'!AY9="ACB", 'Full menu'!AY9="LCERT", 'Full menu'!AY9="LERT",'Full menu'!AY9="FCERT",'Full menu'!AY9="FERT"),"ERTs",IF(OR('Full menu'!AY9="FCMT",'Full menu'!AY9="FMT",'Full menu'!AY9="LMT",'Full menu'!AY9="LCMT"),"MTs",IF(OR('Full menu'!AY9="LCIT",'Full menu'!AY9="FCIT",'Full menu'!AY9="LIT",'Full menu'!AY9="FIT"),"ITs",IF(OR('Full menu'!AY9="MwERT", 'Full menu'!AY9="ERwMT", 'Full menu'!AY9="M&ERT", 'Full menu'!AY9="MwIT", 'Full menu'!AY9="IwMT", 'Full menu'!AY9="M&IT", 'Full menu'!AY9="IwERT", 'Full menu'!AY9="ERwIT", 'Full menu'!AY9="I&ERT", 'Full menu'!AY9="ER&M&IT"),"MixedTs",IF('Full menu'!AY9="UD","UD",IF('Full menu'!AY9="LSD","LSD",IF('Full menu'!AY9="WSD","WSD",""))))))))) | AZ9: =IF('Full menu'!AZ9="MDC","MDC",IF(OR('Full menu'!AZ9="PERF",'Full menu'!AZ9="AERF",'Full menu'!AZ9="PCB"),"ERfix",IF(OR('Full menu'!AZ9="ACB", 'Full menu'!AZ9="LCERT", 'Full menu'!AZ9="LERT",'Full menu'!AZ9="FCERT",'Full menu'!AZ9="FERT"),"ERT",IF(OR('Full menu'!AZ9="FCMT",'Full menu'!AZ9="FMT",'Full menu'!AZ9="LMT",'Full menu'!AZ9="LCMT"),"MT",IF(OR('Full menu'!AZ9="LCIT",'Full menu'!AZ9="FCIT",'Full menu'!AZ9="LMT",'Full menu'!AZ9="FMT"),"IT",IF(OR('Full menu'!AZ9="MwERT", 'Full menu'!AZ9="ERwMT", 'Full menu'!AZ9="M&ERT", 'Full menu'!AZ9="MwIT", 'Full menu'!AZ9="IwMT", 'Full menu'!AZ9="M&IT", 'Full menu'!AZ9="IwERT", 'Full menu'!AZ9="ERwIT", 'Full menu'!AZ9="I&ERT", 'Full menu'!AZ9="ER&M&IT"),"MixedT",IF('Full menu'!AZ9="UD","UD",IF('Full menu'!AZ9="LSD","LSD",IF('Full menu'!AZ9="WSD","WSD",""))))))))) | BA9: =IF('Full menu'!BA9="MDC","MDC",IF(OR('Full menu'!BA9="PERF",'Full menu'!BA9="AERF",'Full menu'!BA9="PCB"),"ERfix",IF(OR('Full menu'!BA9="ACB", 'Full menu'!BA9="LCERT", 'Full menu'!BA9="LERT",'Full menu'!BA9="FCERT",'Full menu'!BA9="FERT"),"ERT",IF(OR('Full menu'!BA9="FCMT",'Full menu'!BA9="FMT",'Full menu'!BA9="LMT",'Full menu'!BA9="LCMT"),"MT",IF(OR('Full menu'!BA9="LCIT",'Full menu'!BA9="FCIT",'Full menu'!BA9="LMT",'Full menu'!BA9="FMT"),"IT",IF(OR('Full menu'!BA9="MwERT", 'Full menu'!BA9="ERwMT", 'Full menu'!BA9="M&ERT", 'Full menu'!BA9="MwIT", 'Full menu'!BA9="IwMT", 'Full menu'!BA9="M&IT", 'Full menu'!BA9="IwERT", 'Full menu'!BA9="ERwIT", 'Full menu'!BA9="I&ERT", 'Full menu'!BA9="ER&M&IT"),"MixedT",IF('Full menu'!BA9="UD","UD",IF('Full menu'!BA9="LSD","LSD",IF('Full menu'!BA9="WSD","WSD",""))))))))) | BB9: =IF('Full menu'!BB9="MDC","MDC",IF(OR('Full menu'!BB9="PERF",'Full menu'!BB9="AERF",'Full menu'!BB9="PCB"),"ERfix",IF(OR('Full menu'!BB9="ACB", 'Full menu'!BB9="LCERT", 'Full menu'!BB9="LERT",'Full menu'!BB9="FCERT",'Full menu'!BB9="FERT"),"ERT",IF(OR('Full menu'!BB9="FCMT",'Full menu'!BB9="FMT",'Full menu'!BB9="LMT",'Full menu'!BB9="LCMT"),"MT",IF(OR('Full menu'!BB9="LCIT",'Full menu'!BB9="FCIT",'Full menu'!BB9="LMT",'Full menu'!BB9="FMT"),"IT",IF(OR('Full menu'!BB9="MwERT", 'Full menu'!BB9="ERwMT", 'Full menu'!BB9="M&ERT", 'Full menu'!BB9="MwIT", 'Full menu'!BB9="IwMT", 'Full menu'!BB9="M&IT", 'Full menu'!BB9="IwERT", 'Full menu'!BB9="ERwIT", 'Full menu'!BB9="I&ERT", 'Full menu'!BB9="ER&M&IT"),"MixedT",IF('Full menu'!BB9="UD","UD",IF('Full menu'!BB9="LSD","LSD",IF('Full menu'!BB9="WSD","WSD",""))))))))) | BC9: =IF('Full menu'!BC9="MDC","MDC",IF(OR('Full menu'!BC9="PERF",'Full menu'!BC9="AERF",'Full menu'!BC9="PCB"),"ERfix",IF(OR('Full menu'!BC9="ACB", 'Full menu'!BC9="LCERT", 'Full menu'!BC9="LERT",'Full menu'!BC9="FCERT",'Full menu'!BC9="FERT"),"ERT",IF(OR('Full menu'!BC9="FCMT",'Full menu'!BC9="FMT",'Full menu'!BC9="LMT",'Full menu'!BC9="LCMT"),"MT",IF(OR('Full menu'!BC9="LCIT",'Full menu'!BC9="FCIT",'Full menu'!BC9="LMT",'Full menu'!BC9="FMT"),"IT",IF(OR('Full menu'!BC9="MwERT", 'Full menu'!BC9="ERwMT", 'Full menu'!BC9="M&ERT", 'Full menu'!BC9="MwIT", 'Full menu'!BC9="IwMT", 'Full menu'!BC9="M&IT", 'Full menu'!BC9="IwERT", 'Full menu'!BC9="ERwIT", 'Full menu'!BC9="I&ERT", 'Full menu'!BC9="ER&M&IT"),"MixedT",IF('Full menu'!BC9="UD","UD",IF('Full menu'!BC9="LSD","LSD",IF('Full menu'!BC9="WSD","WSD","")))))))))
A10: Italy | B10: =IF('Full menu'!B10="MDC","MDC",IF(OR('Full menu'!B10="PERF",'Full menu'!B10="AERF",'Full menu'!B10="PCB"),"ERfix",IF(OR('Full menu'!B10="ACB", 'Full menu'!B10="LCERT", 'Full menu'!B10="LERT",'Full menu'!B10="FCERT",'Full menu'!B10="FERT"),"ERTs",IF(OR('Full menu'!B10="FCMT",'Full menu'!B10="FMT",'Full menu'!B10="LMT",'Full menu'!B10="LCMT"),"MTs",IF(OR('Full menu'!B10="LCIT",'Full menu'!B10="FCIT",'Full menu'!B10="LIT",'Full menu'!B10="FIT"),"ITs",IF(OR('Full menu'!B10="MwERT", 'Full menu'!B10="ERwMT", 'Full menu'!B10="M&ERT", 'Full menu'!B10="MwIT", 'Full menu'!B10="IwMT", 'Full menu'!B10="M&IT", 'Full menu'!B10="IwERT", 'Full menu'!B10="ERwIT", 'Full menu'!B10="I&ERT", 'Full menu'!B10="ER&M&IT"),"MixedTs",IF('Full menu'!B10="UD","UD",IF('Full menu'!B10="LSD","LSD",IF('Full menu'!B10="WSD","WSD",""))))))))) -> UD | C10: =IF('Full menu'!C10="MDC","MDC",IF(OR('Full menu'!C10="PERF",'Full menu'!C10="AERF",'Full menu'!C10="PCB"),"ERfix",IF(OR('Full menu'!C10="ACB", 'Full menu'!C10="LCERT", 'Full menu'!C10="LERT",'Full menu'!C10="FCERT",'Full menu'!C10="FERT"),"ERTs",IF(OR('Full menu'!C10="FCMT",'Full menu'!C10="FMT",'Full menu'!C10="LMT",'Full menu'!C10="LCMT"),"MTs",IF(OR('Full menu'!C10="LCIT",'Full menu'!C10="FCIT",'Full menu'!C10="LIT",'Full menu'!C10="FIT"),"ITs",IF(OR('Full menu'!C10="MwERT", 'Full menu'!C10="ERwMT", 'Full menu'!C10="M&ERT", 'Full menu'!C10="MwIT", 'Full menu'!C10="IwMT", 'Full menu'!C10="M&IT", 'Full menu'!C10="IwERT", 'Full menu'!C10="ERwIT", 'Full menu'!C10="I&ERT", 'Full menu'!C10="ER&M&IT"),"MixedTs",IF('Full menu'!C10="UD","UD",IF('Full menu'!C10="LSD","LSD",IF('Full menu'!C10="WSD","WSD",""))))))))) -> UD | D10: =IF('Full menu'!D10="MDC","MDC",IF(OR('Full menu'!D10="PERF",'Full menu'!D10="AERF",'Full menu'!D10="PCB"),"ERfix",IF(OR('Full menu'!D10="ACB", 'Full menu'!D10="LCERT", 'Full menu'!D10="LERT",'Full menu'!D10="FCERT",'Full menu'!D10="FERT"),"ERTs",IF(OR('Full menu'!D10="FCMT",'Full menu'!D10="FMT",'Full menu'!D10="LMT",'Full menu'!D10="LCMT"),"MTs",IF(OR('Full menu'!D10="LCIT",'Full menu'!D10="FCIT",'Full menu'!D10="LIT",'Full menu'!D10="FIT"),"ITs",IF(OR('Full menu'!D10="MwERT", 'Full menu'!D10="ERwMT", 'Full menu'!D10="M&ERT", 'Full menu'!D10="MwIT", 'Full menu'!D10="IwMT", 'Full menu'!D10="M&IT", 'Full menu'!D10="IwERT", 'Full menu'!D10="ERwIT", 'Full menu'!D10="I&ERT", 'Full menu'!D10="ER&M&IT"),"MixedTs",IF('Full menu'!D10="UD","UD",IF('Full menu'!D10="LSD","LSD",IF('Full menu'!D10="WSD","WSD",""))))))))) -> UD | E10: =IF('Full menu'!E10="MDC","MDC",IF(OR('Full menu'!E10="PERF",'Full menu'!E10="AERF",'Full menu'!E10="PCB"),"ERfix",IF(OR('Full menu'!E10="ACB", 'Full menu'!E10="LCERT", 'Full menu'!E10="LERT",'Full menu'!E10="FCERT",'Full menu'!E10="FERT"),"ERTs",IF(OR('Full menu'!E10="FCMT",'Full menu'!E10="FMT",'Full menu'!E10="LMT",'Full menu'!E10="LCMT"),"MTs",IF(OR('Full menu'!E10="LCIT",'Full menu'!E10="FCIT",'Full menu'!E10="LIT",'Full menu'!E10="FIT"),"ITs",IF(OR('Full menu'!E10="MwERT", 'Full menu'!E10="ERwMT", 'Full menu'!E10="M&ERT", 'Full menu'!E10="MwIT", 'Full menu'!E10="IwMT", 'Full menu'!E10="M&IT", 'Full menu'!E10="IwERT", 'Full menu'!E10="ERwIT", 'Full menu'!E10="I&ERT", 'Full menu'!E10="ER&M&IT"),"MixedTs",IF('Full menu'!E10="UD","UD",IF('Full menu'!E10="LSD","LSD",IF('Full menu'!E10="WSD","WSD",""))))))))) -> UD | F10: =IF('Full menu'!F10="MDC","MDC",IF(OR('Full menu'!F10="PERF",'Full menu'!F10="AERF",'Full menu'!F10="PCB"),"ERfix",IF(OR('Full menu'!F10="ACB", 'Full menu'!F10="LCERT", 'Full menu'!F10="LERT",'Full menu'!F10="FCERT",'Full menu'!F10="FERT"),"ERTs",IF(OR('Full menu'!F10="FCMT",'Full menu'!F10="FMT",'Full menu'!F10="LMT",'Full menu'!F10="LCMT"),"MTs",IF(OR('Full menu'!F10="LCIT",'Full menu'!F10="FCIT",'Full menu'!F10="LIT",'Full menu'!F10="FIT"),"ITs",IF(OR('Full menu'!F10="MwERT", 'Full menu'!F10="ERwMT", 'Full menu'!F10="M&ERT", 'Full menu'!F10="MwIT", 'Full menu'!F10="IwMT", 'Full menu'!F10="M&IT", 'Full menu'!F10="IwERT", 'Full menu'!F10="ERwIT", 'Full menu'!F10="I&ERT", 'Full menu'!F10="ER&M&IT"),"MixedTs",IF('Full menu'!F10="UD","UD",IF('Full menu'!F10="LSD","LSD",IF('Full menu'!F10="WSD","WSD",""))))))))) -> UD | G10: =IF('Full menu'!G10="MDC","MDC",IF(OR('Full menu'!G10="PERF",'Full menu'!G10="AERF",'Full menu'!G10="PCB"),"ERfix",IF(OR('Full menu'!G10="ACB", 'Full menu'!G10="LCERT", 'Full menu'!G10="LERT",'Full menu'!G10="FCERT",'Full menu'!G10="FERT"),"ERTs",IF(OR('Full menu'!G10="FCMT",'Full menu'!G10="FMT",'Full menu'!G10="LMT",'Full menu'!G10="LCMT"),"MTs",IF(OR('Full menu'!G10="LCIT",'Full menu'!G10="FCIT",'Full menu'!G10="LIT",'Full menu'!G10="FIT"),"ITs",IF(OR('Full menu'!G10="MwERT", 'Full menu'!G10="ERwMT", 'Full menu'!G10="M&ERT", 'Full menu'!G10="MwIT", 'Full menu'!G10="IwMT", 'Full menu'!G10="M&IT", 'Full menu'!G10="IwERT", 'Full menu'!G10="ERwIT", 'Full menu'!G10="I&ERT", 'Full menu'!G10="ER&M&IT"),"MixedTs",IF('Full menu'!G10="UD","UD",IF('Full menu'!G10="LSD","LSD",IF('Full menu'!G10="WSD","WSD",""))))))))) -> MixedTs | H10: =IF('Full menu'!H10="MDC","MDC",IF(OR('Full menu'!H10="PERF",'Full menu'!H10="AERF",'Full menu'!H10="PCB"),"ERfix",IF(OR('Full menu'!H10="ACB", 'Full menu'!H10="LCERT", 'Full menu'!H10="LERT",'Full menu'!H10="FCERT",'Full menu'!H10="FERT"),"ERTs",IF(OR('Full menu'!H10="FCMT",'Full menu'!H10="FMT",'Full menu'!H10="LMT",'Full menu'!H10="LCMT"),"MTs",IF(OR('Full menu'!H10="LCIT",'Full menu'!H10="FCIT",'Full menu'!H10="LIT",'Full menu'!H10="FIT"),"ITs",IF(OR('Full menu'!H10="MwERT", 'Full menu'!H10="ERwMT", 'Full menu'!H10="M&ERT", 'Full menu'!H10="MwIT", 'Full menu'!H10="IwMT", 'Full menu'!H10="M&IT", 'Full menu'!H10="IwERT", 'Full menu'!H10="ERwIT", 'Full menu'!H10="I&ERT", 'Full menu'!H10="ER&M&IT"),"MixedTs",IF('Full menu'!H10="UD","UD",IF('Full menu'!H10="LSD","LSD",IF('Full menu'!H10="WSD","WSD",""))))))))) -> MixedTs | I10: =IF('Full menu'!I10="MDC","MDC",IF(OR('Full menu'!I10="PERF",'Full menu'!I10="AERF",'Full menu'!I10="PCB"),"ERfix",IF(OR('Full menu'!I10="ACB", 'Full menu'!I10="LCERT", 'Full menu'!I10="LERT",'Full menu'!I10="FCERT",'Full menu'!I10="FERT"),"ERTs",IF(OR('Full menu'!I10="FCMT",'Full menu'!I10="FMT",'Full menu'!I10="LMT",'Full menu'!I10="LCMT"),"MTs",IF(OR('Full menu'!I10="LCIT",'Full menu'!I10="FCIT",'Full menu'!I10="LIT",'Full menu'!I10="FIT"),"ITs",IF(OR('Full menu'!I10="MwERT", 'Full menu'!I10="ERwMT", 'Full menu'!I10="M&ERT", 'Full menu'!I10="MwIT", 'Full menu'!I10="IwMT", 'Full menu'!I10="M&IT", 'Full menu'!I10="IwERT", 'Full menu'!I10="ERwIT", 'Full menu'!I10="I&ERT", 'Full menu'!I10="ER&M&IT"),"MixedTs",IF('Full menu'!I10="UD","UD",IF('Full menu'!I10="LSD","LSD",IF('Full menu'!I10="WSD","WSD",""))))))))) -> MixedTs | ... AY10: =IF('Full menu'!AY10="MDC","MDC",IF(OR('Full menu'!AY10="PERF",'Full menu'!AY10="AERF",'Full menu'!AY10="PCB"),"ERfix",IF(OR('Full menu'!AY10="ACB", 'Full menu'!AY10="LCERT", 'Full menu'!AY10="LERT",'Full menu'!AY10="FCERT",'Full menu'!AY10="FERT"),"ERTs",IF(OR('Full menu'!AY10="FCMT",'Full menu'!AY10="FMT",'Full menu'!AY10="LMT",'Full menu'!AY10="LCMT"),"MTs",IF(OR('Full menu'!AY10="LCIT",'Full menu'!AY10="FCIT",'Full menu'!AY10="LIT",'Full menu'!AY10="FIT"),"ITs",IF(OR('Full menu'!AY10="MwERT", 'Full menu'!AY10="ERwMT", 'Full menu'!AY10="M&ERT", 'Full menu'!AY10="MwIT", 'Full menu'!AY10="IwMT", 'Full menu'!AY10="M&IT", 'Full menu'!AY10="IwERT", 'Full menu'!AY10="ERwIT", 'Full menu'!AY10="I&ERT", 'Full menu'!AY10="ER&M&IT"),"MixedTs",IF('Full menu'!AY10="UD","UD",IF('Full menu'!AY10="LSD","LSD",IF('Full menu'!AY10="WSD","WSD",""))))))))) | AZ10: =IF('Full menu'!AZ10="MDC","MDC",IF(OR('Full menu'!AZ10="PERF",'Full menu'!AZ10="AERF",'Full menu'!AZ10="PCB"),"ERfix",IF(OR('Full menu'!AZ10="ACB", 'Full menu'!AZ10="LCERT", 'Full menu'!AZ10="LERT",'Full menu'!AZ10="FCERT",'Full menu'!AZ10="FERT"),"ERT",IF(OR('Full menu'!AZ10="FCMT",'Full menu'!AZ10="FMT",'Full menu'!AZ10="LMT",'Full menu'!AZ10="LCMT"),"MT",IF(OR('Full menu'!AZ10="LCIT",'Full menu'!AZ10="FCIT",'Full menu'!AZ10="LMT",'Full menu'!AZ10="FMT"),"IT",IF(OR('Full menu'!AZ10="MwERT", 'Full menu'!AZ10="ERwMT", 'Full menu'!AZ10="M&ERT", 'Full menu'!AZ10="MwIT", 'Full menu'!AZ10="IwMT", 'Full menu'!AZ10="M&IT", 'Full menu'!AZ10="IwERT", 'Full menu'!AZ10="ERwIT", 'Full menu'!AZ10="I&ERT", 'Full menu'!AZ10="ER&M&IT"),"MixedT",IF('Full menu'!AZ10="UD","UD",IF('Full menu'!AZ10="LSD","LSD",IF('Full menu'!AZ10="WSD","WSD",""))))))))) | BA10: =IF('Full menu'!BA10="MDC","MDC",IF(OR('Full menu'!BA10="PERF",'Full menu'!BA10="AERF",'Full menu'!BA10="PCB"),"ERfix",IF(OR('Full menu'!BA10="ACB", 'Full menu'!BA10="LCERT", 'Full menu'!BA10="LERT",'Full menu'!BA10="FCERT",'Full menu'!BA10="FERT"),"ERT",IF(OR('Full menu'!BA10="FCMT",'Full menu'!BA10="FMT",'Full menu'!BA10="LMT",'Full menu'!BA10="LCMT"),"MT",IF(OR('Full menu'!BA10="LCIT",'Full menu'!BA10="FCIT",'Full menu'!BA10="LMT",'Full menu'!BA10="FMT"),"IT",IF(OR('Full menu'!BA10="MwERT", 'Full menu'!BA10="ERwMT", 'Full menu'!BA10="M&ERT", 'Full menu'!BA10="MwIT", 'Full menu'!BA10="IwMT", 'Full menu'!BA10="M&IT", 'Full menu'!BA10="IwERT", 'Full menu'!BA10="ERwIT", 'Full menu'!BA10="I&ERT", 'Full menu'!BA10="ER&M&IT"),"MixedT",IF('Full menu'!BA10="UD","UD",IF('Full menu'!BA10="LSD","LSD",IF('Full menu'!BA10="WSD","WSD",""))))))))) | BB10: =IF('Full menu'!BB10="MDC","MDC",IF(OR('Full menu'!BB10="PERF",'Full menu'!BB10="AERF",'Full menu'!BB10="PCB"),"ERfix",IF(OR('Full menu'!BB10="ACB", 'Full menu'!BB10="LCERT", 'Full menu'!BB10="LERT",'Full menu'!BB10="FCERT",'Full menu'!BB10="FERT"),"ERT",IF(OR('Full menu'!BB10="FCMT",'Full menu'!BB10="FMT",'Full menu'!BB10="LMT",'Full menu'!BB10="LCMT"),"MT",IF(OR('Full menu'!BB10="LCIT",'Full menu'!BB10="FCIT",'Full menu'!BB10="LMT",'Full menu'!BB10="FMT"),"IT",IF(OR('Full menu'!BB10="MwERT", 'Full menu'!BB10="ERwMT", 'Full menu'!BB10="M&ERT", 'Full menu'!BB10="MwIT", 'Full menu'!BB10="IwMT", 'Full menu'!BB10="M&IT", 'Full menu'!BB10="IwERT", 'Full menu'!BB10="ERwIT", 'Full menu'!BB10="I&ERT", 'Full menu'!BB10="ER&M&IT"),"MixedT",IF('Full menu'!BB10="UD","UD",IF('Full menu'!BB10="LSD","LSD",IF('Full menu'!BB10="WSD","WSD",""))))))))) | BC10: =IF('Full menu'!BC10="MDC","MDC",IF(OR('Full menu'!BC10="PERF",'Full menu'!BC10="AERF",'Full menu'!BC10="PCB"),"ERfix",IF(OR('Full menu'!BC10="ACB", 'Full menu'!BC10="LCERT", 'Full menu'!BC10="LERT",'Full menu'!BC10="FCERT",'Full menu'!BC10="FERT"),"ERT",IF(OR('Full menu'!BC10="FCMT",'Full menu'!BC10="FMT",'Full menu'!BC10="LMT",'Full menu'!BC10="LCMT"),"MT",IF(OR('Full menu'!BC10="LCIT",'Full menu'!BC10="FCIT",'Full menu'!BC10="LMT",'Full menu'!BC10="FMT"),"IT",IF(OR('Full menu'!BC10="MwERT", 'Full menu'!BC10="ERwMT", 'Full menu'!BC10="M&ERT", 'Full menu'!BC10="MwIT", 'Full menu'!BC10="IwMT", 'Full menu'!BC10="M&IT", 'Full menu'!BC10="IwERT", 'Full menu'!BC10="ERwIT", 'Full menu'!BC10="I&ERT", 'Full menu'!BC10="ER&M&IT"),"MixedT",IF('Full menu'!BC10="UD","UD",IF('Full menu'!BC10="LSD","LSD",IF('Full menu'!BC10="WSD","WSD","")))))))))
A11: Luxembourg | B11: =IF('Full menu'!B11="MDC","MDC",IF(OR('Full menu'!B11="PERF",'Full menu'!B11="AERF",'Full menu'!B11="PCB"),"ERfix",IF(OR('Full menu'!B11="ACB", 'Full menu'!B11="LCERT", 'Full menu'!B11="LERT",'Full menu'!B11="FCERT",'Full menu'!B11="FERT"),"ERTs",IF(OR('Full menu'!B11="FCMT",'Full menu'!B11="FMT",'Full menu'!B11="LMT",'Full menu'!B11="LCMT"),"MTs",IF(OR('Full menu'!B11="LCIT",'Full menu'!B11="FCIT",'Full menu'!B11="LIT",'Full menu'!B11="FIT"),"ITs",IF(OR('Full menu'!B11="MwERT", 'Full menu'!B11="ERwMT", 'Full menu'!B11="M&ERT", 'Full menu'!B11="MwIT", 'Full menu'!B11="IwMT", 'Full menu'!B11="M&IT", 'Full menu'!B11="IwERT", 'Full menu'!B11="ERwIT", 'Full menu'!B11="I&ERT", 'Full menu'!B11="ER&M&IT"),"MixedTs",IF('Full menu'!B11="UD","UD",IF('Full menu'!B11="LSD","LSD",IF('Full menu'!B11="WSD","WSD",""))))))))) | C11: =IF('Full menu'!C11="MDC","MDC",IF(OR('Full menu'!C11="PERF",'Full menu'!C11="AERF",'Full menu'!C11="PCB"),"ERfix",IF(OR('Full menu'!C11="ACB", 'Full menu'!C11="LCERT", 'Full menu'!C11="LERT",'Full menu'!C11="FCERT",'Full menu'!C11="FERT"),"ERTs",IF(OR('Full menu'!C11="FCMT",'Full menu'!C11="FMT",'Full menu'!C11="LMT",'Full menu'!C11="LCMT"),"MTs",IF(OR('Full menu'!C11="LCIT",'Full menu'!C11="FCIT",'Full menu'!C11="LIT",'Full menu'!C11="FIT"),"ITs",IF(OR('Full menu'!C11="MwERT", 'Full menu'!C11="ERwMT", 'Full menu'!C11="M&ERT", 'Full menu'!C11="MwIT", 'Full menu'!C11="IwMT", 'Full menu'!C11="M&IT", 'Full menu'!C11="IwERT", 'Full menu'!C11="ERwIT", 'Full menu'!C11="I&ERT", 'Full menu'!C11="ER&M&IT"),"MixedTs",IF('Full menu'!C11="UD","UD",IF('Full menu'!C11="LSD","LSD",IF('Full menu'!C11="WSD","WSD",""))))))))) | D11: =IF('Full menu'!D11="MDC","MDC",IF(OR('Full menu'!D11="PERF",'Full menu'!D11="AERF",'Full menu'!D11="PCB"),"ERfix",IF(OR('Full menu'!D11="ACB", 'Full menu'!D11="LCERT", 'Full menu'!D11="LERT",'Full menu'!D11="FCERT",'Full menu'!D11="FERT"),"ERTs",IF(OR('Full menu'!D11="FCMT",'Full menu'!D11="FMT",'Full menu'!D11="LMT",'Full menu'!D11="LCMT"),"MTs",IF(OR('Full menu'!D11="LCIT",'Full menu'!D11="FCIT",'Full menu'!D11="LIT",'Full menu'!D11="FIT"),"ITs",IF(OR('Full menu'!D11="MwERT", 'Full menu'!D11="ERwMT", 'Full menu'!D11="M&ERT", 'Full menu'!D11="MwIT", 'Full menu'!D11="IwMT", 'Full menu'!D11="M&IT", 'Full menu'!D11="IwERT", 'Full menu'!D11="ERwIT", 'Full menu'!D11="I&ERT", 'Full menu'!D11="ER&M&IT"),"MixedTs",IF('Full menu'!D11="UD","UD",IF('Full menu'!D11="LSD","LSD",IF('Full menu'!D11="WSD","WSD",""))))))))) | E11: =IF('Full menu'!E11="MDC","MDC",IF(OR('Full menu'!E11="PERF",'Full menu'!E11="AERF",'Full menu'!E11="PCB"),"ERfix",IF(OR('Full menu'!E11="ACB", 'Full menu'!E11="LCERT", 'Full menu'!E11="LERT",'Full menu'!E11="FCERT",'Full menu'!E11="FERT"),"ERTs",IF(OR('Full menu'!E11="FCMT",'Full menu'!E11="FMT",'Full menu'!E11="LMT",'Full menu'!E11="LCMT"),"MTs",IF(OR('Full menu'!E11="LCIT",'Full menu'!E11="FCIT",'Full menu'!E11="LIT",'Full menu'!E11="FIT"),"ITs",IF(OR('Full menu'!E11="MwERT", 'Full menu'!E11="ERwMT", 'Full menu'!E11="M&ERT", 'Full menu'!E11="MwIT", 'Full menu'!E11="IwMT", 'Full menu'!E11="M&IT", 'Full menu'!E11="IwERT", 'Full menu'!E11="ERwIT", 'Full menu'!E11="I&ERT", 'Full menu'!E11="ER&M&IT"),"MixedTs",IF('Full menu'!E11="UD","UD",IF('Full menu'!E11="LSD","LSD",IF('Full menu'!E11="WSD","WSD",""))))))))) | F11: =IF('Full menu'!F11="MDC","MDC",IF(OR('Full menu'!F11="PERF",'Full menu'!F11="AERF",'Full menu'!F11="PCB"),"ERfix",IF(OR('Full menu'!F11="ACB", 'Full menu'!F11="LCERT", 'Full menu'!F11="LERT",'Full menu'!F11="FCERT",'Full menu'!F11="FERT"),"ERTs",IF(OR('Full menu'!F11="FCMT",'Full menu'!F11="FMT",'Full menu'!F11="LMT",'Full menu'!F11="LCMT"),"MTs",IF(OR('Full menu'!F11="LCIT",'Full menu'!F11="FCIT",'Full menu'!F11="LIT",'Full menu'!F11="FIT"),"ITs",IF(OR('Full menu'!F11="MwERT", 'Full menu'!F11="ERwMT", 'Full menu'!F11="M&ERT", 'Full menu'!F11="MwIT", 'Full menu'!F11="IwMT", 'Full menu'!F11="M&IT", 'Full menu'!F11="IwERT", 'Full menu'!F11="ERwIT", 'Full menu'!F11="I&ERT", 'Full menu'!F11="ER&M&IT"),"MixedTs",IF('Full menu'!F11="UD","UD",IF('Full menu'!F11="LSD","LSD",IF('Full menu'!F11="WSD","WSD",""))))))))) | G11: =IF('Full menu'!G11="MDC","MDC",IF(OR('Full menu'!G11="PERF",'Full menu'!G11="AERF",'Full menu'!G11="PCB"),"ERfix",IF(OR('Full menu'!G11="ACB", 'Full menu'!G11="LCERT", 'Full menu'!G11="LERT",'Full menu'!G11="FCERT",'Full menu'!G11="FERT"),"ERTs",IF(OR('Full menu'!G11="FCMT",'Full menu'!G11="FMT",'Full menu'!G11="LMT",'Full menu'!G11="LCMT"),"MTs",IF(OR('Full menu'!G11="LCIT",'Full menu'!G11="FCIT",'Full menu'!G11="LIT",'Full menu'!G11="FIT"),"ITs",IF(OR('Full menu'!G11="MwERT", 'Full menu'!G11="ERwMT", 'Full menu'!G11="M&ERT", 'Full menu'!G11="MwIT", 'Full menu'!G11="IwMT", 'Full menu'!G11="M&IT", 'Full menu'!G11="IwERT", 'Full menu'!G11="ERwIT", 'Full menu'!G11="I&ERT", 'Full menu'!G11="ER&M&IT"),"MixedTs",IF('Full menu'!G11="UD","UD",IF('Full menu'!G11="LSD","LSD",IF('Full menu'!G11="WSD","WSD",""))))))))) | H11: =IF('Full menu'!H11="MDC","MDC",IF(OR('Full menu'!H11="PERF",'Full menu'!H11="AERF",'Full menu'!H11="PCB"),"ERfix",IF(OR('Full menu'!H11="ACB", 'Full menu'!H11="LCERT", 'Full menu'!H11="LERT",'Full menu'!H11="FCERT",'Full menu'!H11="FERT"),"ERTs",IF(OR('Full menu'!H11="FCMT",'Full menu'!H11="FMT",'Full menu'!H11="LMT",'Full menu'!H11="LCMT"),"MTs",IF(OR('Full menu'!H11="LCIT",'Full menu'!H11="FCIT",'Full menu'!H11="LIT",'Full menu'!H11="FIT"),"ITs",IF(OR('Full menu'!H11="MwERT", 'Full menu'!H11="ERwMT", 'Full menu'!H11="M&ERT", 'Full menu'!H11="MwIT", 'Full menu'!H11="IwMT", 'Full menu'!H11="M&IT", 'Full menu'!H11="IwERT", 'Full menu'!H11="ERwIT", 'Full menu'!H11="I&ERT", 'Full menu'!H11="ER&M&IT"),"MixedTs",IF('Full menu'!H11="UD","UD",IF('Full menu'!H11="LSD","LSD",IF('Full menu'!H11="WSD","WSD",""))))))))) | I11: =IF('Full menu'!I11="MDC","MDC",IF(OR('Full menu'!I11="PERF",'Full menu'!I11="AERF",'Full menu'!I11="PCB"),"ERfix",IF(OR('Full menu'!I11="ACB", 'Full menu'!I11="LCERT", 'Full menu'!I11="LERT",'Full menu'!I11="FCERT",'Full menu'!I11="FERT"),"ERTs",IF(OR('Full menu'!I11="FCMT",'Full menu'!I11="FMT",'Full menu'!I11="LMT",'Full menu'!I11="LCMT"),"MTs",IF(OR('Full menu'!I11="LCIT",'Full menu'!I11="FCIT",'Full menu'!I11="LIT",'Full menu'!I11="FIT"),"ITs",IF(OR('Full menu'!I11="MwERT", 'Full menu'!I11="ERwMT", 'Full menu'!I11="M&ERT", 'Full menu'!I11="MwIT", 'Full menu'!I11="IwMT", 'Full menu'!I11="M&IT", 'Full menu'!I11="IwERT", 'Full menu'!I11="ERwIT", 'Full menu'!I11="I&ERT", 'Full menu'!I11="ER&M&IT"),"MixedTs",IF('Full menu'!I11="UD","UD",IF('Full menu'!I11="LSD","LSD",IF('Full menu'!I11="WSD","WSD",""))))))))) | ... AY11: =IF('Full menu'!AY11="MDC","MDC",IF(OR('Full menu'!AY11="PERF",'Full menu'!AY11="AERF",'Full menu'!AY11="PCB"),"ERfix",IF(OR('Full menu'!AY11="ACB", 'Full menu'!AY11="LCERT", 'Full menu'!AY11="LERT",'Full menu'!AY11="FCERT",'Full menu'!AY11="FERT"),"ERTs",IF(OR('Full menu'!AY11="FCMT",'Full menu'!AY11="FMT",'Full menu'!AY11="LMT",'Full menu'!AY11="LCMT"),"MTs",IF(OR('Full menu'!AY11="LCIT",'Full menu'!AY11="FCIT",'Full menu'!AY11="LIT",'Full menu'!AY11="FIT"),"ITs",IF(OR('Full menu'!AY11="MwERT", 'Full menu'!AY11="ERwMT", 'Full menu'!AY11="M&ERT", 'Full menu'!AY11="MwIT", 'Full menu'!AY11="IwMT", 'Full menu'!AY11="M&IT", 'Full menu'!AY11="IwERT", 'Full menu'!AY11="ERwIT", 'Full menu'!AY11="I&ERT", 'Full menu'!AY11="ER&M&IT"),"MixedTs",IF('Full menu'!AY11="UD","UD",IF('Full menu'!AY11="LSD","LSD",IF('Full menu'!AY11="WSD","WSD",""))))))))) | AZ11: =IF('Full menu'!AZ11="MDC","MDC",IF(OR('Full menu'!AZ11="PERF",'Full menu'!AZ11="AERF",'Full menu'!AZ11="PCB"),"ERfix",IF(OR('Full menu'!AZ11="ACB", 'Full menu'!AZ11="LCERT", 'Full menu'!AZ11="LERT",'Full menu'!AZ11="FCERT",'Full menu'!AZ11="FERT"),"ERT",IF(OR('Full menu'!AZ11="FCMT",'Full menu'!AZ11="FMT",'Full menu'!AZ11="LMT",'Full menu'!AZ11="LCMT"),"MT",IF(OR('Full menu'!AZ11="LCIT",'Full menu'!AZ11="FCIT",'Full menu'!AZ11="LMT",'Full menu'!AZ11="FMT"),"IT",IF(OR('Full menu'!AZ11="MwERT", 'Full menu'!AZ11="ERwMT", 'Full menu'!AZ11="M&ERT", 'Full menu'!AZ11="MwIT", 'Full menu'!AZ11="IwMT", 'Full menu'!AZ11="M&IT", 'Full menu'!AZ11="IwERT", 'Full menu'!AZ11="ERwIT", 'Full menu'!AZ11="I&ERT", 'Full menu'!AZ11="ER&M&IT"),"MixedT",IF('Full menu'!AZ11="UD","UD",IF('Full menu'!AZ11="LSD","LSD",IF('Full menu'!AZ11="WSD","WSD",""))))))))) | BA11: =IF('Full menu'!BA11="MDC","MDC",IF(OR('Full menu'!BA11="PERF",'Full menu'!BA11="AERF",'Full menu'!BA11="PCB"),"ERfix",IF(OR('Full menu'!BA11="ACB", 'Full menu'!BA11="LCERT", 'Full menu'!BA11="LERT",'Full menu'!BA11="FCERT",'Full menu'!BA11="FERT"),"ERT",IF(OR('Full menu'!BA11="FCMT",'Full menu'!BA11="FMT",'Full menu'!BA11="LMT",'Full menu'!BA11="LCMT"),"MT",IF(OR('Full menu'!BA11="LCIT",'Full menu'!BA11="FCIT",'Full menu'!BA11="LMT",'Full menu'!BA11="FMT"),"IT",IF(OR('Full menu'!BA11="MwERT", 'Full menu'!BA11="ERwMT", 'Full menu'!BA11="M&ERT", 'Full menu'!BA11="MwIT", 'Full menu'!BA11="IwMT", 'Full menu'!BA11="M&IT", 'Full menu'!BA11="IwERT", 'Full menu'!BA11="ERwIT", 'Full menu'!BA11="I&ERT", 'Full menu'!BA11="ER&M&IT"),"MixedT",IF('Full menu'!BA11="UD","UD",IF('Full menu'!BA11="LSD","LSD",IF('Full menu'!BA11="WSD","WSD",""))))))))) | BB11: =IF('Full menu'!BB11="MDC","MDC",IF(OR('Full menu'!BB11="PERF",'Full menu'!BB11="AERF",'Full menu'!BB11="PCB"),"ERfix",IF(OR('Full menu'!BB11="ACB", 'Full menu'!BB11="LCERT", 'Full menu'!BB11="LERT",'Full menu'!BB11="FCERT",'Full menu'!BB11="FERT"),"ERT",IF(OR('Full menu'!BB11="FCMT",'Full menu'!BB11="FMT",'Full menu'!BB11="LMT",'Full menu'!BB11="LCMT"),"MT",IF(OR('Full menu'!BB11="LCIT",'Full menu'!BB11="FCIT",'Full menu'!BB11="LMT",'Full menu'!BB11="FMT"),"IT",IF(OR('Full menu'!BB11="MwERT", 'Full menu'!BB11="ERwMT", 'Full menu'!BB11="M&ERT", 'Full menu'!BB11="MwIT", 'Full menu'!BB11="IwMT", 'Full menu'!BB11="M&IT", 'Full menu'!BB11="IwERT", 'Full menu'!BB11="ERwIT", 'Full menu'!BB11="I&ERT", 'Full menu'!BB11="ER&M&IT"),"MixedT",IF('Full menu'!BB11="UD","UD",IF('Full menu'!BB11="LSD","LSD",IF('Full menu'!BB11="WSD","WSD",""))))))))) | BC11: =IF('Full menu'!BC11="MDC","MDC",IF(OR('Full menu'!BC11="PERF",'Full menu'!BC11="AERF",'Full menu'!BC11="PCB"),"ERfix",IF(OR('Full menu'!BC11="ACB", 'Full menu'!BC11="LCERT", 'Full menu'!BC11="LERT",'Full menu'!BC11="FCERT",'Full menu'!BC11="FERT"),"ERT",IF(OR('Full menu'!BC11="FCMT",'Full menu'!BC11="FMT",'Full menu'!BC11="LMT",'Full menu'!BC11="LCMT"),"MT",IF(OR('Full menu'!BC11="LCIT",'Full menu'!BC11="FCIT",'Full menu'!BC11="LMT",'Full menu'!BC11="FMT"),"IT",IF(OR('Full menu'!BC11="MwERT", 'Full menu'!BC11="ERwMT", 'Full menu'!BC11="M&ERT", 'Full menu'!BC11="MwIT", 'Full menu'!BC11="IwMT", 'Full menu'!BC11="M&IT", 'Full menu'!BC11="IwERT", 'Full menu'!BC11="ERwIT", 'Full menu'!BC11="I&ERT", 'Full menu'!BC11="ER&M&IT"),"MixedT",IF('Full menu'!BC11="UD","UD",IF('Full menu'!BC11="LSD","LSD",IF('Full menu'!BC11="WSD","WSD","")))))))))
A12: Netherlands | B12: =IF('Full menu'!B12="MDC","MDC",IF(OR('Full menu'!B12="PERF",'Full menu'!B12="AERF",'Full menu'!B12="PCB"),"ERfix",IF(OR('Full menu'!B12="ACB", 'Full menu'!B12="LCERT", 'Full menu'!B12="LERT",'Full menu'!B12="FCERT",'Full menu'!B12="FERT"),"ERTs",IF(OR('Full menu'!B12="FCMT",'Full menu'!B12="FMT",'Full menu'!B12="LMT",'Full menu'!B12="LCMT"),"MTs",IF(OR('Full menu'!B12="LCIT",'Full menu'!B12="FCIT",'Full menu'!B12="LIT",'Full menu'!B12="FIT"),"ITs",IF(OR('Full menu'!B12="MwERT", 'Full menu'!B12="ERwMT", 'Full menu'!B12="M&ERT", 'Full menu'!B12="MwIT", 'Full menu'!B12="IwMT", 'Full menu'!B12="M&IT", 'Full menu'!B12="IwERT", 'Full menu'!B12="ERwIT", 'Full menu'!B12="I&ERT", 'Full menu'!B12="ER&M&IT"),"MixedTs",IF('Full menu'!B12="UD","UD",IF('Full menu'!B12="LSD","LSD",IF('Full menu'!B12="WSD","WSD",""))))))))) -> ERTs | C12: =IF('Full menu'!C12="MDC","MDC",IF(OR('Full menu'!C12="PERF",'Full menu'!C12="AERF",'Full menu'!C12="PCB"),"ERfix",IF(OR('Full menu'!C12="ACB", 'Full menu'!C12="LCERT", 'Full menu'!C12="LERT",'Full menu'!C12="FCERT",'Full menu'!C12="FERT"),"ERTs",IF(OR('Full menu'!C12="FCMT",'Full menu'!C12="FMT",'Full menu'!C12="LMT",'Full menu'!C12="LCMT"),"MTs",IF(OR('Full menu'!C12="LCIT",'Full menu'!C12="FCIT",'Full menu'!C12="LIT",'Full menu'!C12="FIT"),"ITs",IF(OR('Full menu'!C12="MwERT", 'Full menu'!C12="ERwMT", 'Full menu'!C12="M&ERT", 'Full menu'!C12="MwIT", 'Full menu'!C12="IwMT", 'Full menu'!C12="M&IT", 'Full menu'!C12="IwERT", 'Full menu'!C12="ERwIT", 'Full menu'!C12="I&ERT", 'Full menu'!C12="ER&M&IT"),"MixedTs",IF('Full menu'!C12="UD","UD",IF('Full menu'!C12="LSD","LSD",IF('Full menu'!C12="WSD","WSD",""))))))))) -> ERTs | D12: =IF('Full menu'!D12="MDC","MDC",IF(OR('Full menu'!D12="PERF",'Full menu'!D12="AERF",'Full menu'!D12="PCB"),"ERfix",IF(OR('Full menu'!D12="ACB", 'Full menu'!D12="LCERT", 'Full menu'!D12="LERT",'Full menu'!D12="FCERT",'Full menu'!D12="FERT"),"ERTs",IF(OR('Full menu'!D12="FCMT",'Full menu'!D12="FMT",'Full menu'!D12="LMT",'Full menu'!D12="LCMT"),"MTs",IF(OR('Full menu'!D12="LCIT",'Full menu'!D12="FCIT",'Full menu'!D12="LIT",'Full menu'!D12="FIT"),"ITs",IF(OR('Full menu'!D12="MwERT", 'Full menu'!D12="ERwMT", 'Full menu'!D12="M&ERT", 'Full menu'!D12="MwIT", 'Full menu'!D12="IwMT", 'Full menu'!D12="M&IT", 'Full menu'!D12="IwERT", 'Full menu'!D12="ERwIT", 'Full menu'!D12="I&ERT", 'Full menu'!D12="ER&M&IT"),"MixedTs",IF('Full menu'!D12="UD","UD",IF('Full menu'!D12="LSD","LSD",IF('Full menu'!D12="WSD","WSD",""))))))))) -> ERTs | E12: =IF('Full menu'!E12="MDC","MDC",IF(OR('Full menu'!E12="PERF",'Full menu'!E12="AERF",'Full menu'!E12="PCB"),"ERfix",IF(OR('Full menu'!E12="ACB", 'Full menu'!E12="LCERT", 'Full menu'!E12="LERT",'Full menu'!E12="FCERT",'Full menu'!E12="FERT"),"ERTs",IF(OR('Full menu'!E12="FCMT",'Full menu'!E12="FMT",'Full menu'!E12="LMT",'Full menu'!E12="LCMT"),"MTs",IF(OR('Full menu'!E12="LCIT",'Full menu'!E12="FCIT",'Full menu'!E12="LIT",'Full menu'!E12="FIT"),"ITs",IF(OR('Full menu'!E12="MwERT", 'Full menu'!E12="ERwMT", 'Full menu'!E12="M&ERT", 'Full menu'!E12="MwIT", 'Full menu'!E12="IwMT", 'Full menu'!E12="M&IT", 'Full menu'!E12="IwERT", 'Full menu'!E12="ERwIT", 'Full menu'!E12="I&ERT", 'Full menu'!E12="ER&M&IT"),"MixedTs",IF('Full menu'!E12="UD","UD",IF('Full menu'!E12="LSD","LSD",IF('Full menu'!E12="WSD","WSD",""))))))))) -> ERTs | F12: =IF('Full menu'!F12="MDC","MDC",IF(OR('Full menu'!F12="PERF",'Full menu'!F12="AERF",'Full menu'!F12="PCB"),"ERfix",IF(OR('Full menu'!F12="ACB", 'Full menu'!F12="LCERT", 'Full menu'!F12="LERT",'Full menu'!F12="FCERT",'Full menu'!F12="FERT"),"ERTs",IF(OR('Full menu'!F12="FCMT",'Full menu'!F12="FMT",'Full menu'!F12="LMT",'Full menu'!F12="LCMT"),"MTs",IF(OR('Full menu'!F12="LCIT",'Full menu'!F12="FCIT",'Full menu'!F12="LIT",'Full menu'!F12="FIT"),"ITs",IF(OR('Full menu'!F12="MwERT", 'Full menu'!F12="ERwMT", 'Full menu'!F12="M&ERT", 'Full menu'!F12="MwIT", 'Full menu'!F12="IwMT", 'Full menu'!F12="M&IT", 'Full menu'!F12="IwERT", 'Full menu'!F12="ERwIT", 'Full menu'!F12="I&ERT", 'Full menu'!F12="ER&M&IT"),"MixedTs",IF('Full menu'!F12="UD","UD",IF('Full menu'!F12="LSD","LSD",IF('Full menu'!F12="WSD","WSD",""))))))))) -> ERTs | G12: =IF('Full menu'!G12="MDC","MDC",IF(OR('Full menu'!G12="PERF",'Full menu'!G12="AERF",'Full menu'!G12="PCB"),"ERfix",IF(OR('Full menu'!G12="ACB", 'Full menu'!G12="LCERT", 'Full menu'!G12="LERT",'Full menu'!G12="FCERT",'Full menu'!G12="FERT"),"ERTs",IF(OR('Full menu'!G12="FCMT",'Full menu'!G12="FMT",'Full menu'!G12="LMT",'Full menu'!G12="LCMT"),"MTs",IF(OR('Full menu'!G12="LCIT",'Full menu'!G12="FCIT",'Full menu'!G12="LIT",'Full menu'!G12="FIT"),"ITs",IF(OR('Full menu'!G12="MwERT", 'Full menu'!G12="ERwMT", 'Full menu'!G12="M&ERT", 'Full menu'!G12="MwIT", 'Full menu'!G12="IwMT", 'Full menu'!G12="M&IT", 'Full menu'!G12="IwERT", 'Full menu'!G12="ERwIT", 'Full menu'!G12="I&ERT", 'Full menu'!G12="ER&M&IT"),"MixedTs",IF('Full menu'!G12="UD","UD",IF('Full menu'!G12="LSD","LSD",IF('Full menu'!G12="WSD","WSD",""))))))))) -> ERTs | H12: =IF('Full menu'!H12="MDC","MDC",IF(OR('Full menu'!H12="PERF",'Full menu'!H12="AERF",'Full menu'!H12="PCB"),"ERfix",IF(OR('Full menu'!H12="ACB", 'Full menu'!H12="LCERT", 'Full menu'!H12="LERT",'Full menu'!H12="FCERT",'Full menu'!H12="FERT"),"ERTs",IF(OR('Full menu'!H12="FCMT",'Full menu'!H12="FMT",'Full menu'!H12="LMT",'Full menu'!H12="LCMT"),"MTs",IF(OR('Full menu'!H12="LCIT",'Full menu'!H12="FCIT",'Full menu'!H12="LIT",'Full menu'!H12="FIT"),"ITs",IF(OR('Full menu'!H12="MwERT", 'Full menu'!H12="ERwMT", 'Full menu'!H12="M&ERT", 'Full menu'!H12="MwIT", 'Full menu'!H12="IwMT", 'Full menu'!H12="M&IT", 'Full menu'!H12="IwERT", 'Full menu'!H12="ERwIT", 'Full menu'!H12="I&ERT", 'Full menu'!H12="ER&M&IT"),"MixedTs",IF('Full menu'!H12="UD","UD",IF('Full menu'!H12="LSD","LSD",IF('Full menu'!H12="WSD","WSD",""))))))))) -> ERTs | I12: =IF('Full menu'!I12="MDC","MDC",IF(OR('Full menu'!I12="PERF",'Full menu'!I12="AERF",'Full menu'!I12="PCB"),"ERfix",IF(OR('Full menu'!I12="ACB", 'Full menu'!I12="LCERT", 'Full menu'!I12="LERT",'Full menu'!I12="FCERT",'Full menu'!I12="FERT"),"ERTs",IF(OR('Full menu'!I12="FCMT",'Full menu'!I12="FMT",'Full menu'!I12="LMT",'Full menu'!I12="LCMT"),"MTs",IF(OR('Full menu'!I12="LCIT",'Full menu'!I12="FCIT",'Full menu'!I12="LIT",'Full menu'!I12="FIT"),"ITs",IF(OR('Full menu'!I12="MwERT", 'Full menu'!I12="ERwMT", 'Full menu'!I12="M&ERT", 'Full menu'!I12="MwIT", 'Full menu'!I12="IwMT", 'Full menu'!I12="M&IT", 'Full menu'!I12="IwERT", 'Full menu'!I12="ERwIT", 'Full menu'!I12="I&ERT", 'Full menu'!I12="ER&M&IT"),"MixedTs",IF('Full menu'!I12="UD","UD",IF('Full menu'!I12="LSD","LSD",IF('Full menu'!I12="WSD","WSD",""))))))))) -> ERTs | ... AY12: =IF('Full menu'!AY12="MDC","MDC",IF(OR('Full menu'!AY12="PERF",'Full menu'!AY12="AERF",'Full menu'!AY12="PCB"),"ERfix",IF(OR('Full menu'!AY12="ACB", 'Full menu'!AY12="LCERT", 'Full menu'!AY12="LERT",'Full menu'!AY12="FCERT",'Full menu'!AY12="FERT"),"ERTs",IF(OR('Full menu'!AY12="FCMT",'Full menu'!AY12="FMT",'Full menu'!AY12="LMT",'Full menu'!AY12="LCMT"),"MTs",IF(OR('Full menu'!AY12="LCIT",'Full menu'!AY12="FCIT",'Full menu'!AY12="LIT",'Full menu'!AY12="FIT"),"ITs",IF(OR('Full menu'!AY12="MwERT", 'Full menu'!AY12="ERwMT", 'Full menu'!AY12="M&ERT", 'Full menu'!AY12="MwIT", 'Full menu'!AY12="IwMT", 'Full menu'!AY12="M&IT", 'Full menu'!AY12="IwERT", 'Full menu'!AY12="ERwIT", 'Full menu'!AY12="I&ERT", 'Full menu'!AY12="ER&M&IT"),"MixedTs",IF('Full menu'!AY12="UD","UD",IF('Full menu'!AY12="LSD","LSD",IF('Full menu'!AY12="WSD","WSD",""))))))))) | AZ12: =IF('Full menu'!AZ12="MDC","MDC",IF(OR('Full menu'!AZ12="PERF",'Full menu'!AZ12="AERF",'Full menu'!AZ12="PCB"),"ERfix",IF(OR('Full menu'!AZ12="ACB", 'Full menu'!AZ12="LCERT", 'Full menu'!AZ12="LERT",'Full menu'!AZ12="FCERT",'Full menu'!AZ12="FERT"),"ERT",IF(OR('Full menu'!AZ12="FCMT",'Full menu'!AZ12="FMT",'Full menu'!AZ12="LMT",'Full menu'!AZ12="LCMT"),"MT",IF(OR('Full menu'!AZ12="LCIT",'Full menu'!AZ12="FCIT",'Full menu'!AZ12="LMT",'Full menu'!AZ12="FMT"),"IT",IF(OR('Full menu'!AZ12="MwERT", 'Full menu'!AZ12="ERwMT", 'Full menu'!AZ12="M&ERT", 'Full menu'!AZ12="MwIT", 'Full menu'!AZ12="IwMT", 'Full menu'!AZ12="M&IT", 'Full menu'!AZ12="IwERT", 'Full menu'!AZ12="ERwIT", 'Full menu'!AZ12="I&ERT", 'Full menu'!AZ12="ER&M&IT"),"MixedT",IF('Full menu'!AZ12="UD","UD",IF('Full menu'!AZ12="LSD","LSD",IF('Full menu'!AZ12="WSD","WSD",""))))))))) | BA12: =IF('Full menu'!BA12="MDC","MDC",IF(OR('Full menu'!BA12="PERF",'Full menu'!BA12="AERF",'Full menu'!BA12="PCB"),"ERfix",IF(OR('Full menu'!BA12="ACB", 'Full menu'!BA12="LCERT", 'Full menu'!BA12="LERT",'Full menu'!BA12="FCERT",'Full menu'!BA12="FERT"),"ERT",IF(OR('Full menu'!BA12="FCMT",'Full menu'!BA12="FMT",'Full menu'!BA12="LMT",'Full menu'!BA12="LCMT"),"MT",IF(OR('Full menu'!BA12="LCIT",'Full menu'!BA12="FCIT",'Full menu'!BA12="LMT",'Full menu'!BA12="FMT"),"IT",IF(OR('Full menu'!BA12="MwERT", 'Full menu'!BA12="ERwMT", 'Full menu'!BA12="M&ERT", 'Full menu'!BA12="MwIT", 'Full menu'!BA12="IwMT", 'Full menu'!BA12="M&IT", 'Full menu'!BA12="IwERT", 'Full menu'!BA12="ERwIT", 'Full menu'!BA12="I&ERT", 'Full menu'!BA12="ER&M&IT"),"MixedT",IF('Full menu'!BA12="UD","UD",IF('Full menu'!BA12="LSD","LSD",IF('Full menu'!BA12="WSD","WSD",""))))))))) | BB12: =IF('Full menu'!BB12="MDC","MDC",IF(OR('Full menu'!BB12="PERF",'Full menu'!BB12="AERF",'Full menu'!BB12="PCB"),"ERfix",IF(OR('Full menu'!BB12="ACB", 'Full menu'!BB12="LCERT", 'Full menu'!BB12="LERT",'Full menu'!BB12="FCERT",'Full menu'!BB12="FERT"),"ERT",IF(OR('Full menu'!BB12="FCMT",'Full menu'!BB12="FMT",'Full menu'!BB12="LMT",'Full menu'!BB12="LCMT"),"MT",IF(OR('Full menu'!BB12="LCIT",'Full menu'!BB12="FCIT",'Full menu'!BB12="LMT",'Full menu'!BB12="FMT"),"IT",IF(OR('Full menu'!BB12="MwERT", 'Full menu'!BB12="ERwMT", 'Full menu'!BB12="M&ERT", 'Full menu'!BB12="MwIT", 'Full menu'!BB12="IwMT", 'Full menu'!BB12="M&IT", 'Full menu'!BB12="IwERT", 'Full menu'!BB12="ERwIT", 'Full menu'!BB12="I&ERT", 'Full menu'!BB12="ER&M&IT"),"MixedT",IF('Full menu'!BB12="UD","UD",IF('Full menu'!BB12="LSD","LSD",IF('Full menu'!BB12="WSD","WSD",""))))))))) | BC12: =IF('Full menu'!BC12="MDC","MDC",IF(OR('Full menu'!BC12="PERF",'Full menu'!BC12="AERF",'Full menu'!BC12="PCB"),"ERfix",IF(OR('Full menu'!BC12="ACB", 'Full menu'!BC12="LCERT", 'Full menu'!BC12="LERT",'Full menu'!BC12="FCERT",'Full menu'!BC12="FERT"),"ERT",IF(OR('Full menu'!BC12="FCMT",'Full menu'!BC12="FMT",'Full menu'!BC12="LMT",'Full menu'!BC12="LCMT"),"MT",IF(OR('Full menu'!BC12="LCIT",'Full menu'!BC12="FCIT",'Full menu'!BC12="LMT",'Full menu'!BC12="FMT"),"IT",IF(OR('Full menu'!BC12="MwERT", 'Full menu'!BC12="ERwMT", 'Full menu'!BC12="M&ERT", 'Full menu'!BC12="MwIT", 'Full menu'!BC12="IwMT", 'Full menu'!BC12="M&IT", 'Full menu'!BC12="IwERT", 'Full menu'!BC12="ERwIT", 'Full menu'!BC12="I&ERT", 'Full menu'!BC12="ER&M&IT"),"MixedT",IF('Full menu'!BC12="UD","UD",IF('Full menu'!BC12="LSD","LSD",IF('Full menu'!BC12="WSD","WSD","")))))))))
A13: Portugal | B13: =IF('Full menu'!B13="MDC","MDC",IF(OR('Full menu'!B13="PERF",'Full menu'!B13="AERF",'Full menu'!B13="PCB"),"ERfix",IF(OR('Full menu'!B13="ACB", 'Full menu'!B13="LCERT", 'Full menu'!B13="LERT",'Full menu'!B13="FCERT",'Full menu'!B13="FERT"),"ERTs",IF(OR('Full menu'!B13="FCMT",'Full menu'!B13="FMT",'Full menu'!B13="LMT",'Full menu'!B13="LCMT"),"MTs",IF(OR('Full menu'!B13="LCIT",'Full menu'!B13="FCIT",'Full menu'!B13="LIT",'Full menu'!B13="FIT"),"ITs",IF(OR('Full menu'!B13="MwERT", 'Full menu'!B13="ERwMT", 'Full menu'!B13="M&ERT", 'Full menu'!B13="MwIT", 'Full menu'!B13="IwMT", 'Full menu'!B13="M&IT", 'Full menu'!B13="IwERT", 'Full menu'!B13="ERwIT", 'Full menu'!B13="I&ERT", 'Full menu'!B13="ER&M&IT"),"MixedTs",IF('Full menu'!B13="UD","UD",IF('Full menu'!B13="LSD","LSD",IF('Full menu'!B13="WSD","WSD",""))))))))) -> UD | C13: =IF('Full menu'!C13="MDC","MDC",IF(OR('Full menu'!C13="PERF",'Full menu'!C13="AERF",'Full menu'!C13="PCB"),"ERfix",IF(OR('Full menu'!C13="ACB", 'Full menu'!C13="LCERT", 'Full menu'!C13="LERT",'Full menu'!C13="FCERT",'Full menu'!C13="FERT"),"ERTs",IF(OR('Full menu'!C13="FCMT",'Full menu'!C13="FMT",'Full menu'!C13="LMT",'Full menu'!C13="LCMT"),"MTs",IF(OR('Full menu'!C13="LCIT",'Full menu'!C13="FCIT",'Full menu'!C13="LIT",'Full menu'!C13="FIT"),"ITs",IF(OR('Full menu'!C13="MwERT", 'Full menu'!C13="ERwMT", 'Full menu'!C13="M&ERT", 'Full menu'!C13="MwIT", 'Full menu'!C13="IwMT", 'Full menu'!C13="M&IT", 'Full menu'!C13="IwERT", 'Full menu'!C13="ERwIT", 'Full menu'!C13="I&ERT", 'Full menu'!C13="ER&M&IT"),"MixedTs",IF('Full menu'!C13="UD","UD",IF('Full menu'!C13="LSD","LSD",IF('Full menu'!C13="WSD","WSD",""))))))))) -> UD | D13: =IF('Full menu'!D13="MDC","MDC",IF(OR('Full menu'!D13="PERF",'Full menu'!D13="AERF",'Full menu'!D13="PCB"),"ERfix",IF(OR('Full menu'!D13="ACB", 'Full menu'!D13="LCERT", 'Full menu'!D13="LERT",'Full menu'!D13="FCERT",'Full menu'!D13="FERT"),"ERTs",IF(OR('Full menu'!D13="FCMT",'Full menu'!D13="FMT",'Full menu'!D13="LMT",'Full menu'!D13="LCMT"),"MTs",IF(OR('Full menu'!D13="LCIT",'Full menu'!D13="FCIT",'Full menu'!D13="LIT",'Full menu'!D13="FIT"),"ITs",IF(OR('Full menu'!D13="MwERT", 'Full menu'!D13="ERwMT", 'Full menu'!D13="M&ERT", 'Full menu'!D13="MwIT", 'Full menu'!D13="IwMT", 'Full menu'!D13="M&IT", 'Full menu'!D13="IwERT", 'Full menu'!D13="ERwIT", 'Full menu'!D13="I&ERT", 'Full menu'!D13="ER&M&IT"),"MixedTs",IF('Full menu'!D13="UD","UD",IF('Full menu'!D13="LSD","LSD",IF('Full menu'!D13="WSD","WSD",""))))))))) -> UD | E13: =IF('Full menu'!E13="MDC","MDC",IF(OR('Full menu'!E13="PERF",'Full menu'!E13="AERF",'Full menu'!E13="PCB"),"ERfix",IF(OR('Full menu'!E13="ACB", 'Full menu'!E13="LCERT", 'Full menu'!E13="LERT",'Full menu'!E13="FCERT",'Full menu'!E13="FERT"),"ERTs",IF(OR('Full menu'!E13="FCMT",'Full menu'!E13="FMT",'Full menu'!E13="LMT",'Full menu'!E13="LCMT"),"MTs",IF(OR('Full menu'!E13="LCIT",'Full menu'!E13="FCIT",'Full menu'!E13="LIT",'Full menu'!E13="FIT"),"ITs",IF(OR('Full menu'!E13="MwERT", 'Full menu'!E13="ERwMT", 'Full menu'!E13="M&ERT", 'Full menu'!E13="MwIT", 'Full menu'!E13="IwMT", 'Full menu'!E13="M&IT", 'Full menu'!E13="IwERT", 'Full menu'!E13="ERwIT", 'Full menu'!E13="I&ERT", 'Full menu'!E13="ER&M&IT"),"MixedTs",IF('Full menu'!E13="UD","UD",IF('Full menu'!E13="LSD","LSD",IF('Full menu'!E13="WSD","WSD",""))))))))) -> UD | F13: =IF('Full menu'!F13="MDC","MDC",IF(OR('Full menu'!F13="PERF",'Full menu'!F13="AERF",'Full menu'!F13="PCB"),"ERfix",IF(OR('Full menu'!F13="ACB", 'Full menu'!F13="LCERT", 'Full menu'!F13="LERT",'Full menu'!F13="FCERT",'Full menu'!F13="FERT"),"ERTs",IF(OR('Full menu'!F13="FCMT",'Full menu'!F13="FMT",'Full menu'!F13="LMT",'Full menu'!F13="LCMT"),"MTs",IF(OR('Full menu'!F13="LCIT",'Full menu'!F13="FCIT",'Full menu'!F13="LIT",'Full menu'!F13="FIT"),"ITs",IF(OR('Full menu'!F13="MwERT", 'Full menu'!F13="ERwMT", 'Full menu'!F13="M&ERT", 'Full menu'!F13="MwIT", 'Full menu'!F13="IwMT", 'Full menu'!F13="M&IT", 'Full menu'!F13="IwERT", 'Full menu'!F13="ERwIT", 'Full menu'!F13="I&ERT", 'Full menu'!F13="ER&M&IT"),"MixedTs",IF('Full menu'!F13="UD","UD",IF('Full menu'!F13="LSD","LSD",IF('Full menu'!F13="WSD","WSD",""))))))))) -> ERTs | G13: =IF('Full menu'!G13="MDC","MDC",IF(OR('Full menu'!G13="PERF",'Full menu'!G13="AERF",'Full menu'!G13="PCB"),"ERfix",IF(OR('Full menu'!G13="ACB", 'Full menu'!G13="LCERT", 'Full menu'!G13="LERT",'Full menu'!G13="FCERT",'Full menu'!G13="FERT"),"ERTs",IF(OR('Full menu'!G13="FCMT",'Full menu'!G13="FMT",'Full menu'!G13="LMT",'Full menu'!G13="LCMT"),"MTs",IF(OR('Full menu'!G13="LCIT",'Full menu'!G13="FCIT",'Full menu'!G13="LIT",'Full menu'!G13="FIT"),"ITs",IF(OR('Full menu'!G13="MwERT", 'Full menu'!G13="ERwMT", 'Full menu'!G13="M&ERT", 'Full menu'!G13="MwIT", 'Full menu'!G13="IwMT", 'Full menu'!G13="M&IT", 'Full menu'!G13="IwERT", 'Full menu'!G13="ERwIT", 'Full menu'!G13="I&ERT", 'Full menu'!G13="ER&M&IT"),"MixedTs",IF('Full menu'!G13="UD","UD",IF('Full menu'!G13="LSD","LSD",IF('Full menu'!G13="WSD","WSD",""))))))))) -> ERTs | H13: =IF('Full menu'!H13="MDC","MDC",IF(OR('Full menu'!H13="PERF",'Full menu'!H13="AERF",'Full menu'!H13="PCB"),"ERfix",IF(OR('Full menu'!H13="ACB", 'Full menu'!H13="LCERT", 'Full menu'!H13="LERT",'Full menu'!H13="FCERT",'Full menu'!H13="FERT"),"ERTs",IF(OR('Full menu'!H13="FCMT",'Full menu'!H13="FMT",'Full menu'!H13="LMT",'Full menu'!H13="LCMT"),"MTs",IF(OR('Full menu'!H13="LCIT",'Full menu'!H13="FCIT",'Full menu'!H13="LIT",'Full menu'!H13="FIT"),"ITs",IF(OR('Full menu'!H13="MwERT", 'Full menu'!H13="ERwMT", 'Full menu'!H13="M&ERT", 'Full menu'!H13="MwIT", 'Full menu'!H13="IwMT", 'Full menu'!H13="M&IT", 'Full menu'!H13="IwERT", 'Full menu'!H13="ERwIT", 'Full menu'!H13="I&ERT", 'Full menu'!H13="ER&M&IT"),"MixedTs",IF('Full menu'!H13="UD","UD",IF('Full menu'!H13="LSD","LSD",IF('Full menu'!H13="WSD","WSD",""))))))))) -> ERTs | I13: =IF('Full menu'!I13="MDC","MDC",IF(OR('Full menu'!I13="PERF",'Full menu'!I13="AERF",'Full menu'!I13="PCB"),"ERfix",IF(OR('Full menu'!I13="ACB", 'Full menu'!I13="LCERT", 'Full menu'!I13="LERT",'Full menu'!I13="FCERT",'Full menu'!I13="FERT"),"ERTs",IF(OR('Full menu'!I13="FCMT",'Full menu'!I13="FMT",'Full menu'!I13="LMT",'Full menu'!I13="LCMT"),"MTs",IF(OR('Full menu'!I13="LCIT",'Full menu'!I13="FCIT",'Full menu'!I13="LIT",'Full menu'!I13="FIT"),"ITs",IF(OR('Full menu'!I13="MwERT", 'Full menu'!I13="ERwMT", 'Full menu'!I13="M&ERT", 'Full menu'!I13="MwIT", 'Full menu'!I13="IwMT", 'Full menu'!I13="M&IT", 'Full menu'!I13="IwERT", 'Full menu'!I13="ERwIT", 'Full menu'!I13="I&ERT", 'Full menu'!I13="ER&M&IT"),"MixedTs",IF('Full menu'!I13="UD","UD",IF('Full menu'!I13="LSD","LSD",IF('Full menu'!I13="WSD","WSD",""))))))))) -> ERTs | ... AY13: =IF('Full menu'!AY13="MDC","MDC",IF(OR('Full menu'!AY13="PERF",'Full menu'!AY13="AERF",'Full menu'!AY13="PCB"),"ERfix",IF(OR('Full menu'!AY13="ACB", 'Full menu'!AY13="LCERT", 'Full menu'!AY13="LERT",'Full menu'!AY13="FCERT",'Full menu'!AY13="FERT"),"ERTs",IF(OR('Full menu'!AY13="FCMT",'Full menu'!AY13="FMT",'Full menu'!AY13="LMT",'Full menu'!AY13="LCMT"),"MTs",IF(OR('Full menu'!AY13="LCIT",'Full menu'!AY13="FCIT",'Full menu'!AY13="LIT",'Full menu'!AY13="FIT"),"ITs",IF(OR('Full menu'!AY13="MwERT", 'Full menu'!AY13="ERwMT", 'Full menu'!AY13="M&ERT", 'Full menu'!AY13="MwIT", 'Full menu'!AY13="IwMT", 'Full menu'!AY13="M&IT", 'Full menu'!AY13="IwERT", 'Full menu'!AY13="ERwIT", 'Full menu'!AY13="I&ERT", 'Full menu'!AY13="ER&M&IT"),"MixedTs",IF('Full menu'!AY13="UD","UD",IF('Full menu'!AY13="LSD","LSD",IF('Full menu'!AY13="WSD","WSD",""))))))))) | AZ13: =IF('Full menu'!AZ13="MDC","MDC",IF(OR('Full menu'!AZ13="PERF",'Full menu'!AZ13="AERF",'Full menu'!AZ13="PCB"),"ERfix",IF(OR('Full menu'!AZ13="ACB", 'Full menu'!AZ13="LCERT", 'Full menu'!AZ13="LERT",'Full menu'!AZ13="FCERT",'Full menu'!AZ13="FERT"),"ERT",IF(OR('Full menu'!AZ13="FCMT",'Full menu'!AZ13="FMT",'Full menu'!AZ13="LMT",'Full menu'!AZ13="LCMT"),"MT",IF(OR('Full menu'!AZ13="LCIT",'Full menu'!AZ13="FCIT",'Full menu'!AZ13="LMT",'Full menu'!AZ13="FMT"),"IT",IF(OR('Full menu'!AZ13="MwERT", 'Full menu'!AZ13="ERwMT", 'Full menu'!AZ13="M&ERT", 'Full menu'!AZ13="MwIT", 'Full menu'!AZ13="IwMT", 'Full menu'!AZ13="M&IT", 'Full menu'!AZ13="IwERT", 'Full menu'!AZ13="ERwIT", 'Full menu'!AZ13="I&ERT", 'Full menu'!AZ13="ER&M&IT"),"MixedT",IF('Full menu'!AZ13="UD","UD",IF('Full menu'!AZ13="LSD","LSD",IF('Full menu'!AZ13="WSD","WSD",""))))))))) | BA13: =IF('Full menu'!BA13="MDC","MDC",IF(OR('Full menu'!BA13="PERF",'Full menu'!BA13="AERF",'Full menu'!BA13="PCB"),"ERfix",IF(OR('Full menu'!BA13="ACB", 'Full menu'!BA13="LCERT", 'Full menu'!BA13="LERT",'Full menu'!BA13="FCERT",'Full menu'!BA13="FERT"),"ERT",IF(OR('Full menu'!BA13="FCMT",'Full menu'!BA13="FMT",'Full menu'!BA13="LMT",'Full menu'!BA13="LCMT"),"MT",IF(OR('Full menu'!BA13="LCIT",'Full menu'!BA13="FCIT",'Full menu'!BA13="LMT",'Full menu'!BA13="FMT"),"IT",IF(OR('Full menu'!BA13="MwERT", 'Full menu'!BA13="ERwMT", 'Full menu'!BA13="M&ERT", 'Full menu'!BA13="MwIT", 'Full menu'!BA13="IwMT", 'Full menu'!BA13="M&IT", 'Full menu'!BA13="IwERT", 'Full menu'!BA13="ERwIT", 'Full menu'!BA13="I&ERT", 'Full menu'!BA13="ER&M&IT"),"MixedT",IF('Full menu'!BA13="UD","UD",IF('Full menu'!BA13="LSD","LSD",IF('Full menu'!BA13="WSD","WSD",""))))))))) | BB13: =IF('Full menu'!BB13="MDC","MDC",IF(OR('Full menu'!BB13="PERF",'Full menu'!BB13="AERF",'Full menu'!BB13="PCB"),"ERfix",IF(OR('Full menu'!BB13="ACB", 'Full menu'!BB13="LCERT", 'Full menu'!BB13="LERT",'Full menu'!BB13="FCERT",'Full menu'!BB13="FERT"),"ERT",IF(OR('Full menu'!BB13="FCMT",'Full menu'!BB13="FMT",'Full menu'!BB13="LMT",'Full menu'!BB13="LCMT"),"MT",IF(OR('Full menu'!BB13="LCIT",'Full menu'!BB13="FCIT",'Full menu'!BB13="LMT",'Full menu'!BB13="FMT"),"IT",IF(OR('Full menu'!BB13="MwERT", 'Full menu'!BB13="ERwMT", 'Full menu'!BB13="M&ERT", 'Full menu'!BB13="MwIT", 'Full menu'!BB13="IwMT", 'Full menu'!BB13="M&IT", 'Full menu'!BB13="IwERT", 'Full menu'!BB13="ERwIT", 'Full menu'!BB13="I&ERT", 'Full menu'!BB13="ER&M&IT"),"MixedT",IF('Full menu'!BB13="UD","UD",IF('Full menu'!BB13="LSD","LSD",IF('Full menu'!BB13="WSD","WSD",""))))))))) | BC13: =IF('Full menu'!BC13="MDC","MDC",IF(OR('Full menu'!BC13="PERF",'Full menu'!BC13="AERF",'Full menu'!BC13="PCB"),"ERfix",IF(OR('Full menu'!BC13="ACB", 'Full menu'!BC13="LCERT", 'Full menu'!BC13="LERT",'Full menu'!BC13="FCERT",'Full menu'!BC13="FERT"),"ERT",IF(OR('Full menu'!BC13="FCMT",'Full menu'!BC13="FMT",'Full menu'!BC13="LMT",'Full menu'!BC13="LCMT"),"MT",IF(OR('Full menu'!BC13="LCIT",'Full menu'!BC13="FCIT",'Full menu'!BC13="LMT",'Full menu'!BC13="FMT"),"IT",IF(OR('Full menu'!BC13="MwERT", 'Full menu'!BC13="ERwMT", 'Full menu'!BC13="M&ERT", 'Full menu'!BC13="MwIT", 'Full menu'!BC13="IwMT", 'Full menu'!BC13="M&IT", 'Full menu'!BC13="IwERT", 'Full menu'!BC13="ERwIT", 'Full menu'!BC13="I&ERT", 'Full menu'!BC13="ER&M&IT"),"MixedT",IF('Full menu'!BC13="UD","UD",IF('Full menu'!BC13="LSD","LSD",IF('Full menu'!BC13="WSD","WSD","")))))))))
... A26: Switzerland | B26: =IF('Full menu'!B26="MDC","MDC",IF(OR('Full menu'!B26="PERF",'Full menu'!B26="AERF",'Full menu'!B26="PCB"),"ERfix",IF(OR('Full menu'!B26="ACB", 'Full menu'!B26="LCERT", 'Full menu'!B26="LERT",'Full menu'!B26="FCERT",'Full menu'!B26="FERT"),"ERTs",IF(OR('Full menu'!B26="FCMT",'Full menu'!B26="FMT",'Full menu'!B26="LMT",'Full menu'!B26="LCMT"),"MTs",IF(OR('Full menu'!B26="LCIT",'Full menu'!B26="FCIT",'Full menu'!B26="LIT",'Full menu'!B26="FIT"),"ITs",IF(OR('Full menu'!B26="MwERT", 'Full menu'!B26="ERwMT", 'Full menu'!B26="M&ERT", 'Full menu'!B26="MwIT", 'Full menu'!B26="IwMT", 'Full menu'!B26="M&IT", 'Full menu'!B26="IwERT", 'Full menu'!B26="ERwIT", 'Full menu'!B26="I&ERT", 'Full menu'!B26="ER&M&IT"),"MixedTs",IF('Full menu'!B26="UD","UD",IF('Full menu'!B26="LSD","LSD",IF('Full menu'!B26="WSD","WSD",""))))))))) -> LSD | C26: =IF('Full menu'!C26="MDC","MDC",IF(OR('Full menu'!C26="PERF",'Full menu'!C26="AERF",'Full menu'!C26="PCB"),"ERfix",IF(OR('Full menu'!C26="ACB", 'Full menu'!C26="LCERT", 'Full menu'!C26="LERT",'Full menu'!C26="FCERT",'Full menu'!C26="FERT"),"ERTs",IF(OR('Full menu'!C26="FCMT",'Full menu'!C26="FMT",'Full menu'!C26="LMT",'Full menu'!C26="LCMT"),"MTs",IF(OR('Full menu'!C26="LCIT",'Full menu'!C26="FCIT",'Full menu'!C26="LIT",'Full menu'!C26="FIT"),"ITs",IF(OR('Full menu'!C26="MwERT", 'Full menu'!C26="ERwMT", 'Full menu'!C26="M&ERT", 'Full menu'!C26="MwIT", 'Full menu'!C26="IwMT", 'Full menu'!C26="M&IT", 'Full menu'!C26="IwERT", 'Full menu'!C26="ERwIT", 'Full menu'!C26="I&ERT", 'Full menu'!C26="ER&M&IT"),"MixedTs",IF('Full menu'!C26="UD","UD",IF('Full menu'!C26="LSD","LSD",IF('Full menu'!C26="WSD","WSD",""))))))))) -> MTs | D26: =IF('Full menu'!D26="MDC","MDC",IF(OR('Full menu'!D26="PERF",'Full menu'!D26="AERF",'Full menu'!D26="PCB"),"ERfix",IF(OR('Full menu'!D26="ACB", 'Full menu'!D26="LCERT", 'Full menu'!D26="LERT",'Full menu'!D26="FCERT",'Full menu'!D26="FERT"),"ERTs",IF(OR('Full menu'!D26="FCMT",'Full menu'!D26="FMT",'Full menu'!D26="LMT",'Full menu'!D26="LCMT"),"MTs",IF(OR('Full menu'!D26="LCIT",'Full menu'!D26="FCIT",'Full menu'!D26="LIT",'Full menu'!D26="FIT"),"ITs",IF(OR('Full menu'!D26="MwERT", 'Full menu'!D26="ERwMT", 'Full menu'!D26="M&ERT", 'Full menu'!D26="MwIT", 'Full menu'!D26="IwMT", 'Full menu'!D26="M&IT", 'Full menu'!D26="IwERT", 'Full menu'!D26="ERwIT", 'Full menu'!D26="I&ERT", 'Full menu'!D26="ER&M&IT"),"MixedTs",IF('Full menu'!D26="UD","UD",IF('Full menu'!D26="LSD","LSD",IF('Full menu'!D26="WSD","WSD",""))))))))) -> MTs | E26: =IF('Full menu'!E26="MDC","MDC",IF(OR('Full menu'!E26="PERF",'Full menu'!E26="AERF",'Full menu'!E26="PCB"),"ERfix",IF(OR('Full menu'!E26="ACB", 'Full menu'!E26="LCERT", 'Full menu'!E26="LERT",'Full menu'!E26="FCERT",'Full menu'!E26="FERT"),"ERTs",IF(OR('Full menu'!E26="FCMT",'Full menu'!E26="FMT",'Full menu'!E26="LMT",'Full menu'!E26="LCMT"),"MTs",IF(OR('Full menu'!E26="LCIT",'Full menu'!E26="FCIT",'Full menu'!E26="LIT",'Full menu'!E26="FIT"),"ITs",IF(OR('Full menu'!E26="MwERT", 'Full menu'!E26="ERwMT", 'Full menu'!E26="M&ERT", 'Full menu'!E26="MwIT", 'Full menu'!E26="IwMT", 'Full menu'!E26="M&IT", 'Full menu'!E26="IwERT", 'Full menu'!E26="ERwIT", 'Full menu'!E26="I&ERT", 'Full menu'!E26="ER&M&IT"),"MixedTs",IF('Full menu'!E26="UD","UD",IF('Full menu'!E26="LSD","LSD",IF('Full menu'!E26="WSD","WSD",""))))))))) -> MTs | F26: =IF('Full menu'!F26="MDC","MDC",IF(OR('Full menu'!F26="PERF",'Full menu'!F26="AERF",'Full menu'!F26="PCB"),"ERfix",IF(OR('Full menu'!F26="ACB", 'Full menu'!F26="LCERT", 'Full menu'!F26="LERT",'Full menu'!F26="FCERT",'Full menu'!F26="FERT"),"ERTs",IF(OR('Full menu'!F26="FCMT",'Full menu'!F26="FMT",'Full menu'!F26="LMT",'Full menu'!F26="LCMT"),"MTs",IF(OR('Full menu'!F26="LCIT",'Full menu'!F26="FCIT",'Full menu'!F26="LIT",'Full menu'!F26="FIT"),"ITs",IF(OR('Full menu'!F26="MwERT", 'Full menu'!F26="ERwMT", 'Full menu'!F26="M&ERT", 'Full menu'!F26="MwIT", 'Full menu'!F26="IwMT", 'Full menu'!F26="M&IT", 'Full menu'!F26="IwERT", 'Full menu'!F26="ERwIT", 'Full menu'!F26="I&ERT", 'Full menu'!F26="ER&M&IT"),"MixedTs",IF('Full menu'!F26="UD","UD",IF('Full menu'!F26="LSD","LSD",IF('Full menu'!F26="WSD","WSD",""))))))))) -> LSD | G26: =IF('Full menu'!G26="MDC","MDC",IF(OR('Full menu'!G26="PERF",'Full menu'!G26="AERF",'Full menu'!G26="PCB"),"ERfix",IF(OR('Full menu'!G26="ACB", 'Full menu'!G26="LCERT", 'Full menu'!G26="LERT",'Full menu'!G26="FCERT",'Full menu'!G26="FERT"),"ERTs",IF(OR('Full menu'!G26="FCMT",'Full menu'!G26="FMT",'Full menu'!G26="LMT",'Full menu'!G26="LCMT"),"MTs",IF(OR('Full menu'!G26="LCIT",'Full menu'!G26="FCIT",'Full menu'!G26="LIT",'Full menu'!G26="FIT"),"ITs",IF(OR('Full menu'!G26="MwERT", 'Full menu'!G26="ERwMT", 'Full menu'!G26="M&ERT", 'Full menu'!G26="MwIT", 'Full menu'!G26="IwMT", 'Full menu'!G26="M&IT", 'Full menu'!G26="IwERT", 'Full menu'!G26="ERwIT", 'Full menu'!G26="I&ERT", 'Full menu'!G26="ER&M&IT"),"MixedTs",IF('Full menu'!G26="UD","UD",IF('Full menu'!G26="LSD","LSD",IF('Full menu'!G26="WSD","WSD",""))))))))) -> LSD | H26: =IF('Full menu'!H26="MDC","MDC",IF(OR('Full menu'!H26="PERF",'Full menu'!H26="AERF",'Full menu'!H26="PCB"),"ERfix",IF(OR('Full menu'!H26="ACB", 'Full menu'!H26="LCERT", 'Full menu'!H26="LERT",'Full menu'!H26="FCERT",'Full menu'!H26="FERT"),"ERTs",IF(OR('Full menu'!H26="FCMT",'Full menu'!H26="FMT",'Full menu'!H26="LMT",'Full menu'!H26="LCMT"),"MTs",IF(OR('Full menu'!H26="LCIT",'Full menu'!H26="FCIT",'Full menu'!H26="LIT",'Full menu'!H26="FIT"),"ITs",IF(OR('Full menu'!H26="MwERT", 'Full menu'!H26="ERwMT", 'Full menu'!H26="M&ERT", 'Full menu'!H26="MwIT", 'Full menu'!H26="IwMT", 'Full menu'!H26="M&IT", 'Full menu'!H26="IwERT", 'Full menu'!H26="ERwIT", 'Full menu'!H26="I&ERT", 'Full menu'!H26="ER&M&IT"),"MixedTs",IF('Full menu'!H26="UD","UD",IF('Full menu'!H26="LSD","LSD",IF('Full menu'!H26="WSD","WSD",""))))))))) -> LSD | I26: =IF('Full menu'!I26="MDC","MDC",IF(OR('Full menu'!I26="PERF",'Full menu'!I26="AERF",'Full menu'!I26="PCB"),"ERfix",IF(OR('Full menu'!I26="ACB", 'Full menu'!I26="LCERT", 'Full menu'!I26="LERT",'Full menu'!I26="FCERT",'Full menu'!I26="FERT"),"ERTs",IF(OR('Full menu'!I26="FCMT",'Full menu'!I26="FMT",'Full menu'!I26="LMT",'Full menu'!I26="LCMT"),"MTs",IF(OR('Full menu'!I26="LCIT",'Full menu'!I26="FCIT",'Full menu'!I26="LIT",'Full menu'!I26="FIT"),"ITs",IF(OR('Full menu'!I26="MwERT", 'Full menu'!I26="ERwMT", 'Full menu'!I26="M&ERT", 'Full menu'!I26="MwIT", 'Full menu'!I26="IwMT", 'Full menu'!I26="M&IT", 'Full menu'!I26="IwERT", 'Full menu'!I26="ERwIT", 'Full menu'!I26="I&ERT", 'Full menu'!I26="ER&M&IT"),"MixedTs",IF('Full menu'!I26="UD","UD",IF('Full menu'!I26="LSD","LSD",IF('Full menu'!I26="WSD","WSD",""))))))))) -> LSD | ... AY26: =IF('Full menu'!AY26="MDC","MDC",IF(OR('Full menu'!AY26="PERF",'Full menu'!AY26="AERF",'Full menu'!AY26="PCB"),"ERfix",IF(OR('Full menu'!AY26="ACB", 'Full menu'!AY26="LCERT", 'Full menu'!AY26="LERT",'Full menu'!AY26="FCERT",'Full menu'!AY26="FERT"),"ERTs",IF(OR('Full menu'!AY26="FCMT",'Full menu'!AY26="FMT",'Full menu'!AY26="LMT",'Full menu'!AY26="LCMT"),"MTs",IF(OR('Full menu'!AY26="LCIT",'Full menu'!AY26="FCIT",'Full menu'!AY26="LIT",'Full menu'!AY26="FIT"),"ITs",IF(OR('Full menu'!AY26="MwERT", 'Full menu'!AY26="ERwMT", 'Full menu'!AY26="M&ERT", 'Full menu'!AY26="MwIT", 'Full menu'!AY26="IwMT", 'Full menu'!AY26="M&IT", 'Full menu'!AY26="IwERT", 'Full menu'!AY26="ERwIT", 'Full menu'!AY26="I&ERT", 'Full menu'!AY26="ER&M&IT"),"MixedTs",IF('Full menu'!AY26="UD","UD",IF('Full menu'!AY26="LSD","LSD",IF('Full menu'!AY26="WSD","WSD",""))))))))) -> ITs | AZ26: =IF('Full menu'!AZ26="MDC","MDC",IF(OR('Full menu'!AZ26="PERF",'Full menu'!AZ26="AERF",'Full menu'!AZ26="PCB"),"ERfix",IF(OR('Full menu'!AZ26="ACB", 'Full menu'!AZ26="LCERT", 'Full menu'!AZ26="LERT",'Full menu'!AZ26="FCERT",'Full menu'!AZ26="FERT"),"ERT",IF(OR('Full menu'!AZ26="FCMT",'Full menu'!AZ26="FMT",'Full menu'!AZ26="LMT",'Full menu'!AZ26="LCMT"),"MT",IF(OR('Full menu'!AZ26="LCIT",'Full menu'!AZ26="FCIT",'Full menu'!AZ26="LMT",'Full menu'!AZ26="FMT"),"IT",IF(OR('Full menu'!AZ26="MwERT", 'Full menu'!AZ26="ERwMT", 'Full menu'!AZ26="M&ERT", 'Full menu'!AZ26="MwIT", 'Full menu'!AZ26="IwMT", 'Full menu'!AZ26="M&IT", 'Full menu'!AZ26="IwERT", 'Full menu'!AZ26="ERwIT", 'Full menu'!AZ26="I&ERT", 'Full menu'!AZ26="ER&M&IT"),"MixedT",IF('Full menu'!AZ26="UD","UD",IF('Full menu'!AZ26="LSD","LSD",IF('Full menu'!AZ26="WSD","WSD",""))))))))) | BA26: =IF('Full menu'!BA26="MDC","MDC",IF(OR('Full menu'!BA26="PERF",'Full menu'!BA26="AERF",'Full menu'!BA26="PCB"),"ERfix",IF(OR('Full menu'!BA26="ACB", 'Full menu'!BA26="LCERT", 'Full menu'!BA26="LERT",'Full menu'!BA26="FCERT",'Full menu'!BA26="FERT"),"ERT",IF(OR('Full menu'!BA26="FCMT",'Full menu'!BA26="FMT",'Full menu'!BA26="LMT",'Full menu'!BA26="LCMT"),"MT",IF(OR('Full menu'!BA26="LCIT",'Full menu'!BA26="FCIT",'Full menu'!BA26="LMT",'Full menu'!BA26="FMT"),"IT",IF(OR('Full menu'!BA26="MwERT", 'Full menu'!BA26="ERwMT", 'Full menu'!BA26="M&ERT", 'Full menu'!BA26="MwIT", 'Full menu'!BA26="IwMT", 'Full menu'!BA26="M&IT", 'Full menu'!BA26="IwERT", 'Full menu'!BA26="ERwIT", 'Full menu'!BA26="I&ERT", 'Full menu'!BA26="ER&M&IT"),"MixedT",IF('Full menu'!BA26="UD","UD",IF('Full menu'!BA26="LSD","LSD",IF('Full menu'!BA26="WSD","WSD",""))))))))) | BB26: =IF('Full menu'!BB26="MDC","MDC",IF(OR('Full menu'!BB26="PERF",'Full menu'!BB26="AERF",'Full menu'!BB26="PCB"),"ERfix",IF(OR('Full menu'!BB26="ACB", 'Full menu'!BB26="LCERT", 'Full menu'!BB26="LERT",'Full menu'!BB26="FCERT",'Full menu'!BB26="FERT"),"ERT",IF(OR('Full menu'!BB26="FCMT",'Full menu'!BB26="FMT",'Full menu'!BB26="LMT",'Full menu'!BB26="LCMT"),"MT",IF(OR('Full menu'!BB26="LCIT",'Full menu'!BB26="FCIT",'Full menu'!BB26="LMT",'Full menu'!BB26="FMT"),"IT",IF(OR('Full menu'!BB26="MwERT", 'Full menu'!BB26="ERwMT", 'Full menu'!BB26="M&ERT", 'Full menu'!BB26="MwIT", 'Full menu'!BB26="IwMT", 'Full menu'!BB26="M&IT", 'Full menu'!BB26="IwERT", 'Full menu'!BB26="ERwIT", 'Full menu'!BB26="I&ERT", 'Full menu'!BB26="ER&M&IT"),"MixedT",IF('Full menu'!BB26="UD","UD",IF('Full menu'!BB26="LSD","LSD",IF('Full menu'!BB26="WSD","WSD",""))))))))) | BC26: =IF('Full menu'!BC26="MDC","MDC",IF(OR('Full menu'!BC26="PERF",'Full menu'!BC26="AERF",'Full menu'!BC26="PCB"),"ERfix",IF(OR('Full menu'!BC26="ACB", 'Full menu'!BC26="LCERT", 'Full menu'!BC26="LERT",'Full menu'!BC26="FCERT",'Full menu'!BC26="FERT"),"ERT",IF(OR('Full menu'!BC26="FCMT",'Full menu'!BC26="FMT",'Full menu'!BC26="LMT",'Full menu'!BC26="LCMT"),"MT",IF(OR('Full menu'!BC26="LCIT",'Full menu'!BC26="FCIT",'Full menu'!BC26="LMT",'Full menu'!BC26="FMT"),"IT",IF(OR('Full menu'!BC26="MwERT", 'Full menu'!BC26="ERwMT", 'Full menu'!BC26="M&ERT", 'Full menu'!BC26="MwIT", 'Full menu'!BC26="IwMT", 'Full menu'!BC26="M&IT", 'Full menu'!BC26="IwERT", 'Full menu'!BC26="ERwIT", 'Full menu'!BC26="I&ERT", 'Full menu'!BC26="ER&M&IT"),"MixedT",IF('Full menu'!BC26="UD","UD",IF('Full menu'!BC26="LSD","LSD",IF('Full menu'!BC26="WSD","WSD","")))))))))
A27: UK | B27: =IF('Full menu'!B27="MDC","MDC",IF(OR('Full menu'!B27="PERF",'Full menu'!B27="AERF",'Full menu'!B27="PCB"),"ERfix",IF(OR('Full menu'!B27="ACB", 'Full menu'!B27="LCERT", 'Full menu'!B27="LERT",'Full menu'!B27="FCERT",'Full menu'!B27="FERT"),"ERTs",IF(OR('Full menu'!B27="FCMT",'Full menu'!B27="FMT",'Full menu'!B27="LMT",'Full menu'!B27="LCMT"),"MTs",IF(OR('Full menu'!B27="LCIT",'Full menu'!B27="FCIT",'Full menu'!B27="LIT",'Full menu'!B27="FIT"),"ITs",IF(OR('Full menu'!B27="MwERT", 'Full menu'!B27="ERwMT", 'Full menu'!B27="M&ERT", 'Full menu'!B27="MwIT", 'Full menu'!B27="IwMT", 'Full menu'!B27="M&IT", 'Full menu'!B27="IwERT", 'Full menu'!B27="ERwIT", 'Full menu'!B27="I&ERT", 'Full menu'!B27="ER&M&IT"),"MixedTs",IF('Full menu'!B27="UD","UD",IF('Full menu'!B27="LSD","LSD",IF('Full menu'!B27="WSD","WSD",""))))))))) -> LSD | C27: =IF('Full menu'!C27="MDC","MDC",IF(OR('Full menu'!C27="PERF",'Full menu'!C27="AERF",'Full menu'!C27="PCB"),"ERfix",IF(OR('Full menu'!C27="ACB", 'Full menu'!C27="LCERT", 'Full menu'!C27="LERT",'Full menu'!C27="FCERT",'Full menu'!C27="FERT"),"ERTs",IF(OR('Full menu'!C27="FCMT",'Full menu'!C27="FMT",'Full menu'!C27="LMT",'Full menu'!C27="LCMT"),"MTs",IF(OR('Full menu'!C27="LCIT",'Full menu'!C27="FCIT",'Full menu'!C27="LIT",'Full menu'!C27="FIT"),"ITs",IF(OR('Full menu'!C27="MwERT", 'Full menu'!C27="ERwMT", 'Full menu'!C27="M&ERT", 'Full menu'!C27="MwIT", 'Full menu'!C27="IwMT", 'Full menu'!C27="M&IT", 'Full menu'!C27="IwERT", 'Full menu'!C27="ERwIT", 'Full menu'!C27="I&ERT", 'Full menu'!C27="ER&M&IT"),"MixedTs",IF('Full menu'!C27="UD","UD",IF('Full menu'!C27="LSD","LSD",IF('Full menu'!C27="WSD","WSD",""))))))))) -> LSD | D27: =IF('Full menu'!D27="MDC","MDC",IF(OR('Full menu'!D27="PERF",'Full menu'!D27="AERF",'Full menu'!D27="PCB"),"ERfix",IF(OR('Full menu'!D27="ACB", 'Full menu'!D27="LCERT", 'Full menu'!D27="LERT",'Full menu'!D27="FCERT",'Full menu'!D27="FERT"),"ERTs",IF(OR('Full menu'!D27="FCMT",'Full menu'!D27="FMT",'Full menu'!D27="LMT",'Full menu'!D27="LCMT"),"MTs",IF(OR('Full menu'!D27="LCIT",'Full menu'!D27="FCIT",'Full menu'!D27="LIT",'Full menu'!D27="FIT"),"ITs",IF(OR('Full menu'!D27="MwERT", 'Full menu'!D27="ERwMT", 'Full menu'!D27="M&ERT", 'Full menu'!D27="MwIT", 'Full menu'!D27="IwMT", 'Full menu'!D27="M&IT", 'Full menu'!D27="IwERT", 'Full menu'!D27="ERwIT", 'Full menu'!D27="I&ERT", 'Full menu'!D27="ER&M&IT"),"MixedTs",IF('Full menu'!D27="UD","UD",IF('Full menu'!D27="LSD","LSD",IF('Full menu'!D27="WSD","WSD",""))))))))) -> LSD | E27: =IF('Full menu'!E27="MDC","MDC",IF(OR('Full menu'!E27="PERF",'Full menu'!E27="AERF",'Full menu'!E27="PCB"),"ERfix",IF(OR('Full menu'!E27="ACB", 'Full menu'!E27="LCERT", 'Full menu'!E27="LERT",'Full menu'!E27="FCERT",'Full menu'!E27="FERT"),"ERTs",IF(OR('Full menu'!E27="FCMT",'Full menu'!E27="FMT",'Full menu'!E27="LMT",'Full menu'!E27="LCMT"),"MTs",IF(OR('Full menu'!E27="LCIT",'Full menu'!E27="FCIT",'Full menu'!E27="LIT",'Full menu'!E27="FIT"),"ITs",IF(OR('Full menu'!E27="MwERT", 'Full menu'!E27="ERwMT", 'Full menu'!E27="M&ERT", 'Full menu'!E27="MwIT", 'Full menu'!E27="IwMT", 'Full menu'!E27="M&IT", 'Full menu'!E27="IwERT", 'Full menu'!E27="ERwIT", 'Full menu'!E27="I&ERT", 'Full menu'!E27="ER&M&IT"),"MixedTs",IF('Full menu'!E27="UD","UD",IF('Full menu'!E27="LSD","LSD",IF('Full menu'!E27="WSD","WSD",""))))))))) -> LSD | F27: =IF('Full menu'!F27="MDC","MDC",IF(OR('Full menu'!F27="PERF",'Full menu'!F27="AERF",'Full menu'!F27="PCB"),"ERfix",IF(OR('Full menu'!F27="ACB", 'Full menu'!F27="LCERT", 'Full menu'!F27="LERT",'Full menu'!F27="FCERT",'Full menu'!F27="FERT"),"ERTs",IF(OR('Full menu'!F27="FCMT",'Full menu'!F27="FMT",'Full menu'!F27="LMT",'Full menu'!F27="LCMT"),"MTs",IF(OR('Full menu'!F27="LCIT",'Full menu'!F27="FCIT",'Full menu'!F27="LIT",'Full menu'!F27="FIT"),"ITs",IF(OR('Full menu'!F27="MwERT", 'Full menu'!F27="ERwMT", 'Full menu'!F27="M&ERT", 'Full menu'!F27="MwIT", 'Full menu'!F27="IwMT", 'Full menu'!F27="M&IT", 'Full menu'!F27="IwERT", 'Full menu'!F27="ERwIT", 'Full menu'!F27="I&ERT", 'Full menu'!F27="ER&M&IT"),"MixedTs",IF('Full menu'!F27="UD","UD",IF('Full menu'!F27="LSD","LSD",IF('Full menu'!F27="WSD","WSD",""))))))))) -> LSD | G27: =IF('Full menu'!G27="MDC","MDC",IF(OR('Full menu'!G27="PERF",'Full menu'!G27="AERF",'Full menu'!G27="PCB"),"ERfix",IF(OR('Full menu'!G27="ACB", 'Full menu'!G27="LCERT", 'Full menu'!G27="LERT",'Full menu'!G27="FCERT",'Full menu'!G27="FERT"),"ERTs",IF(OR('Full menu'!G27="FCMT",'Full menu'!G27="FMT",'Full menu'!G27="LMT",'Full menu'!G27="LCMT"),"MTs",IF(OR('Full menu'!G27="LCIT",'Full menu'!G27="FCIT",'Full menu'!G27="LIT",'Full menu'!G27="FIT"),"ITs",IF(OR('Full menu'!G27="MwERT", 'Full menu'!G27="ERwMT", 'Full menu'!G27="M&ERT", 'Full menu'!G27="MwIT", 'Full menu'!G27="IwMT", 'Full menu'!G27="M&IT", 'Full menu'!G27="IwERT", 'Full menu'!G27="ERwIT", 'Full menu'!G27="I&ERT", 'Full menu'!G27="ER&M&IT"),"MixedTs",IF('Full menu'!G27="UD","UD",IF('Full menu'!G27="LSD","LSD",IF('Full menu'!G27="WSD","WSD",""))))))))) -> LSD | H27: =IF('Full menu'!H27="MDC","MDC",IF(OR('Full menu'!H27="PERF",'Full menu'!H27="AERF",'Full menu'!H27="PCB"),"ERfix",IF(OR('Full menu'!H27="ACB", 'Full menu'!H27="LCERT", 'Full menu'!H27="LERT",'Full menu'!H27="FCERT",'Full menu'!H27="FERT"),"ERTs",IF(OR('Full menu'!H27="FCMT",'Full menu'!H27="FMT",'Full menu'!H27="LMT",'Full menu'!H27="LCMT"),"MTs",IF(OR('Full menu'!H27="LCIT",'Full menu'!H27="FCIT",'Full menu'!H27="LIT",'Full menu'!H27="FIT"),"ITs",IF(OR('Full menu'!H27="MwERT", 'Full menu'!H27="ERwMT", 'Full menu'!H27="M&ERT", 'Full menu'!H27="MwIT", 'Full menu'!H27="IwMT", 'Full menu'!H27="M&IT", 'Full menu'!H27="IwERT", 'Full menu'!H27="ERwIT", 'Full menu'!H27="I&ERT", 'Full menu'!H27="ER&M&IT"),"MixedTs",IF('Full menu'!H27="UD","UD",IF('Full menu'!H27="LSD","LSD",IF('Full menu'!H27="WSD","WSD",""))))))))) -> LSD | I27: =IF('Full menu'!I27="MDC","MDC",IF(OR('Full menu'!I27="PERF",'Full menu'!I27="AERF",'Full menu'!I27="PCB"),"ERfix",IF(OR('Full menu'!I27="ACB", 'Full menu'!I27="LCERT", 'Full menu'!I27="LERT",'Full menu'!I27="FCERT",'Full menu'!I27="FERT"),"ERTs",IF(OR('Full menu'!I27="FCMT",'Full menu'!I27="FMT",'Full menu'!I27="LMT",'Full menu'!I27="LCMT"),"MTs",IF(OR('Full menu'!I27="LCIT",'Full menu'!I27="FCIT",'Full menu'!I27="LIT",'Full menu'!I27="FIT"),"ITs",IF(OR('Full menu'!I27="MwERT", 'Full menu'!I27="ERwMT", 'Full menu'!I27="M&ERT", 'Full menu'!I27="MwIT", 'Full menu'!I27="IwMT", 'Full menu'!I27="M&IT", 'Full menu'!I27="IwERT", 'Full menu'!I27="ERwIT", 'Full menu'!I27="I&ERT", 'Full menu'!I27="ER&M&IT"),"MixedTs",IF('Full menu'!I27="UD","UD",IF('Full menu'!I27="LSD","LSD",IF('Full menu'!I27="WSD","WSD",""))))))))) -> LSD | ... AY27: =IF('Full menu'!AY27="MDC","MDC",IF(OR('Full menu'!AY27="PERF",'Full menu'!AY27="AERF",'Full menu'!AY27="PCB"),"ERfix",IF(OR('Full menu'!AY27="ACB", 'Full menu'!AY27="LCERT", 'Full menu'!AY27="LERT",'Full menu'!AY27="FCERT",'Full menu'!AY27="FERT"),"ERTs",IF(OR('Full menu'!AY27="FCMT",'Full menu'!AY27="FMT",'Full menu'!AY27="LMT",'Full menu'!AY27="LCMT"),"MTs",IF(OR('Full menu'!AY27="LCIT",'Full menu'!AY27="FCIT",'Full menu'!AY27="LIT",'Full menu'!AY27="FIT"),"ITs",IF(OR('Full menu'!AY27="MwERT", 'Full menu'!AY27="ERwMT", 'Full menu'!AY27="M&ERT", 'Full menu'!AY27="MwIT", 'Full menu'!AY27="IwMT", 'Full menu'!AY27="M&IT", 'Full menu'!AY27="IwERT", 'Full menu'!AY27="ERwIT", 'Full menu'!AY27="I&ERT", 'Full menu'!AY27="ER&M&IT"),"MixedTs",IF('Full menu'!AY27="UD","UD",IF('Full menu'!AY27="LSD","LSD",IF('Full menu'!AY27="WSD","WSD",""))))))))) -> ITs | AZ27: =IF('Full menu'!AT27="MDC","MDC",IF(OR('Full menu'!AT27="PERF",'Full menu'!AT27="AERF",'Full menu'!AT27="PCB"),"ERfix",IF(OR('Full menu'!AT27="ACB", 'Full menu'!AT27="LCERT", 'Full menu'!AT27="LERT",'Full menu'!AT27="FCERT",'Full menu'!AT27="FERT"),"ERT",IF(OR('Full menu'!AT27="FCMT",'Full menu'!AT27="FMT",'Full menu'!AT27="LMT",'Full menu'!AT27="LCMT"),"MT",IF(OR('Full menu'!AT27="LCIT",'Full menu'!AT27="FCIT",'Full menu'!AT27="LMT",'Full menu'!AT27="FMT"),"IT",IF(OR('Full menu'!AT27="MwERT", 'Full menu'!AT27="ERwMT", 'Full menu'!AT27="M&ERT", 'Full menu'!AT27="MwIT", 'Full menu'!AT27="IwMT", 'Full menu'!AT27="M&IT", 'Full menu'!AT27="IwERT", 'Full menu'!AT27="ERwIT", 'Full menu'!AT27="I&ERT", 'Full menu'!AT27="ER&M&IT"),"MixedT",IF('Full menu'!AT27="UD","UD",IF('Full menu'!AT27="LSD","LSD",IF('Full menu'!AT27="WSD","WSD",""))))))))) | BA27: =IF('Full menu'!BA27="MDC","MDC",IF(OR('Full menu'!BA27="PERF",'Full menu'!BA27="AERF",'Full menu'!BA27="PCB"),"ERfix",IF(OR('Full menu'!BA27="ACB", 'Full menu'!BA27="LCERT", 'Full menu'!BA27="LERT",'Full menu'!BA27="FCERT",'Full menu'!BA27="FERT"),"ERT",IF(OR('Full menu'!BA27="FCMT",'Full menu'!BA27="FMT",'Full menu'!BA27="LMT",'Full menu'!BA27="LCMT"),"MT",IF(OR('Full menu'!BA27="LCIT",'Full menu'!BA27="FCIT",'Full menu'!BA27="LMT",'Full menu'!BA27="FMT"),"IT",IF(OR('Full menu'!BA27="MwERT", 'Full menu'!BA27="ERwMT", 'Full menu'!BA27="M&ERT", 'Full menu'!BA27="MwIT", 'Full menu'!BA27="IwMT", 'Full menu'!BA27="M&IT", 'Full menu'!BA27="IwERT", 'Full menu'!BA27="ERwIT", 'Full menu'!BA27="I&ERT", 'Full menu'!BA27="ER&M&IT"),"MixedT",IF('Full menu'!BA27="UD","UD",IF('Full menu'!BA27="LSD","LSD",IF('Full menu'!BA27="WSD","WSD",""))))))))) | BB27: =IF('Full menu'!BB27="MDC","MDC",IF(OR('Full menu'!BB27="PERF",'Full menu'!BB27="AERF",'Full menu'!BB27="PCB"),"ERfix",IF(OR('Full menu'!BB27="ACB", 'Full menu'!BB27="LCERT", 'Full menu'!BB27="LERT",'Full menu'!BB27="FCERT",'Full menu'!BB27="FERT"),"ERT",IF(OR('Full menu'!BB27="FCMT",'Full menu'!BB27="FMT",'Full menu'!BB27="LMT",'Full menu'!BB27="LCMT"),"MT",IF(OR('Full menu'!BB27="LCIT",'Full menu'!BB27="FCIT",'Full menu'!BB27="LMT",'Full menu'!BB27="FMT"),"IT",IF(OR('Full menu'!BB27="MwERT", 'Full menu'!BB27="ERwMT", 'Full menu'!BB27="M&ERT", 'Full menu'!BB27="MwIT", 'Full menu'!BB27="IwMT", 'Full menu'!BB27="M&IT", 'Full menu'!BB27="IwERT", 'Full menu'!BB27="ERwIT", 'Full menu'!BB27="I&ERT", 'Full menu'!BB27="ER&M&IT"),"MixedT",IF('Full menu'!BB27="UD","UD",IF('Full menu'!BB27="LSD","LSD",IF('Full menu'!BB27="WSD","WSD",""))))))))) | BC27: =IF('Full menu'!BC27="MDC","MDC",IF(OR('Full menu'!BC27="PERF",'Full menu'!BC27="AERF",'Full menu'!BC27="PCB"),"ERfix",IF(OR('Full menu'!BC27="ACB", 'Full menu'!BC27="LCERT", 'Full menu'!BC27="LERT",'Full menu'!BC27="FCERT",'Full menu'!BC27="FERT"),"ERT",IF(OR('Full menu'!BC27="FCMT",'Full menu'!BC27="FMT",'Full menu'!BC27="LMT",'Full menu'!BC27="LCMT"),"MT",IF(OR('Full menu'!BC27="LCIT",'Full menu'!BC27="FCIT",'Full menu'!BC27="LMT",'Full menu'!BC27="FMT"),"IT",IF(OR('Full menu'!BC27="MwERT", 'Full menu'!BC27="ERwMT", 'Full menu'!BC27="M&ERT", 'Full menu'!BC27="MwIT", 'Full menu'!BC27="IwMT", 'Full menu'!BC27="M&IT", 'Full menu'!BC27="IwERT", 'Full menu'!BC27="ERwIT", 'Full menu'!BC27="I&ERT", 'Full menu'!BC27="ER&M&IT"),"MixedT",IF('Full menu'!BC27="UD","UD",IF('Full menu'!BC27="LSD","LSD",IF('Full menu'!BC27="WSD","WSD","")))))))))
A28: USA | B28: =IF('Full menu'!B28="MDC","MDC",IF(OR('Full menu'!B28="PERF",'Full menu'!B28="AERF",'Full menu'!B28="PCB"),"ERfix",IF(OR('Full menu'!B28="ACB", 'Full menu'!B28="LCERT", 'Full menu'!B28="LERT",'Full menu'!B28="FCERT",'Full menu'!B28="FERT"),"ERTs",IF(OR('Full menu'!B28="FCMT",'Full menu'!B28="FMT",'Full menu'!B28="LMT",'Full menu'!B28="LCMT"),"MTs",IF(OR('Full menu'!B28="LCIT",'Full menu'!B28="FCIT",'Full menu'!B28="LIT",'Full menu'!B28="FIT"),"ITs",IF(OR('Full menu'!B28="MwERT", 'Full menu'!B28="ERwMT", 'Full menu'!B28="M&ERT", 'Full menu'!B28="MwIT", 'Full menu'!B28="IwMT", 'Full menu'!B28="M&IT", 'Full menu'!B28="IwERT", 'Full menu'!B28="ERwIT", 'Full menu'!B28="I&ERT", 'Full menu'!B28="ER&M&IT"),"MixedTs",IF('Full menu'!B28="UD","UD",IF('Full menu'!B28="LSD","LSD",IF('Full menu'!B28="WSD","WSD",""))))))))) -> LSD | C28: =IF('Full menu'!C28="MDC","MDC",IF(OR('Full menu'!C28="PERF",'Full menu'!C28="AERF",'Full menu'!C28="PCB"),"ERfix",IF(OR('Full menu'!C28="ACB", 'Full menu'!C28="LCERT", 'Full menu'!C28="LERT",'Full menu'!C28="FCERT",'Full menu'!C28="FERT"),"ERTs",IF(OR('Full menu'!C28="FCMT",'Full menu'!C28="FMT",'Full menu'!C28="LMT",'Full menu'!C28="LCMT"),"MTs",IF(OR('Full menu'!C28="LCIT",'Full menu'!C28="FCIT",'Full menu'!C28="LIT",'Full menu'!C28="FIT"),"ITs",IF(OR('Full menu'!C28="MwERT", 'Full menu'!C28="ERwMT", 'Full menu'!C28="M&ERT", 'Full menu'!C28="MwIT", 'Full menu'!C28="IwMT", 'Full menu'!C28="M&IT", 'Full menu'!C28="IwERT", 'Full menu'!C28="ERwIT", 'Full menu'!C28="I&ERT", 'Full menu'!C28="ER&M&IT"),"MixedTs",IF('Full menu'!C28="UD","UD",IF('Full menu'!C28="LSD","LSD",IF('Full menu'!C28="WSD","WSD",""))))))))) -> MTs | D28: =IF('Full menu'!D28="MDC","MDC",IF(OR('Full menu'!D28="PERF",'Full menu'!D28="AERF",'Full menu'!D28="PCB"),"ERfix",IF(OR('Full menu'!D28="ACB", 'Full menu'!D28="LCERT", 'Full menu'!D28="LERT",'Full menu'!D28="FCERT",'Full menu'!D28="FERT"),"ERTs",IF(OR('Full menu'!D28="FCMT",'Full menu'!D28="FMT",'Full menu'!D28="LMT",'Full menu'!D28="LCMT"),"MTs",IF(OR('Full menu'!D28="LCIT",'Full menu'!D28="FCIT",'Full menu'!D28="LIT",'Full menu'!D28="FIT"),"ITs",IF(OR('Full menu'!D28="MwERT", 'Full menu'!D28="ERwMT", 'Full menu'!D28="M&ERT", 'Full menu'!D28="MwIT", 'Full menu'!D28="IwMT", 'Full menu'!D28="M&IT", 'Full menu'!D28="IwERT", 'Full menu'!D28="ERwIT", 'Full menu'!D28="I&ERT", 'Full menu'!D28="ER&M&IT"),"MixedTs",IF('Full menu'!D28="UD","UD",IF('Full menu'!D28="LSD","LSD",IF('Full menu'!D28="WSD","WSD",""))))))))) -> MTs | E28: =IF('Full menu'!E28="MDC","MDC",IF(OR('Full menu'!E28="PERF",'Full menu'!E28="AERF",'Full menu'!E28="PCB"),"ERfix",IF(OR('Full menu'!E28="ACB", 'Full menu'!E28="LCERT", 'Full menu'!E28="LERT",'Full menu'!E28="FCERT",'Full menu'!E28="FERT"),"ERTs",IF(OR('Full menu'!E28="FCMT",'Full menu'!E28="FMT",'Full menu'!E28="LMT",'Full menu'!E28="LCMT"),"MTs",IF(OR('Full menu'!E28="LCIT",'Full menu'!E28="FCIT",'Full menu'!E28="LIT",'Full menu'!E28="FIT"),"ITs",IF(OR('Full menu'!E28="MwERT", 'Full menu'!E28="ERwMT", 'Full menu'!E28="M&ERT", 'Full menu'!E28="MwIT", 'Full menu'!E28="IwMT", 'Full menu'!E28="M&IT", 'Full menu'!E28="IwERT", 'Full menu'!E28="ERwIT", 'Full menu'!E28="I&ERT", 'Full menu'!E28="ER&M&IT"),"MixedTs",IF('Full menu'!E28="UD","UD",IF('Full menu'!E28="LSD","LSD",IF('Full menu'!E28="WSD","WSD",""))))))))) -> MTs | F28: =IF('Full menu'!F28="MDC","MDC",IF(OR('Full menu'!F28="PERF",'Full menu'!F28="AERF",'Full menu'!F28="PCB"),"ERfix",IF(OR('Full menu'!F28="ACB", 'Full menu'!F28="LCERT", 'Full menu'!F28="LERT",'Full menu'!F28="FCERT",'Full menu'!F28="FERT"),"ERTs",IF(OR('Full menu'!F28="FCMT",'Full menu'!F28="FMT",'Full menu'!F28="LMT",'Full menu'!F28="LCMT"),"MTs",IF(OR('Full menu'!F28="LCIT",'Full menu'!F28="FCIT",'Full menu'!F28="LIT",'Full menu'!F28="FIT"),"ITs",IF(OR('Full menu'!F28="MwERT", 'Full menu'!F28="ERwMT", 'Full menu'!F28="M&ERT", 'Full menu'!F28="MwIT", 'Full menu'!F28="IwMT", 'Full menu'!F28="M&IT", 'Full menu'!F28="IwERT", 'Full menu'!F28="ERwIT", 'Full menu'!F28="I&ERT", 'Full menu'!F28="ER&M&IT"),"MixedTs",IF('Full menu'!F28="UD","UD",IF('Full menu'!F28="LSD","LSD",IF('Full menu'!F28="WSD","WSD",""))))))))) -> MTs | G28: =IF('Full menu'!G28="MDC","MDC",IF(OR('Full menu'!G28="PERF",'Full menu'!G28="AERF",'Full menu'!G28="PCB"),"ERfix",IF(OR('Full menu'!G28="ACB", 'Full menu'!G28="LCERT", 'Full menu'!G28="LERT",'Full menu'!G28="FCERT",'Full menu'!G28="FERT"),"ERTs",IF(OR('Full menu'!G28="FCMT",'Full menu'!G28="FMT",'Full menu'!G28="LMT",'Full menu'!G28="LCMT"),"MTs",IF(OR('Full menu'!G28="LCIT",'Full menu'!G28="FCIT",'Full menu'!G28="LIT",'Full menu'!G28="FIT"),"ITs",IF(OR('Full menu'!G28="MwERT", 'Full menu'!G28="ERwMT", 'Full menu'!G28="M&ERT", 'Full menu'!G28="MwIT", 'Full menu'!G28="IwMT", 'Full menu'!G28="M&IT", 'Full menu'!G28="IwERT", 'Full menu'!G28="ERwIT", 'Full menu'!G28="I&ERT", 'Full menu'!G28="ER&M&IT"),"MixedTs",IF('Full menu'!G28="UD","UD",IF('Full menu'!G28="LSD","LSD",IF('Full menu'!G28="WSD","WSD",""))))))))) -> MTs | H28: =IF('Full menu'!H28="MDC","MDC",IF(OR('Full menu'!H28="PERF",'Full menu'!H28="AERF",'Full menu'!H28="PCB"),"ERfix",IF(OR('Full menu'!H28="ACB", 'Full menu'!H28="LCERT", 'Full menu'!H28="LERT",'Full menu'!H28="FCERT",'Full menu'!H28="FERT"),"ERTs",IF(OR('Full menu'!H28="FCMT",'Full menu'!H28="FMT",'Full menu'!H28="LMT",'Full menu'!H28="LCMT"),"MTs",IF(OR('Full menu'!H28="LCIT",'Full menu'!H28="FCIT",'Full menu'!H28="LIT",'Full menu'!H28="FIT"),"ITs",IF(OR('Full menu'!H28="MwERT", 'Full menu'!H28="ERwMT", 'Full menu'!H28="M&ERT", 'Full menu'!H28="MwIT", 'Full menu'!H28="IwMT", 'Full menu'!H28="M&IT", 'Full menu'!H28="IwERT", 'Full menu'!H28="ERwIT", 'Full menu'!H28="I&ERT", 'Full menu'!H28="ER&M&IT"),"MixedTs",IF('Full menu'!H28="UD","UD",IF('Full menu'!H28="LSD","LSD",IF('Full menu'!H28="WSD","WSD",""))))))))) -> MTs | I28: =IF('Full menu'!I28="MDC","MDC",IF(OR('Full menu'!I28="PERF",'Full menu'!I28="AERF",'Full menu'!I28="PCB"),"ERfix",IF(OR('Full menu'!I28="ACB", 'Full menu'!I28="LCERT", 'Full menu'!I28="LERT",'Full menu'!I28="FCERT",'Full menu'!I28="FERT"),"ERTs",IF(OR('Full menu'!I28="FCMT",'Full menu'!I28="FMT",'Full menu'!I28="LMT",'Full menu'!I28="LCMT"),"MTs",IF(OR('Full menu'!I28="LCIT",'Full menu'!I28="FCIT",'Full menu'!I28="LIT",'Full menu'!I28="FIT"),"ITs",IF(OR('Full menu'!I28="MwERT", 'Full menu'!I28="ERwMT", 'Full menu'!I28="M&ERT", 'Full menu'!I28="MwIT", 'Full menu'!I28="IwMT", 'Full menu'!I28="M&IT", 'Full menu'!I28="IwERT", 'Full menu'!I28="ERwIT", 'Full menu'!I28="I&ERT", 'Full menu'!I28="ER&M&IT"),"MixedTs",IF('Full menu'!I28="UD","UD",IF('Full menu'!I28="LSD","LSD",IF('Full menu'!I28="WSD","WSD",""))))))))) -> MTs | ... AY28: =IF('Full menu'!AY28="MDC","MDC",IF(OR('Full menu'!AY28="PERF",'Full menu'!AY28="AERF",'Full menu'!AY28="PCB"),"ERfix",IF(OR('Full menu'!AY28="ACB", 'Full menu'!AY28="LCERT", 'Full menu'!AY28="LERT",'Full menu'!AY28="FCERT",'Full menu'!AY28="FERT"),"ERTs",IF(OR('Full menu'!AY28="FCMT",'Full menu'!AY28="FMT",'Full menu'!AY28="LMT",'Full menu'!AY28="LCMT"),"MTs",IF(OR('Full menu'!AY28="LCIT",'Full menu'!AY28="FCIT",'Full menu'!AY28="LIT",'Full menu'!AY28="FIT"),"ITs",IF(OR('Full menu'!AY28="MwERT", 'Full menu'!AY28="ERwMT", 'Full menu'!AY28="M&ERT", 'Full menu'!AY28="MwIT", 'Full menu'!AY28="IwMT", 'Full menu'!AY28="M&IT", 'Full menu'!AY28="IwERT", 'Full menu'!AY28="ERwIT", 'Full menu'!AY28="I&ERT", 'Full menu'!AY28="ER&M&IT"),"MixedTs",IF('Full menu'!AY28="UD","UD",IF('Full menu'!AY28="LSD","LSD",IF('Full menu'!AY28="WSD","WSD",""))))))))) -> ITs | AZ28: =IF('Full menu'!AZ28="MDC","MDC",IF(OR('Full menu'!AZ28="PERF",'Full menu'!AZ28="AERF",'Full menu'!AZ28="PCB"),"ERfix",IF(OR('Full menu'!AZ28="ACB", 'Full menu'!AZ28="LCERT", 'Full menu'!AZ28="LERT",'Full menu'!AZ28="FCERT",'Full menu'!AZ28="FERT"),"ERT",IF(OR('Full menu'!AZ28="FCMT",'Full menu'!AZ28="FMT",'Full menu'!AZ28="LMT",'Full menu'!AZ28="LCMT"),"MT",IF(OR('Full menu'!AZ28="LCIT",'Full menu'!AZ28="FCIT",'Full menu'!AZ28="LMT",'Full menu'!AZ28="FMT"),"IT",IF(OR('Full menu'!AZ28="MwERT", 'Full menu'!AZ28="ERwMT", 'Full menu'!AZ28="M&ERT", 'Full menu'!AZ28="MwIT", 'Full menu'!AZ28="IwMT", 'Full menu'!AZ28="M&IT", 'Full menu'!AZ28="IwERT", 'Full menu'!AZ28="ERwIT", 'Full menu'!AZ28="I&ERT", 'Full menu'!AZ28="ER&M&IT"),"MixedT",IF('Full menu'!AZ28="UD","UD",IF('Full menu'!AZ28="LSD","LSD",IF('Full menu'!AZ28="WSD","WSD",""))))))))) | BA28: =IF('Full menu'!BA28="MDC","MDC",IF(OR('Full menu'!BA28="PERF",'Full menu'!BA28="AERF",'Full menu'!BA28="PCB"),"ERfix",IF(OR('Full menu'!BA28="ACB", 'Full menu'!BA28="LCERT", 'Full menu'!BA28="LERT",'Full menu'!BA28="FCERT",'Full menu'!BA28="FERT"),"ERT",IF(OR('Full menu'!BA28="FCMT",'Full menu'!BA28="FMT",'Full menu'!BA28="LMT",'Full menu'!BA28="LCMT"),"MT",IF(OR('Full menu'!BA28="LCIT",'Full menu'!BA28="FCIT",'Full menu'!BA28="LMT",'Full menu'!BA28="FMT"),"IT",IF(OR('Full menu'!BA28="MwERT", 'Full menu'!BA28="ERwMT", 'Full menu'!BA28="M&ERT", 'Full menu'!BA28="MwIT", 'Full menu'!BA28="IwMT", 'Full menu'!BA28="M&IT", 'Full menu'!BA28="IwERT", 'Full menu'!BA28="ERwIT", 'Full menu'!BA28="I&ERT", 'Full menu'!BA28="ER&M&IT"),"MixedT",IF('Full menu'!BA28="UD","UD",IF('Full menu'!BA28="LSD","LSD",IF('Full menu'!BA28="WSD","WSD",""))))))))) | BB28: =IF('Full menu'!BB28="MDC","MDC",IF(OR('Full menu'!BB28="PERF",'Full menu'!BB28="AERF",'Full menu'!BB28="PCB"),"ERfix",IF(OR('Full menu'!BB28="ACB", 'Full menu'!BB28="LCERT", 'Full menu'!BB28="LERT",'Full menu'!BB28="FCERT",'Full menu'!BB28="FERT"),"ERT",IF(OR('Full menu'!BB28="FCMT",'Full menu'!BB28="FMT",'Full menu'!BB28="LMT",'Full menu'!BB28="LCMT"),"MT",IF(OR('Full menu'!BB28="LCIT",'Full menu'!BB28="FCIT",'Full menu'!BB28="LMT",'Full menu'!BB28="FMT"),"IT",IF(OR('Full menu'!BB28="MwERT", 'Full menu'!BB28="ERwMT", 'Full menu'!BB28="M&ERT", 'Full menu'!BB28="MwIT", 'Full menu'!BB28="IwMT", 'Full menu'!BB28="M&IT", 'Full menu'!BB28="IwERT", 'Full menu'!BB28="ERwIT", 'Full menu'!BB28="I&ERT", 'Full menu'!BB28="ER&M&IT"),"MixedT",IF('Full menu'!BB28="UD","UD",IF('Full menu'!BB28="LSD","LSD",IF('Full menu'!BB28="WSD","WSD",""))))))))) | BC28: =IF('Full menu'!BC28="MDC","MDC",IF(OR('Full menu'!BC28="PERF",'Full menu'!BC28="AERF",'Full menu'!BC28="PCB"),"ERfix",IF(OR('Full menu'!BC28="ACB", 'Full menu'!BC28="LCERT", 'Full menu'!BC28="LERT",'Full menu'!BC28="FCERT",'Full menu'!BC28="FERT"),"ERT",IF(OR('Full menu'!BC28="FCMT",'Full menu'!BC28="FMT",'Full menu'!BC28="LMT",'Full menu'!BC28="LCMT"),"MT",IF(OR('Full menu'!BC28="LCIT",'Full menu'!BC28="FCIT",'Full menu'!BC28="LMT",'Full menu'!BC28="FMT"),"IT",IF(OR('Full menu'!BC28="MwERT", 'Full menu'!BC28="ERwMT", 'Full menu'!BC28="M&ERT", 'Full menu'!BC28="MwIT", 'Full menu'!BC28="IwMT", 'Full menu'!BC28="M&IT", 'Full menu'!BC28="IwERT", 'Full menu'!BC28="ERwIT", 'Full menu'!BC28="I&ERT", 'Full menu'!BC28="ER&M&IT"),"MixedT",IF('Full menu'!BC28="UD","UD",IF('Full menu'!BC28="LSD","LSD",IF('Full menu'!BC28="WSD","WSD","")))))))))
B29: =IF('Full menu'!B29="MDC","MDC",IF(OR('Full menu'!B29="PERF",'Full menu'!B29="AERF",'Full menu'!B29="PCB"),"ERfix",IF(OR('Full menu'!B29="ACB", 'Full menu'!B29="LCERT", 'Full menu'!B29="LERT",'Full menu'!B29="FCERT",'Full menu'!B29="FERT"),"ERTs",IF(OR('Full menu'!B29="FCMT",'Full menu'!B29="FMT",'Full menu'!B29="LMT",'Full menu'!B29="LCMT"),"MTs",IF(OR('Full menu'!B29="LCIT",'Full menu'!B29="FCIT",'Full menu'!B29="LIT",'Full menu'!B29="FIT"),"ITs",IF(OR('Full menu'!B29="MwERT", 'Full menu'!B29="ERwMT", 'Full menu'!B29="M&ERT", 'Full menu'!B29="MwIT", 'Full menu'!B29="IwMT", 'Full menu'!B29="M&IT", 'Full menu'!B29="IwERT", 'Full menu'!B29="ERwIT", 'Full menu'!B29="I&ERT", 'Full menu'!B29="ER&M&IT"),"MixedTs",IF('Full menu'!B29="UD","UD",IF('Full menu'!B29="LSD","LSD",IF('Full menu'!B29="WSD","WSD",""))))))))) | C29: =IF('Full menu'!C29="MDC","MDC",IF(OR('Full menu'!C29="PERF",'Full menu'!C29="AERF",'Full menu'!C29="PCB"),"ERfix",IF(OR('Full menu'!C29="ACB", 'Full menu'!C29="LCERT", 'Full menu'!C29="LERT",'Full menu'!C29="FCERT",'Full menu'!C29="FERT"),"ERTs",IF(OR('Full menu'!C29="FCMT",'Full menu'!C29="FMT",'Full menu'!C29="LMT",'Full menu'!C29="LCMT"),"MTs",IF(OR('Full menu'!C29="LCIT",'Full menu'!C29="FCIT",'Full menu'!C29="LIT",'Full menu'!C29="FIT"),"ITs",IF(OR('Full menu'!C29="MwERT", 'Full menu'!C29="ERwMT", 'Full menu'!C29="M&ERT", 'Full menu'!C29="MwIT", 'Full menu'!C29="IwMT", 'Full menu'!C29="M&IT", 'Full menu'!C29="IwERT", 'Full menu'!C29="ERwIT", 'Full menu'!C29="I&ERT", 'Full menu'!C29="ER&M&IT"),"MixedTs",IF('Full menu'!C29="UD","UD",IF('Full menu'!C29="LSD","LSD",IF('Full menu'!C29="WSD","WSD",""))))))))) | D29: =IF('Full menu'!D29="MDC","MDC",IF(OR('Full menu'!D29="PERF",'Full menu'!D29="AERF",'Full menu'!D29="PCB"),"ERfix",IF(OR('Full menu'!D29="ACB", 'Full menu'!D29="LCERT", 'Full menu'!D29="LERT",'Full menu'!D29="FCERT",'Full menu'!D29="FERT"),"ERTs",IF(OR('Full menu'!D29="FCMT",'Full menu'!D29="FMT",'Full menu'!D29="LMT",'Full menu'!D29="LCMT"),"MTs",IF(OR('Full menu'!D29="LCIT",'Full menu'!D29="FCIT",'Full menu'!D29="LIT",'Full menu'!D29="FIT"),"ITs",IF(OR('Full menu'!D29="MwERT", 'Full menu'!D29="ERwMT", 'Full menu'!D29="M&ERT", 'Full menu'!D29="MwIT", 'Full menu'!D29="IwMT", 'Full menu'!D29="M&IT", 'Full menu'!D29="IwERT", 'Full menu'!D29="ERwIT", 'Full menu'!D29="I&ERT", 'Full menu'!D29="ER&M&IT"),"MixedTs",IF('Full menu'!D29="UD","UD",IF('Full menu'!D29="LSD","LSD",IF('Full menu'!D29="WSD","WSD",""))))))))) | E29: =IF('Full menu'!E29="MDC","MDC",IF(OR('Full menu'!E29="PERF",'Full menu'!E29="AERF",'Full menu'!E29="PCB"),"ERfix",IF(OR('Full menu'!E29="ACB", 'Full menu'!E29="LCERT", 'Full menu'!E29="LERT",'Full menu'!E29="FCERT",'Full menu'!E29="FERT"),"ERTs",IF(OR('Full menu'!E29="FCMT",'Full menu'!E29="FMT",'Full menu'!E29="LMT",'Full menu'!E29="LCMT"),"MTs",IF(OR('Full menu'!E29="LCIT",'Full menu'!E29="FCIT",'Full menu'!E29="LIT",'Full menu'!E29="FIT"),"ITs",IF(OR('Full menu'!E29="MwERT", 'Full menu'!E29="ERwMT", 'Full menu'!E29="M&ERT", 'Full menu'!E29="MwIT", 'Full menu'!E29="IwMT", 'Full menu'!E29="M&IT", 'Full menu'!E29="IwERT", 'Full menu'!E29="ERwIT", 'Full menu'!E29="I&ERT", 'Full menu'!E29="ER&M&IT"),"MixedTs",IF('Full menu'!E29="UD","UD",IF('Full menu'!E29="LSD","LSD",IF('Full menu'!E29="WSD","WSD",""))))))))) | F29: =IF('Full menu'!F29="MDC","MDC",IF(OR('Full menu'!F29="PERF",'Full menu'!F29="AERF",'Full menu'!F29="PCB"),"ERfix",IF(OR('Full menu'!F29="ACB", 'Full menu'!F29="LCERT", 'Full menu'!F29="LERT",'Full menu'!F29="FCERT",'Full menu'!F29="FERT"),"ERTs",IF(OR('Full menu'!F29="FCMT",'Full menu'!F29="FMT",'Full menu'!F29="LMT",'Full menu'!F29="LCMT"),"MTs",IF(OR('Full menu'!F29="LCIT",'Full menu'!F29="FCIT",'Full menu'!F29="LIT",'Full menu'!F29="FIT"),"ITs",IF(OR('Full menu'!F29="MwERT", 'Full menu'!F29="ERwMT", 'Full menu'!F29="M&ERT", 'Full menu'!F29="MwIT", 'Full menu'!F29="IwMT", 'Full menu'!F29="M&IT", 'Full menu'!F29="IwERT", 'Full menu'!F29="ERwIT", 'Full menu'!F29="I&ERT", 'Full menu'!F29="ER&M&IT"),"MixedTs",IF('Full menu'!F29="UD","UD",IF('Full menu'!F29="LSD","LSD",IF('Full menu'!F29="WSD","WSD",""))))))))) | G29: =IF('Full menu'!G29="MDC","MDC",IF(OR('Full menu'!G29="PERF",'Full menu'!G29="AERF",'Full menu'!G29="PCB"),"ERfix",IF(OR('Full menu'!G29="ACB", 'Full menu'!G29="LCERT", 'Full menu'!G29="LERT",'Full menu'!G29="FCERT",'Full menu'!G29="FERT"),"ERTs",IF(OR('Full menu'!G29="FCMT",'Full menu'!G29="FMT",'Full menu'!G29="LMT",'Full menu'!G29="LCMT"),"MTs",IF(OR('Full menu'!G29="LCIT",'Full menu'!G29="FCIT",'Full menu'!G29="LIT",'Full menu'!G29="FIT"),"ITs",IF(OR('Full menu'!G29="MwERT", 'Full menu'!G29="ERwMT", 'Full menu'!G29="M&ERT", 'Full menu'!G29="MwIT", 'Full menu'!G29="IwMT", 'Full menu'!G29="M&IT", 'Full menu'!G29="IwERT", 'Full menu'!G29="ERwIT", 'Full menu'!G29="I&ERT", 'Full menu'!G29="ER&M&IT"),"MixedTs",IF('Full menu'!G29="UD","UD",IF('Full menu'!G29="LSD","LSD",IF('Full menu'!G29="WSD","WSD",""))))))))) | H29: =IF('Full menu'!H29="MDC","MDC",IF(OR('Full menu'!H29="PERF",'Full menu'!H29="AERF",'Full menu'!H29="PCB"),"ERfix",IF(OR('Full menu'!H29="ACB", 'Full menu'!H29="LCERT", 'Full menu'!H29="LERT",'Full menu'!H29="FCERT",'Full menu'!H29="FERT"),"ERTs",IF(OR('Full menu'!H29="FCMT",'Full menu'!H29="FMT",'Full menu'!H29="LMT",'Full menu'!H29="LCMT"),"MTs",IF(OR('Full menu'!H29="LCIT",'Full menu'!H29="FCIT",'Full menu'!H29="LIT",'Full menu'!H29="FIT"),"ITs",IF(OR('Full menu'!H29="MwERT", 'Full menu'!H29="ERwMT", 'Full menu'!H29="M&ERT", 'Full menu'!H29="MwIT", 'Full menu'!H29="IwMT", 'Full menu'!H29="M&IT", 'Full menu'!H29="IwERT", 'Full menu'!H29="ERwIT", 'Full menu'!H29="I&ERT", 'Full menu'!H29="ER&M&IT"),"MixedTs",IF('Full menu'!H29="UD","UD",IF('Full menu'!H29="LSD","LSD",IF('Full menu'!H29="WSD","WSD",""))))))))) | I29: =IF('Full menu'!I29="MDC","MDC",IF(OR('Full menu'!I29="PERF",'Full menu'!I29="AERF",'Full menu'!I29="PCB"),"ERfix",IF(OR('Full menu'!I29="ACB", 'Full menu'!I29="LCERT", 'Full menu'!I29="LERT",'Full menu'!I29="FCERT",'Full menu'!I29="FERT"),"ERTs",IF(OR('Full menu'!I29="FCMT",'Full menu'!I29="FMT",'Full menu'!I29="LMT",'Full menu'!I29="LCMT"),"MTs",IF(OR('Full menu'!I29="LCIT",'Full menu'!I29="FCIT",'Full menu'!I29="LIT",'Full menu'!I29="FIT"),"ITs",IF(OR('Full menu'!I29="MwERT", 'Full menu'!I29="ERwMT", 'Full menu'!I29="M&ERT", 'Full menu'!I29="MwIT", 'Full menu'!I29="IwMT", 'Full menu'!I29="M&IT", 'Full menu'!I29="IwERT", 'Full menu'!I29="ERwIT", 'Full menu'!I29="I&ERT", 'Full menu'!I29="ER&M&IT"),"MixedTs",IF('Full menu'!I29="UD","UD",IF('Full menu'!I29="LSD","LSD",IF('Full menu'!I29="WSD","WSD",""))))))))) | ... AP29: =IF('Full menu'!AP29="MDC","MDC",IF(OR('Full menu'!AP29="PERF",'Full menu'!AP29="AERF",'Full menu'!AP29="PCB"),"ERfix",IF(OR('Full menu'!AP29="ACB", 'Full menu'!AP29="LCERT", 'Full menu'!AP29="LERT",'Full menu'!AP29="FCERT",'Full menu'!AP29="FERT"),"ERTs",IF(OR('Full menu'!AP29="FCMT",'Full menu'!AP29="FMT",'Full menu'!AP29="LMT",'Full menu'!AP29="LCMT"),"MTs",IF(OR('Full menu'!AP29="LCIT",'Full menu'!AP29="FCIT",'Full menu'!AP29="LIT",'Full menu'!AP29="FIT"),"ITs",IF(OR('Full menu'!AP29="MwERT", 'Full menu'!AP29="ERwMT", 'Full menu'!AP29="M&ERT", 'Full menu'!AP29="MwIT", 'Full menu'!AP29="IwMT", 'Full menu'!AP29="M&IT", 'Full menu'!AP29="IwERT", 'Full menu'!AP29="ERwIT", 'Full menu'!AP29="I&ERT", 'Full menu'!AP29="ER&M&IT"),"MixedTs",IF('Full menu'!AP29="UD","UD",IF('Full menu'!AP29="LSD","LSD",IF('Full menu'!AP29="WSD","WSD",""))))))))) | AQ29: =IF('Full menu'!AQ29="MDC","MDC",IF(OR('Full menu'!AQ29="PERF",'Full menu'!AQ29="AERF",'Full menu'!AQ29="PCB"),"ERfix",IF(OR('Full menu'!AQ29="ACB", 'Full menu'!AQ29="LCERT", 'Full menu'!AQ29="LERT",'Full menu'!AQ29="FCERT",'Full menu'!AQ29="FERT"),"ERT",IF(OR('Full menu'!AQ29="FCMT",'Full menu'!AQ29="FMT",'Full menu'!AQ29="LMT",'Full menu'!AQ29="LCMT"),"MT",IF(OR('Full menu'!AQ29="LCIT",'Full menu'!AQ29="FCIT",'Full menu'!AQ29="LMT",'Full menu'!AQ29="FMT"),"IT",IF(OR('Full menu'!AQ29="MwERT", 'Full menu'!AQ29="ERwMT", 'Full menu'!AQ29="M&ERT", 'Full menu'!AQ29="MwIT", 'Full menu'!AQ29="IwMT", 'Full menu'!AQ29="M&IT", 'Full menu'!AQ29="IwERT", 'Full menu'!AQ29="ERwIT", 'Full menu'!AQ29="I&ERT", 'Full menu'!AQ29="ER&M&IT"),"MixedT",IF('Full menu'!AQ29="UD","UD",IF('Full menu'!AQ29="LSD","LSD",IF('Full menu'!AQ29="WSD","WSD",""))))))))) | AR29: =IF('Full menu'!AR29="MDC","MDC",IF(OR('Full menu'!AR29="PERF",'Full menu'!AR29="AERF",'Full menu'!AR29="PCB"),"ERfix",IF(OR('Full menu'!AR29="ACB", 'Full menu'!AR29="LCERT", 'Full menu'!AR29="LERT",'Full menu'!AR29="FCERT",'Full menu'!AR29="FERT"),"ERT",IF(OR('Full menu'!AR29="FCMT",'Full menu'!AR29="FMT",'Full menu'!AR29="LMT",'Full menu'!AR29="LCMT"),"MT",IF(OR('Full menu'!AR29="LCIT",'Full menu'!AR29="FCIT",'Full menu'!AR29="LMT",'Full menu'!AR29="FMT"),"IT",IF(OR('Full menu'!AR29="MwERT", 'Full menu'!AR29="ERwMT", 'Full menu'!AR29="M&ERT", 'Full menu'!AR29="MwIT", 'Full menu'!AR29="IwMT", 'Full menu'!AR29="M&IT", 'Full menu'!AR29="IwERT", 'Full menu'!AR29="ERwIT", 'Full menu'!AR29="I&ERT", 'Full menu'!AR29="ER&M&IT"),"MixedT",IF('Full menu'!AR29="UD","UD",IF('Full menu'!AR29="LSD","LSD",IF('Full menu'!AR29="WSD","WSD",""))))))))) | AS29: =IF('Full menu'!AS29="MDC","MDC",IF(OR('Full menu'!AS29="PERF",'Full menu'!AS29="AERF",'Full menu'!AS29="PCB"),"ERfix",IF(OR('Full menu'!AS29="ACB", 'Full menu'!AS29="LCERT", 'Full menu'!AS29="LERT",'Full menu'!AS29="FCERT",'Full menu'!AS29="FERT"),"ERT",IF(OR('Full menu'!AS29="FCMT",'Full menu'!AS29="FMT",'Full menu'!AS29="LMT",'Full menu'!AS29="LCMT"),"MT",IF(OR('Full menu'!AS29="LCIT",'Full menu'!AS29="FCIT",'Full menu'!AS29="LMT",'Full menu'!AS29="FMT"),"IT",IF(OR('Full menu'!AS29="MwERT", 'Full menu'!AS29="ERwMT", 'Full menu'!AS29="M&ERT", 'Full menu'!AS29="MwIT", 'Full menu'!AS29="IwMT", 'Full menu'!AS29="M&IT", 'Full menu'!AS29="IwERT", 'Full menu'!AS29="ERwIT", 'Full menu'!AS29="I&ERT", 'Full menu'!AS29="ER&M&IT"),"MixedT",IF('Full menu'!AS29="UD","UD",IF('Full menu'!AS29="LSD","LSD",IF('Full menu'!AS29="WSD","WSD",""))))))))) | AT29: =IF('Full menu'!AT29="MDC","MDC",IF(OR('Full menu'!AT29="PERF",'Full menu'!AT29="AERF",'Full menu'!AT29="PCB"),"ERfix",IF(OR('Full menu'!AT29="ACB", 'Full menu'!AT29="LCERT", 'Full menu'!AT29="LERT",'Full menu'!AT29="FCERT",'Full menu'!AT29="FERT"),"ERT",IF(OR('Full menu'!AT29="FCMT",'Full menu'!AT29="FMT",'Full menu'!AT29="LMT",'Full menu'!AT29="LCMT"),"MT",IF(OR('Full menu'!AT29="LCIT",'Full menu'!AT29="FCIT",'Full menu'!AT29="LMT",'Full menu'!AT29="FMT"),"IT",IF(OR('Full menu'!AT29="MwERT", 'Full menu'!AT29="ERwMT", 'Full menu'!AT29="M&ERT", 'Full menu'!AT29="MwIT", 'Full menu'!AT29="IwMT", 'Full menu'!AT29="M&IT", 'Full menu'!AT29="IwERT", 'Full menu'!AT29="ERwIT", 'Full menu'!AT29="I&ERT", 'Full menu'!AT29="ER&M&IT"),"MixedT",IF('Full menu'!AT29="UD","UD",IF('Full menu'!AT29="LSD","LSD",IF('Full menu'!AT29="WSD","WSD",""))))))))) | AU29: =IF('Full menu'!AU29="MDC","MDC",IF(OR('Full menu'!AU29="PERF",'Full menu'!AU29="AERF",'Full menu'!AU29="PCB"),"ERfix",IF(OR('Full menu'!AU29="ACB", 'Full menu'!AU29="LCERT", 'Full menu'!AU29="LERT",'Full menu'!AU29="FCERT",'Full menu'!AU29="FERT"),"ERT",IF(OR('Full menu'!AU29="FCMT",'Full menu'!AU29="FMT",'Full menu'!AU29="LMT",'Full menu'!AU29="LCMT"),"MT",IF(OR('Full menu'!AU29="LCIT",'Full menu'!AU29="FCIT",'Full menu'!AU29="LMT",'Full menu'!AU29="FMT"),"IT",IF(OR('Full menu'!AU29="MwERT", 'Full menu'!AU29="ERwMT", 'Full menu'!AU29="M&ERT", 'Full menu'!AU29="MwIT", 'Full menu'!AU29="IwMT", 'Full menu'!AU29="M&IT", 'Full menu'!AU29="IwERT", 'Full menu'!AU29="ERwIT", 'Full menu'!AU29="I&ERT", 'Full menu'!AU29="ER&M&IT"),"MixedT",IF('Full menu'!AU29="UD","UD",IF('Full menu'!AU29="LSD","LSD",IF('Full menu'!AU29="WSD","WSD",""))))))))) | AV29: =IF('Full menu'!AV29="MDC","MDC",IF(OR('Full menu'!AV29="PERF",'Full menu'!AV29="AERF",'Full menu'!AV29="PCB"),"ERfix",IF(OR('Full menu'!AV29="ACB", 'Full menu'!AV29="LCERT", 'Full menu'!AV29="LERT",'Full menu'!AV29="FCERT",'Full menu'!AV29="FERT"),"ERT",IF(OR('Full menu'!AV29="FCMT",'Full menu'!AV29="FMT",'Full menu'!AV29="LMT",'Full menu'!AV29="LCMT"),"MT",IF(OR('Full menu'!AV29="LCIT",'Full menu'!AV29="FCIT",'Full menu'!AV29="LMT",'Full menu'!AV29="FMT"),"IT",IF(OR('Full menu'!AV29="MwERT", 'Full menu'!AV29="ERwMT", 'Full menu'!AV29="M&ERT", 'Full menu'!AV29="MwIT", 'Full menu'!AV29="IwMT", 'Full menu'!AV29="M&IT", 'Full menu'!AV29="IwERT", 'Full menu'!AV29="ERwIT", 'Full menu'!AV29="I&ERT", 'Full menu'!AV29="ER&M&IT"),"MixedT",IF('Full menu'!AV29="UD","UD",IF('Full menu'!AV29="LSD","LSD",IF('Full menu'!AV29="WSD","WSD",""))))))))) | AW29: =IF('Full menu'!AW29="MDC","MDC",IF(OR('Full menu'!AW29="PERF",'Full menu'!AW29="AERF",'Full menu'!AW29="PCB"),"ERfix",IF(OR('Full menu'!AW29="ACB", 'Full menu'!AW29="LCERT", 'Full menu'!AW29="LERT",'Full menu'!AW29="FCERT",'Full menu'!AW29="FERT"),"ERT",IF(OR('Full menu'!AW29="FCMT",'Full menu'!AW29="FMT",'Full menu'!AW29="LMT",'Full menu'!AW29="LCMT"),"MT",IF(OR('Full menu'!AW29="LCIT",'Full menu'!AW29="FCIT",'Full menu'!AW29="LMT",'Full menu'!AW29="FMT"),"IT",IF(OR('Full menu'!AW29="MwERT", 'Full menu'!AW29="ERwMT", 'Full menu'!AW29="M&ERT", 'Full menu'!AW29="MwIT", 'Full menu'!AW29="IwMT", 'Full menu'!AW29="M&IT", 'Full menu'!AW29="IwERT", 'Full menu'!AW29="ERwIT", 'Full menu'!AW29="I&ERT", 'Full menu'!AW29="ER&M&IT"),"MixedT",IF('Full menu'!AW29="UD","UD",IF('Full menu'!AW29="LSD","LSD",IF('Full menu'!AW29="WSD","WSD",""))))))))) | AX29: =IF('Full menu'!AX29="MDC","MDC",IF(OR('Full menu'!AX29="PERF",'Full menu'!AX29="AERF",'Full menu'!AX29="PCB"),"ERfix",IF(OR('Full menu'!AX29="ACB", 'Full menu'!AX29="LCERT", 'Full menu'!AX29="LERT",'Full menu'!AX29="FCERT",'Full menu'!AX29="FERT"),"ERT",IF(OR('Full menu'!AX29="FCMT",'Full menu'!AX29="FMT",'Full menu'!AX29="LMT",'Full menu'!AX29="LCMT"),"MT",IF(OR('Full menu'!AX29="LCIT",'Full menu'!AX29="FCIT",'Full menu'!AX29="LMT",'Full menu'!AX29="FMT"),"IT",IF(OR('Full menu'!AX29="MwERT", 'Full menu'!AX29="ERwMT", 'Full menu'!AX29="M&ERT", 'Full menu'!AX29="MwIT", 'Full menu'!AX29="IwMT", 'Full menu'!AX29="M&IT", 'Full menu'!AX29="IwERT", 'Full menu'!AX29="ERwIT", 'Full menu'!AX29="I&ERT", 'Full menu'!AX29="ER&M&IT"),"MixedT",IF('Full menu'!AX29="UD","UD",IF('Full menu'!AX29="LSD","LSD",IF('Full menu'!AX29="WSD","WSD",""))))))))) | ... BC29: =IF('Full menu'!BC29="MDC","MDC",IF(OR('Full menu'!BC29="PERF",'Full menu'!BC29="AERF",'Full menu'!BC29="PCB"),"ERfix",IF(OR('Full menu'!BC29="ACB", 'Full menu'!BC29="LCERT", 'Full menu'!BC29="LERT",'Full menu'!BC29="FCERT",'Full menu'!BC29="FERT"),"ERT",IF(OR('Full menu'!BC29="FCMT",'Full menu'!BC29="FMT",'Full menu'!BC29="LMT",'Full menu'!BC29="LCMT"),"MT",IF(OR('Full menu'!BC29="LCIT",'Full menu'!BC29="FCIT",'Full menu'!BC29="LMT",'Full menu'!BC29="FMT"),"IT",IF(OR('Full menu'!BC29="MwERT", 'Full menu'!BC29="ERwMT", 'Full menu'!BC29="M&ERT", 'Full menu'!BC29="MwIT", 'Full menu'!BC29="IwMT", 'Full menu'!BC29="M&IT", 'Full menu'!BC29="IwERT", 'Full menu'!BC29="ERwIT", 'Full menu'!BC29="I&ERT", 'Full menu'!BC29="ER&M&IT"),"MixedT",IF('Full menu'!BC29="UD","UD",IF('Full menu'!BC29="LSD","LSD",IF('Full menu'!BC29="WSD","WSD","")))))))))
B31: 1974 | C31: 1975 | D31: 1976 | E31: 1977 | F31: 1978 | G31: 1979 | H31: 1980 | I31: 1981 | J31: 1982 | K31: 1983 | L31: 1984 | M31: 1985 | N31: 1986 | O31: 1987 | P31: 1988 | Q31: 1989 | R31: 1990 | S31: 1991 | T31: 1992 | U31: 1993 | V31: 1994 | W31: 1995 | X31: 1996 | Y31: 1997 | Z31: 1998 | AA31: 1999 | AB31: 2000 | AC31: 2001 | AD31: 2002 | AE31: 2003 | AF31: 2004 | AG31: 2005 | AH31: 2006 | AI31: 2007 | AJ31: 2008 | AK31: 2009 | AL31: 2010 | AM31: 2011 | AN31: 2012 | AO31: 2013 | AP31: 2014 | AQ31: 2015 | AR31: 2016 | AS31: 2017
A32: X or blank | B32: =COUNTIF(B2:B28,"X")+COUNTIF(B2:B28,"") -> 2 | C32: =COUNTIF(C2:C28,"X")+COUNTIF(C2:C28,"") -> 2 | D32: =COUNTIF(D2:D28,"X")+COUNTIF(D2:D28,"") -> 2 | E32: =COUNTIF(E2:E28,"X")+COUNTIF(E2:E28,"") -> 2 | F32: =COUNTIF(F2:F28,"X")+COUNTIF(F2:F28,"") -> 2 | G32: =COUNTIF(G2:G28,"X")+COUNTIF(G2:G28,"") -> 2 | H32: =COUNTIF(H2:H28,"X")+COUNTIF(H2:H28,"") -> 2 | I32: =COUNTIF(I2:I28,"X")+COUNTIF(I2:I28,"") -> 2 | ... AY32: =COUNTIF(AY2:AY28,"X")+COUNTIF(AY2:AY28,"") -> 12 | BD32: =SUM(B32:AY32) -> 348
A33: MDC | B33: =COUNTIF(B2:B29,"MDC") -> 0 | C33: =COUNTIF(C2:C29,"MDC") -> 0 | D33: =COUNTIF(D2:D29,"MDC") -> 0 | E33: =COUNTIF(E2:E29,"MDC") -> 0 | F33: =COUNTIF(F2:F29,"MDC") -> 0 | G33: =COUNTIF(G2:G29,"MDC") -> 0 | H33: =COUNTIF(H2:H29,"MDC") -> 0 | I33: =COUNTIF(I2:I29,"MDC") -> 0 | ... AY33: =COUNTIF(AY2:AY29,"MDC") -> 0 | BD33: =SUM(B33:AY33) -> 0
A34: ERFix | B34: =COUNTIF(B2:B29,"ERFix") -> 2 | C34: =COUNTIF(C2:C29,"ERFix") -> 2 | D34: =COUNTIF(D2:D29,"ERFix") -> 2 | E34: =COUNTIF(E2:E29,"ERFix") -> 1 | F34: =COUNTIF(F2:F29,"ERFix") -> 1 | G34: =COUNTIF(G2:G29,"ERFix") -> 0 | H34: =COUNTIF(H2:H29,"ERFix") -> 0 | I34: =COUNTIF(I2:I29,"ERFix") -> 0 | ... AY34: =COUNTIF(AY2:AY29,"ERFix") -> 0 | BD34: =SUM(B34:AY34) -> 8
