Workbook

Sheet full menu
B1: 1974 | C1: 1975 | D1: 1976 | E1: 1977 | F1: 1978 | G1: 1979 | H1: 1980 | I1: 1981 | J1: 1982 | K1: 1983 | L1: 1984 | M1: 1985 | N1: 1986 | O1: 1987 | P1: 1988 | Q1: 1989 | R1: 1990 | S1: 1991 | T1: 1992 | U1: 1993 | V1: 1994 | W1: 1995 | X1: 1996 | Y1: 1997 | Z1: 1998 | AA1: 1999 | AB1: 2000 | AC1: 2001 | AD1: 2002 | AE1: 2003 | AF1: 2004 | AG1: 2005 | AH1: 2006 | AI1: 2007 | AJ1: 2008 | AK1: 2009 | AL1: 2010 | AM1: 2011 | AN1: 2012 | AO1: 2013 | AP1: 2014 | AQ1: 2015 | AR1: 2016 | AS1: 2017 | AT1: 2018 | AU1: 2019 | AV1: 2020 | AW1: 2021 | AX1: 2022 | AY1: 2023
A2: Algeria | B2: MDC | C2: MDC | D2: MDC | E2: MDC | F2: MDC | G2: MDC | H2: MDC | I2: MDC | J2: MDC | K2: MDC | L2: MDC | M2: MDC | N2: MDC | O2: UD | P2: UD | Q2: UD | R2: LSD | S2: LSD | T2: LSD | U2: LSD | V2: LSD | W2: LSD | X2: LSD | Y2: LSD | Z2: LSD | AA2: LSD | AB2: LSD | AC2: LSD | AD2: LSD | AE2: LSD | AF2: LSD | AG2: LSD | AH2: LSD | AI2: LSD | AJ2: LSD | AK2: LSD | AL2: LSD | AM2: LSD | AN2: LSD | AO2: LSD | AP2: LSD | AQ2: LSD | AR2: LSD | AS2: LSD | AT2: LSD | AU2: LSD | AV2: LSD | AW2: LSD | AX2: LSD | AY2: LSD
A3: Bahrain | B3: ACB | C3: AERF | D3: AERF | E3: AERF | F3: AERF | G3: AERF | H3: AERF | I3: AERF | J3: AERF | K3: AERF | L3: AERF | M3: AERF | N3: AERF | O3: AERF | P3: AERF | Q3: AERF | R3: AERF | S3: AERF | T3: AERF | U3: AERF | V3: AERF | W3: FERT | X3: FERT | Y3: FERT | Z3: FERT | AA3: FERT | AB3: FERT | AC3: FERT | AD3: FERT | AE3: FERT | AF3: FERT | AG3: FERT | AH3: FERT | AI3: FERT | AJ3: FERT | AK3: FERT | AL3: FERT | AM3: FERT | AN3: FERT | AO3: FERT | AP3: FERT | AQ3: FERT | AR3: FERT | AS3: FERT | AT3: FERT | AU3: FERT | AV3: FERT | AW3: FERT | AX3: FERT | AY3: FERT
A4: Egypt | B4: MDC | C4: MDC | D4: MDC | E4: UD | F4: UD | G4: UD | H4: UD | I4: UD | J4: UD | K4: UD | L4: UD | M4: UD | N4: UD | O4: UD | P4: UD | Q4: UD | R4: UD | S4: UD | T4: LERT | U4: LERT | V4: LERT | W4: LERT | X4: LERT | Y4: LERT | Z4: LERT | AA4: LERT | AB4: LERT | AC4: LERT | AD4: LERT | AE4: LSD | AF4: LSD | AG4: LSD | AH4: LSD | AI4: LSD | AJ4: LSD | AK4: LSD | AL4: LSD | AM4: LSD | AN4: LSD | AO4: LSD | AP4: LSD | AQ4: LSD | AR4: LSD | AS4: LSD | AT4: LSD | AU4: LSD | AV4: LSD | AW4: LSD | AX4: LSD | AY4: LSD
A5: Iran | B5: LSD | C5: LSD | D5: LSD | E5: LSD | F5: LSD | G5: LSD | H5: UD | I5: UD | J5: UD | K5: UD | L5: UD | M5: UD | N5: UD | O5: UD | P5: UD | Q5: UD | R5: UD | S5: UD | T5: UD | U5: UD | V5: UD | W5: UD | X5: UD | Y5: UD | Z5: UD | AA5: LSD | AB5: LSD | AC5: LSD | AD5: LSD | AE5: LSD | AF5: LSD | AG5: LSD | AH5: LSD | AI5: LSD | AJ5: LSD | AK5: LSD | AL5: LSD | AM5: LSD | AN5: LSD | AO5: LSD | AP5: LSD | AQ5: LSD | AR5: LSD | AS5: LSD | AT5: LSD | AU5: LSD | AV5: LSD | AW5: LSD | AX5: LSD | AY5: LSD
A6: Iraq | B6: AERF | C6: AERF | D6: AERF | E6: AERF | F6: AERF | G6: AERF | H6: AERF | I6: AERF | J6: MDC | K6: MDC | L6: MDC | M6: MDC | N6: MDC | O6: MDC | P6: MDC | Q6: MDC | R6: MDC | S6: MDC | T6: MDC | U6: MDC | V6: MDC | W6: MDC | X6: MDC | Y6: MDC | Z6: MDC | AA6: MDC | AB6: MDC | AC6: MDC | AD6: MDC | AE6: UD | AF6: UD | AG6: UD | AH6: UD | AI6: AERF | AJ6: AERF | AK6: AERF | AL6: AERF | AM6: AERF | AN6: AERF | AO6: AERF | AP6: AERF | AQ6: AERF | AR6: AERF | AS6: AERF | AT6: AERF | AU6: AERF | AV6: AERF | AW6: AERF | AX6: AERF | AY6: AERF
A7: Jordan | B7: AERF | C7: AERF | D7: AERF | E7: AERF | F7: AERF | G7: AERF | H7: AERF | I7: AERF | J7: AERF | K7: AERF | L7: AERF | M7: LSD | N7: LSD | O7: LSD | P7: LSD | Q7: LSD | R7: LSD | S7: LERT | T7: LERT | U7: LERT | V7: LERT | W7: LERT | X7: LERT | Y7: LERT | Z7: LERT | AA7: LERT | AB7: LERT | AC7: FERT | AD7: FERT | AE7: FERT | AF7: FERT | AG7: FERT | AH7: FERT | AI7: FERT | AJ7: FERT | AK7: FERT | AL7: FERT | AM7: FERT | AN7: FERT | AO7: FERT | AP7: FERT | AQ7: FERT | AR7: FERT | AS7: FERT | AT7: FERT | AU7: FERT | AV7: FERT | AW7: FERT | AX7: FERT | AY7: FERT
A8: Kuwait | B8: LERT | C8: LERT | D8: LERT | E8: LERT | F8: LERT | G8: LERT | H8: LERT | I8: LERT | J8: LERT | K8: LERT | L8: LERT | M8: LERT | N8: LERT | O8: LERT | P8: LERT | Q8: LERT | R8: LERT | S8: LERT | T8: LERT | U8: LERT | V8: LERT | W8: LERT | X8: LERT | Y8: LERT | Z8: LERT | AA8: LERT | AB8: LERT | AC8: LERT | AD8: LERT | AE8: FERT | AF8: FERT | AG8: FERT | AH8: FERT | AI8: LERT | AJ8: LERT | AK8: LERT | AL8: LERT | AM8: LERT | AN8: LERT | AO8: LERT | AP8: LERT | AQ8: LERT | AR8: LERT | AS8: LERT | AT8: LERT | AU8: LERT | AV8: LERT | AW8: LERT | AX8: LERT | AY8: LERT
A9: Lebanon | B9: LSD | C9: LSD | D9: LSD | E9: LSD | F9: LSD | G9: LSD | H9: LSD | I9: LSD | J9: LSD | K9: LSD | L9: LSD | M9: LSD | N9: LSD | O9: LSD | P9: LSD | Q9: LSD | R9: LSD | S9: LSD | T9: LSD | U9: LCERT | V9: LCERT | W9: LCERT | X9: LCERT | Y9: LCERT | Z9: LCERT | AA9: FERT | AB9: FERT | AC9: FERT | AD9: FERT | AE9: FERT | AF9: FERT | AG9: FERT | AH9: FERT | AI9: FERT | AJ9: FERT | AK9: FERT | AL9: FERT | AM9: FERT | AN9: FERT | AO9: FERT | AP9: FERT | AQ9: FERT | AR9: FERT | AS9: FERT | AT9: FERT | AU9: FERT | AV9: UD | AW9: UD | AX9: UD | AY9: UD
A10: Libya | B10: AERF | C10: AERF | D10: AERF | E10: AERF | F10: AERF | G10: AERF | H10: AERF | I10: AERF | J10: AERF | K10: AERF | L10: AERF | M10: AERF | N10: AERF | O10: AERF | P10: AERF | Q10: AERF | R10: AERF | S10: AERF | T10: UD | U10: UD | V10: UD | W10: UD | X10: UD | Y10: UD | Z10: UD | AA10: UD | AB10: UD | AC10: UD | AD10: AERF | AE10: AERF | AF10: AERF | AG10: AERF | AH10: AERF | AI10: AERF | AJ10: AERF | AK10: AERF | AL10: AERF | AM10: AERF | AN10: AERF | AO10: AERF | AP10: UD | AQ10: UD | AR10: UD | AS10: UD | AT10: UD | AU10: UD | AV10: UD | AW10: LSD | AX10: LSD | AY10: LSD
A11: Morocco | B11: AERF | C11: AERF | D11: AERF | E11: AERF | F11: AERF | G11: AERF | H11: AERF | I11: LSD | J11: LSD | K11: LSD | L11: LSD | M11: LSD | N11: LSD | O11: LSD | P11: LSD | Q11: LSD | R11: LSD | S11: LERT | T11: LERT | U11: LERT | V11: LERT | W11: LERT | X11: LERT | Y11: LERT | Z11: LERT | AA11: LERT | AB11: LERT | AC11: LERT | AD11: LERT | AE11: LERT | AF11: LERT | AG11: LERT | AH11: LERT | AI11: FERT | AJ11: FERT | AK11: FERT | AL11: FERT | AM11: FERT | AN11: FERT | AO11: FERT | AP11: FERT | AQ11: FERT | AR11: FERT | AS11: FERT | AT11: LERT | AU11: LERT | AV11: LERT | AW11: LERT | AX11: LERT | AY11: LERT
A12: Oman | B12: PCB | C12: AERF | D12: AERF | E12: AERF | F12: AERF | G12: AERF | H12: AERF | I12: AERF | J12: AERF | K12: AERF | L12: AERF | M12: AERF | N12: AERF | O12: AERF | P12: AERF | Q12: AERF | R12: AERF | S12: AERF | T12: AERF | U12: AERF | V12: AERF | W12: AERF | X12: AERF | Y12: AERF | Z12: AERF | AA12: AERF | AB12: AERF | AC12: AERF | AD12: AERF | AE12: AERF | AF12: AERF | AG12: AERF | AH12: AERF | AI12: AERF | AJ12: AERF | AK12: AERF | AL12: AERF | AM12: AERF | AN12: AERF | AO12: AERF | AP12: AERF | AQ12: AERF | AR12: AERF | AS12: AERF | AT12: AERF | AU12: AERF | AV12: AERF | AW12: AERF | AX12: AERF | AY12: AERF
A13: Qatar | B13: PCB | C13: PCB | D13: PCB | E13: PCB | F13: PCB | G13: ACB | H13: ACB | I13: ACB | J13: ACB | K13: ACB | L13: ACB | M13: ACB | N13: ACB | O13: ACB | P13: ACB | Q13: ACB | R13: ACB | S13: ACB | T13: ACB | U13: LERT | V13: LERT | W13: LERT | X13: LERT | Y13: LERT | Z13: LERT | AA13: LERT | AB13: LERT | AC13: FERT | AD13: FERT | AE13: FERT | AF13: FERT | AG13: FERT | AH13: FERT | AI13: FERT | AJ13: FERT | AK13: FERT | AL13: FERT | AM13: FERT | AN13: FERT | AO13: FERT | AP13: FERT | AQ13: FERT | AR13: FERT | AS13: FERT | AT13: FERT | AU13: FERT | AV13: FERT | AW13: FERT | AX13: FERT | AY13: FERT
... A22: Yemen, Republic of | B22: X | C22: X | D22: X | E22: X | F22: X | G22: X | H22: X | I22: X | J22: X | K22: X | L22: X | M22: X | N22: X | O22: X | P22: X | Q22: X | R22: UD | S22: UD | T22: UD | U22: UD | V22: UD | W22: LSD | X22: LSD | Y22: LSD | Z22: LSD | AA22: LSD | AB22: LSD | AC22: LSD | AD22: LSD | AE22: LSD | AF22: LSD | AG22: LSD | AH22: LSD | AI22: LSD | AJ22: LSD | AK22: LSD | AL22: LSD | AM22: LSD | AN22: LSD | AO22: LSD | AP22: LSD | AQ22: UD | AR22: UD | AS22: UD | AT22: UD | AU22: UD | AV22: UD | AW22: UD | AX22: UD | AY22: UD
B26: 1974 | C26: 1975 | D26: 1976 | E26: 1977 | F26: 1978 | G26: 1979 | H26: 1980 | I26: 1981 | J26: 1982 | K26: 1983 | L26: 1984 | M26: 1985 | N26: 1986 | O26: 1987 | P26: 1988 | Q26: 1989 | R26: 1990 | S26: 1991 | T26: 1992 | U26: 1993 | V26: 1994 | W26: 1995 | X26: 1996 | Y26: 1997 | Z26: 1998 | AA26: 1999 | AB26: 2000 | AC26: 2001 | AD26: 2002 | AE26: 2003 | AF26: 2004 | AG26: 2005 | AH26: 2006 | AI26: 2007 | AJ26: 2008 | AK26: 2009 | AL26: 2010 | AM26: 2011 | AN26: 2012 | AO26: 2013 | AP26: 2014 | AQ26: 2015 | AR26: 2016 | AS26: 2017 | AT26: 2018 | AU26: 2019 | AV26: 2020 | AW26: 2021 | AX26: 2022 | AY26: 2023
A27: X | B27: =COUNTIF(B2:B22,"X") -> 1 | C27: =COUNTIF(C2:C22,"X") -> 1 | D27: =COUNTIF(D2:D22,"X") -> 1 | E27: =COUNTIF(E2:E22,"X") -> 1 | F27: =COUNTIF(F2:F22,"X") -> 1 | G27: =COUNTIF(G2:G22,"X") -> 1 | H27: =COUNTIF(H2:H22,"X") -> 1 | I27: =COUNTIF(I2:I22,"X") -> 1 | ... AY27: =COUNTIF(AY2:AY22,"X") -> 2
A28: MDC | B28: =COUNTIF(B2:B22,"MDC") -> 3 | C28: =COUNTIF(C2:C22,"MDC") -> 3 | D28: =COUNTIF(D2:D22,"MDC") -> 3 | E28: =COUNTIF(E2:E22,"MDC") -> 2 | F28: =COUNTIF(F2:F22,"MDC") -> 2 | G28: =COUNTIF(G2:G22,"MDC") -> 2 | H28: =COUNTIF(H2:H22,"MDC") -> 2 | I28: =COUNTIF(I2:I22,"MDC") -> 2 | ... AY28: =COUNTIF(AY2:AY22,"MDC") -> 0
A29: PERF | B29: =COUNTIF(B2:B22,"PERF") -> 0 | C29: =COUNTIF(C2:C22,"PERF") -> 0 | D29: =COUNTIF(D2:D22,"PERF") -> 0 | E29: =COUNTIF(E2:E22,"PERF") -> 0 | F29: =COUNTIF(F2:F22,"PERF") -> 0 | G29: =COUNTIF(G2:G22,"PERF") -> 0 | H29: =COUNTIF(H2:H22,"PERF") -> 0 | I29: =COUNTIF(I2:I22,"PERF") -> 0 | ... AY29: =COUNTIF(AY2:AY22,"PERF") -> 0
A30: AERF | B30: =COUNTIF(B2:B22,"AERF") -> 7 | C30: =COUNTIF(C2:C22,"AERF") -> 9 | D30: =COUNTIF(D2:D22,"AERF") -> 9 | E30: =COUNTIF(E2:E22,"AERF") -> 9 | F30: =COUNTIF(F2:F22,"AERF") -> 9 | G30: =COUNTIF(G2:G22,"AERF") -> 9 | H30: =COUNTIF(H2:H22,"AERF") -> 9 | I30: =COUNTIF(I2:I22,"AERF") -> 8 | ... AY30: =COUNTIF(AY2:AY22,"AERF") -> 2
A31: PCB | B31: =COUNTIF(B2:B22,"PCB") -> 2 | C31: =COUNTIF(C2:C22,"PCB") -> 1 | D31: =COUNTIF(D2:D22,"PCB") -> 1 | E31: =COUNTIF(E2:E22,"PCB") -> 1 | F31: =COUNTIF(F2:F22,"PCB") -> 1 | G31: =COUNTIF(G2:G22,"PCB") -> 0 | H31: =COUNTIF(H2:H22,"PCB") -> 0 | I31: =COUNTIF(I2:I22,"PCB") -> 0 | ... AY31: =COUNTIF(AY2:AY22,"PCB") -> 0
A32: ACB | B32: =COUNTIF(B2:B22,"ACB") -> 2 | C32: =COUNTIF(C2:C22,"ACB") -> 1 | D32: =COUNTIF(D2:D22,"ACB") -> 1 | E32: =COUNTIF(E2:E22,"ACB") -> 1 | F32: =COUNTIF(F2:F22,"ACB") -> 1 | G32: =COUNTIF(G2:G22,"ACB") -> 2 | H32: =COUNTIF(H2:H22,"ACB") -> 2 | I32: =COUNTIF(I2:I22,"ACB") -> 1 | ... AY32: =COUNTIF(AY2:AY22,"ACB") -> 0
A33: UD | B33: =COUNTIF(B2:B22,"UD") -> 2 | C33: =COUNTIF(C2:C22,"UD") -> 2 | D33: =COUNTIF(D2:D22,"UD") -> 2 | E33: =COUNTIF(E2:E22,"UD") -> 3 | F33: =COUNTIF(F2:F22,"UD") -> 3 | G33: =COUNTIF(G2:G22,"UD") -> 3 | H33: =COUNTIF(H2:H22,"UD") -> 4 | I33: =COUNTIF(I2:I22,"UD") -> 4 | ... AY33: =COUNTIF(AY2:AY22,"UD") -> 4
A34: LERT | B34: =COUNTIF(B2:B22,"LERT") -> 1 | C34: =COUNTIF(C2:C22,"LERT") -> 1 | D34: =COUNTIF(D2:D22,"LERT") -> 1 | E34: =COUNTIF(E2:E22,"LERT") -> 1 | F34: =COUNTIF(F2:F22,"LERT") -> 1 | G34: =COUNTIF(G2:G22,"LERT") -> 1 | H34: =COUNTIF(H2:H22,"LERT") -> 1 | I34: =COUNTIF(I2:I22,"LERT") -> 2 | ... AY34: =COUNTIF(AY2:AY22,"LERT") -> 2
A35: LCERT | B35: =COUNTIF(B2:B22,"LCERT") -> 0 | C35: =COUNTIF(C2:C22,"LCERT") -> 0 | D35: =COUNTIF(D2:D22,"LCERT") -> 0 | E35: =COUNTIF(E2:E22,"LCERT") -> 0 | F35: =COUNTIF(F2:F22,"LCERT") -> 0 | G35: =COUNTIF(G2:G22,"LCERT") -> 0 | H35: =COUNTIF(H2:H22,"LCERT") -> 0 | I35: =COUNTIF(I2:I22,"LCERT") -> 0 | ... AY35: =COUNTIF(AY2:AY22,"LCERT") -> 0
A36: LMT | B36: =COUNTIF(B2:B22,"LMT") -> 0 | C36: =COUNTIF(C2:C22,"LMT") -> 0 | D36: =COUNTIF(D2:D22,"LMT") -> 0 | E36: =COUNTIF(E2:E22,"LMT") -> 0 | F36: =COUNTIF(F2:F22,"LMT") -> 0 | G36: =COUNTIF(G2:G22,"LMT") -> 0 | H36: =COUNTIF(H2:H22,"LMT") -> 0 | I36: =COUNTIF(I2:I22,"LMT") -> 0 | ... AY36: =COUNTIF(AY2:AY22,"LMT") -> 0
A37: LCMT | B37: =COUNTIF(B2:B22,"LCMT") -> 0 | C37: =COUNTIF(C2:C22,"LCMT") -> 0 | D37: =COUNTIF(D2:D22,"LCMT") -> 0 | E37: =COUNTIF(E2:E22,"LCMT") -> 0 | F37: =COUNTIF(F2:F22,"LCMT") -> 0 | G37: =COUNTIF(G2:G22,"LCMT") -> 0 | H37: =COUNTIF(H2:H22,"LCMT") -> 0 | I37: =COUNTIF(I2:I22,"LCMT") -> 0 | ... AY37: =COUNTIF(AY2:AY22,"LCMT") -> 0
A38: LIT | B38: =COUNTIF(B2:B22,"LIT") -> 0 | C38: =COUNTIF(C2:C22,"LIT") -> 0 | D38: =COUNTIF(D2:D22,"LIT") -> 0 | E38: =COUNTIF(E2:E22,"LIT") -> 0 | F38: =COUNTIF(F2:F22,"LIT") -> 0 | G38: =COUNTIF(G2:G22,"LIT") -> 0 | H38: =COUNTIF(H2:H22,"LIT") -> 0 | I38: =COUNTIF(I2:I22,"LIT") -> 0 | ... AY38: =COUNTIF(AY2:AY22,"LIT") -> 0
A39: LCIT | B39: =COUNTIF(B2:B22,"LCIT") -> 0 | C39: =COUNTIF(C2:C22,"LCIT") -> 0 | D39: =COUNTIF(D2:D22,"LCIT") -> 0 | E39: =COUNTIF(E2:E22,"LCIT") -> 0 | F39: =COUNTIF(F2:F22,"LCIT") -> 0 | G39: =COUNTIF(G2:G22,"LCIT") -> 0 | H39: =COUNTIF(H2:H22,"LCIT") -> 0 | I39: =COUNTIF(I2:I22,"LCIT") -> 0 | ... AY39: =COUNTIF(AY2:AY22,"LCIT") -> 0
A40: MwERT | B40: =COUNTIF(B2:B22,"MwERT") -> 0 | C40: =COUNTIF(C2:C22,"MwERT") -> 0 | D40: =COUNTIF(D2:D22,"MwERT") -> 0 | E40: =COUNTIF(E2:E22,"MwERT") -> 0 | F40: =COUNTIF(F2:F22,"MwERT") -> 0 | G40: =COUNTIF(G2:G22,"MwERT") -> 0 | H40: =COUNTIF(H2:H22,"MwERT") -> 0 | I40: =COUNTIF(I2:I22,"MwERT") -> 0 | ... AY40: =COUNTIF(AY2:AY22,"MwERT") -> 0
A41: ERwMT | B41: =COUNTIF(B2:B22,"ERwMT") -> 0 | C41: =COUNTIF(C2:C22,"ERwMT") -> 0 | D41: =COUNTIF(D2:D22,"ERwMT") -> 0 | E41: =COUNTIF(E2:E22,"ERwMT") -> 0 | F41: =COUNTIF(F2:F22,"ERwMT") -> 0 | G41: =COUNTIF(G2:G22,"ERwMT") -> 0 | H41: =COUNTIF(H2:H22,"ERwMT") -> 0 | I41: =COUNTIF(I2:I22,"ERwMT") -> 0 | ... AY41: =COUNTIF(AY2:AY22,"ERwMT") -> 0
A42: M&ERT | B42: =COUNTIF(B2:B22,"M&ERT") -> 0 | C42: =COUNTIF(C2:C22,"M&ERT") -> 0 | D42: =COUNTIF(D2:D22,"M&ERT") -> 0 | E42: =COUNTIF(E2:E22,"M&ERT") -> 0 | F42: =COUNTIF(F2:F22,"M&ERT") -> 0 | G42: =COUNTIF(G2:G22,"M&ERT") -> 0 | H42: =COUNTIF(H2:H22,"M&ERT") -> 0 | I42: =COUNTIF(I2:I22,"M&ERT") -> 0 | ... AY42: =COUNTIF(AY2:AY22,"M&ERT") -> 0
A43: MwIT | B43: =COUNTIF(B2:B22,"MwIT") -> 0 | C43: =COUNTIF(C2:C22,"MwIT") -> 0 | D43: =COUNTIF(D2:D22,"MwIT") -> 0 | E43: =COUNTIF(E2:E22,"MwIT") -> 0 | F43: =COUNTIF(F2:F22,"MwIT") -> 0 | G43: =COUNTIF(G2:G22,"MwIT") -> 0 | H43: =COUNTIF(H2:H22,"MwIT") -> 0 | I43: =COUNTIF(I2:I22,"MwIT") -> 0 | ... AY43: =COUNTIF(AY2:AY22,"MwIT") -> 0
A44: IwMT | B44: =COUNTIF(B2:B22,"IwMT") -> 0 | C44: =COUNTIF(C2:C22,"IwMT") -> 0 | D44: =COUNTIF(D2:D22,"IwMT") -> 0 | E44: =COUNTIF(E2:E22,"IwMT") -> 0 | F44: =COUNTIF(F2:F22,"IwMT") -> 0 | G44: =COUNTIF(G2:G22,"IwMT") -> 0 | H44: =COUNTIF(H2:H22,"IwMT") -> 0 | I44: =COUNTIF(I2:I22,"IwMT") -> 0 | ... AY44: =COUNTIF(AY2:AY22,"IwMT") -> 0
A45: M&IT | B45: =COUNTIF(B2:B22,"M&IT") -> 0 | C45: =COUNTIF(C2:C22,"M&IT") -> 0 | D45: =COUNTIF(D2:D22,"M&IT") -> 0 | E45: =COUNTIF(E2:E22,"M&IT") -> 0 | F45: =COUNTIF(F2:F22,"M&IT") -> 0 | G45: =COUNTIF(G2:G22,"M&IT") -> 0 | H45: =COUNTIF(H2:H22,"M&IT") -> 0 | I45: =COUNTIF(I2:I22,"M&IT") -> 0 | ... AY45: =COUNTIF(AY2:AY22,"M&IT") -> 0
A46: IwERT | B46: =COUNTIF(B2:B22,"IwERT") -> 0 | C46: =COUNTIF(C2:C22,"IwERT") -> 0 | D46: =COUNTIF(D2:D22,"IwERT") -> 0 | E46: =COUNTIF(E2:E22,"IwERT") -> 0 | F46: =COUNTIF(F2:F22,"IwERT") -> 0 | G46: =COUNTIF(G2:G22,"IwERT") -> 0 | H46: =COUNTIF(H2:H22,"IwERT") -> 0 | I46: =COUNTIF(I2:I22,"IwERT") -> 0 | ... AY46: =COUNTIF(AY2:AY22,"IwERT") -> 0
A47: ERwIT | B47: =COUNTIF(B2:B22,"ERwIT") -> 0 | C47: =COUNTIF(C2:C22,"ERwIT") -> 0 | D47: =COUNTIF(D2:D22,"ERwIT") -> 0 | E47: =COUNTIF(E2:E22,"ERwIT") -> 0 | F47: =COUNTIF(F2:F22,"ERwIT") -> 0 | G47: =COUNTIF(G2:G22,"ERwIT") -> 0 | H47: =COUNTIF(H2:H22,"ERwIT") -> 0 | I47: =COUNTIF(I2:I22,"ERwIT") -> 0 | ... AY47: =COUNTIF(AY2:AY22,"ERwIT") -> 0
A48: I&ERT | B48: =COUNTIF(B2:B22,"I&ERT") -> 0 | C48: =COUNTIF(C2:C22,"I&ERT") -> 0 | D48: =COUNTIF(D2:D22,"I&ERT") -> 0 | E48: =COUNTIF(E2:E22,"I&ERT") -> 0 | F48: =COUNTIF(F2:F22,"I&ERT") -> 0 | G48: =COUNTIF(G2:G22,"I&ERT") -> 0 | H48: =COUNTIF(H2:H22,"I&ERT") -> 0 | I48: =COUNTIF(I2:I22,"I&ERT") -> 0 | ... AY48: =COUNTIF(AY2:AY22,"I&ERT") -> 0
A49: ER&M&IT | B49: =COUNTIF(B2:B22,"ER&M&IT") -> 0 | C49: =COUNTIF(C2:C22,"ER&M&IT") -> 0 | D49: =COUNTIF(D2:D22,"ER&M&IT") -> 0 | E49: =COUNTIF(E2:E22,"ER&M&IT") -> 0 | F49: =COUNTIF(F2:F22,"ER&M&IT") -> 0 | G49: =COUNTIF(G2:G22,"ER&M&IT") -> 0 | H49: =COUNTIF(H2:H22,"ER&M&IT") -> 0 | I49: =COUNTIF(I2:I22,"ER&M&IT") -> 0 | ... AY49: =COUNTIF(AY2:AY22,"ER&M&IT") -> 0
A50: LSD | B50: =COUNTIF(B2:B22,"LSD") -> 3 | C50: =COUNTIF(C2:C22,"LSD") -> 3 | D50: =COUNTIF(D2:D22,"LSD") -> 3 | E50: =COUNTIF(E2:E22,"LSD") -> 3 | F50: =COUNTIF(F2:F22,"LSD") -> 3 | G50: =COUNTIF(G2:G22,"LSD") -> 3 | H50: =COUNTIF(H2:H22,"LSD") -> 2 | I50: =COUNTIF(I2:I22,"LSD") -> 3 | ... AY50: =COUNTIF(AY2:AY22,"LSD") -> 6
A51: UASC | B51: =COUNTIF(B2:B22,"UASC") -> 0 | C51: =COUNTIF(C2:C22,"UASC") -> 0 | D51: =COUNTIF(D2:D22,"UASC") -> 0 | E51: =COUNTIF(E2:E22,"UASC") -> 0 | F51: =COUNTIF(F2:F22,"UASC") -> 0 | G51: =COUNTIF(G2:G22,"UASC") -> 0 | H51: =COUNTIF(H2:H22,"UASC") -> 0 | I51: =COUNTIF(I2:I22,"UASC") -> 0 | ... AY51: =COUNTIF(AY2:AY22,"UASC") -> 0
...

Sheet targvar
B1: 1974 | C1: 1975 | D1: 1976 | E1: 1977 | F1: 1978 | G1: 1979 | H1: 1980 | I1: 1981 | J1: 1982 | K1: 1983 | L1: 1984 | M1: 1985 | N1: 1986 | O1: 1987 | P1: 1988 | Q1: 1989 | R1: 1990 | S1: 1991 | T1: 1992 | U1: 1993 | V1: 1994 | W1: 1995 | X1: 1996 | Y1: 1997 | Z1: 1998 | AA1: 1999 | AB1: 2000 | AC1: 2001 | AD1: 2002 | AE1: 2003 | AF1: 2004 | AG1: 2005 | AH1: 2006 | AI1: 2007 | AJ1: 2008 | AK1: 2009 | AL1: 2010 | AM1: 2011 | AN1: 2012 | AO1: 2013 | AP1: 2014 | AQ1: 2015 | AR1: 2016 | AS1: 2017 | AT1: 2018 | AU1: 2019 | AV1: 2020 | AW1: 2021 | AX1: 2022 | AY1: 2023
A2: Algeria | B2: =IF('full menu'!B2="MDC","MDC",IF(OR('full menu'!B2="PERF",'full menu'!B2="AERF",'full menu'!B2="PCB"),"ERfix",IF(OR('full menu'!B2="ACB", 'full menu'!B2="LCERT", 'full menu'!B2="LERT",'full menu'!B2="FCERT",'full menu'!B2="FERT"),"ERTs",IF(OR('full menu'!B2="FCMT",'full menu'!B2="FMT",'full menu'!B2="LMT",'full menu'!B2="LCMT"),"MTs",IF(OR('full menu'!B2="LCIT",'full menu'!B2="FCIT",'full menu'!B2="LIT",'full menu'!B2="FIT"),"ITs",IF(OR('full menu'!B2="MwERT", 'full menu'!B2="ERwMT", 'full menu'!B2="M&ERT", 'full menu'!B2="MwIT", 'full menu'!B2="IwMT", 'full menu'!B2="M&IT", 'full menu'!B2="IwERT", 'full menu'!B2="ERwIT", 'full menu'!B2="I&ERT", 'full menu'!B2="ER&M&IT"),"MixedTs",IF('full menu'!B2="UD","UD",IF('full menu'!B2="LSD","LSD",IF('full menu'!B2="WSD","WSD",""))))))))) -> MDC | C2: =IF('full menu'!C2="MDC","MDC",IF(OR('full menu'!C2="PERF",'full menu'!C2="AERF",'full menu'!C2="PCB"),"ERfix",IF(OR('full menu'!C2="ACB", 'full menu'!C2="LCERT", 'full menu'!C2="LERT",'full menu'!C2="FCERT",'full menu'!C2="FERT"),"ERTs",IF(OR('full menu'!C2="FCMT",'full menu'!C2="FMT",'full menu'!C2="LMT",'full menu'!C2="LCMT"),"MTs",IF(OR('full menu'!C2="LCIT",'full menu'!C2="FCIT",'full menu'!C2="LIT",'full menu'!C2="FIT"),"ITs",IF(OR('full menu'!C2="MwERT", 'full menu'!C2="ERwMT", 'full menu'!C2="M&ERT", 'full menu'!C2="MwIT", 'full menu'!C2="IwMT", 'full menu'!C2="M&IT", 'full menu'!C2="IwERT", 'full menu'!C2="ERwIT", 'full menu'!C2="I&ERT", 'full menu'!C2="ER&M&IT"),"MixedTs",IF('full menu'!C2="UD","UD",IF('full menu'!C2="LSD","LSD",IF('full menu'!C2="WSD","WSD",""))))))))) -> MDC | D2: =IF('full menu'!D2="MDC","MDC",IF(OR('full menu'!D2="PERF",'full menu'!D2="AERF",'full menu'!D2="PCB"),"ERfix",IF(OR('full menu'!D2="ACB", 'full menu'!D2="LCERT", 'full menu'!D2="LERT",'full menu'!D2="FCERT",'full menu'!D2="FERT"),"ERTs",IF(OR('full menu'!D2="FCMT",'full menu'!D2="FMT",'full menu'!D2="LMT",'full menu'!D2="LCMT"),"MTs",IF(OR('full menu'!D2="LCIT",'full menu'!D2="FCIT",'full menu'!D2="LIT",'full menu'!D2="FIT"),"ITs",IF(OR('full menu'!D2="MwERT", 'full menu'!D2="ERwMT", 'full menu'!D2="M&ERT", 'full menu'!D2="MwIT", 'full menu'!D2="IwMT", 'full menu'!D2="M&IT", 'full menu'!D2="IwERT", 'full menu'!D2="ERwIT", 'full menu'!D2="I&ERT", 'full menu'!D2="ER&M&IT"),"MixedTs",IF('full menu'!D2="UD","UD",IF('full menu'!D2="LSD","LSD",IF('full menu'!D2="WSD","WSD",""))))))))) -> MDC | E2: =IF('full menu'!E2="MDC","MDC",IF(OR('full menu'!E2="PERF",'full menu'!E2="AERF",'full menu'!E2="PCB"),"ERfix",IF(OR('full menu'!E2="ACB", 'full menu'!E2="LCERT", 'full menu'!E2="LERT",'full menu'!E2="FCERT",'full menu'!E2="FERT"),"ERTs",IF(OR('full menu'!E2="FCMT",'full menu'!E2="FMT",'full menu'!E2="LMT",'full menu'!E2="LCMT"),"MTs",IF(OR('full menu'!E2="LCIT",'full menu'!E2="FCIT",'full menu'!E2="LIT",'full menu'!E2="FIT"),"ITs",IF(OR('full menu'!E2="MwERT", 'full menu'!E2="ERwMT", 'full menu'!E2="M&ERT", 'full menu'!E2="MwIT", 'full menu'!E2="IwMT", 'full menu'!E2="M&IT", 'full menu'!E2="IwERT", 'full menu'!E2="ERwIT", 'full menu'!E2="I&ERT", 'full menu'!E2="ER&M&IT"),"MixedTs",IF('full menu'!E2="UD","UD",IF('full menu'!E2="LSD","LSD",IF('full menu'!E2="WSD","WSD",""))))))))) -> MDC | F2: =IF('full menu'!F2="MDC","MDC",IF(OR('full menu'!F2="PERF",'full menu'!F2="AERF",'full menu'!F2="PCB"),"ERfix",IF(OR('full menu'!F2="ACB", 'full menu'!F2="LCERT", 'full menu'!F2="LERT",'full menu'!F2="FCERT",'full menu'!F2="FERT"),"ERTs",IF(OR('full menu'!F2="FCMT",'full menu'!F2="FMT",'full menu'!F2="LMT",'full menu'!F2="LCMT"),"MTs",IF(OR('full menu'!F2="LCIT",'full menu'!F2="FCIT",'full menu'!F2="LIT",'full menu'!F2="FIT"),"ITs",IF(OR('full menu'!F2="MwERT", 'full menu'!F2="ERwMT", 'full menu'!F2="M&ERT", 'full menu'!F2="MwIT", 'full menu'!F2="IwMT", 'full menu'!F2="M&IT", 'full menu'!F2="IwERT", 'full menu'!F2="ERwIT", 'full menu'!F2="I&ERT", 'full menu'!F2="ER&M&IT"),"MixedTs",IF('full menu'!F2="UD","UD",IF('full menu'!F2="LSD","LSD",IF('full menu'!F2="WSD","WSD",""))))))))) -> MDC | G2: =IF('full menu'!G2="MDC","MDC",IF(OR('full menu'!G2="PERF",'full menu'!G2="AERF",'full menu'!G2="PCB"),"ERfix",IF(OR('full menu'!G2="ACB", 'full menu'!G2="LCERT", 'full menu'!G2="LERT",'full menu'!G2="FCERT",'full menu'!G2="FERT"),"ERTs",IF(OR('full menu'!G2="FCMT",'full menu'!G2="FMT",'full menu'!G2="LMT",'full menu'!G2="LCMT"),"MTs",IF(OR('full menu'!G2="LCIT",'full menu'!G2="FCIT",'full menu'!G2="LIT",'full menu'!G2="FIT"),"ITs",IF(OR('full menu'!G2="MwERT", 'full menu'!G2="ERwMT", 'full menu'!G2="M&ERT", 'full menu'!G2="MwIT", 'full menu'!G2="IwMT", 'full menu'!G2="M&IT", 'full menu'!G2="IwERT", 'full menu'!G2="ERwIT", 'full menu'!G2="I&ERT", 'full menu'!G2="ER&M&IT"),"MixedTs",IF('full menu'!G2="UD","UD",IF('full menu'!G2="LSD","LSD",IF('full menu'!G2="WSD","WSD",""))))))))) -> MDC | H2: =IF('full menu'!H2="MDC","MDC",IF(OR('full menu'!H2="PERF",'full menu'!H2="AERF",'full menu'!H2="PCB"),"ERfix",IF(OR('full menu'!H2="ACB", 'full menu'!H2="LCERT", 'full menu'!H2="LERT",'full menu'!H2="FCERT",'full menu'!H2="FERT"),"ERTs",IF(OR('full menu'!H2="FCMT",'full menu'!H2="FMT",'full menu'!H2="LMT",'full menu'!H2="LCMT"),"MTs",IF(OR('full menu'!H2="LCIT",'full menu'!H2="FCIT",'full menu'!H2="LIT",'full menu'!H2="FIT"),"ITs",IF(OR('full menu'!H2="MwERT", 'full menu'!H2="ERwMT", 'full menu'!H2="M&ERT", 'full menu'!H2="MwIT", 'full menu'!H2="IwMT", 'full menu'!H2="M&IT", 'full menu'!H2="IwERT", 'full menu'!H2="ERwIT", 'full menu'!H2="I&ERT", 'full menu'!H2="ER&M&IT"),"MixedTs",IF('full menu'!H2="UD","UD",IF('full menu'!H2="LSD","LSD",IF('full menu'!H2="WSD","WSD",""))))))))) -> MDC | I2: =IF('full menu'!I2="MDC","MDC",IF(OR('full menu'!I2="PERF",'full menu'!I2="AERF",'full menu'!I2="PCB"),"ERfix",IF(OR('full menu'!I2="ACB", 'full menu'!I2="LCERT", 'full menu'!I2="LERT",'full menu'!I2="FCERT",'full menu'!I2="FERT"),"ERTs",IF(OR('full menu'!I2="FCMT",'full menu'!I2="FMT",'full menu'!I2="LMT",'full menu'!I2="LCMT"),"MTs",IF(OR('full menu'!I2="LCIT",'full menu'!I2="FCIT",'full menu'!I2="LIT",'full menu'!I2="FIT"),"ITs",IF(OR('full menu'!I2="MwERT", 'full menu'!I2="ERwMT", 'full menu'!I2="M&ERT", 'full menu'!I2="MwIT", 'full menu'!I2="IwMT", 'full menu'!I2="M&IT", 'full menu'!I2="IwERT", 'full menu'!I2="ERwIT", 'full menu'!I2="I&ERT", 'full menu'!I2="ER&M&IT"),"MixedTs",IF('full menu'!I2="UD","UD",IF('full menu'!I2="LSD","LSD",IF('full menu'!I2="WSD","WSD",""))))))))) -> MDC | ... AY2: =IF('full menu'!AY2="MDC","MDC",IF(OR('full menu'!AY2="PERF",'full menu'!AY2="AERF",'full menu'!AY2="PCB"),"ERfix",IF(OR('full menu'!AY2="ACB", 'full menu'!AY2="LCERT", 'full menu'!AY2="LERT",'full menu'!AY2="FCERT",'full menu'!AY2="FERT"),"ERTs",IF(OR('full menu'!AY2="FCMT",'full menu'!AY2="FMT",'full menu'!AY2="LMT",'full menu'!AY2="LCMT"),"MTs",IF(OR('full menu'!AY2="LCIT",'full menu'!AY2="FCIT",'full menu'!AY2="LIT",'full menu'!AY2="FIT"),"ITs",IF(OR('full menu'!AY2="MwERT", 'full menu'!AY2="ERwMT", 'full menu'!AY2="M&ERT", 'full menu'!AY2="MwIT", 'full menu'!AY2="IwMT", 'full menu'!AY2="M&IT", 'full menu'!AY2="IwERT", 'full menu'!AY2="ERwIT", 'full menu'!AY2="I&ERT", 'full menu'!AY2="ER&M&IT"),"MixedTs",IF('full menu'!AY2="UD","UD",IF('full menu'!AY2="LSD","LSD",IF('full menu'!AY2="WSD","WSD",""))))))))) -> LSD
A3: Bahrain | B3: =IF('full menu'!B3="MDC","MDC",IF(OR('full menu'!B3="PERF",'full menu'!B3="AERF",'full menu'!B3="PCB"),"ERfix",IF(OR('full menu'!B3="ACB", 'full menu'!B3="LCERT", 'full menu'!B3="LERT",'full menu'!B3="FCERT",'full menu'!B3="FERT"),"ERTs",IF(OR('full menu'!B3="FCMT",'full menu'!B3="FMT",'full menu'!B3="LMT",'full menu'!B3="LCMT"),"MTs",IF(OR('full menu'!B3="LCIT",'full menu'!B3="FCIT",'full menu'!B3="LIT",'full menu'!B3="FIT"),"ITs",IF(OR('full menu'!B3="MwERT", 'full menu'!B3="ERwMT", 'full menu'!B3="M&ERT", 'full menu'!B3="MwIT", 'full menu'!B3="IwMT", 'full menu'!B3="M&IT", 'full menu'!B3="IwERT", 'full menu'!B3="ERwIT", 'full menu'!B3="I&ERT", 'full menu'!B3="ER&M&IT"),"MixedTs",IF('full menu'!B3="UD","UD",IF('full menu'!B3="LSD","LSD",IF('full menu'!B3="WSD","WSD",""))))))))) -> ERTs | C3: =IF('full menu'!C3="MDC","MDC",IF(OR('full menu'!C3="PERF",'full menu'!C3="AERF",'full menu'!C3="PCB"),"ERfix",IF(OR('full menu'!C3="ACB", 'full menu'!C3="LCERT", 'full menu'!C3="LERT",'full menu'!C3="FCERT",'full menu'!C3="FERT"),"ERTs",IF(OR('full menu'!C3="FCMT",'full menu'!C3="FMT",'full menu'!C3="LMT",'full menu'!C3="LCMT"),"MTs",IF(OR('full menu'!C3="LCIT",'full menu'!C3="FCIT",'full menu'!C3="LIT",'full menu'!C3="FIT"),"ITs",IF(OR('full menu'!C3="MwERT", 'full menu'!C3="ERwMT", 'full menu'!C3="M&ERT", 'full menu'!C3="MwIT", 'full menu'!C3="IwMT", 'full menu'!C3="M&IT", 'full menu'!C3="IwERT", 'full menu'!C3="ERwIT", 'full menu'!C3="I&ERT", 'full menu'!C3="ER&M&IT"),"MixedTs",IF('full menu'!C3="UD","UD",IF('full menu'!C3="LSD","LSD",IF('full menu'!C3="WSD","WSD",""))))))))) -> ERfix | D3: =IF('full menu'!D3="MDC","MDC",IF(OR('full menu'!D3="PERF",'full menu'!D3="AERF",'full menu'!D3="PCB"),"ERfix",IF(OR('full menu'!D3="ACB", 'full menu'!D3="LCERT", 'full menu'!D3="LERT",'full menu'!D3="FCERT",'full menu'!D3="FERT"),"ERTs",IF(OR('full menu'!D3="FCMT",'full menu'!D3="FMT",'full menu'!D3="LMT",'full menu'!D3="LCMT"),"MTs",IF(OR('full menu'!D3="LCIT",'full menu'!D3="FCIT",'full menu'!D3="LIT",'full menu'!D3="FIT"),"ITs",IF(OR('full menu'!D3="MwERT", 'full menu'!D3="ERwMT", 'full menu'!D3="M&ERT", 'full menu'!D3="MwIT", 'full menu'!D3="IwMT", 'full menu'!D3="M&IT", 'full menu'!D3="IwERT", 'full menu'!D3="ERwIT", 'full menu'!D3="I&ERT", 'full menu'!D3="ER&M&IT"),"MixedTs",IF('full menu'!D3="UD","UD",IF('full menu'!D3="LSD","LSD",IF('full menu'!D3="WSD","WSD",""))))))))) -> ERfix | E3: =IF('full menu'!E3="MDC","MDC",IF(OR('full menu'!E3="PERF",'full menu'!E3="AERF",'full menu'!E3="PCB"),"ERfix",IF(OR('full menu'!E3="ACB", 'full menu'!E3="LCERT", 'full menu'!E3="LERT",'full menu'!E3="FCERT",'full menu'!E3="FERT"),"ERTs",IF(OR('full menu'!E3="FCMT",'full menu'!E3="FMT",'full menu'!E3="LMT",'full menu'!E3="LCMT"),"MTs",IF(OR('full menu'!E3="LCIT",'full menu'!E3="FCIT",'full menu'!E3="LIT",'full menu'!E3="FIT"),"ITs",IF(OR('full menu'!E3="MwERT", 'full menu'!E3="ERwMT", 'full menu'!E3="M&ERT", 'full menu'!E3="MwIT", 'full menu'!E3="IwMT", 'full menu'!E3="M&IT", 'full menu'!E3="IwERT", 'full menu'!E3="ERwIT", 'full menu'!E3="I&ERT", 'full menu'!E3="ER&M&IT"),"MixedTs",IF('full menu'!E3="UD","UD",IF('full menu'!E3="LSD","LSD",IF('full menu'!E3="WSD","WSD",""))))))))) -> ERfix | F3: =IF('full menu'!F3="MDC","MDC",IF(OR('full menu'!F3="PERF",'full menu'!F3="AERF",'full menu'!F3="PCB"),"ERfix",IF(OR('full menu'!F3="ACB", 'full menu'!F3="LCERT", 'full menu'!F3="LERT",'full menu'!F3="FCERT",'full menu'!F3="FERT"),"ERTs",IF(OR('full menu'!F3="FCMT",'full menu'!F3="FMT",'full menu'!F3="LMT",'full menu'!F3="LCMT"),"MTs",IF(OR('full menu'!F3="LCIT",'full menu'!F3="FCIT",'full menu'!F3="LIT",'full menu'!F3="FIT"),"ITs",IF(OR('full menu'!F3="MwERT", 'full menu'!F3="ERwMT", 'full menu'!F3="M&ERT", 'full menu'!F3="MwIT", 'full menu'!F3="IwMT", 'full menu'!F3="M&IT", 'full menu'!F3="IwERT", 'full menu'!F3="ERwIT", 'full menu'!F3="I&ERT", 'full menu'!F3="ER&M&IT"),"MixedTs",IF('full menu'!F3="UD","UD",IF('full menu'!F3="LSD","LSD",IF('full menu'!F3="WSD","WSD",""))))))))) -> ERfix | G3: =IF('full menu'!G3="MDC","MDC",IF(OR('full menu'!G3="PERF",'full menu'!G3="AERF",'full menu'!G3="PCB"),"ERfix",IF(OR('full menu'!G3="ACB", 'full menu'!G3="LCERT", 'full menu'!G3="LERT",'full menu'!G3="FCERT",'full menu'!G3="FERT"),"ERTs",IF(OR('full menu'!G3="FCMT",'full menu'!G3="FMT",'full menu'!G3="LMT",'full menu'!G3="LCMT"),"MTs",IF(OR('full menu'!G3="LCIT",'full menu'!G3="FCIT",'full menu'!G3="LIT",'full menu'!G3="FIT"),"ITs",IF(OR('full menu'!G3="MwERT", 'full menu'!G3="ERwMT", 'full menu'!G3="M&ERT", 'full menu'!G3="MwIT", 'full menu'!G3="IwMT", 'full menu'!G3="M&IT", 'full menu'!G3="IwERT", 'full menu'!G3="ERwIT", 'full menu'!G3="I&ERT", 'full menu'!G3="ER&M&IT"),"MixedTs",IF('full menu'!G3="UD","UD",IF('full menu'!G3="LSD","LSD",IF('full menu'!G3="WSD","WSD",""))))))))) -> ERfix | H3: =IF('full menu'!H3="MDC","MDC",IF(OR('full menu'!H3="PERF",'full menu'!H3="AERF",'full menu'!H3="PCB"),"ERfix",IF(OR('full menu'!H3="ACB", 'full menu'!H3="LCERT", 'full menu'!H3="LERT",'full menu'!H3="FCERT",'full menu'!H3="FERT"),"ERTs",IF(OR('full menu'!H3="FCMT",'full menu'!H3="FMT",'full menu'!H3="LMT",'full menu'!H3="LCMT"),"MTs",IF(OR('full menu'!H3="LCIT",'full menu'!H3="FCIT",'full menu'!H3="LIT",'full menu'!H3="FIT"),"ITs",IF(OR('full menu'!H3="MwERT", 'full menu'!H3="ERwMT", 'full menu'!H3="M&ERT", 'full menu'!H3="MwIT", 'full menu'!H3="IwMT", 'full menu'!H3="M&IT", 'full menu'!H3="IwERT", 'full menu'!H3="ERwIT", 'full menu'!H3="I&ERT", 'full menu'!H3="ER&M&IT"),"MixedTs",IF('full menu'!H3="UD","UD",IF('full menu'!H3="LSD","LSD",IF('full menu'!H3="WSD","WSD",""))))))))) -> ERfix | I3: =IF('full menu'!I3="MDC","MDC",IF(OR('full menu'!I3="PERF",'full menu'!I3="AERF",'full menu'!I3="PCB"),"ERfix",IF(OR('full menu'!I3="ACB", 'full menu'!I3="LCERT", 'full menu'!I3="LERT",'full menu'!I3="FCERT",'full menu'!I3="FERT"),"ERTs",IF(OR('full menu'!I3="FCMT",'full menu'!I3="FMT",'full menu'!I3="LMT",'full menu'!I3="LCMT"),"MTs",IF(OR('full menu'!I3="LCIT",'full menu'!I3="FCIT",'full menu'!I3="LIT",'full menu'!I3="FIT"),"ITs",IF(OR('full menu'!I3="MwERT", 'full menu'!I3="ERwMT", 'full menu'!I3="M&ERT", 'full menu'!I3="MwIT", 'full menu'!I3="IwMT", 'full menu'!I3="M&IT", 'full menu'!I3="IwERT", 'full menu'!I3="ERwIT", 'full menu'!I3="I&ERT", 'full menu'!I3="ER&M&IT"),"MixedTs",IF('full menu'!I3="UD","UD",IF('full menu'!I3="LSD","LSD",IF('full menu'!I3="WSD","WSD",""))))))))) -> ERfix | ... AY3: =IF('full menu'!AY3="MDC","MDC",IF(OR('full menu'!AY3="PERF",'full menu'!AY3="AERF",'full menu'!AY3="PCB"),"ERfix",IF(OR('full menu'!AY3="ACB", 'full menu'!AY3="LCERT", 'full menu'!AY3="LERT",'full menu'!AY3="FCERT",'full menu'!AY3="FERT"),"ERTs",IF(OR('full menu'!AY3="FCMT",'full menu'!AY3="FMT",'full menu'!AY3="LMT",'full menu'!AY3="LCMT"),"MTs",IF(OR('full menu'!AY3="LCIT",'full menu'!AY3="FCIT",'full menu'!AY3="LIT",'full menu'!AY3="FIT"),"ITs",IF(OR('full menu'!AY3="MwERT", 'full menu'!AY3="ERwMT", 'full menu'!AY3="M&ERT", 'full menu'!AY3="MwIT", 'full menu'!AY3="IwMT", 'full menu'!AY3="M&IT", 'full menu'!AY3="IwERT", 'full menu'!AY3="ERwIT", 'full menu'!AY3="I&ERT", 'full menu'!AY3="ER&M&IT"),"MixedTs",IF('full menu'!AY3="UD","UD",IF('full menu'!AY3="LSD","LSD",IF('full menu'!AY3="WSD","WSD",""))))))))) -> ERTs
A4: Egypt | B4: =IF('full menu'!B4="MDC","MDC",IF(OR('full menu'!B4="PERF",'full menu'!B4="AERF",'full menu'!B4="PCB"),"ERfix",IF(OR('full menu'!B4="ACB", 'full menu'!B4="LCERT", 'full menu'!B4="LERT",'full menu'!B4="FCERT",'full menu'!B4="FERT"),"ERTs",IF(OR('full menu'!B4="FCMT",'full menu'!B4="FMT",'full menu'!B4="LMT",'full menu'!B4="LCMT"),"MTs",IF(OR('full menu'!B4="LCIT",'full menu'!B4="FCIT",'full menu'!B4="LIT",'full menu'!B4="FIT"),"ITs",IF(OR('full menu'!B4="MwERT", 'full menu'!B4="ERwMT", 'full menu'!B4="M&ERT", 'full menu'!B4="MwIT", 'full menu'!B4="IwMT", 'full menu'!B4="M&IT", 'full menu'!B4="IwERT", 'full menu'!B4="ERwIT", 'full menu'!B4="I&ERT", 'full menu'!B4="ER&M&IT"),"MixedTs",IF('full menu'!B4="UD","UD",IF('full menu'!B4="LSD","LSD",IF('full menu'!B4="WSD","WSD",""))))))))) -> MDC | C4: =IF('full menu'!C4="MDC","MDC",IF(OR('full menu'!C4="PERF",'full menu'!C4="AERF",'full menu'!C4="PCB"),"ERfix",IF(OR('full menu'!C4="ACB", 'full menu'!C4="LCERT", 'full menu'!C4="LERT",'full menu'!C4="FCERT",'full menu'!C4="FERT"),"ERTs",IF(OR('full menu'!C4="FCMT",'full menu'!C4="FMT",'full menu'!C4="LMT",'full menu'!C4="LCMT"),"MTs",IF(OR('full menu'!C4="LCIT",'full menu'!C4="FCIT",'full menu'!C4="LIT",'full menu'!C4="FIT"),"ITs",IF(OR('full menu'!C4="MwERT", 'full menu'!C4="ERwMT", 'full menu'!C4="M&ERT", 'full menu'!C4="MwIT", 'full menu'!C4="IwMT", 'full menu'!C4="M&IT", 'full menu'!C4="IwERT", 'full menu'!C4="ERwIT", 'full menu'!C4="I&ERT", 'full menu'!C4="ER&M&IT"),"MixedTs",IF('full menu'!C4="UD","UD",IF('full menu'!C4="LSD","LSD",IF('full menu'!C4="WSD","WSD",""))))))))) -> MDC | D4: =IF('full menu'!D4="MDC","MDC",IF(OR('full menu'!D4="PERF",'full menu'!D4="AERF",'full menu'!D4="PCB"),"ERfix",IF(OR('full menu'!D4="ACB", 'full menu'!D4="LCERT", 'full menu'!D4="LERT",'full menu'!D4="FCERT",'full menu'!D4="FERT"),"ERTs",IF(OR('full menu'!D4="FCMT",'full menu'!D4="FMT",'full menu'!D4="LMT",'full menu'!D4="LCMT"),"MTs",IF(OR('full menu'!D4="LCIT",'full menu'!D4="FCIT",'full menu'!D4="LIT",'full menu'!D4="FIT"),"ITs",IF(OR('full menu'!D4="MwERT", 'full menu'!D4="ERwMT", 'full menu'!D4="M&ERT", 'full menu'!D4="MwIT", 'full menu'!D4="IwMT", 'full menu'!D4="M&IT", 'full menu'!D4="IwERT", 'full menu'!D4="ERwIT", 'full menu'!D4="I&ERT", 'full menu'!D4="ER&M&IT"),"MixedTs",IF('full menu'!D4="UD","UD",IF('full menu'!D4="LSD","LSD",IF('full menu'!D4="WSD","WSD",""))))))))) -> MDC | E4: =IF('full menu'!E4="MDC","MDC",IF(OR('full menu'!E4="PERF",'full menu'!E4="AERF",'full menu'!E4="PCB"),"ERfix",IF(OR('full menu'!E4="ACB", 'full menu'!E4="LCERT", 'full menu'!E4="LERT",'full menu'!E4="FCERT",'full menu'!E4="FERT"),"ERTs",IF(OR('full menu'!E4="FCMT",'full menu'!E4="FMT",'full menu'!E4="LMT",'full menu'!E4="LCMT"),"MTs",IF(OR('full menu'!E4="LCIT",'full menu'!E4="FCIT",'full menu'!E4="LIT",'full menu'!E4="FIT"),"ITs",IF(OR('full menu'!E4="MwERT", 'full menu'!E4="ERwMT", 'full menu'!E4="M&ERT", 'full menu'!E4="MwIT", 'full menu'!E4="IwMT", 'full menu'!E4="M&IT", 'full menu'!E4="IwERT", 'full menu'!E4="ERwIT", 'full menu'!E4="I&ERT", 'full menu'!E4="ER&M&IT"),"MixedTs",IF('full menu'!E4="UD","UD",IF('full menu'!E4="LSD","LSD",IF('full menu'!E4="WSD","WSD",""))))))))) -> UD | F4: =IF('full menu'!F4="MDC","MDC",IF(OR('full menu'!F4="PERF",'full menu'!F4="AERF",'full menu'!F4="PCB"),"ERfix",IF(OR('full menu'!F4="ACB", 'full menu'!F4="LCERT", 'full menu'!F4="LERT",'full menu'!F4="FCERT",'full menu'!F4="FERT"),"ERTs",IF(OR('full menu'!F4="FCMT",'full menu'!F4="FMT",'full menu'!F4="LMT",'full menu'!F4="LCMT"),"MTs",IF(OR('full menu'!F4="LCIT",'full menu'!F4="FCIT",'full menu'!F4="LIT",'full menu'!F4="FIT"),"ITs",IF(OR('full menu'!F4="MwERT", 'full menu'!F4="ERwMT", 'full menu'!F4="M&ERT", 'full menu'!F4="MwIT", 'full menu'!F4="IwMT", 'full menu'!F4="M&IT", 'full menu'!F4="IwERT", 'full menu'!F4="ERwIT", 'full menu'!F4="I&ERT", 'full menu'!F4="ER&M&IT"),"MixedTs",IF('full menu'!F4="UD","UD",IF('full menu'!F4="LSD","LSD",IF('full menu'!F4="WSD","WSD",""))))))))) -> UD | G4: =IF('full menu'!G4="MDC","MDC",IF(OR('full menu'!G4="PERF",'full menu'!G4="AERF",'full menu'!G4="PCB"),"ERfix",IF(OR('full menu'!G4="ACB", 'full menu'!G4="LCERT", 'full menu'!G4="LERT",'full menu'!G4="FCERT",'full menu'!G4="FERT"),"ERTs",IF(OR('full menu'!G4="FCMT",'full menu'!G4="FMT",'full menu'!G4="LMT",'full menu'!G4="LCMT"),"MTs",IF(OR('full menu'!G4="LCIT",'full menu'!G4="FCIT",'full menu'!G4="LIT",'full menu'!G4="FIT"),"ITs",IF(OR('full menu'!G4="MwERT", 'full menu'!G4="ERwMT", 'full menu'!G4="M&ERT", 'full menu'!G4="MwIT", 'full menu'!G4="IwMT", 'full menu'!G4="M&IT", 'full menu'!G4="IwERT", 'full menu'!G4="ERwIT", 'full menu'!G4="I&ERT", 'full menu'!G4="ER&M&IT"),"MixedTs",IF('full menu'!G4="UD","UD",IF('full menu'!G4="LSD","LSD",IF('full menu'!G4="WSD","WSD",""))))))))) -> UD | H4: =IF('full menu'!H4="MDC","MDC",IF(OR('full menu'!H4="PERF",'full menu'!H4="AERF",'full menu'!H4="PCB"),"ERfix",IF(OR('full menu'!H4="ACB", 'full menu'!H4="LCERT", 'full menu'!H4="LERT",'full menu'!H4="FCERT",'full menu'!H4="FERT"),"ERTs",IF(OR('full menu'!H4="FCMT",'full menu'!H4="FMT",'full menu'!H4="LMT",'full menu'!H4="LCMT"),"MTs",IF(OR('full menu'!H4="LCIT",'full menu'!H4="FCIT",'full menu'!H4="LIT",'full menu'!H4="FIT"),"ITs",IF(OR('full menu'!H4="MwERT", 'full menu'!H4="ERwMT", 'full menu'!H4="M&ERT", 'full menu'!H4="MwIT", 'full menu'!H4="IwMT", 'full menu'!H4="M&IT", 'full menu'!H4="IwERT", 'full menu'!H4="ERwIT", 'full menu'!H4="I&ERT", 'full menu'!H4="ER&M&IT"),"MixedTs",IF('full menu'!H4="UD","UD",IF('full menu'!H4="LSD","LSD",IF('full menu'!H4="WSD","WSD",""))))))))) -> UD | I4: =IF('full menu'!I4="MDC","MDC",IF(OR('full menu'!I4="PERF",'full menu'!I4="AERF",'full menu'!I4="PCB"),"ERfix",IF(OR('full menu'!I4="ACB", 'full menu'!I4="LCERT", 'full menu'!I4="LERT",'full menu'!I4="FCERT",'full menu'!I4="FERT"),"ERTs",IF(OR('full menu'!I4="FCMT",'full menu'!I4="FMT",'full menu'!I4="LMT",'full menu'!I4="LCMT"),"MTs",IF(OR('full menu'!I4="LCIT",'full menu'!I4="FCIT",'full menu'!I4="LIT",'full menu'!I4="FIT"),"ITs",IF(OR('full menu'!I4="MwERT", 'full menu'!I4="ERwMT", 'full menu'!I4="M&ERT", 'full menu'!I4="MwIT", 'full menu'!I4="IwMT", 'full menu'!I4="M&IT", 'full menu'!I4="IwERT", 'full menu'!I4="ERwIT", 'full menu'!I4="I&ERT", 'full menu'!I4="ER&M&IT"),"MixedTs",IF('full menu'!I4="UD","UD",IF('full menu'!I4="LSD","LSD",IF('full menu'!I4="WSD","WSD",""))))))))) -> UD | ... AY4: =IF('full menu'!AY4="MDC","MDC",IF(OR('full menu'!AY4="PERF",'full menu'!AY4="AERF",'full menu'!AY4="PCB"),"ERfix",IF(OR('full menu'!AY4="ACB", 'full menu'!AY4="LCERT", 'full menu'!AY4="LERT",'full menu'!AY4="FCERT",'full menu'!AY4="FERT"),"ERTs",IF(OR('full menu'!AY4="FCMT",'full menu'!AY4="FMT",'full menu'!AY4="LMT",'full menu'!AY4="LCMT"),"MTs",IF(OR('full menu'!AY4="LCIT",'full menu'!AY4="FCIT",'full menu'!AY4="LIT",'full menu'!AY4="FIT"),"ITs",IF(OR('full menu'!AY4="MwERT", 'full menu'!AY4="ERwMT", 'full menu'!AY4="M&ERT", 'full menu'!AY4="MwIT", 'full menu'!AY4="IwMT", 'full menu'!AY4="M&IT", 'full menu'!AY4="IwERT", 'full menu'!AY4="ERwIT", 'full menu'!AY4="I&ERT", 'full menu'!AY4="ER&M&IT"),"MixedTs",IF('full menu'!AY4="UD","UD",IF('full menu'!AY4="LSD","LSD",IF('full menu'!AY4="WSD","WSD",""))))))))) -> LSD
A5: Iran | B5: =IF('full menu'!B5="MDC","MDC",IF(OR('full menu'!B5="PERF",'full menu'!B5="AERF",'full menu'!B5="PCB"),"ERfix",IF(OR('full menu'!B5="ACB", 'full menu'!B5="LCERT", 'full menu'!B5="LERT",'full menu'!B5="FCERT",'full menu'!B5="FERT"),"ERTs",IF(OR('full menu'!B5="FCMT",'full menu'!B5="FMT",'full menu'!B5="LMT",'full menu'!B5="LCMT"),"MTs",IF(OR('full menu'!B5="LCIT",'full menu'!B5="FCIT",'full menu'!B5="LIT",'full menu'!B5="FIT"),"ITs",IF(OR('full menu'!B5="MwERT", 'full menu'!B5="ERwMT", 'full menu'!B5="M&ERT", 'full menu'!B5="MwIT", 'full menu'!B5="IwMT", 'full menu'!B5="M&IT", 'full menu'!B5="IwERT", 'full menu'!B5="ERwIT", 'full menu'!B5="I&ERT", 'full menu'!B5="ER&M&IT"),"MixedTs",IF('full menu'!B5="UD","UD",IF('full menu'!B5="LSD","LSD",IF('full menu'!B5="WSD","WSD",""))))))))) -> LSD | C5: =IF('full menu'!C5="MDC","MDC",IF(OR('full menu'!C5="PERF",'full menu'!C5="AERF",'full menu'!C5="PCB"),"ERfix",IF(OR('full menu'!C5="ACB", 'full menu'!C5="LCERT", 'full menu'!C5="LERT",'full menu'!C5="FCERT",'full menu'!C5="FERT"),"ERTs",IF(OR('full menu'!C5="FCMT",'full menu'!C5="FMT",'full menu'!C5="LMT",'full menu'!C5="LCMT"),"MTs",IF(OR('full menu'!C5="LCIT",'full menu'!C5="FCIT",'full menu'!C5="LIT",'full menu'!C5="FIT"),"ITs",IF(OR('full menu'!C5="MwERT", 'full menu'!C5="ERwMT", 'full menu'!C5="M&ERT", 'full menu'!C5="MwIT", 'full menu'!C5="IwMT", 'full menu'!C5="M&IT", 'full menu'!C5="IwERT", 'full menu'!C5="ERwIT", 'full menu'!C5="I&ERT", 'full menu'!C5="ER&M&IT"),"MixedTs",IF('full menu'!C5="UD","UD",IF('full menu'!C5="LSD","LSD",IF('full menu'!C5="WSD","WSD",""))))))))) -> LSD | D5: =IF('full menu'!D5="MDC","MDC",IF(OR('full menu'!D5="PERF",'full menu'!D5="AERF",'full menu'!D5="PCB"),"ERfix",IF(OR('full menu'!D5="ACB", 'full menu'!D5="LCERT", 'full menu'!D5="LERT",'full menu'!D5="FCERT",'full menu'!D5="FERT"),"ERTs",IF(OR('full menu'!D5="FCMT",'full menu'!D5="FMT",'full menu'!D5="LMT",'full menu'!D5="LCMT"),"MTs",IF(OR('full menu'!D5="LCIT",'full menu'!D5="FCIT",'full menu'!D5="LIT",'full menu'!D5="FIT"),"ITs",IF(OR('full menu'!D5="MwERT", 'full menu'!D5="ERwMT", 'full menu'!D5="M&ERT", 'full menu'!D5="MwIT", 'full menu'!D5="IwMT", 'full menu'!D5="M&IT", 'full menu'!D5="IwERT", 'full menu'!D5="ERwIT", 'full menu'!D5="I&ERT", 'full menu'!D5="ER&M&IT"),"MixedTs",IF('full menu'!D5="UD","UD",IF('full menu'!D5="LSD","LSD",IF('full menu'!D5="WSD","WSD",""))))))))) -> LSD | E5: =IF('full menu'!E5="MDC","MDC",IF(OR('full menu'!E5="PERF",'full menu'!E5="AERF",'full menu'!E5="PCB"),"ERfix",IF(OR('full menu'!E5="ACB", 'full menu'!E5="LCERT", 'full menu'!E5="LERT",'full menu'!E5="FCERT",'full menu'!E5="FERT"),"ERTs",IF(OR('full menu'!E5="FCMT",'full menu'!E5="FMT",'full menu'!E5="LMT",'full menu'!E5="LCMT"),"MTs",IF(OR('full menu'!E5="LCIT",'full menu'!E5="FCIT",'full menu'!E5="LIT",'full menu'!E5="FIT"),"ITs",IF(OR('full menu'!E5="MwERT", 'full menu'!E5="ERwMT", 'full menu'!E5="M&ERT", 'full menu'!E5="MwIT", 'full menu'!E5="IwMT", 'full menu'!E5="M&IT", 'full menu'!E5="IwERT", 'full menu'!E5="ERwIT", 'full menu'!E5="I&ERT", 'full menu'!E5="ER&M&IT"),"MixedTs",IF('full menu'!E5="UD","UD",IF('full menu'!E5="LSD","LSD",IF('full menu'!E5="WSD","WSD",""))))))))) -> LSD | F5: =IF('full menu'!F5="MDC","MDC",IF(OR('full menu'!F5="PERF",'full menu'!F5="AERF",'full menu'!F5="PCB"),"ERfix",IF(OR('full menu'!F5="ACB", 'full menu'!F5="LCERT", 'full menu'!F5="LERT",'full menu'!F5="FCERT",'full menu'!F5="FERT"),"ERTs",IF(OR('full menu'!F5="FCMT",'full menu'!F5="FMT",'full menu'!F5="LMT",'full menu'!F5="LCMT"),"MTs",IF(OR('full menu'!F5="LCIT",'full menu'!F5="FCIT",'full menu'!F5="LIT",'full menu'!F5="FIT"),"ITs",IF(OR('full menu'!F5="MwERT", 'full menu'!F5="ERwMT", 'full menu'!F5="M&ERT", 'full menu'!F5="MwIT", 'full menu'!F5="IwMT", 'full menu'!F5="M&IT", 'full menu'!F5="IwERT", 'full menu'!F5="ERwIT", 'full menu'!F5="I&ERT", 'full menu'!F5="ER&M&IT"),"MixedTs",IF('full menu'!F5="UD","UD",IF('full menu'!F5="LSD","LSD",IF('full menu'!F5="WSD","WSD",""))))))))) -> LSD | G5: =IF('full menu'!G5="MDC","MDC",IF(OR('full menu'!G5="PERF",'full menu'!G5="AERF",'full menu'!G5="PCB"),"ERfix",IF(OR('full menu'!G5="ACB", 'full menu'!G5="LCERT", 'full menu'!G5="LERT",'full menu'!G5="FCERT",'full menu'!G5="FERT"),"ERTs",IF(OR('full menu'!G5="FCMT",'full menu'!G5="FMT",'full menu'!G5="LMT",'full menu'!G5="LCMT"),"MTs",IF(OR('full menu'!G5="LCIT",'full menu'!G5="FCIT",'full menu'!G5="LIT",'full menu'!G5="FIT"),"ITs",IF(OR('full menu'!G5="MwERT", 'full menu'!G5="ERwMT", 'full menu'!G5="M&ERT", 'full menu'!G5="MwIT", 'full menu'!G5="IwMT", 'full menu'!G5="M&IT", 'full menu'!G5="IwERT", 'full menu'!G5="ERwIT", 'full menu'!G5="I&ERT", 'full menu'!G5="ER&M&IT"),"MixedTs",IF('full menu'!G5="UD","UD",IF('full menu'!G5="LSD","LSD",IF('full menu'!G5="WSD","WSD",""))))))))) -> LSD | H5: =IF('full menu'!H5="MDC","MDC",IF(OR('full menu'!H5="PERF",'full menu'!H5="AERF",'full menu'!H5="PCB"),"ERfix",IF(OR('full menu'!H5="ACB", 'full menu'!H5="LCERT", 'full menu'!H5="LERT",'full menu'!H5="FCERT",'full menu'!H5="FERT"),"ERTs",IF(OR('full menu'!H5="FCMT",'full menu'!H5="FMT",'full menu'!H5="LMT",'full menu'!H5="LCMT"),"MTs",IF(OR('full menu'!H5="LCIT",'full menu'!H5="FCIT",'full menu'!H5="LIT",'full menu'!H5="FIT"),"ITs",IF(OR('full menu'!H5="MwERT", 'full menu'!H5="ERwMT", 'full menu'!H5="M&ERT", 'full menu'!H5="MwIT", 'full menu'!H5="IwMT", 'full menu'!H5="M&IT", 'full menu'!H5="IwERT", 'full menu'!H5="ERwIT", 'full menu'!H5="I&ERT", 'full menu'!H5="ER&M&IT"),"MixedTs",IF('full menu'!H5="UD","UD",IF('full menu'!H5="LSD","LSD",IF('full menu'!H5="WSD","WSD",""))))))))) -> UD | I5: =IF('full menu'!I5="MDC","MDC",IF(OR('full menu'!I5="PERF",'full menu'!I5="AERF",'full menu'!I5="PCB"),"ERfix",IF(OR('full menu'!I5="ACB", 'full menu'!I5="LCERT", 'full menu'!I5="LERT",'full menu'!I5="FCERT",'full menu'!I5="FERT"),"ERTs",IF(OR('full menu'!I5="FCMT",'full menu'!I5="FMT",'full menu'!I5="LMT",'full menu'!I5="LCMT"),"MTs",IF(OR('full menu'!I5="LCIT",'full menu'!I5="FCIT",'full menu'!I5="LIT",'full menu'!I5="FIT"),"ITs",IF(OR('full menu'!I5="MwERT", 'full menu'!I5="ERwMT", 'full menu'!I5="M&ERT", 'full menu'!I5="MwIT", 'full menu'!I5="IwMT", 'full menu'!I5="M&IT", 'full menu'!I5="IwERT", 'full menu'!I5="ERwIT", 'full menu'!I5="I&ERT", 'full menu'!I5="ER&M&IT"),"MixedTs",IF('full menu'!I5="UD","UD",IF('full menu'!I5="LSD","LSD",IF('full menu'!I5="WSD","WSD",""))))))))) -> UD | ... AY5: =IF('full menu'!AY5="MDC","MDC",IF(OR('full menu'!AY5="PERF",'full menu'!AY5="AERF",'full menu'!AY5="PCB"),"ERfix",IF(OR('full menu'!AY5="ACB", 'full menu'!AY5="LCERT", 'full menu'!AY5="LERT",'full menu'!AY5="FCERT",'full menu'!AY5="FERT"),"ERTs",IF(OR('full menu'!AY5="FCMT",'full menu'!AY5="FMT",'full menu'!AY5="LMT",'full menu'!AY5="LCMT"),"MTs",IF(OR('full menu'!AY5="LCIT",'full menu'!AY5="FCIT",'full menu'!AY5="LIT",'full menu'!AY5="FIT"),"ITs",IF(OR('full menu'!AY5="MwERT", 'full menu'!AY5="ERwMT", 'full menu'!AY5="M&ERT", 'full menu'!AY5="MwIT", 'full menu'!AY5="IwMT", 'full menu'!AY5="M&IT", 'full menu'!AY5="IwERT", 'full menu'!AY5="ERwIT", 'full menu'!AY5="I&ERT", 'full menu'!AY5="ER&M&IT"),"MixedTs",IF('full menu'!AY5="UD","UD",IF('full menu'!AY5="LSD","LSD",IF('full menu'!AY5="WSD","WSD",""))))))))) -> LSD
A6: Iraq | B6: =IF('full menu'!B6="MDC","MDC",IF(OR('full menu'!B6="PERF",'full menu'!B6="AERF",'full menu'!B6="PCB"),"ERfix",IF(OR('full menu'!B6="ACB", 'full menu'!B6="LCERT", 'full menu'!B6="LERT",'full menu'!B6="FCERT",'full menu'!B6="FERT"),"ERTs",IF(OR('full menu'!B6="FCMT",'full menu'!B6="FMT",'full menu'!B6="LMT",'full menu'!B6="LCMT"),"MTs",IF(OR('full menu'!B6="LCIT",'full menu'!B6="FCIT",'full menu'!B6="LIT",'full menu'!B6="FIT"),"ITs",IF(OR('full menu'!B6="MwERT", 'full menu'!B6="ERwMT", 'full menu'!B6="M&ERT", 'full menu'!B6="MwIT", 'full menu'!B6="IwMT", 'full menu'!B6="M&IT", 'full menu'!B6="IwERT", 'full menu'!B6="ERwIT", 'full menu'!B6="I&ERT", 'full menu'!B6="ER&M&IT"),"MixedTs",IF('full menu'!B6="UD","UD",IF('full menu'!B6="LSD","LSD",IF('full menu'!B6="WSD","WSD",""))))))))) -> ERfix | C6: =IF('full menu'!C6="MDC","MDC",IF(OR('full menu'!C6="PERF",'full menu'!C6="AERF",'full menu'!C6="PCB"),"ERfix",IF(OR('full menu'!C6="ACB", 'full menu'!C6="LCERT", 'full menu'!C6="LERT",'full menu'!C6="FCERT",'full menu'!C6="FERT"),"ERTs",IF(OR('full menu'!C6="FCMT",'full menu'!C6="FMT",'full menu'!C6="LMT",'full menu'!C6="LCMT"),"MTs",IF(OR('full menu'!C6="LCIT",'full menu'!C6="FCIT",'full menu'!C6="LIT",'full menu'!C6="FIT"),"ITs",IF(OR('full menu'!C6="MwERT", 'full menu'!C6="ERwMT", 'full menu'!C6="M&ERT", 'full menu'!C6="MwIT", 'full menu'!C6="IwMT", 'full menu'!C6="M&IT", 'full menu'!C6="IwERT", 'full menu'!C6="ERwIT", 'full menu'!C6="I&ERT", 'full menu'!C6="ER&M&IT"),"MixedTs",IF('full menu'!C6="UD","UD",IF('full menu'!C6="LSD","LSD",IF('full menu'!C6="WSD","WSD",""))))))))) -> ERfix | D6: =IF('full menu'!D6="MDC","MDC",IF(OR('full menu'!D6="PERF",'full menu'!D6="AERF",'full menu'!D6="PCB"),"ERfix",IF(OR('full menu'!D6="ACB", 'full menu'!D6="LCERT", 'full menu'!D6="LERT",'full menu'!D6="FCERT",'full menu'!D6="FERT"),"ERTs",IF(OR('full menu'!D6="FCMT",'full menu'!D6="FMT",'full menu'!D6="LMT",'full menu'!D6="LCMT"),"MTs",IF(OR('full menu'!D6="LCIT",'full menu'!D6="FCIT",'full menu'!D6="LIT",'full menu'!D6="FIT"),"ITs",IF(OR('full menu'!D6="MwERT", 'full menu'!D6="ERwMT", 'full menu'!D6="M&ERT", 'full menu'!D6="MwIT", 'full menu'!D6="IwMT", 'full menu'!D6="M&IT", 'full menu'!D6="IwERT", 'full menu'!D6="ERwIT", 'full menu'!D6="I&ERT", 'full menu'!D6="ER&M&IT"),"MixedTs",IF('full menu'!D6="UD","UD",IF('full menu'!D6="LSD","LSD",IF('full menu'!D6="WSD","WSD",""))))))))) -> ERfix | E6: =IF('full menu'!E6="MDC","MDC",IF(OR('full menu'!E6="PERF",'full menu'!E6="AERF",'full menu'!E6="PCB"),"ERfix",IF(OR('full menu'!E6="ACB", 'full menu'!E6="LCERT", 'full menu'!E6="LERT",'full menu'!E6="FCERT",'full menu'!E6="FERT"),"ERTs",IF(OR('full menu'!E6="FCMT",'full menu'!E6="FMT",'full menu'!E6="LMT",'full menu'!E6="LCMT"),"MTs",IF(OR('full menu'!E6="LCIT",'full menu'!E6="FCIT",'full menu'!E6="LIT",'full menu'!E6="FIT"),"ITs",IF(OR('full menu'!E6="MwERT", 'full menu'!E6="ERwMT", 'full menu'!E6="M&ERT", 'full menu'!E6="MwIT", 'full menu'!E6="IwMT", 'full menu'!E6="M&IT", 'full menu'!E6="IwERT", 'full menu'!E6="ERwIT", 'full menu'!E6="I&ERT", 'full menu'!E6="ER&M&IT"),"MixedTs",IF('full menu'!E6="UD","UD",IF('full menu'!E6="LSD","LSD",IF('full menu'!E6="WSD","WSD",""))))))))) -> ERfix | F6: =IF('full menu'!F6="MDC","MDC",IF(OR('full menu'!F6="PERF",'full menu'!F6="AERF",'full menu'!F6="PCB"),"ERfix",IF(OR('full menu'!F6="ACB", 'full menu'!F6="LCERT", 'full menu'!F6="LERT",'full menu'!F6="FCERT",'full menu'!F6="FERT"),"ERTs",IF(OR('full menu'!F6="FCMT",'full menu'!F6="FMT",'full menu'!F6="LMT",'full menu'!F6="LCMT"),"MTs",IF(OR('full menu'!F6="LCIT",'full menu'!F6="FCIT",'full menu'!F6="LIT",'full menu'!F6="FIT"),"ITs",IF(OR('full menu'!F6="MwERT", 'full menu'!F6="ERwMT", 'full menu'!F6="M&ERT", 'full menu'!F6="MwIT", 'full menu'!F6="IwMT", 'full menu'!F6="M&IT", 'full menu'!F6="IwERT", 'full menu'!F6="ERwIT", 'full menu'!F6="I&ERT", 'full menu'!F6="ER&M&IT"),"MixedTs",IF('full menu'!F6="UD","UD",IF('full menu'!F6="LSD","LSD",IF('full menu'!F6="WSD","WSD",""))))))))) -> ERfix | G6: =IF('full menu'!G6="MDC","MDC",IF(OR('full menu'!G6="PERF",'full menu'!G6="AERF",'full menu'!G6="PCB"),"ERfix",IF(OR('full menu'!G6="ACB", 'full menu'!G6="LCERT", 'full menu'!G6="LERT",'full menu'!G6="FCERT",'full menu'!G6="FERT"),"ERTs",IF(OR('full menu'!G6="FCMT",'full menu'!G6="FMT",'full menu'!G6="LMT",'full menu'!G6="LCMT"),"MTs",IF(OR('full menu'!G6="LCIT",'full menu'!G6="FCIT",'full menu'!G6="LIT",'full menu'!G6="FIT"),"ITs",IF(OR('full menu'!G6="MwERT", 'full menu'!G6="ERwMT", 'full menu'!G6="M&ERT", 'full menu'!G6="MwIT", 'full menu'!G6="IwMT", 'full menu'!G6="M&IT", 'full menu'!G6="IwERT", 'full menu'!G6="ERwIT", 'full menu'!G6="I&ERT", 'full menu'!G6="ER&M&IT"),"MixedTs",IF('full menu'!G6="UD","UD",IF('full menu'!G6="LSD","LSD",IF('full menu'!G6="WSD","WSD",""))))))))) -> ERfix | H6: =IF('full menu'!H6="MDC","MDC",IF(OR('full menu'!H6="PERF",'full menu'!H6="AERF",'full menu'!H6="PCB"),"ERfix",IF(OR('full menu'!H6="ACB", 'full menu'!H6="LCERT", 'full menu'!H6="LERT",'full menu'!H6="FCERT",'full menu'!H6="FERT"),"ERTs",IF(OR('full menu'!H6="FCMT",'full menu'!H6="FMT",'full menu'!H6="LMT",'full menu'!H6="LCMT"),"MTs",IF(OR('full menu'!H6="LCIT",'full menu'!H6="FCIT",'full menu'!H6="LIT",'full menu'!H6="FIT"),"ITs",IF(OR('full menu'!H6="MwERT", 'full menu'!H6="ERwMT", 'full menu'!H6="M&ERT", 'full menu'!H6="MwIT", 'full menu'!H6="IwMT", 'full menu'!H6="M&IT", 'full menu'!H6="IwERT", 'full menu'!H6="ERwIT", 'full menu'!H6="I&ERT", 'full menu'!H6="ER&M&IT"),"MixedTs",IF('full menu'!H6="UD","UD",IF('full menu'!H6="LSD","LSD",IF('full menu'!H6="WSD","WSD",""))))))))) -> ERfix | I6: =IF('full menu'!I6="MDC","MDC",IF(OR('full menu'!I6="PERF",'full menu'!I6="AERF",'full menu'!I6="PCB"),"ERfix",IF(OR('full menu'!I6="ACB", 'full menu'!I6="LCERT", 'full menu'!I6="LERT",'full menu'!I6="FCERT",'full menu'!I6="FERT"),"ERTs",IF(OR('full menu'!I6="FCMT",'full menu'!I6="FMT",'full menu'!I6="LMT",'full menu'!I6="LCMT"),"MTs",IF(OR('full menu'!I6="LCIT",'full menu'!I6="FCIT",'full menu'!I6="LIT",'full menu'!I6="FIT"),"ITs",IF(OR('full menu'!I6="MwERT", 'full menu'!I6="ERwMT", 'full menu'!I6="M&ERT", 'full menu'!I6="MwIT", 'full menu'!I6="IwMT", 'full menu'!I6="M&IT", 'full menu'!I6="IwERT", 'full menu'!I6="ERwIT", 'full menu'!I6="I&ERT", 'full menu'!I6="ER&M&IT"),"MixedTs",IF('full menu'!I6="UD","UD",IF('full menu'!I6="LSD","LSD",IF('full menu'!I6="WSD","WSD",""))))))))) -> ERfix | ... AY6: =IF('full menu'!AY6="MDC","MDC",IF(OR('full menu'!AY6="PERF",'full menu'!AY6="AERF",'full menu'!AY6="PCB"),"ERfix",IF(OR('full menu'!AY6="ACB", 'full menu'!AY6="LCERT", 'full menu'!AY6="LERT",'full menu'!AY6="FCERT",'full menu'!AY6="FERT"),"ERTs",IF(OR('full menu'!AY6="FCMT",'full menu'!AY6="FMT",'full menu'!AY6="LMT",'full menu'!AY6="LCMT"),"MTs",IF(OR('full menu'!AY6="LCIT",'full menu'!AY6="FCIT",'full menu'!AY6="LIT",'full menu'!AY6="FIT"),"ITs",IF(OR('full menu'!AY6="MwERT", 'full menu'!AY6="ERwMT", 'full menu'!AY6="M&ERT", 'full menu'!AY6="MwIT", 'full menu'!AY6="IwMT", 'full menu'!AY6="M&IT", 'full menu'!AY6="IwERT", 'full menu'!AY6="ERwIT", 'full menu'!AY6="I&ERT", 'full menu'!AY6="ER&M&IT"),"MixedTs",IF('full menu'!AY6="UD","UD",IF('full menu'!AY6="LSD","LSD",IF('full menu'!AY6="WSD","WSD",""))))))))) -> ERfix
