Workbook

Sheet full menu
B1: 1974 | C1: 1975 | D1: 1976 | E1: 1977 | F1: 1978 | G1: 1979 | H1: 1980 | I1: 1981 | J1: 1982 | K1: 1983 | L1: 1984 | M1: 1985 | N1: 1986 | O1: 1987 | P1: 1988 | Q1: 1989 | R1: 1990 | S1: 1991 | T1: 1992 | U1: 1993 | V1: 1994 | W1: 1995 | X1: 1996 | Y1: 1997 | Z1: 1998 | AA1: 1999 | AB1: 2000 | AC1: 2001 | AD1: 2002 | AE1: 2003 | AF1: 2004 | AG1: 2005 | AH1: 2006 | AI1: 2007 | AJ1: 2008 | AK1: 2009 | AL1: 2010 | AM1: 2011 | AN1: 2012 | AO1: 2013 | AP1: 2014 | AQ1: 2015 | AR1: 2016 | AS1: 2017 | AT1: 2018 | AU1: 2019 | AV1: 2020 | AW1: 2021 | AX1: 2022 | AY1: 2023
A2: Algeria | B2: MDC | C2: MDC | D2: MDC | E2: MDC | F2: MDC | G2: MDC | H2: MDC | I2: MDC | J2: MDC | K2: MDC | L2: MDC | M2: MDC | N2: MDC | O2: UD | P2: UD | Q2: UD | R2: LSD | S2: LSD | T2: LSD | U2: LSD | V2: LSD | W2: LSD | X2: LSD | Y2: LSD | Z2: LSD | AA2: LSD | AB2: LSD | AC2: LSD | AD2: LSD | AE2: LSD | AF2: LSD | AG2: LSD | AH2: LSD | AI2: LSD | AJ2: LSD | AK2: LSD | AL2: LSD | AM2: LSD | AN2: LSD | AO2: LSD | AP2: LSD | AQ2: LSD | AR2: LSD | AS2: LSD | AT2: LSD | AU2: LSD | AV2: LSD | AW2: LSD | AX2: LSD | AY2: LSD
A3: Bahrain | B3: ACB | C3: AERF | D3: AERF | E3: AERF | F3: AERF | G3: AERF | H3: AERF | I3: AERF | J3: AERF | K3: AERF | L3: AERF | M3: AERF | N3: AERF | O3: AERF | P3: AERF | Q3: AERF | R3: AERF | S3: AERF | T3: AERF | U3: AERF | V3: AERF | W3: FERT | X3: FERT | Y3: FERT | Z3: FERT | AA3: FERT | AB3: FERT | AC3: FERT | AD3: FERT | AE3: FERT | AF3: FERT | AG3: FERT | AH3: FERT | AI3: FERT | AJ3: FERT | AK3: FERT | AL3: FERT | AM3: FERT | AN3: FERT | AO3: FERT | AP3: FERT | AQ3: FERT | AR3: FERT | AS3: FERT | AT3: FERT | AU3: FERT | AV3: FERT | AW3: FERT | AX3: FERT | AY3: FERT
A4: Egypt | B4: MDC | C4: MDC | D4: MDC | E4: UD | F4: UD | G4: UD | H4: UD | I4: UD | J4: UD | K4: UD | L4: UD | M4: UD | N4: UD | O4: UD | P4: UD | Q4: UD | R4: UD | S4: UD | T4: LERT | U4: LERT | V4: LERT | W4: LERT | X4: LERT | Y4: LERT | Z4: LERT | AA4: LERT | AB4: LERT | AC4: LERT | AD4: LERT | AE4: LSD | AF4: LSD | AG4: LSD | AH4: LSD | AI4: LSD | AJ4: LSD | AK4: LSD | AL4: LSD | AM4: LSD | AN4: LSD | AO4: LSD | AP4: LSD | AQ4: LSD | AR4: LSD | AS4: LSD | AT4: LSD | AU4: LSD | AV4: LSD | AW4: LSD | AX4: LSD | AY4: LSD
A5: Iran | B5: LSD | C5: LSD | D5: LSD | E5: LSD | F5: LSD | G5: LSD | H5: UD | I5: UD | J5: UD | K5: UD | L5: UD | M5: UD | N5: UD | O5: UD | P5: UD | Q5: UD | R5: UD | S5: UD | T5: UD | U5: UD | V5: UD | W5: UD | X5: UD | Y5: UD | Z5: UD | AA5: LSD | AB5: LSD | AC5: LSD | AD5: LSD | AE5: LSD | AF5: LSD | AG5: LSD | AH5: LSD | AI5: LSD | AJ5: LSD | AK5: LSD | AL5: LSD | AM5: LSD | AN5: LSD | AO5: LSD | AP5: LSD | AQ5: LSD | AR5: LSD | AS5: LSD | AT5: LSD | AU5: LSD | AV5: LSD | AW5: LSD | AX5: LSD | AY5: LSD
A6: Iraq | B6: AERF | C6: AERF | D6: AERF | E6: AERF | F6: AERF | G6: AERF | H6: AERF | I6: AERF | J6: MDC | K6: MDC | L6: MDC | M6: MDC | N6: MDC | O6: MDC | P6: MDC | Q6: MDC | R6: MDC | S6: MDC | T6: MDC | U6: MDC | V6: MDC | W6: MDC | X6: MDC | Y6: MDC | Z6: MDC | AA6: MDC | AB6: MDC | AC6: MDC | AD6: MDC | AE6: UD | AF6: UD | AG6: UD | AH6: UD | AI6: AERF | AJ6: AERF | AK6: AERF | AL6: AERF | AM6: AERF | AN6: AERF | AO6: AERF | AP6: AERF | AQ6: AERF | AR6: AERF | AS6: AERF | AT6: AERF | AU6: AERF | AV6: AERF | AW6: AERF | AX6: AERF | AY6: AERF
A7: Jordan | B7: AERF | C7: AERF | D7: AERF | E7: AERF | F7: AERF | G7: AERF | H7: AERF | I7: AERF | J7: AERF | K7: AERF | L7: AERF | M7: LSD | N7: LSD | O7: LSD | P7: LSD | Q7: LSD | R7: LSD | S7: LERT | T7: LERT | U7: LERT | V7: LERT | W7: LERT | X7: LERT | Y7: LERT | Z7: LERT | AA7: LERT | AB7: LERT | AC7: FERT | AD7: FERT | AE7: FERT | AF7: FERT | AG7: FERT | AH7: FERT | AI7: FERT | AJ7: FERT | AK7: FERT | AL7: FERT | AM7: FERT | AN7: FERT | AO7: FERT | AP7: FERT | AQ7: FERT | AR7: FERT | AS7: FERT | AT7: FERT | AU7: FERT | AV7: FERT | AW7: FERT | AX7: FERT | AY7: FERT
A8: Kuwait | B8: LERT | C8: LERT | D8: LERT | E8: LERT | F8: LERT | G8: LERT | H8: LERT | I8: LERT | J8: LERT | K8: LERT | L8: LERT | M8: LERT | N8: LERT | O8: LERT | P8: LERT | Q8: LERT | R8: LERT | S8: LERT | T8: LERT | U8: LERT | V8: LERT | W8: LERT | X8: LERT | Y8: LERT | Z8: LERT | AA8: LERT | AB8: LERT | AC8: LERT | AD8: LERT | AE8: FERT | AF8: FERT | AG8: FERT | AH8: FERT | AI8: LERT | AJ8: LERT | AK8: LERT | AL8: LERT | AM8: LERT | AN8: LERT | AO8: LERT | AP8: LERT | AQ8: LERT | AR8: LERT | AS8: LERT | AT8: LERT | AU8: LERT | AV8: LERT | AW8: LERT | AX8: LERT | AY8: LERT
A9: Lebanon | B9: LSD | C9: LSD | D9: LSD | E9: LSD | F9: LSD | G9: LSD | H9: LSD | I9: LSD | J9: LSD | K9: LSD | L9: LSD | M9: LSD | N9: LSD | O9: LSD | P9: LSD | Q9: LSD | R9: LSD | S9: LSD | T9: LSD | U9: LCERT | V9: LCERT | W9: LCERT | X9: LCERT | Y9: LCERT | Z9: LCERT | AA9: FERT | AB9: FERT | AC9: FERT | AD9: FERT | AE9: FERT | AF9: FERT | AG9: FERT | AH9: FERT | AI9: FERT | AJ9: FERT | AK9: FERT | AL9: FERT | AM9: FERT | AN9: FERT | AO9: FERT | AP9: FERT | AQ9: FERT | AR9: FERT | AS9: FERT | AT9: FERT | AU9: FERT | AV9: UD | AW9: UD | AX9: UD | AY9: UD
A10: Libya | B10: AERF | C10: AERF | D10: AERF | E10: AERF | F10: AERF | G10: AERF | H10: AERF | I10: AERF | J10: AERF | K10: AERF | L10: AERF | M10: AERF | N10: AERF | O10: AERF | P10: AERF | Q10: AERF | R10: AERF | S10: AERF | T10: UD | U10: UD | V10: UD | W10: UD | X10: UD | Y10: UD | Z10: UD | AA10: UD | AB10: UD | AC10: UD | AD10: AERF | AE10: AERF | AF10: AERF | AG10: AERF | AH10: AERF | AI10: AERF | AJ10: AERF | AK10: AERF | AL10: AERF | AM10: AERF | AN10: AERF | AO10: AERF | AP10: UD | AQ10: UD | AR10: UD | AS10: UD | AT10: UD | AU10: UD | AV10: UD | AW10: LSD | AX10: LSD | AY10: LSD
A11: Morocco | B11: AERF | C11: AERF | D11: AERF | E11: AERF | F11: AERF | G11: AERF | H11: AERF | I11: LSD | J11: LSD | K11: LSD | L11: LSD | M11: LSD | N11: LSD | O11: LSD | P11: LSD | Q11: LSD | R11: LSD | S11: LERT | T11: LERT | U11: LERT | V11: LERT | W11: LERT | X11: LERT | Y11: LERT | Z11: LERT | AA11: LERT | AB11: LERT | AC11: LERT | AD11: LERT | AE11: LERT | AF11: LERT | AG11: LERT | AH11: LERT | AI11: FERT | AJ11: FERT | AK11: FERT | AL11: FERT | AM11: FERT | AN11: FERT | AO11: FERT | AP11: FERT | AQ11: FERT | AR11: FERT | AS11: FERT | AT11: LERT | AU11: LERT | AV11: LERT | AW11: LERT | AX11: LERT | AY11: LERT
A12: Oman | B12: PCB | C12: AERF | D12: AERF | E12: AERF | F12: AERF | G12: AERF | H12: AERF | I12: AERF | J12: AERF | K12: AERF | L12: AERF | M12: AERF | N12: AERF | O12: AERF | P12: AERF | Q12: AERF | R12: AERF | S12: AERF | T12: AERF | U12: AERF | V12: AERF | W12: AERF | X12: AERF | Y12: AERF | Z12: AERF | AA12: AERF | AB12: AERF | AC12: AERF | AD12: AERF | AE12: AERF | AF12: AERF | AG12: AERF | AH12: AERF | AI12: AERF | AJ12: AERF | AK12: AERF | AL12: AERF | AM12: AERF | AN12: AERF | AO12: AERF | AP12: AERF | AQ12: AERF | AR12: AERF | AS12: AERF | AT12: AERF | AU12: AERF | AV12: AERF | AW12: AERF | AX12: AERF | AY12: AERF
A13: Qatar | B13: PCB | C13: PCB | D13: PCB | E13: PCB | F13: PCB | G13: ACB | H13: ACB | I13: ACB | J13: ACB | K13: ACB | L13: ACB | M13: ACB | N13: ACB | O13: ACB | P13: ACB | Q13: ACB | R13: ACB | S13: ACB | T13: ACB | U13: LERT | V13: LERT | W13: LERT | X13: LERT | Y13: LERT | Z13: LERT | AA13: LERT | AB13: LERT | AC13: FERT | AD13: FERT | AE13: FERT | AF13: FERT | AG13: FERT | AH13: FERT | AI13: FERT | AJ13: FERT | AK13: FERT | AL13: FERT | AM13: FERT | AN13: FERT | AO13: FERT | AP13: FERT | AQ13: FERT | AR13: FERT | AS13: FERT | AT13: FERT | AU13: FERT | AV13: FERT | AW13: FERT | AX13: FERT | AY13: FERT
... A22: Yemen, Republic of | B22: X | C22: X | D22: X | E22: X | F22: X | G22: X | H22: X | I22: X | J22: X | K22: X | L22: X | M22: X | N22: X | O22: X | P22: X | Q22: X | R22: UD | S22: UD | T22: UD | U22: UD | V22: UD | W22: LSD | X22: LSD | Y22: LSD | Z22: LSD | AA22: LSD | AB22: LSD | AC22: LSD | AD22: LSD | AE22: LSD | AF22: LSD | AG22: LSD | AH22: LSD | AI22: LSD | AJ22: LSD | AK22: LSD | AL22: LSD | AM22: LSD | AN22: LSD | AO22: LSD | AP22: LSD | AQ22: UD | AR22: UD | AS22: UD | AT22: UD | AU22: UD | AV22: UD | AW22: UD | AX22: UD | AY22: UD
B26: 1974 | C26: 1975 | D26: 1976 | E26: 1977 | F26: 1978 | G26: 1979 | H26: 1980 | I26: 1981 | J26: 1982 | K26: 1983 | L26: 1984 | M26: 1985 | N26: 1986 | O26: 1987 | P26: 1988 | Q26: 1989 | R26: 1990 | S26: 1991 | T26: 1992 | U26: 1993 | V26: 1994 | W26: 1995 | X26: 1996 | Y26: 1997 | Z26: 1998 | AA26: 1999 | AB26: 2000 | AC26: 2001 | AD26: 2002 | AE26: 2003 | AF26: 2004 | AG26: 2005 | AH26: 2006 | AI26: 2007 | AJ26: 2008 | AK26: 2009 | AL26: 2010 | AM26: 2011 | AN26: 2012 | AO26: 2013 | AP26: 2014 | AQ26: 2015 | AR26: 2016 | AS26: 2017 | AT26: 2018 | AU26: 2019 | AV26: 2020 | AW26: 2021 | AX26: 2022 | AY26: 2023
A27: X | B27: =COUNTIF(B2:B22,"X") -> 1 | C27: =COUNTIF(C2:C22,"X") -> 1 | D27: =COUNTIF(D2:D22,"X") -> 1 | E27: =COUNTIF(E2:E22,"X") -> 1 | F27: =COUNTIF(F2:F22,"X") -> 1 | G27: =COUNTIF(G2:G22,"X") -> 1 | H27: =COUNTIF(H2:H22,"X") -> 1 | I27: =COUNTIF(I2:I22,"X") -> 1 | ... AY27: =COUNTIF(AY2:AY22,"X") -> 2
A28: MDC | B28: =COUNTIF(B2:B22,"MDC") -> 3 | C28: =COUNTIF(C2:C22,"MDC") -> 3 | D28: =COUNTIF(D2:D22,"MDC") -> 3 | E28: =COUNTIF(E2:E22,"MDC") -> 2 | F28: =COUNTIF(F2:F22,"MDC") -> 2 | G28: =COUNTIF(G2:G22,"MDC") -> 2 | H28: =COUNTIF(H2:H22,"MDC") -> 2 | I28: =COUNTIF(I2:I22,"MDC") -> 2 | ... AY28: =COUNTIF(AY2:AY22,"MDC") -> 0
A29: PERF | B29: =COUNTIF(B2:B22,"PERF") -> 0 | C29: =COUNTIF(C2:C22,"PERF") -> 0 | D29: =COUNTIF(D2:D22,"PERF") -> 0 | E29: =COUNTIF(E2:E22,"PERF") -> 0 | F29: =COUNTIF(F2:F22,"PERF") -> 0 | G29: =COUNTIF(G2:G22,"PERF") -> 0 | H29: =COUNTIF(H2:H22,"PERF") -> 0 | I29: =COUNTIF(I2:I22,"PERF") -> 0 | ... AY29: =COUNTIF(AY2:AY22,"PERF") -> 0
A30: AERF | B30: =COUNTIF(B2:B22,"AERF") -> 7 | C30: =COUNTIF(C2:C22,"AERF") -> 9 | D30: =COUNTIF(D2:D22,"AERF") -> 9 | E30: =COUNTIF(E2:E22,"AERF") -> 9 | F30: =COUNTIF(F2:F22,"AERF") -> 9 | G30: =COUNTIF(G2:G22,"AERF") -> 9 | H30: =COUNTIF(H2:H22,"AERF") -> 9 | I30: =COUNTIF(I2:I22,"AERF") -> 8 | ... AY30: =COUNTIF(AY2:AY22,"AERF") -> 2
A31: PCB | B31: =COUNTIF(B2:B22,"PCB") -> 2 | C31: =COUNTIF(C2:C22,"PCB") -> 1 | D31: =COUNTIF(D2:D22,"PCB") -> 1 | E31: =COUNTIF(E2:E22,"PCB") -> 1 | F31: =COUNTIF(F2:F22,"PCB") -> 1 | G31: =COUNTIF(G2:G22,"PCB") -> 0 | H31: =COUNTIF(H2:H22,"PCB") -> 0 | I31: =COUNTIF(I2:I22,"PCB") -> 0 | ... AY31: =COUNTIF(AY2:AY22,"PCB") -> 0
A32: ACB | B32: =COUNTIF(B2:B22,"ACB") -> 2 | C32: =COUNTIF(C2:C22,"ACB") -> 1 | D32: =COUNTIF(D2:D22,"ACB") -> 1 | E32: =COUNTIF(E2:E22,"ACB") -> 1 | F32: =COUNTIF(F2:F22,"ACB") -> 1 | G32: =COUNTIF(G2:G22,"ACB") -> 2 | H32: =COUNTIF(H2:H22,"ACB") -> 2 | I32: =COUNTIF(I2:I22,"ACB") -> 1 | ... AY32: =COUNTIF(AY2:AY22,"ACB") -> 0
A33: UD | B33: =COUNTIF(B2:B22,"UD") -> 2 | C33: =COUNTIF(C2:C22,"UD") -> 2 | D33: =COUNTIF(D2:D22,"UD") -> 2 | E33: =COUNTIF(E2:E22,"UD") -> 3 | F33: =COUNTIF(F2:F22,"UD") -> 3 | G33: =COUNTIF(G2:G22,"UD") -> 3 | H33: =COUNTIF(H2:H22,"UD") -> 4 | I33: =COUNTIF(I2:I22,"UD") -> 4 | ... AY33: =COUNTIF(AY2:AY22,"UD") -> 4
A34: LERT | B34: =COUNTIF(B2:B22,"LERT") -> 1 | C34: =COUNTIF(C2:C22,"LERT") -> 1 | D34: =COUNTIF(D2:D22,"LERT") -> 1 | E34: =COUNTIF(E2:E22,"LERT") -> 1 | F34: =COUNTIF(F2:F22,"LERT") -> 1 | G34: =COUNTIF(G2:G22,"LERT") -> 1 | H34: =COUNTIF(H2:H22,"LERT") -> 1 | I34: =COUNTIF(I2:I22,"LERT") -> 2 | ... AY34: =COUNTIF(AY2:AY22,"LERT") -> 2
A35: LCERT | B35: =COUNTIF(B2:B22,"LCERT") -> 0 | C35: =COUNTIF(C2:C22,"LCERT") -> 0 | D35: =COUNTIF(D2:D22,"LCERT") -> 0 | E35: =COUNTIF(E2:E22,"LCERT") -> 0 | F35: =COUNTIF(F2:F22,"LCERT") -> 0 | G35: =COUNTIF(G2:G22,"LCERT") -> 0 | H35: =COUNTIF(H2:H22,"LCERT") -> 0 | I35: =COUNTIF(I2:I22,"LCERT") -> 0 | ... AY35: =COUNTIF(AY2:AY22,"LCERT") -> 0
A36: LMT | B36: =COUNTIF(B2:B22,"LMT") -> 0 | C36: =COUNTIF(C2:C22,"LMT") -> 0 | D36: =COUNTIF(D2:D22,"LMT") -> 0 | E36: =COUNTIF(E2:E22,"LMT") -> 0 | F36: =COUNTIF(F2:F22,"LMT") -> 0 | G36: =COUNTIF(G2:G22,"LMT") -> 0 | H36: =COUNTIF(H2:H22,"LMT") -> 0 | I36: =COUNTIF(I2:I22,"LMT") -> 0 | ... AY36: =COUNTIF(AY2:AY22,"LMT") -> 0
A37: LCMT | B37: =COUNTIF(B2:B22,"LCMT") -> 0 | C37: =COUNTIF(C2:C22,"LCMT") -> 0 | D37: =COUNTIF(D2:D22,"LCMT") -> 0 | E37: =COUNTIF(E2:E22,"LCMT") -> 0 | F37: =COUNTIF(F2:F22,"LCMT") -> 0 | G37: =COUNTIF(G2:G22,"LCMT") -> 0 | H37: =COUNTIF(H2:H22,"LCMT") -> 0 | I37: =COUNTIF(I2:I22,"LCMT") -> 0 | ... AY37: =COUNTIF(AY2:AY22,"LCMT") -> 0
A38: LIT | B38: =COUNTIF(B2:B22,"LIT") -> 0 | C38: =COUNTIF(C2:C22,"LIT") -> 0 | D38: =COUNTIF(D2:D22,"LIT") -> 0 | E38: =COUNTIF(E2:E22,"LIT") -> 0 | F38: =COUNTIF(F2:F22,"LIT") -> 0 | G38: =COUNTIF(G2:G22,"LIT") -> 0 | H38: =COUNTIF(H2:H22,"LIT") -> 0 | I38: =COUNTIF(I2:I22,"LIT") -> 0 | ... AY38: =COUNTIF(AY2:AY22,"LIT") -> 0
A39: LCIT | B39: =COUNTIF(B2:B22,"LCIT") -> 0 | C39: =COUNTIF(C2:C22,"LCIT") -> 0 | D39: =COUNTIF(D2:D22,"LCIT") -> 0 | E39: =COUNTIF(E2:E22,"LCIT") -> 0 | F39: =COUNTIF(F2:F22,"LCIT") -> 0 | G39: =COUNTIF(G2:G22,"LCIT") -> 0 | H39: =COUNTIF(H2:H22,"LCIT") -> 0 | I39: =COUNTIF(I2:I22,"LCIT") -> 0 | ... AY39: =COUNTIF(AY2:AY22,"LCIT") -> 0
A40: MwERT | B40: =COUNTIF(B2:B22,"MwERT") -> 0 | C40: =COUNTIF(C2:C22,"MwERT") -> 0 | D40: =COUNTIF(D2:D22,"MwERT") -> 0 | E40: =COUNTIF(E2:E22,"MwERT") -> 0 | F40: =COUNTIF(F2:F22,"MwERT") -> 0 | G40: =COUNTIF(G2:G22,"MwERT") -> 0 | H40: =COUNTIF(H2:H22,"MwERT") -> 0 | I40: =COUNTIF(I2:I22,"MwERT") -> 0 | ... AY40: =COUNTIF(AY2:AY22,"MwERT") -> 0
A41: ERwMT | B41: =COUNTIF(B2:B22,"ERwMT") -> 0 | C41: =COUNTIF(C2:C22,"ERwMT") -> 0 | D41: =COUNTIF(D2:D22,"ERwMT") -> 0 | E41: =COUNTIF(E2:E22,"ERwMT") -> 0 | F41: =COUNTIF(F2:F22,"ERwMT") -> 0 | G41: =COUNTIF(G2:G22,"ERwMT") -> 0 | H41: =COUNTIF(H2:H22,"ERwMT") -> 0 | I41: =COUNTIF(I2:I22,"ERwMT") -> 0 | ... AY41: =COUNTIF(AY2:AY22,"ERwMT") -> 0
A42: M&ERT | B42: =COUNTIF(B2:B22,"M&ERT") -> 0 | C42: =COUNTIF(C2:C22,"M&ERT") -> 0 | D42: =COUNTIF(D2:D22,"M&ERT") -> 0 | E42: =COUNTIF(E2:E22,"M&ERT") -> 0 | F42: =COUNTIF(F2:F22,"M&ERT") -> 0 | G42: =COUNTIF(G2:G22,"M&ERT") -> 0 | H42: =COUNTIF(H2:H22,"M&ERT") -> 0 | I42: =COUNTIF(I2:I22,"M&ERT") -> 0 | ... AY42: =COUNTIF(AY2:AY22,"M&ERT") -> 0
A43: MwIT | B43: =COUNTIF(B2:B22,"MwIT") -> 0 | C43: =COUNTIF(C2:C22,"MwIT") -> 0 | D43: =COUNTIF(D2:D22,"MwIT") -> 0 | E43: =COUNTIF(E2:E22,"MwIT") -> 0 | F43: =COUNTIF(F2:F22,"MwIT") -> 0 | G43: =COUNTIF(G2:G22,"MwIT") -> 0 | H43: =COUNTIF(H2:H22,"MwIT") -> 0 | I43: =COUNTIF(I2:I22,"MwIT") -> 0 | ... AY43: =COUNTIF(AY2:AY22,"MwIT") -> 0
A44: IwMT | B44: =COUNTIF(B2:B22,"IwMT") -> 0 | C44: =COUNTIF(C2:C22,"IwMT") -> 0 | D44: =COUNTIF(D2:D22,"IwMT") -> 0 | E44: =COUNTIF(E2:E22,"IwMT") -> 0 | F44: =COUNTIF(F2:F22,"IwMT") -> 0 | G44: =COUNTIF(G2:G22,"IwMT") -> 0 | H44: =COUNTIF(H2:H22,"IwMT") -> 0 | I44: =COUNTIF(I2:I22,"IwMT") -> 0 | ... AY44: =COUNTIF(AY2:AY22,"IwMT") -> 0
A45: M&IT | B45: =COUNTIF(B2:B22,"M&IT") -> 0 | C45: =COUNTIF(C2:C22,"M&IT") -> 0 | D45: =COUNTIF(D2:D22,"M&IT") -> 0 | E45: =COUNTIF(E2:E22,"M&IT") -> 0 | F45: =COUNTIF(F2:F22,"M&IT") -> 0 | G45: =COUNTIF(G2:G22,"M&IT") -> 0 | H45: =COUNTIF(H2:H22,"M&IT") -> 0 | I45: =COUNTIF(I2:I22,"M&IT") -> 0 | ... AY45: =COUNTIF(AY2:AY22,"M&IT") -> 0
A46: IwERT | B46: =COUNTIF(B2:B22,"IwERT") -> 0 | C46: =COUNTIF(C2:C22,"IwERT") -> 0 | D46: =COUNTIF(D2:D22,"IwERT") -> 0 | E46: =COUNTIF(E2:E22,"IwERT") -> 0 | F46: =COUNTIF(F2:F22,"IwERT") -> 0 | G46: =COUNTIF(G2:G22,"IwERT") -> 0 | H46: =COUNTIF(H2:H22,"IwERT") -> 0 | I46: =COUNTIF(I2:I22,"IwERT") -> 0 | ... AY46: =COUNTIF(AY2:AY22,"IwERT") -> 0
A47: ERwIT | B47: =COUNTIF(B2:B22,"ERwIT") -> 0 | C47: =COUNTIF(C2:C22,"ERwIT") -> 0 | D47: =COUNTIF(D2:D22,"ERwIT") -> 0 | E47: =COUNTIF(E2:E22,"ERwIT") -> 0 | F47: =COUNTIF(F2:F22,"ERwIT") -> 0 | G47: =COUNTIF(G2:G22,"ERwIT") -> 0 | H47: =COUNTIF(H2:H22,"ERwIT") -> 0 | I47: =COUNTIF(I2:I22,"ERwIT") -> 0 | ... AY47: =COUNTIF(AY2:AY22,"ERwIT") -> 0
A48: I&ERT | B48: =COUNTIF(B2:B22,"I&ERT") -> 0 | C48: =COUNTIF(C2:C22,"I&ERT") -> 0 | D48: =COUNTIF(D2:D22,"I&ERT") -> 0 | E48: =COUNTIF(E2:E22,"I&ERT") -> 0 | F48: =COUNTIF(F2:F22,"I&ERT") -> 0 | G48: =COUNTIF(G2:G22,"I&ERT") -> 0 | H48: =COUNTIF(H2:H22,"I&ERT") -> 0 | I48: =COUNTIF(I2:I22,"I&ERT") -> 0 | ... AY48: =COUNTIF(AY2:AY22,"I&ERT") -> 0
A49: ER&M&IT | B49: =COUNTIF(B2:B22,"ER&M&IT") -> 0 | C49: =COUNTIF(C2:C22,"ER&M&IT") -> 0 | D49: =COUNTIF(D2:D22,"ER&M&IT") -> 0 | E49: =COUNTIF(E2:E22,"ER&M&IT") -> 0 | F49: =COUNTIF(F2:F22,"ER&M&IT") -> 0 | G49: =COUNTIF(G2:G22,"ER&M&IT") -> 0 | H49: =COUNTIF(H2:H22,"ER&M&IT") -> 0 | I49: =COUNTIF(I2:I22,"ER&M&IT") -> 0 | ... AY49: =COUNTIF(AY2:AY22,"ER&M&IT") -> 0
A50: LSD | B50: =COUNTIF(B2:B22,"LSD") -> 3 | C50: =COUNTIF(C2:C22,"LSD") -> 3 | D50: =COUNTIF(D2:D22,"LSD") -> 3 | E50: =COUNTIF(E2:E22,"LSD") -> 3 | F50: =COUNTIF(F2:F22,"LSD") -> 3 | G50: =COUNTIF(G2:G22,"LSD") -> 3 | H50: =COUNTIF(H2:H22,"LSD") -> 2 | I50: =COUNTIF(I2:I22,"LSD") -> 3 | ... AY50: =COUNTIF(AY2:AY22,"LSD") -> 6
A51: UASC | B51: =COUNTIF(B2:B22,"UASC") -> 0 | C51: =COUNTIF(C2:C22,"UASC") -> 0 | D51: =COUNTIF(D2:D22,"UASC") -> 0 | E51: =COUNTIF(E2:E22,"UASC") -> 0 | F51: =COUNTIF(F2:F22,"UASC") -> 0 | G51: =COUNTIF(G2:G22,"UASC") -> 0 | H51: =COUNTIF(H2:H22,"UASC") -> 0 | I51: =COUNTIF(I2:I22,"UASC") -> 0 | ... AY51: =COUNTIF(AY2:AY22,"UASC") -> 0
A52: CU | B52: =COUNTIF(B2:B22,"CU") -> 0 | C52: =COUNTIF(C2:C22,"CU") -> 0 | D52: =COUNTIF(D2:D22,"CU") -> 0 | E52: =COUNTIF(E2:E22,"CU") -> 0 | F52: =COUNTIF(F2:F22,"CU") -> 0 | G52: =COUNTIF(G2:G22,"CU") -> 0 | H52: =COUNTIF(H2:H22,"CU") -> 0 | I52: =COUNTIF(I2:I22,"CU") -> 0 | ... AY52: =COUNTIF(AY2:AY22,"CU") -> 0
A53: FERT | B53: =COUNTIF(B2:B22,"FERT") -> 0 | C53: =COUNTIF(C2:C22,"FERT") -> 0 | D53: =COUNTIF(D2:D22,"FERT") -> 0 | E53: =COUNTIF(E2:E22,"FERT") -> 0 | F53: =COUNTIF(F2:F22,"FERT") -> 0 | G53: =COUNTIF(G2:G22,"FERT") -> 0 | H53: =COUNTIF(H2:H22,"FERT") -> 0 | I53: =COUNTIF(I2:I22,"FERT") -> 0 | ... AY53: =COUNTIF(AY2:AY22,"FERT") -> 5
A54: FCERT | B54: =COUNTIF(B2:B22,"FCERT") -> 0 | C54: =COUNTIF(C2:C22,"FCERT") -> 0 | D54: =COUNTIF(D2:D22,"FCERT") -> 0 | E54: =COUNTIF(E2:E22,"FCERT") -> 0 | F54: =COUNTIF(F2:F22,"FCERT") -> 0 | G54: =COUNTIF(G2:G22,"FCERT") -> 0 | H54: =COUNTIF(H2:H22,"FCERT") -> 0 | I54: =COUNTIF(I2:I22,"FCERT") -> 0 | ... AY54: =COUNTIF(AY2:AY22,"FCERT") -> 0
A55: FMT | B55: =COUNTIF(B2:B22,"FMT") -> 0 | C55: =COUNTIF(C2:C22,"FMT") -> 0 | D55: =COUNTIF(D2:D22,"FMT") -> 0 | E55: =COUNTIF(E2:E22,"FMT") -> 0 | F55: =COUNTIF(F2:F22,"FMT") -> 0 | G55: =COUNTIF(G2:G22,"FMT") -> 0 | H55: =COUNTIF(H2:H22,"FMT") -> 0 | I55: =COUNTIF(I2:I22,"FMT") -> 0 | ... AY55: =COUNTIF(AY2:AY22,"FMT") -> 0
A56: FCMT | B56: =COUNTIF(B2:B22,"FCMT") -> 0 | C56: =COUNTIF(C2:C22,"FCMT") -> 0 | D56: =COUNTIF(D2:D22,"FCMT") -> 0 | E56: =COUNTIF(E2:E22,"FCMT") -> 0 | F56: =COUNTIF(F2:F22,"FCMT") -> 0 | G56: =COUNTIF(G2:G22,"FCMT") -> 0 | H56: =COUNTIF(H2:H22,"FCMT") -> 0 | I56: =COUNTIF(I2:I22,"FCMT") -> 0 | ... AY56: =COUNTIF(AY2:AY22,"FCMT") -> 0
A57: FIT | B57: =COUNTIF(B2:B22,"FIT") -> 0 | C57: =COUNTIF(C2:C22,"FIT") -> 0 | D57: =COUNTIF(D2:D22,"FIT") -> 0 | E57: =COUNTIF(E2:E22,"FIT") -> 0 | F57: =COUNTIF(F2:F22,"FIT") -> 0 | G57: =COUNTIF(G2:G22,"FIT") -> 0 | H57: =COUNTIF(H2:H22,"FIT") -> 0 | I57: =COUNTIF(I2:I22,"FIT") -> 0 | ... AY57: =COUNTIF(AY2:AY22,"FIT") -> 0
A58: FCIT | B58: =COUNTIF(B2:B22,"FCIT") -> 0 | C58: =COUNTIF(C2:C22,"FCIT") -> 0 | D58: =COUNTIF(D2:D22,"FCIT") -> 0 | E58: =COUNTIF(E2:E22,"FCIT") -> 0 | F58: =COUNTIF(F2:F22,"FCIT") -> 0 | G58: =COUNTIF(G2:G22,"FCIT") -> 0 | H58: =COUNTIF(H2:H22,"FCIT") -> 0 | I58: =COUNTIF(I2:I22,"FCIT") -> 0 | ... AY58: =COUNTIF(AY2:AY22,"FCIT") -> 0
A59: WSD | B59: =COUNTIF(B2:B22,"WSD") -> 0 | C59: =COUNTIF(C2:C22,"WSD") -> 0 | D59: =COUNTIF(D2:D22,"WSD") -> 0 | E59: =COUNTIF(E2:E22,"WSD") -> 0 | F59: =COUNTIF(F2:F22,"WSD") -> 0 | G59: =COUNTIF(G2:G22,"WSD") -> 0 | H59: =COUNTIF(H2:H22,"WSD") -> 0 | I59: =COUNTIF(I2:I22,"WSD") -> 0 | ... AY59: =COUNTIF(AY2:AY22,"WSD") -> 0
A61: total | B61: =SUM(B27:B59) -> 21 | C61: =SUM(C27:C59) -> 21 | D61: =SUM(D27:D59) -> 21 | E61: =SUM(E27:E59) -> 21 | F61: =SUM(F27:F59) -> 21 | G61: =SUM(G27:G59) -> 21 | H61: =SUM(H27:H59) -> 21 | I61: =SUM(I27:I59) -> 21 | ... AY61: =SUM(AY27:AY59) -> 21
AU63: =COUNTIF(AU27:AU59,">0") -> 6

Sheet targvar
B1: 1974 | C1: 1975 | D1: 1976 | E1: 1977 | F1: 1978 | G1: 1979 | H1: 1980 | I1: 1981 | J1: 1982 | K1: 1983 | L1: 1984 | M1: 1985 | N1: 1986 | O1: 1987 | P1: 1988 | Q1: 1989 | R1: 1990 | S1: 1991 | T1: 1992 | U1: 1993 | V1: 1994 | W1: 1995 | X1: 1996 | Y1: 1997 | Z1: 1998 | AA1: 1999 | AB1: 2000 | AC1: 2001 | AD1: 2002 | AE1: 2003 | AF1: 2004 | AG1: 2005 | AH1: 2006 | AI1: 2007 | AJ1: 2008 | AK1: 2009 | AL1: 2010 | AM1: 2011 | AN1: 2012 | AO1: 2013 | AP1: 2014 | AQ1: 2015 | AR1: 2016 | AS1: 2017 | AT1: 2018 | AU1: 2019 | AV1: 2020 | AW1: 2021 | AX1: 2022 | AY1: 2023
A2: Algeria | B2: =IF('full menu'!B2="MDC","MDC",IF(OR('full menu'!B2="PERF",'full menu'!B2="AERF",'full menu'!B2="PCB"),"ERfix",IF(OR('full menu'!B2="ACB", 'full menu'!B2="LCERT", 'full menu'!B2="LERT",'full menu'!B2="FCERT",'full menu'!B2="FERT"),"ERTs",IF(OR('full menu'!B2="FCMT",'full menu'!B2="FMT",'full menu'!B2="LMT",'full menu'!B2="LCMT"),"MTs",IF(OR('full menu'!B2="LCIT",'full menu'!B2="FCIT",'full menu'!B2="LIT",'full menu'!B2="FIT"),"ITs",IF(OR('full menu'!B2="MwERT", 'full menu'!B2="ERwMT", 'full menu'!B2="M&ERT", 'full menu'!B2="MwIT", 'full menu'!B2="IwMT", 'full menu'!B2="M&IT", 'full menu'!B2="IwERT", 'full menu'!B2="ERwIT", 'full menu'!B2="I&ERT", 'full menu'!B2="ER&M&IT"),"MixedTs",IF('full menu'!B2="UD","UD",IF('full menu'!B2="LSD","LSD",IF('full menu'!B2="WSD","WSD",""))))))))) -> MDC | C2: =IF('full menu'!C2="MDC","MDC",IF(OR('full menu'!C2="PERF",'full menu'!C2="AERF",'full menu'!C2="PCB"),"ERfix",IF(OR('full menu'!C2="ACB", 'full menu'!C2="LCERT", 'full menu'!C2="LERT",'full menu'!C2="FCERT",'full menu'!C2="FERT"),"ERTs",IF(OR('full menu'!C2="FCMT",'full menu'!C2="FMT",'full menu'!C2="LMT",'full menu'!C2="LCMT"),"MTs",IF(OR('full menu'!C2="LCIT",'full menu'!C2="FCIT",'full menu'!C2="LIT",'full menu'!C2="FIT"),"ITs",IF(OR('full menu'!C2="MwERT", 'full menu'!C2="ERwMT", 'full menu'!C2="M&ERT", 'full menu'!C2="MwIT", 'full menu'!C2="IwMT", 'full menu'!C2="M&IT", 'full menu'!C2="IwERT", 'full menu'!C2="ERwIT", 'full menu'!C2="I&ERT", 'full menu'!C2="ER&M&IT"),"MixedTs",IF('full menu'!C2="UD","UD",IF('full menu'!C2="LSD","LSD",IF('full menu'!C2="WSD","WSD",""))))))))) -> MDC | D2: =IF('full menu'!D2="MDC","MDC",IF(OR('full menu'!D2="PERF",'full menu'!D2="AERF",'full menu'!D2="PCB"),"ERfix",IF(OR('full menu'!D2="ACB", 'full menu'!D2="LCERT", 'full menu'!D2="LERT",'full menu'!D2="FCERT",'full menu'!D2="FERT"),"ERTs",IF(OR('full menu'!D2="FCMT",'full menu'!D2="FMT",'full menu'!D2="LMT",'full menu'!D2="LCMT"),"MTs",IF(OR('full menu'!D2="LCIT",'full menu'!D2="FCIT",'full menu'!D2="LIT",'full menu'!D2="FIT"),"ITs",IF(OR('full menu'!D2="MwERT", 'full menu'!D2="ERwMT", 'full menu'!D2="M&ERT", 'full menu'!D2="MwIT", 'full menu'!D2="IwMT", 'full menu'!D2="M&IT", 'full menu'!D2="IwERT", 'full menu'!D2="ERwIT", 'full menu'!D2="I&ERT", 'full menu'!D2="ER&M&IT"),"MixedTs",IF('full menu'!D2="UD","UD",IF('full menu'!D2="LSD","LSD",IF('full menu'!D2="WSD","WSD",""))))))))) -> MDC | E2: =IF('full menu'!E2="MDC","MDC",IF(OR('full menu'!E2="PERF",'full menu'!E2="AERF",'full menu'!E2="PCB"),"ERfix",IF(OR('full menu'!E2="ACB", 'full menu'!E2="LCERT", 'full menu'!E2="LERT",'full menu'!E2="FCERT",'full menu'!E2="FERT"),"ERTs",IF(OR('full menu'!E2="FCMT",'full menu'!E2="FMT",'full menu'!E2="LMT",'full menu'!E2="LCMT"),"MTs",IF(OR('full menu'!E2="LCIT",'full menu'!E2="FCIT",'full menu'!E2="LIT",'full menu'!E2="FIT"),"ITs",IF(OR('full menu'!E2="MwERT", 'full menu'!E2="ERwMT", 'full menu'!E2="M&ERT", 'full menu'!E2="MwIT", 'full menu'!E2="IwMT", 'full menu'!E2="M&IT", 'full menu'!E2="IwERT", 'full menu'!E2="ERwIT", 'full menu'!E2="I&ERT", 'full menu'!E2="ER&M&IT"),"MixedTs",IF('full menu'!E2="UD","UD",IF('full menu'!E2="LSD","LSD",IF('full menu'!E2="WSD","WSD",""))))))))) -> MDC | F2: =IF('full menu'!F2="MDC","MDC",IF(OR('full menu'!F2="PERF",'full menu'!F2="AERF",'full menu'!F2="PCB"),"ERfix",IF(OR('full menu'!F2="ACB", 'full menu'!F2="LCERT", 'full menu'!F2="LERT",'full menu'!F2="FCERT",'full menu'!F2="FERT"),"ERTs",IF(OR('full menu'!F2="FCMT",'full menu'!F2="FMT",'full menu'!F2="LMT",'full menu'!F2="LCMT"),"MTs",IF(OR('full menu'!F2="LCIT",'full menu'!F2="FCIT",'full menu'!F2="LIT",'full menu'!F2="FIT"),"ITs",IF(OR('full menu'!F2="MwERT", 'full menu'!F2="ERwMT", 'full menu'!F2="M&ERT", 'full menu'!F2="MwIT", 'full menu'!F2="IwMT", 'full menu'!F2="M&IT", 'full menu'!F2="IwERT", 'full menu'!F2="ERwIT", 'full menu'!F2="I&ERT", 'full menu'!F2="ER&M&IT"),"MixedTs",IF('full menu'!F2="UD","UD",IF('full menu'!F2="LSD","LSD",IF('full menu'!F2="WSD","WSD",""))))))))) -> MDC | G2: =IF('full menu'!G2="MDC","MDC",IF(OR('full menu'!G2="PERF",'full menu'!G2="AERF",'full menu'!G2="PCB"),"ERfix",IF(OR('full menu'!G2="ACB", 'full menu'!G2="LCERT", 'full menu'!G2="LERT",'full menu'!G2="FCERT",'full menu'!G2="FERT"),"ERTs",IF(OR('full menu'!G2="FCMT",'full menu'!G2="FMT",'full menu'!G2="LMT",'full menu'!G2="LCMT"),"MTs",IF(OR('full menu'!G2="LCIT",'full menu'!G2="FCIT",'full menu'!G2="LIT",'full menu'!G2="FIT"),"ITs",IF(OR('full menu'!G2="MwERT", 'full menu'!G2="ERwMT", 'full menu'!G2="M&ERT", 'full menu'!G2="MwIT", 'full menu'!G2="IwMT", 'full menu'!G2="M&IT", 'full menu'!G2="IwERT", 'full menu'!G2="ERwIT", 'full menu'!G2="I&ERT", 'full menu'!G2="ER&M&IT"),"MixedTs",IF('full menu'!G2="UD","UD",IF('full menu'!G2="LSD","LSD",IF('full menu'!G2="WSD","WSD",""))))))))) -> MDC | H2: =IF('full menu'!H2="MDC","MDC",IF(OR('full menu'!H2="PERF",'full menu'!H2="AERF",'full menu'!H2="PCB"),"ERfix",IF(OR('full menu'!H2="ACB", 'full menu'!H2="LCERT", 'full menu'!H2="LERT",'full menu'!H2="FCERT",'full menu'!H2="FERT"),"ERTs",IF(OR('full menu'!H2="FCMT",'full menu'!H2="FMT",'full menu'!H2="LMT",'full menu'!H2="LCMT"),"MTs",IF(OR('full menu'!H2="LCIT",'full menu'!H2="FCIT",'full menu'!H2="LIT",'full menu'!H2="FIT"),"ITs",IF(OR('full menu'!H2="MwERT", 'full menu'!H2="ERwMT", 'full menu'!H2="M&ERT", 'full menu'!H2="MwIT", 'full menu'!H2="IwMT", 'full menu'!H2="M&IT", 'full menu'!H2="IwERT", 'full menu'!H2="ERwIT", 'full menu'!H2="I&ERT", 'full menu'!H2="ER&M&IT"),"MixedTs",IF('full menu'!H2="UD","UD",IF('full menu'!H2="LSD","LSD",IF('full menu'!H2="WSD","WSD",""))))))))) -> MDC | I2: =IF('full menu'!I2="MDC","MDC",IF(OR('full menu'!I2="PERF",'full menu'!I2="AERF",'full menu'!I2="PCB"),"ERfix",IF(OR('full menu'!I2="ACB", 'full menu'!I2="LCERT", 'full menu'!I2="LERT",'full menu'!I2="FCERT",'full menu'!I2="FERT"),"ERTs",IF(OR('full menu'!I2="FCMT",'full menu'!I2="FMT",'full menu'!I2="LMT",'full menu'!I2="LCMT"),"MTs",IF(OR('full menu'!I2="LCIT",'full menu'!I2="FCIT",'full menu'!I2="LIT",'full menu'!I2="FIT"),"ITs",IF(OR('full menu'!I2="MwERT", 'full menu'!I2="ERwMT", 'full menu'!I2="M&ERT", 'full menu'!I2="MwIT", 'full menu'!I2="IwMT", 'full menu'!I2="M&IT", 'full menu'!I2="IwERT", 'full menu'!I2="ERwIT", 'full menu'!I2="I&ERT", 'full menu'!I2="ER&M&IT"),"MixedTs",IF('full menu'!I2="UD","UD",IF('full menu'!I2="LSD","LSD",IF('full menu'!I2="WSD","WSD",""))))))))) -> MDC | ... AY2: =IF('full menu'!AY2="MDC","MDC",IF(OR('full menu'!AY2="PERF",'full menu'!AY2="AERF",'full menu'!AY2="PCB"),"ERfix",IF(OR('full menu'!AY2="ACB", 'full menu'!AY2="LCERT", 'full menu'!AY2="LERT",'full menu'!AY2="FCERT",'full menu'!AY2="FERT"),"ERTs",IF(OR('full menu'!AY2="FCMT",'full menu'!AY2="FMT",'full menu'!AY2="LMT",'full menu'!AY2="LCMT"),"MTs",IF(OR('full menu'!AY2="LCIT",'full menu'!AY2="FCIT",'full menu'!AY2="LIT",'full menu'!AY2="FIT"),"ITs",IF(OR('full menu'!AY2="MwERT", 'full menu'!AY2="ERwMT", 'full menu'!AY2="M&ERT", 'full menu'!AY2="MwIT", 'full menu'!AY2="IwMT", 'full menu'!AY2="M&IT", 'full menu'!AY2="IwERT", 'full menu'!AY2="ERwIT", 'full menu'!AY2="I&ERT", 'full menu'!AY2="ER&M&IT"),"MixedTs",IF('full menu'!AY2="UD","UD",IF('full menu'!AY2="LSD","LSD",IF('full menu'!AY2="WSD","WSD",""))))))))) -> LSD
A3: Bahrain | B3: =IF('full menu'!B3="MDC","MDC",IF(OR('full menu'!B3="PERF",'full menu'!B3="AERF",'full menu'!B3="PCB"),"ERfix",IF(OR('full menu'!B3="ACB", 'full menu'!B3="LCERT", 'full menu'!B3="LERT",'full menu'!B3="FCERT",'full menu'!B3="FERT"),"ERTs",IF(OR('full menu'!B3="FCMT",'full menu'!B3="FMT",'full menu'!B3="LMT",'full menu'!B3="LCMT"),"MTs",IF(OR('full menu'!B3="LCIT",'full menu'!B3="FCIT",'full menu'!B3="LIT",'full menu'!B3="FIT"),"ITs",IF(OR('full menu'!B3="MwERT", 'full menu'!B3="ERwMT", 'full menu'!B3="M&ERT", 'full menu'!B3="MwIT", 'full menu'!B3="IwMT", 'full menu'!B3="M&IT", 'full menu'!B3="IwERT", 'full menu'!B3="ERwIT", 'full menu'!B3="I&ERT", 'full menu'!B3="ER&M&IT"),"MixedTs",IF('full menu'!B3="UD","UD",IF('full menu'!B3="LSD","LSD",IF('full menu'!B3="WSD","WSD",""))))))))) -> ERTs | C3: =IF('full menu'!C3="MDC","MDC",IF(OR('full menu'!C3="PERF",'full menu'!C3="AERF",'full menu'!C3="PCB"),"ERfix",IF(OR('full menu'!C3="ACB", 'full menu'!C3="LCERT", 'full menu'!C3="LERT",'full menu'!C3="FCERT",'full menu'!C3="FERT"),"ERTs",IF(OR('full menu'!C3="FCMT",'full menu'!C3="FMT",'full menu'!C3="LMT",'full menu'!C3="LCMT"),"MTs",IF(OR('full menu'!C3="LCIT",'full menu'!C3="FCIT",'full menu'!C3="LIT",'full menu'!C3="FIT"),"ITs",IF(OR('full menu'!C3="MwERT", 'full menu'!C3="ERwMT", 'full menu'!C3="M&ERT", 'full menu'!C3="MwIT", 'full menu'!C3="IwMT", 'full menu'!C3="M&IT", 'full menu'!C3="IwERT", 'full menu'!C3="ERwIT", 'full menu'!C3="I&ERT", 'full menu'!C3="ER&M&IT"),"MixedTs",IF('full menu'!C3="UD","UD",IF('full menu'!C3="LSD","LSD",IF('full menu'!C3="WSD","WSD",""))))))))) -> ERfix | D3: =IF('full menu'!D3="MDC","MDC",IF(OR('full menu'!D3="PERF",'full menu'!D3="AERF",'full menu'!D3="PCB"),"ERfix",IF(OR('full menu'!D3="ACB", 'full menu'!D3="LCERT", 'full menu'!D3="LERT",'full menu'!D3="FCERT",'full menu'!D3="FERT"),"ERTs",IF(OR('full menu'!D3="FCMT",'full menu'!D3="FMT",'full menu'!D3="LMT",'full menu'!D3="LCMT"),"MTs",IF(OR('full menu'!D3="LCIT",'full menu'!D3="FCIT",'full menu'!D3="LIT",'full menu'!D3="FIT"),"ITs",IF(OR('full menu'!D3="MwERT", 'full menu'!D3="ERwMT", 'full menu'!D3="M&ERT", 'full menu'!D3="MwIT", 'full menu'!D3="IwMT", 'full menu'!D3="M&IT", 'full menu'!D3="IwERT", 'full menu'!D3="ERwIT", 'full menu'!D3="I&ERT", 'full menu'!D3="ER&M&IT"),"MixedTs",IF('full menu'!D3="UD","UD",IF('full menu'!D3="LSD","LSD",IF('full menu'!D3="WSD","WSD",""))))))))) -> ERfix | E3: =IF('full menu'!E3="MDC","MDC",IF(OR('full menu'!E3="PERF",'full menu'!E3="AERF",'full menu'!E3="PCB"),"ERfix",IF(OR('full menu'!E3="ACB", 'full menu'!E3="LCERT", 'full menu'!E3="LERT",'full menu'!E3="FCERT",'full menu'!E3="FERT"),"ERTs",IF(OR('full menu'!E3="FCMT",'full menu'!E3="FMT",'full menu'!E3="LMT",'full menu'!E3="LCMT"),"MTs",IF(OR('full menu'!E3="LCIT",'full menu'!E3="FCIT",'full menu'!E3="LIT",'full menu'!E3="FIT"),"ITs",IF(OR('full menu'!E3="MwERT", 'full menu'!E3="ERwMT", 'full menu'!E3="M&ERT", 'full menu'!E3="MwIT", 'full menu'!E3="IwMT", 'full menu'!E3="M&IT", 'full menu'!E3="IwERT", 'full menu'!E3="ERwIT", 'full menu'!E3="I&ERT", 'full menu'!E3="ER&M&IT"),"MixedTs",IF('full menu'!E3="UD","UD",IF('full menu'!E3="LSD","LSD",IF('full menu'!E3="WSD","WSD",""))))))))) -> ERfix | F3: =IF('full menu'!F3="MDC","MDC",IF(OR('full menu'!F3="PERF",'full menu'!F3="AERF",'full menu'!F3="PCB"),"ERfix",IF(OR('full menu'!F3="ACB", 'full menu'!F3="LCERT", 'full menu'!F3="LERT",'full menu'!F3="FCERT",'full menu'!F3="FERT"),"ERTs",IF(OR('full menu'!F3="FCMT",'full menu'!F3="FMT",'full menu'!F3="LMT",'full menu'!F3="LCMT"),"MTs",IF(OR('full menu'!F3="LCIT",'full menu'!F3="FCIT",'full menu'!F3="LIT",'full menu'!F3="FIT"),"ITs",IF(OR('full menu'!F3="MwERT", 'full menu'!F3="ERwMT", 'full menu'!F3="M&ERT", 'full menu'!F3="MwIT", 'full menu'!F3="IwMT", 'full menu'!F3="M&IT", 'full menu'!F3="IwERT", 'full menu'!F3="ERwIT", 'full menu'!F3="I&ERT", 'full menu'!F3="ER&M&IT"),"MixedTs",IF('full menu'!F3="UD","UD",IF('full menu'!F3="LSD","LSD",IF('full menu'!F3="WSD","WSD",""))))))))) -> ERfix | G3: =IF('full menu'!G3="MDC","MDC",IF(OR('full menu'!G3="PERF",'full menu'!G3="AERF",'full menu'!G3="PCB"),"ERfix",IF(OR('full menu'!G3="ACB", 'full menu'!G3="LCERT", 'full menu'!G3="LERT",'full menu'!G3="FCERT",'full menu'!G3="FERT"),"ERTs",IF(OR('full menu'!G3="FCMT",'full menu'!G3="FMT",'full menu'!G3="LMT",'full menu'!G3="LCMT"),"MTs",IF(OR('full menu'!G3="LCIT",'full menu'!G3="FCIT",'full menu'!G3="LIT",'full menu'!G3="FIT"),"ITs",IF(OR('full menu'!G3="MwERT", 'full menu'!G3="ERwMT", 'full menu'!G3="M&ERT", 'full menu'!G3="MwIT", 'full menu'!G3="IwMT", 'full menu'!G3="M&IT", 'full menu'!G3="IwERT", 'full menu'!G3="ERwIT", 'full menu'!G3="I&ERT", 'full menu'!G3="ER&M&IT"),"MixedTs",IF('full menu'!G3="UD","UD",IF('full menu'!G3="LSD","LSD",IF('full menu'!G3="WSD","WSD",""))))))))) -> ERfix | H3: =IF('full menu'!H3="MDC","MDC",IF(OR('full menu'!H3="PERF",'full menu'!H3="AERF",'full menu'!H3="PCB"),"ERfix",IF(OR('full menu'!H3="ACB", 'full menu'!H3="LCERT", 'full menu'!H3="LERT",'full menu'!H3="FCERT",'full menu'!H3="FERT"),"ERTs",IF(OR('full menu'!H3="FCMT",'full menu'!H3="FMT",'full menu'!H3="LMT",'full menu'!H3="LCMT"),"MTs",IF(OR('full menu'!H3="LCIT",'full menu'!H3="FCIT",'full menu'!H3="LIT",'full menu'!H3="FIT"),"ITs",IF(OR('full menu'!H3="MwERT", 'full menu'!H3="ERwMT", 'full menu'!H3="M&ERT", 'full menu'!H3="MwIT", 'full menu'!H3="IwMT", 'full menu'!H3="M&IT", 'full menu'!H3="IwERT", 'full menu'!H3="ERwIT", 'full menu'!H3="I&ERT", 'full menu'!H3="ER&M&IT"),"MixedTs",IF('full menu'!H3="UD","UD",IF('full menu'!H3="LSD","LSD",IF('full menu'!H3="WSD","WSD",""))))))))) -> ERfix | I3: =IF('full menu'!I3="MDC","MDC",IF(OR('full menu'!I3="PERF",'full menu'!I3="AERF",'full menu'!I3="PCB"),"ERfix",IF(OR('full menu'!I3="ACB", 'full menu'!I3="LCERT", 'full menu'!I3="LERT",'full menu'!I3="FCERT",'full menu'!I3="FERT"),"ERTs",IF(OR('full menu'!I3="FCMT",'full menu'!I3="FMT",'full menu'!I3="LMT",'full menu'!I3="LCMT"),"MTs",IF(OR('full menu'!I3="LCIT",'full menu'!I3="FCIT",'full menu'!I3="LIT",'full menu'!I3="FIT"),"ITs",IF(OR('full menu'!I3="MwERT", 'full menu'!I3="ERwMT", 'full menu'!I3="M&ERT", 'full menu'!I3="MwIT", 'full menu'!I3="IwMT", 'full menu'!I3="M&IT", 'full menu'!I3="IwERT", 'full menu'!I3="ERwIT", 'full menu'!I3="I&ERT", 'full menu'!I3="ER&M&IT"),"MixedTs",IF('full menu'!I3="UD","UD",IF('full menu'!I3="LSD","LSD",IF('full menu'!I3="WSD","WSD",""))))))))) -> ERfix | ... AY3: =IF('full menu'!AY3="MDC","MDC",IF(OR('full menu'!AY3="PERF",'full menu'!AY3="AERF",'full menu'!AY3="PCB"),"ERfix",IF(OR('full menu'!AY3="ACB", 'full menu'!AY3="LCERT", 'full menu'!AY3="LERT",'full menu'!AY3="FCERT",'full menu'!AY3="FERT"),"ERTs",IF(OR('full menu'!AY3="FCMT",'full menu'!AY3="FMT",'full menu'!AY3="LMT",'full menu'!AY3="LCMT"),"MTs",IF(OR('full menu'!AY3="LCIT",'full menu'!AY3="FCIT",'full menu'!AY3="LIT",'full menu'!AY3="FIT"),"ITs",IF(OR('full menu'!AY3="MwERT", 'full menu'!AY3="ERwMT", 'full menu'!AY3="M&ERT", 'full menu'!AY3="MwIT", 'full menu'!AY3="IwMT", 'full menu'!AY3="M&IT", 'full menu'!AY3="IwERT", 'full menu'!AY3="ERwIT", 'full menu'!AY3="I&ERT", 'full menu'!AY3="ER&M&IT"),"MixedTs",IF('full menu'!AY3="UD","UD",IF('full menu'!AY3="LSD","LSD",IF('full menu'!AY3="WSD","WSD",""))))))))) -> ERTs
A4: Egypt | B4: =IF('full menu'!B4="MDC","MDC",IF(OR('full menu'!B4="PERF",'full menu'!B4="AERF",'full menu'!B4="PCB"),"ERfix",IF(OR('full menu'!B4="ACB", 'full menu'!B4="LCERT", 'full menu'!B4="LERT",'full menu'!B4="FCERT",'full menu'!B4="FERT"),"ERTs",IF(OR('full menu'!B4="FCMT",'full menu'!B4="FMT",'full menu'!B4="LMT",'full menu'!B4="LCMT"),"MTs",IF(OR('full menu'!B4="LCIT",'full menu'!B4="FCIT",'full menu'!B4="LIT",'full menu'!B4="FIT"),"ITs",IF(OR('full menu'!B4="MwERT", 'full menu'!B4="ERwMT", 'full menu'!B4="M&ERT", 'full menu'!B4="MwIT", 'full menu'!B4="IwMT", 'full menu'!B4="M&IT", 'full menu'!B4="IwERT", 'full menu'!B4="ERwIT", 'full menu'!B4="I&ERT", 'full menu'!B4="ER&M&IT"),"MixedTs",IF('full menu'!B4="UD","UD",IF('full menu'!B4="LSD","LSD",IF('full menu'!B4="WSD","WSD",""))))))))) -> MDC | C4: =IF('full menu'!C4="MDC","MDC",IF(OR('full menu'!C4="PERF",'full menu'!C4="AERF",'full menu'!C4="PCB"),"ERfix",IF(OR('full menu'!C4="ACB", 'full menu'!C4="LCERT", 'full menu'!C4="LERT",'full menu'!C4="FCERT",'full menu'!C4="FERT"),"ERTs",IF(OR('full menu'!C4="FCMT",'full menu'!C4="FMT",'full menu'!C4="LMT",'full menu'!C4="LCMT"),"MTs",IF(OR('full menu'!C4="LCIT",'full menu'!C4="FCIT",'full menu'!C4="LIT",'full menu'!C4="FIT"),"ITs",IF(OR('full menu'!C4="MwERT", 'full menu'!C4="ERwMT", 'full menu'!C4="M&ERT", 'full menu'!C4="MwIT", 'full menu'!C4="IwMT", 'full menu'!C4="M&IT", 'full menu'!C4="IwERT", 'full menu'!C4="ERwIT", 'full menu'!C4="I&ERT", 'full menu'!C4="ER&M&IT"),"MixedTs",IF('full menu'!C4="UD","UD",IF('full menu'!C4="LSD","LSD",IF('full menu'!C4="WSD","WSD",""))))))))) -> MDC | D4: =IF('full menu'!D4="MDC","MDC",IF(OR('full menu'!D4="PERF",'full menu'!D4="AERF",'full menu'!D4="PCB"),"ERfix",IF(OR('full menu'!D4="ACB", 'full menu'!D4="LCERT", 'full menu'!D4="LERT",'full menu'!D4="FCERT",'full menu'!D4="FERT"),"ERTs",IF(OR('full menu'!D4="FCMT",'full menu'!D4="FMT",'full menu'!D4="LMT",'full menu'!D4="LCMT"),"MTs",IF(OR('full menu'!D4="LCIT",'full menu'!D4="FCIT",'full menu'!D4="LIT",'full menu'!D4="FIT"),"ITs",IF(OR('full menu'!D4="MwERT", 'full menu'!D4="ERwMT", 'full menu'!D4="M&ERT", 'full menu'!D4="MwIT", 'full menu'!D4="IwMT", 'full menu'!D4="M&IT", 'full menu'!D4="IwERT", 'full menu'!D4="ERwIT", 'full menu'!D4="I&ERT", 'full menu'!D4="ER&M&IT"),"MixedTs",IF('full menu'!D4="UD","UD",IF('full menu'!D4="LSD","LSD",IF('full menu'!D4="WSD","WSD",""))))))))) -> MDC | E4: =IF('full menu'!E4="MDC","MDC",IF(OR('full menu'!E4="PERF",'full menu'!E4="AERF",'full menu'!E4="PCB"),"ERfix",IF(OR('full menu'!E4="ACB", 'full menu'!E4="LCERT", 'full menu'!E4="LERT",'full menu'!E4="FCERT",'full menu'!E4="FERT"),"ERTs",IF(OR('full menu'!E4="FCMT",'full menu'!E4="FMT",'full menu'!E4="LMT",'full menu'!E4="LCMT"),"MTs",IF(OR('full menu'!E4="LCIT",'full menu'!E4="FCIT",'full menu'!E4="LIT",'full menu'!E4="FIT"),"ITs",IF(OR('full menu'!E4="MwERT", 'full menu'!E4="ERwMT", 'full menu'!E4="M&ERT", 'full menu'!E4="MwIT", 'full menu'!E4="IwMT", 'full menu'!E4="M&IT", 'full menu'!E4="IwERT", 'full menu'!E4="ERwIT", 'full menu'!E4="I&ERT", 'full menu'!E4="ER&M&IT"),"MixedTs",IF('full menu'!E4="UD","UD",IF('full menu'!E4="LSD","LSD",IF('full menu'!E4="WSD","WSD",""))))))))) -> UD | F4: =IF('full menu'!F4="MDC","MDC",IF(OR('full menu'!F4="PERF",'full menu'!F4="AERF",'full menu'!F4="PCB"),"ERfix",IF(OR('full menu'!F4="ACB", 'full menu'!F4="LCERT", 'full menu'!F4="LERT",'full menu'!F4="FCERT",'full menu'!F4="FERT"),"ERTs",IF(OR('full menu'!F4="FCMT",'full menu'!F4="FMT",'full menu'!F4="LMT",'full menu'!F4="LCMT"),"MTs",IF(OR('full menu'!F4="LCIT",'full menu'!F4="FCIT",'full menu'!F4="LIT",'full menu'!F4="FIT"),"ITs",IF(OR('full menu'!F4="MwERT", 'full menu'!F4="ERwMT", 'full menu'!F4="M&ERT", 'full menu'!F4="MwIT", 'full menu'!F4="IwMT", 'full menu'!F4="M&IT", 'full menu'!F4="IwERT", 'full menu'!F4="ERwIT", 'full menu'!F4="I&ERT", 'full menu'!F4="ER&M&IT"),"MixedTs",IF('full menu'!F4="UD","UD",IF('full menu'!F4="LSD","LSD",IF('full menu'!F4="WSD","WSD",""))))))))) -> UD | G4: =IF('full menu'!G4="MDC","MDC",IF(OR('full menu'!G4="PERF",'full menu'!G4="AERF",'full menu'!G4="PCB"),"ERfix",IF(OR('full menu'!G4="ACB", 'full menu'!G4="LCERT", 'full menu'!G4="LERT",'full menu'!G4="FCERT",'full menu'!G4="FERT"),"ERTs",IF(OR('full menu'!G4="FCMT",'full menu'!G4="FMT",'full menu'!G4="LMT",'full menu'!G4="LCMT"),"MTs",IF(OR('full menu'!G4="LCIT",'full menu'!G4="FCIT",'full menu'!G4="LIT",'full menu'!G4="FIT"),"ITs",IF(OR('full menu'!G4="MwERT", 'full menu'!G4="ERwMT", 'full menu'!G4="M&ERT", 'full menu'!G4="MwIT", 'full menu'!G4="IwMT", 'full menu'!G4="M&IT", 'full menu'!G4="IwERT", 'full menu'!G4="ERwIT", 'full menu'!G4="I&ERT", 'full menu'!G4="ER&M&IT"),"MixedTs",IF('full menu'!G4="UD","UD",IF('full menu'!G4="LSD","LSD",IF('full menu'!G4="WSD","WSD",""))))))))) -> UD | H4: =IF('full menu'!H4="MDC","MDC",IF(OR('full menu'!H4="PERF",'full menu'!H4="AERF",'full menu'!H4="PCB"),"ERfix",IF(OR('full menu'!H4="ACB", 'full menu'!H4="LCERT", 'full menu'!H4="LERT",'full menu'!H4="FCERT",'full menu'!H4="FERT"),"ERTs",IF(OR('full menu'!H4="FCMT",'full menu'!H4="FMT",'full menu'!H4="LMT",'full menu'!H4="LCMT"),"MTs",IF(OR('full menu'!H4="LCIT",'full menu'!H4="FCIT",'full menu'!H4="LIT",'full menu'!H4="FIT"),"ITs",IF(OR('full menu'!H4="MwERT", 'full menu'!H4="ERwMT", 'full menu'!H4="M&ERT", 'full menu'!H4="MwIT", 'full menu'!H4="IwMT", 'full menu'!H4="M&IT", 'full menu'!H4="IwERT", 'full menu'!H4="ERwIT", 'full menu'!H4="I&ERT", 'full menu'!H4="ER&M&IT"),"MixedTs",IF('full menu'!H4="UD","UD",IF('full menu'!H4="LSD","LSD",IF('full menu'!H4="WSD","WSD",""))))))))) -> UD | I4: =IF('full menu'!I4="MDC","MDC",IF(OR('full menu'!I4="PERF",'full menu'!I4="AERF",'full menu'!I4="PCB"),"ERfix",IF(OR('full menu'!I4="ACB", 'full menu'!I4="LCERT", 'full menu'!I4="LERT",'full menu'!I4="FCERT",'full menu'!I4="FERT"),"ERTs",IF(OR('full menu'!I4="FCMT",'full menu'!I4="FMT",'full menu'!I4="LMT",'full menu'!I4="LCMT"),"MTs",IF(OR('full menu'!I4="LCIT",'full menu'!I4="FCIT",'full menu'!I4="LIT",'full menu'!I4="FIT"),"ITs",IF(OR('full menu'!I4="MwERT", 'full menu'!I4="ERwMT", 'full menu'!I4="M&ERT", 'full menu'!I4="MwIT", 'full menu'!I4="IwMT", 'full menu'!I4="M&IT", 'full menu'!I4="IwERT", 'full menu'!I4="ERwIT", 'full menu'!I4="I&ERT", 'full menu'!I4="ER&M&IT"),"MixedTs",IF('full menu'!I4="UD","UD",IF('full menu'!I4="LSD","LSD",IF('full menu'!I4="WSD","WSD",""))))))))) -> UD | ... AY4: =IF('full menu'!AY4="MDC","MDC",IF(OR('full menu'!AY4="PERF",'full menu'!AY4="AERF",'full menu'!AY4="PCB"),"ERfix",IF(OR('full menu'!AY4="ACB", 'full menu'!AY4="LCERT", 'full menu'!AY4="LERT",'full menu'!AY4="FCERT",'full menu'!AY4="FERT"),"ERTs",IF(OR('full menu'!AY4="FCMT",'full menu'!AY4="FMT",'full menu'!AY4="LMT",'full menu'!AY4="LCMT"),"MTs",IF(OR('full menu'!AY4="LCIT",'full menu'!AY4="FCIT",'full menu'!AY4="LIT",'full menu'!AY4="FIT"),"ITs",IF(OR('full menu'!AY4="MwERT", 'full menu'!AY4="ERwMT", 'full menu'!AY4="M&ERT", 'full menu'!AY4="MwIT", 'full menu'!AY4="IwMT", 'full menu'!AY4="M&IT", 'full menu'!AY4="IwERT", 'full menu'!AY4="ERwIT", 'full menu'!AY4="I&ERT", 'full menu'!AY4="ER&M&IT"),"MixedTs",IF('full menu'!AY4="UD","UD",IF('full menu'!AY4="LSD","LSD",IF('full menu'!AY4="WSD","WSD",""))))))))) -> LSD
A5: Iran | B5: =IF('full menu'!B5="MDC","MDC",IF(OR('full menu'!B5="PERF",'full menu'!B5="AERF",'full menu'!B5="PCB"),"ERfix",IF(OR('full menu'!B5="ACB", 'full menu'!B5="LCERT", 'full menu'!B5="LERT",'full menu'!B5="FCERT",'full menu'!B5="FERT"),"ERTs",IF(OR('full menu'!B5="FCMT",'full menu'!B5="FMT",'full menu'!B5="LMT",'full menu'!B5="LCMT"),"MTs",IF(OR('full menu'!B5="LCIT",'full menu'!B5="FCIT",'full menu'!B5="LIT",'full menu'!B5="FIT"),"ITs",IF(OR('full menu'!B5="MwERT", 'full menu'!B5="ERwMT", 'full menu'!B5="M&ERT", 'full menu'!B5="MwIT", 'full menu'!B5="IwMT", 'full menu'!B5="M&IT", 'full menu'!B5="IwERT", 'full menu'!B5="ERwIT", 'full menu'!B5="I&ERT", 'full menu'!B5="ER&M&IT"),"MixedTs",IF('full menu'!B5="UD","UD",IF('full menu'!B5="LSD","LSD",IF('full menu'!B5="WSD","WSD",""))))))))) -> LSD | C5: =IF('full menu'!C5="MDC","MDC",IF(OR('full menu'!C5="PERF",'full menu'!C5="AERF",'full menu'!C5="PCB"),"ERfix",IF(OR('full menu'!C5="ACB", 'full menu'!C5="LCERT", 'full menu'!C5="LERT",'full menu'!C5="FCERT",'full menu'!C5="FERT"),"ERTs",IF(OR('full menu'!C5="FCMT",'full menu'!C5="FMT",'full menu'!C5="LMT",'full menu'!C5="LCMT"),"MTs",IF(OR('full menu'!C5="LCIT",'full menu'!C5="FCIT",'full menu'!C5="LIT",'full menu'!C5="FIT"),"ITs",IF(OR('full menu'!C5="MwERT", 'full menu'!C5="ERwMT", 'full menu'!C5="M&ERT", 'full menu'!C5="MwIT", 'full menu'!C5="IwMT", 'full menu'!C5="M&IT", 'full menu'!C5="IwERT", 'full menu'!C5="ERwIT", 'full menu'!C5="I&ERT", 'full menu'!C5="ER&M&IT"),"MixedTs",IF('full menu'!C5="UD","UD",IF('full menu'!C5="LSD","LSD",IF('full menu'!C5="WSD","WSD",""))))))))) -> LSD | D5: =IF('full menu'!D5="MDC","MDC",IF(OR('full menu'!D5="PERF",'full menu'!D5="AERF",'full menu'!D5="PCB"),"ERfix",IF(OR('full menu'!D5="ACB", 'full menu'!D5="LCERT", 'full menu'!D5="LERT",'full menu'!D5="FCERT",'full menu'!D5="FERT"),"ERTs",IF(OR('full menu'!D5="FCMT",'full menu'!D5="FMT",'full menu'!D5="LMT",'full menu'!D5="LCMT"),"MTs",IF(OR('full menu'!D5="LCIT",'full menu'!D5="FCIT",'full menu'!D5="LIT",'full menu'!D5="FIT"),"ITs",IF(OR('full menu'!D5="MwERT", 'full menu'!D5="ERwMT", 'full menu'!D5="M&ERT", 'full menu'!D5="MwIT", 'full menu'!D5="IwMT", 'full menu'!D5="M&IT", 'full menu'!D5="IwERT", 'full menu'!D5="ERwIT", 'full menu'!D5="I&ERT", 'full menu'!D5="ER&M&IT"),"MixedTs",IF('full menu'!D5="UD","UD",IF('full menu'!D5="LSD","LSD",IF('full menu'!D5="WSD","WSD",""))))))))) -> LSD | E5: =IF('full menu'!E5="MDC","MDC",IF(OR('full menu'!E5="PERF",'full menu'!E5="AERF",'full menu'!E5="PCB"),"ERfix",IF(OR('full menu'!E5="ACB", 'full menu'!E5="LCERT", 'full menu'!E5="LERT",'full menu'!E5="FCERT",'full menu'!E5="FERT"),"ERTs",IF(OR('full menu'!E5="FCMT",'full menu'!E5="FMT",'full menu'!E5="LMT",'full menu'!E5="LCMT"),"MTs",IF(OR('full menu'!E5="LCIT",'full menu'!E5="FCIT",'full menu'!E5="LIT",'full menu'!E5="FIT"),"ITs",IF(OR('full menu'!E5="MwERT", 'full menu'!E5="ERwMT", 'full menu'!E5="M&ERT", 'full menu'!E5="MwIT", 'full menu'!E5="IwMT", 'full menu'!E5="M&IT", 'full menu'!E5="IwERT", 'full menu'!E5="ERwIT", 'full menu'!E5="I&ERT", 'full menu'!E5="ER&M&IT"),"MixedTs",IF('full menu'!E5="UD","UD",IF('full menu'!E5="LSD","LSD",IF('full menu'!E5="WSD","WSD",""))))))))) -> LSD | F5: =IF('full menu'!F5="MDC","MDC",IF(OR('full menu'!F5="PERF",'full menu'!F5="AERF",'full menu'!F5="PCB"),"ERfix",IF(OR('full menu'!F5="ACB", 'full menu'!F5="LCERT", 'full menu'!F5="LERT",'full menu'!F5="FCERT",'full menu'!F5="FERT"),"ERTs",IF(OR('full menu'!F5="FCMT",'full menu'!F5="FMT",'full menu'!F5="LMT",'full menu'!F5="LCMT"),"MTs",IF(OR('full menu'!F5="LCIT",'full menu'!F5="FCIT",'full menu'!F5="LIT",'full menu'!F5="FIT"),"ITs",IF(OR('full menu'!F5="MwERT", 'full menu'!F5="ERwMT", 'full menu'!F5="M&ERT", 'full menu'!F5="MwIT", 'full menu'!F5="IwMT", 'full menu'!F5="M&IT", 'full menu'!F5="IwERT", 'full menu'!F5="ERwIT", 'full menu'!F5="I&ERT", 'full menu'!F5="ER&M&IT"),"MixedTs",IF('full menu'!F5="UD","UD",IF('full menu'!F5="LSD","LSD",IF('full menu'!F5="WSD","WSD",""))))))))) -> LSD | G5: =IF('full menu'!G5="MDC","MDC",IF(OR('full menu'!G5="PERF",'full menu'!G5="AERF",'full menu'!G5="PCB"),"ERfix",IF(OR('full menu'!G5="ACB", 'full menu'!G5="LCERT", 'full menu'!G5="LERT",'full menu'!G5="FCERT",'full menu'!G5="FERT"),"ERTs",IF(OR('full menu'!G5="FCMT",'full menu'!G5="FMT",'full menu'!G5="LMT",'full menu'!G5="LCMT"),"MTs",IF(OR('full menu'!G5="LCIT",'full menu'!G5="FCIT",'full menu'!G5="LIT",'full menu'!G5="FIT"),"ITs",IF(OR('full menu'!G5="MwERT", 'full menu'!G5="ERwMT", 'full menu'!G5="M&ERT", 'full menu'!G5="MwIT", 'full menu'!G5="IwMT", 'full menu'!G5="M&IT", 'full menu'!G5="IwERT", 'full menu'!G5="ERwIT", 'full menu'!G5="I&ERT", 'full menu'!G5="ER&M&IT"),"MixedTs",IF('full menu'!G5="UD","UD",IF('full menu'!G5="LSD","LSD",IF('full menu'!G5="WSD","WSD",""))))))))) -> LSD | H5: =IF('full menu'!H5="MDC","MDC",IF(OR('full menu'!H5="PERF",'full menu'!H5="AERF",'full menu'!H5="PCB"),"ERfix",IF(OR('full menu'!H5="ACB", 'full menu'!H5="LCERT", 'full menu'!H5="LERT",'full menu'!H5="FCERT",'full menu'!H5="FERT"),"ERTs",IF(OR('full menu'!H5="FCMT",'full menu'!H5="FMT",'full menu'!H5="LMT",'full menu'!H5="LCMT"),"MTs",IF(OR('full menu'!H5="LCIT",'full menu'!H5="FCIT",'full menu'!H5="LIT",'full menu'!H5="FIT"),"ITs",IF(OR('full menu'!H5="MwERT", 'full menu'!H5="ERwMT", 'full menu'!H5="M&ERT", 'full menu'!H5="MwIT", 'full menu'!H5="IwMT", 'full menu'!H5="M&IT", 'full menu'!H5="IwERT", 'full menu'!H5="ERwIT", 'full menu'!H5="I&ERT", 'full menu'!H5="ER&M&IT"),"MixedTs",IF('full menu'!H5="UD","UD",IF('full menu'!H5="LSD","LSD",IF('full menu'!H5="WSD","WSD",""))))))))) -> UD | I5: =IF('full menu'!I5="MDC","MDC",IF(OR('full menu'!I5="PERF",'full menu'!I5="AERF",'full menu'!I5="PCB"),"ERfix",IF(OR('full menu'!I5="ACB", 'full menu'!I5="LCERT", 'full menu'!I5="LERT",'full menu'!I5="FCERT",'full menu'!I5="FERT"),"ERTs",IF(OR('full menu'!I5="FCMT",'full menu'!I5="FMT",'full menu'!I5="LMT",'full menu'!I5="LCMT"),"MTs",IF(OR('full menu'!I5="LCIT",'full menu'!I5="FCIT",'full menu'!I5="LIT",'full menu'!I5="FIT"),"ITs",IF(OR('full menu'!I5="MwERT", 'full menu'!I5="ERwMT", 'full menu'!I5="M&ERT", 'full menu'!I5="MwIT", 'full menu'!I5="IwMT", 'full menu'!I5="M&IT", 'full menu'!I5="IwERT", 'full menu'!I5="ERwIT", 'full menu'!I5="I&ERT", 'full menu'!I5="ER&M&IT"),"MixedTs",IF('full menu'!I5="UD","UD",IF('full menu'!I5="LSD","LSD",IF('full menu'!I5="WSD","WSD",""))))))))) -> UD | ... AY5: =IF('full menu'!AY5="MDC","MDC",IF(OR('full menu'!AY5="PERF",'full menu'!AY5="AERF",'full menu'!AY5="PCB"),"ERfix",IF(OR('full menu'!AY5="ACB", 'full menu'!AY5="LCERT", 'full menu'!AY5="LERT",'full menu'!AY5="FCERT",'full menu'!AY5="FERT"),"ERTs",IF(OR('full menu'!AY5="FCMT",'full menu'!AY5="FMT",'full menu'!AY5="LMT",'full menu'!AY5="LCMT"),"MTs",IF(OR('full menu'!AY5="LCIT",'full menu'!AY5="FCIT",'full menu'!AY5="LIT",'full menu'!AY5="FIT"),"ITs",IF(OR('full menu'!AY5="MwERT", 'full menu'!AY5="ERwMT", 'full menu'!AY5="M&ERT", 'full menu'!AY5="MwIT", 'full menu'!AY5="IwMT", 'full menu'!AY5="M&IT", 'full menu'!AY5="IwERT", 'full menu'!AY5="ERwIT", 'full menu'!AY5="I&ERT", 'full menu'!AY5="ER&M&IT"),"MixedTs",IF('full menu'!AY5="UD","UD",IF('full menu'!AY5="LSD","LSD",IF('full menu'!AY5="WSD","WSD",""))))))))) -> LSD
A6: Iraq | B6: =IF('full menu'!B6="MDC","MDC",IF(OR('full menu'!B6="PERF",'full menu'!B6="AERF",'full menu'!B6="PCB"),"ERfix",IF(OR('full menu'!B6="ACB", 'full menu'!B6="LCERT", 'full menu'!B6="LERT",'full menu'!B6="FCERT",'full menu'!B6="FERT"),"ERTs",IF(OR('full menu'!B6="FCMT",'full menu'!B6="FMT",'full menu'!B6="LMT",'full menu'!B6="LCMT"),"MTs",IF(OR('full menu'!B6="LCIT",'full menu'!B6="FCIT",'full menu'!B6="LIT",'full menu'!B6="FIT"),"ITs",IF(OR('full menu'!B6="MwERT", 'full menu'!B6="ERwMT", 'full menu'!B6="M&ERT", 'full menu'!B6="MwIT", 'full menu'!B6="IwMT", 'full menu'!B6="M&IT", 'full menu'!B6="IwERT", 'full menu'!B6="ERwIT", 'full menu'!B6="I&ERT", 'full menu'!B6="ER&M&IT"),"MixedTs",IF('full menu'!B6="UD","UD",IF('full menu'!B6="LSD","LSD",IF('full menu'!B6="WSD","WSD",""))))))))) -> ERfix | C6: =IF('full menu'!C6="MDC","MDC",IF(OR('full menu'!C6="PERF",'full menu'!C6="AERF",'full menu'!C6="PCB"),"ERfix",IF(OR('full menu'!C6="ACB", 'full menu'!C6="LCERT", 'full menu'!C6="LERT",'full menu'!C6="FCERT",'full menu'!C6="FERT"),"ERTs",IF(OR('full menu'!C6="FCMT",'full menu'!C6="FMT",'full menu'!C6="LMT",'full menu'!C6="LCMT"),"MTs",IF(OR('full menu'!C6="LCIT",'full menu'!C6="FCIT",'full menu'!C6="LIT",'full menu'!C6="FIT"),"ITs",IF(OR('full menu'!C6="MwERT", 'full menu'!C6="ERwMT", 'full menu'!C6="M&ERT", 'full menu'!C6="MwIT", 'full menu'!C6="IwMT", 'full menu'!C6="M&IT", 'full menu'!C6="IwERT", 'full menu'!C6="ERwIT", 'full menu'!C6="I&ERT", 'full menu'!C6="ER&M&IT"),"MixedTs",IF('full menu'!C6="UD","UD",IF('full menu'!C6="LSD","LSD",IF('full menu'!C6="WSD","WSD",""))))))))) -> ERfix | D6: =IF('full menu'!D6="MDC","MDC",IF(OR('full menu'!D6="PERF",'full menu'!D6="AERF",'full menu'!D6="PCB"),"ERfix",IF(OR('full menu'!D6="ACB", 'full menu'!D6="LCERT", 'full menu'!D6="LERT",'full menu'!D6="FCERT",'full menu'!D6="FERT"),"ERTs",IF(OR('full menu'!D6="FCMT",'full menu'!D6="FMT",'full menu'!D6="LMT",'full menu'!D6="LCMT"),"MTs",IF(OR('full menu'!D6="LCIT",'full menu'!D6="FCIT",'full menu'!D6="LIT",'full menu'!D6="FIT"),"ITs",IF(OR('full menu'!D6="MwERT", 'full menu'!D6="ERwMT", 'full menu'!D6="M&ERT", 'full menu'!D6="MwIT", 'full menu'!D6="IwMT", 'full menu'!D6="M&IT", 'full menu'!D6="IwERT", 'full menu'!D6="ERwIT", 'full menu'!D6="I&ERT", 'full menu'!D6="ER&M&IT"),"MixedTs",IF('full menu'!D6="UD","UD",IF('full menu'!D6="LSD","LSD",IF('full menu'!D6="WSD","WSD",""))))))))) -> ERfix | E6: =IF('full menu'!E6="MDC","MDC",IF(OR('full menu'!E6="PERF",'full menu'!E6="AERF",'full menu'!E6="PCB"),"ERfix",IF(OR('full menu'!E6="ACB", 'full menu'!E6="LCERT", 'full menu'!E6="LERT",'full menu'!E6="FCERT",'full menu'!E6="FERT"),"ERTs",IF(OR('full menu'!E6="FCMT",'full menu'!E6="FMT",'full menu'!E6="LMT",'full menu'!E6="LCMT"),"MTs",IF(OR('full menu'!E6="LCIT",'full menu'!E6="FCIT",'full menu'!E6="LIT",'full menu'!E6="FIT"),"ITs",IF(OR('full menu'!E6="MwERT", 'full menu'!E6="ERwMT", 'full menu'!E6="M&ERT", 'full menu'!E6="MwIT", 'full menu'!E6="IwMT", 'full menu'!E6="M&IT", 'full menu'!E6="IwERT", 'full menu'!E6="ERwIT", 'full menu'!E6="I&ERT", 'full menu'!E6="ER&M&IT"),"MixedTs",IF('full menu'!E6="UD","UD",IF('full menu'!E6="LSD","LSD",IF('full menu'!E6="WSD","WSD",""))))))))) -> ERfix | F6: =IF('full menu'!F6="MDC","MDC",IF(OR('full menu'!F6="PERF",'full menu'!F6="AERF",'full menu'!F6="PCB"),"ERfix",IF(OR('full menu'!F6="ACB", 'full menu'!F6="LCERT", 'full menu'!F6="LERT",'full menu'!F6="FCERT",'full menu'!F6="FERT"),"ERTs",IF(OR('full menu'!F6="FCMT",'full menu'!F6="FMT",'full menu'!F6="LMT",'full menu'!F6="LCMT"),"MTs",IF(OR('full menu'!F6="LCIT",'full menu'!F6="FCIT",'full menu'!F6="LIT",'full menu'!F6="FIT"),"ITs",IF(OR('full menu'!F6="MwERT", 'full menu'!F6="ERwMT", 'full menu'!F6="M&ERT", 'full menu'!F6="MwIT", 'full menu'!F6="IwMT", 'full menu'!F6="M&IT", 'full menu'!F6="IwERT", 'full menu'!F6="ERwIT", 'full menu'!F6="I&ERT", 'full menu'!F6="ER&M&IT"),"MixedTs",IF('full menu'!F6="UD","UD",IF('full menu'!F6="LSD","LSD",IF('full menu'!F6="WSD","WSD",""))))))))) -> ERfix | G6: =IF('full menu'!G6="MDC","MDC",IF(OR('full menu'!G6="PERF",'full menu'!G6="AERF",'full menu'!G6="PCB"),"ERfix",IF(OR('full menu'!G6="ACB", 'full menu'!G6="LCERT", 'full menu'!G6="LERT",'full menu'!G6="FCERT",'full menu'!G6="FERT"),"ERTs",IF(OR('full menu'!G6="FCMT",'full menu'!G6="FMT",'full menu'!G6="LMT",'full menu'!G6="LCMT"),"MTs",IF(OR('full menu'!G6="LCIT",'full menu'!G6="FCIT",'full menu'!G6="LIT",'full menu'!G6="FIT"),"ITs",IF(OR('full menu'!G6="MwERT", 'full menu'!G6="ERwMT", 'full menu'!G6="M&ERT", 'full menu'!G6="MwIT", 'full menu'!G6="IwMT", 'full menu'!G6="M&IT", 'full menu'!G6="IwERT", 'full menu'!G6="ERwIT", 'full menu'!G6="I&ERT", 'full menu'!G6="ER&M&IT"),"MixedTs",IF('full menu'!G6="UD","UD",IF('full menu'!G6="LSD","LSD",IF('full menu'!G6="WSD","WSD",""))))))))) -> ERfix | H6: =IF('full menu'!H6="MDC","MDC",IF(OR('full menu'!H6="PERF",'full menu'!H6="AERF",'full menu'!H6="PCB"),"ERfix",IF(OR('full menu'!H6="ACB", 'full menu'!H6="LCERT", 'full menu'!H6="LERT",'full menu'!H6="FCERT",'full menu'!H6="FERT"),"ERTs",IF(OR('full menu'!H6="FCMT",'full menu'!H6="FMT",'full menu'!H6="LMT",'full menu'!H6="LCMT"),"MTs",IF(OR('full menu'!H6="LCIT",'full menu'!H6="FCIT",'full menu'!H6="LIT",'full menu'!H6="FIT"),"ITs",IF(OR('full menu'!H6="MwERT", 'full menu'!H6="ERwMT", 'full menu'!H6="M&ERT", 'full menu'!H6="MwIT", 'full menu'!H6="IwMT", 'full menu'!H6="M&IT", 'full menu'!H6="IwERT", 'full menu'!H6="ERwIT", 'full menu'!H6="I&ERT", 'full menu'!H6="ER&M&IT"),"MixedTs",IF('full menu'!H6="UD","UD",IF('full menu'!H6="LSD","LSD",IF('full menu'!H6="WSD","WSD",""))))))))) -> ERfix | I6: =IF('full menu'!I6="MDC","MDC",IF(OR('full menu'!I6="PERF",'full menu'!I6="AERF",'full menu'!I6="PCB"),"ERfix",IF(OR('full menu'!I6="ACB", 'full menu'!I6="LCERT", 'full menu'!I6="LERT",'full menu'!I6="FCERT",'full menu'!I6="FERT"),"ERTs",IF(OR('full menu'!I6="FCMT",'full menu'!I6="FMT",'full menu'!I6="LMT",'full menu'!I6="LCMT"),"MTs",IF(OR('full menu'!I6="LCIT",'full menu'!I6="FCIT",'full menu'!I6="LIT",'full menu'!I6="FIT"),"ITs",IF(OR('full menu'!I6="MwERT", 'full menu'!I6="ERwMT", 'full menu'!I6="M&ERT", 'full menu'!I6="MwIT", 'full menu'!I6="IwMT", 'full menu'!I6="M&IT", 'full menu'!I6="IwERT", 'full menu'!I6="ERwIT", 'full menu'!I6="I&ERT", 'full menu'!I6="ER&M&IT"),"MixedTs",IF('full menu'!I6="UD","UD",IF('full menu'!I6="LSD","LSD",IF('full menu'!I6="WSD","WSD",""))))))))) -> ERfix | ... AY6: =IF('full menu'!AY6="MDC","MDC",IF(OR('full menu'!AY6="PERF",'full menu'!AY6="AERF",'full menu'!AY6="PCB"),"ERfix",IF(OR('full menu'!AY6="ACB", 'full menu'!AY6="LCERT", 'full menu'!AY6="LERT",'full menu'!AY6="FCERT",'full menu'!AY6="FERT"),"ERTs",IF(OR('full menu'!AY6="FCMT",'full menu'!AY6="FMT",'full menu'!AY6="LMT",'full menu'!AY6="LCMT"),"MTs",IF(OR('full menu'!AY6="LCIT",'full menu'!AY6="FCIT",'full menu'!AY6="LIT",'full menu'!AY6="FIT"),"ITs",IF(OR('full menu'!AY6="MwERT", 'full menu'!AY6="ERwMT", 'full menu'!AY6="M&ERT", 'full menu'!AY6="MwIT", 'full menu'!AY6="IwMT", 'full menu'!AY6="M&IT", 'full menu'!AY6="IwERT", 'full menu'!AY6="ERwIT", 'full menu'!AY6="I&ERT", 'full menu'!AY6="ER&M&IT"),"MixedTs",IF('full menu'!AY6="UD","UD",IF('full menu'!AY6="LSD","LSD",IF('full menu'!AY6="WSD","WSD",""))))))))) -> ERfix
A7: Jordan | B7: =IF('full menu'!B7="MDC","MDC",IF(OR('full menu'!B7="PERF",'full menu'!B7="AERF",'full menu'!B7="PCB"),"ERfix",IF(OR('full menu'!B7="ACB", 'full menu'!B7="LCERT", 'full menu'!B7="LERT",'full menu'!B7="FCERT",'full menu'!B7="FERT"),"ERTs",IF(OR('full menu'!B7="FCMT",'full menu'!B7="FMT",'full menu'!B7="LMT",'full menu'!B7="LCMT"),"MTs",IF(OR('full menu'!B7="LCIT",'full menu'!B7="FCIT",'full menu'!B7="LIT",'full menu'!B7="FIT"),"ITs",IF(OR('full menu'!B7="MwERT", 'full menu'!B7="ERwMT", 'full menu'!B7="M&ERT", 'full menu'!B7="MwIT", 'full menu'!B7="IwMT", 'full menu'!B7="M&IT", 'full menu'!B7="IwERT", 'full menu'!B7="ERwIT", 'full menu'!B7="I&ERT", 'full menu'!B7="ER&M&IT"),"MixedTs",IF('full menu'!B7="UD","UD",IF('full menu'!B7="LSD","LSD",IF('full menu'!B7="WSD","WSD",""))))))))) -> ERfix | C7: =IF('full menu'!C7="MDC","MDC",IF(OR('full menu'!C7="PERF",'full menu'!C7="AERF",'full menu'!C7="PCB"),"ERfix",IF(OR('full menu'!C7="ACB", 'full menu'!C7="LCERT", 'full menu'!C7="LERT",'full menu'!C7="FCERT",'full menu'!C7="FERT"),"ERTs",IF(OR('full menu'!C7="FCMT",'full menu'!C7="FMT",'full menu'!C7="LMT",'full menu'!C7="LCMT"),"MTs",IF(OR('full menu'!C7="LCIT",'full menu'!C7="FCIT",'full menu'!C7="LIT",'full menu'!C7="FIT"),"ITs",IF(OR('full menu'!C7="MwERT", 'full menu'!C7="ERwMT", 'full menu'!C7="M&ERT", 'full menu'!C7="MwIT", 'full menu'!C7="IwMT", 'full menu'!C7="M&IT", 'full menu'!C7="IwERT", 'full menu'!C7="ERwIT", 'full menu'!C7="I&ERT", 'full menu'!C7="ER&M&IT"),"MixedTs",IF('full menu'!C7="UD","UD",IF('full menu'!C7="LSD","LSD",IF('full menu'!C7="WSD","WSD",""))))))))) -> ERfix | D7: =IF('full menu'!D7="MDC","MDC",IF(OR('full menu'!D7="PERF",'full menu'!D7="AERF",'full menu'!D7="PCB"),"ERfix",IF(OR('full menu'!D7="ACB", 'full menu'!D7="LCERT", 'full menu'!D7="LERT",'full menu'!D7="FCERT",'full menu'!D7="FERT"),"ERTs",IF(OR('full menu'!D7="FCMT",'full menu'!D7="FMT",'full menu'!D7="LMT",'full menu'!D7="LCMT"),"MTs",IF(OR('full menu'!D7="LCIT",'full menu'!D7="FCIT",'full menu'!D7="LIT",'full menu'!D7="FIT"),"ITs",IF(OR('full menu'!D7="MwERT", 'full menu'!D7="ERwMT", 'full menu'!D7="M&ERT", 'full menu'!D7="MwIT", 'full menu'!D7="IwMT", 'full menu'!D7="M&IT", 'full menu'!D7="IwERT", 'full menu'!D7="ERwIT", 'full menu'!D7="I&ERT", 'full menu'!D7="ER&M&IT"),"MixedTs",IF('full menu'!D7="UD","UD",IF('full menu'!D7="LSD","LSD",IF('full menu'!D7="WSD","WSD",""))))))))) -> ERfix | E7: =IF('full menu'!E7="MDC","MDC",IF(OR('full menu'!E7="PERF",'full menu'!E7="AERF",'full menu'!E7="PCB"),"ERfix",IF(OR('full menu'!E7="ACB", 'full menu'!E7="LCERT", 'full menu'!E7="LERT",'full menu'!E7="FCERT",'full menu'!E7="FERT"),"ERTs",IF(OR('full menu'!E7="FCMT",'full menu'!E7="FMT",'full menu'!E7="LMT",'full menu'!E7="LCMT"),"MTs",IF(OR('full menu'!E7="LCIT",'full menu'!E7="FCIT",'full menu'!E7="LIT",'full menu'!E7="FIT"),"ITs",IF(OR('full menu'!E7="MwERT", 'full menu'!E7="ERwMT", 'full menu'!E7="M&ERT", 'full menu'!E7="MwIT", 'full menu'!E7="IwMT", 'full menu'!E7="M&IT", 'full menu'!E7="IwERT", 'full menu'!E7="ERwIT", 'full menu'!E7="I&ERT", 'full menu'!E7="ER&M&IT"),"MixedTs",IF('full menu'!E7="UD","UD",IF('full menu'!E7="LSD","LSD",IF('full menu'!E7="WSD","WSD",""))))))))) -> ERfix | F7: =IF('full menu'!F7="MDC","MDC",IF(OR('full menu'!F7="PERF",'full menu'!F7="AERF",'full menu'!F7="PCB"),"ERfix",IF(OR('full menu'!F7="ACB", 'full menu'!F7="LCERT", 'full menu'!F7="LERT",'full menu'!F7="FCERT",'full menu'!F7="FERT"),"ERTs",IF(OR('full menu'!F7="FCMT",'full menu'!F7="FMT",'full menu'!F7="LMT",'full menu'!F7="LCMT"),"MTs",IF(OR('full menu'!F7="LCIT",'full menu'!F7="FCIT",'full menu'!F7="LIT",'full menu'!F7="FIT"),"ITs",IF(OR('full menu'!F7="MwERT", 'full menu'!F7="ERwMT", 'full menu'!F7="M&ERT", 'full menu'!F7="MwIT", 'full menu'!F7="IwMT", 'full menu'!F7="M&IT", 'full menu'!F7="IwERT", 'full menu'!F7="ERwIT", 'full menu'!F7="I&ERT", 'full menu'!F7="ER&M&IT"),"MixedTs",IF('full menu'!F7="UD","UD",IF('full menu'!F7="LSD","LSD",IF('full menu'!F7="WSD","WSD",""))))))))) -> ERfix | G7: =IF('full menu'!G7="MDC","MDC",IF(OR('full menu'!G7="PERF",'full menu'!G7="AERF",'full menu'!G7="PCB"),"ERfix",IF(OR('full menu'!G7="ACB", 'full menu'!G7="LCERT", 'full menu'!G7="LERT",'full menu'!G7="FCERT",'full menu'!G7="FERT"),"ERTs",IF(OR('full menu'!G7="FCMT",'full menu'!G7="FMT",'full menu'!G7="LMT",'full menu'!G7="LCMT"),"MTs",IF(OR('full menu'!G7="LCIT",'full menu'!G7="FCIT",'full menu'!G7="LIT",'full menu'!G7="FIT"),"ITs",IF(OR('full menu'!G7="MwERT", 'full menu'!G7="ERwMT", 'full menu'!G7="M&ERT", 'full menu'!G7="MwIT", 'full menu'!G7="IwMT", 'full menu'!G7="M&IT", 'full menu'!G7="IwERT", 'full menu'!G7="ERwIT", 'full menu'!G7="I&ERT", 'full menu'!G7="ER&M&IT"),"MixedTs",IF('full menu'!G7="UD","UD",IF('full menu'!G7="LSD","LSD",IF('full menu'!G7="WSD","WSD",""))))))))) -> ERfix | H7: =IF('full menu'!H7="MDC","MDC",IF(OR('full menu'!H7="PERF",'full menu'!H7="AERF",'full menu'!H7="PCB"),"ERfix",IF(OR('full menu'!H7="ACB", 'full menu'!H7="LCERT", 'full menu'!H7="LERT",'full menu'!H7="FCERT",'full menu'!H7="FERT"),"ERTs",IF(OR('full menu'!H7="FCMT",'full menu'!H7="FMT",'full menu'!H7="LMT",'full menu'!H7="LCMT"),"MTs",IF(OR('full menu'!H7="LCIT",'full menu'!H7="FCIT",'full menu'!H7="LIT",'full menu'!H7="FIT"),"ITs",IF(OR('full menu'!H7="MwERT", 'full menu'!H7="ERwMT", 'full menu'!H7="M&ERT", 'full menu'!H7="MwIT", 'full menu'!H7="IwMT", 'full menu'!H7="M&IT", 'full menu'!H7="IwERT", 'full menu'!H7="ERwIT", 'full menu'!H7="I&ERT", 'full menu'!H7="ER&M&IT"),"MixedTs",IF('full menu'!H7="UD","UD",IF('full menu'!H7="LSD","LSD",IF('full menu'!H7="WSD","WSD",""))))))))) -> ERfix | I7: =IF('full menu'!I7="MDC","MDC",IF(OR('full menu'!I7="PERF",'full menu'!I7="AERF",'full menu'!I7="PCB"),"ERfix",IF(OR('full menu'!I7="ACB", 'full menu'!I7="LCERT", 'full menu'!I7="LERT",'full menu'!I7="FCERT",'full menu'!I7="FERT"),"ERTs",IF(OR('full menu'!I7="FCMT",'full menu'!I7="FMT",'full menu'!I7="LMT",'full menu'!I7="LCMT"),"MTs",IF(OR('full menu'!I7="LCIT",'full menu'!I7="FCIT",'full menu'!I7="LIT",'full menu'!I7="FIT"),"ITs",IF(OR('full menu'!I7="MwERT", 'full menu'!I7="ERwMT", 'full menu'!I7="M&ERT", 'full menu'!I7="MwIT", 'full menu'!I7="IwMT", 'full menu'!I7="M&IT", 'full menu'!I7="IwERT", 'full menu'!I7="ERwIT", 'full menu'!I7="I&ERT", 'full menu'!I7="ER&M&IT"),"MixedTs",IF('full menu'!I7="UD","UD",IF('full menu'!I7="LSD","LSD",IF('full menu'!I7="WSD","WSD",""))))))))) -> ERfix | ... AY7: =IF('full menu'!AY7="MDC","MDC",IF(OR('full menu'!AY7="PERF",'full menu'!AY7="AERF",'full menu'!AY7="PCB"),"ERfix",IF(OR('full menu'!AY7="ACB", 'full menu'!AY7="LCERT", 'full menu'!AY7="LERT",'full menu'!AY7="FCERT",'full menu'!AY7="FERT"),"ERTs",IF(OR('full menu'!AY7="FCMT",'full menu'!AY7="FMT",'full menu'!AY7="LMT",'full menu'!AY7="LCMT"),"MTs",IF(OR('full menu'!AY7="LCIT",'full menu'!AY7="FCIT",'full menu'!AY7="LIT",'full menu'!AY7="FIT"),"ITs",IF(OR('full menu'!AY7="MwERT", 'full menu'!AY7="ERwMT", 'full menu'!AY7="M&ERT", 'full menu'!AY7="MwIT", 'full menu'!AY7="IwMT", 'full menu'!AY7="M&IT", 'full menu'!AY7="IwERT", 'full menu'!AY7="ERwIT", 'full menu'!AY7="I&ERT", 'full menu'!AY7="ER&M&IT"),"MixedTs",IF('full menu'!AY7="UD","UD",IF('full menu'!AY7="LSD","LSD",IF('full menu'!AY7="WSD","WSD",""))))))))) -> ERTs
A8: Kuwait | B8: =IF('full menu'!B8="MDC","MDC",IF(OR('full menu'!B8="PERF",'full menu'!B8="AERF",'full menu'!B8="PCB"),"ERfix",IF(OR('full menu'!B8="ACB", 'full menu'!B8="LCERT", 'full menu'!B8="LERT",'full menu'!B8="FCERT",'full menu'!B8="FERT"),"ERTs",IF(OR('full menu'!B8="FCMT",'full menu'!B8="FMT",'full menu'!B8="LMT",'full menu'!B8="LCMT"),"MTs",IF(OR('full menu'!B8="LCIT",'full menu'!B8="FCIT",'full menu'!B8="LIT",'full menu'!B8="FIT"),"ITs",IF(OR('full menu'!B8="MwERT", 'full menu'!B8="ERwMT", 'full menu'!B8="M&ERT", 'full menu'!B8="MwIT", 'full menu'!B8="IwMT", 'full menu'!B8="M&IT", 'full menu'!B8="IwERT", 'full menu'!B8="ERwIT", 'full menu'!B8="I&ERT", 'full menu'!B8="ER&M&IT"),"MixedTs",IF('full menu'!B8="UD","UD",IF('full menu'!B8="LSD","LSD",IF('full menu'!B8="WSD","WSD",""))))))))) -> ERTs | C8: =IF('full menu'!C8="MDC","MDC",IF(OR('full menu'!C8="PERF",'full menu'!C8="AERF",'full menu'!C8="PCB"),"ERfix",IF(OR('full menu'!C8="ACB", 'full menu'!C8="LCERT", 'full menu'!C8="LERT",'full menu'!C8="FCERT",'full menu'!C8="FERT"),"ERTs",IF(OR('full menu'!C8="FCMT",'full menu'!C8="FMT",'full menu'!C8="LMT",'full menu'!C8="LCMT"),"MTs",IF(OR('full menu'!C8="LCIT",'full menu'!C8="FCIT",'full menu'!C8="LIT",'full menu'!C8="FIT"),"ITs",IF(OR('full menu'!C8="MwERT", 'full menu'!C8="ERwMT", 'full menu'!C8="M&ERT", 'full menu'!C8="MwIT", 'full menu'!C8="IwMT", 'full menu'!C8="M&IT", 'full menu'!C8="IwERT", 'full menu'!C8="ERwIT", 'full menu'!C8="I&ERT", 'full menu'!C8="ER&M&IT"),"MixedTs",IF('full menu'!C8="UD","UD",IF('full menu'!C8="LSD","LSD",IF('full menu'!C8="WSD","WSD",""))))))))) -> ERTs | D8: =IF('full menu'!D8="MDC","MDC",IF(OR('full menu'!D8="PERF",'full menu'!D8="AERF",'full menu'!D8="PCB"),"ERfix",IF(OR('full menu'!D8="ACB", 'full menu'!D8="LCERT", 'full menu'!D8="LERT",'full menu'!D8="FCERT",'full menu'!D8="FERT"),"ERTs",IF(OR('full menu'!D8="FCMT",'full menu'!D8="FMT",'full menu'!D8="LMT",'full menu'!D8="LCMT"),"MTs",IF(OR('full menu'!D8="LCIT",'full menu'!D8="FCIT",'full menu'!D8="LIT",'full menu'!D8="FIT"),"ITs",IF(OR('full menu'!D8="MwERT", 'full menu'!D8="ERwMT", 'full menu'!D8="M&ERT", 'full menu'!D8="MwIT", 'full menu'!D8="IwMT", 'full menu'!D8="M&IT", 'full menu'!D8="IwERT", 'full menu'!D8="ERwIT", 'full menu'!D8="I&ERT", 'full menu'!D8="ER&M&IT"),"MixedTs",IF('full menu'!D8="UD","UD",IF('full menu'!D8="LSD","LSD",IF('full menu'!D8="WSD","WSD",""))))))))) -> ERTs | E8: =IF('full menu'!E8="MDC","MDC",IF(OR('full menu'!E8="PERF",'full menu'!E8="AERF",'full menu'!E8="PCB"),"ERfix",IF(OR('full menu'!E8="ACB", 'full menu'!E8="LCERT", 'full menu'!E8="LERT",'full menu'!E8="FCERT",'full menu'!E8="FERT"),"ERTs",IF(OR('full menu'!E8="FCMT",'full menu'!E8="FMT",'full menu'!E8="LMT",'full menu'!E8="LCMT"),"MTs",IF(OR('full menu'!E8="LCIT",'full menu'!E8="FCIT",'full menu'!E8="LIT",'full menu'!E8="FIT"),"ITs",IF(OR('full menu'!E8="MwERT", 'full menu'!E8="ERwMT", 'full menu'!E8="M&ERT", 'full menu'!E8="MwIT", 'full menu'!E8="IwMT", 'full menu'!E8="M&IT", 'full menu'!E8="IwERT", 'full menu'!E8="ERwIT", 'full menu'!E8="I&ERT", 'full menu'!E8="ER&M&IT"),"MixedTs",IF('full menu'!E8="UD","UD",IF('full menu'!E8="LSD","LSD",IF('full menu'!E8="WSD","WSD",""))))))))) -> ERTs | F8: =IF('full menu'!F8="MDC","MDC",IF(OR('full menu'!F8="PERF",'full menu'!F8="AERF",'full menu'!F8="PCB"),"ERfix",IF(OR('full menu'!F8="ACB", 'full menu'!F8="LCERT", 'full menu'!F8="LERT",'full menu'!F8="FCERT",'full menu'!F8="FERT"),"ERTs",IF(OR('full menu'!F8="FCMT",'full menu'!F8="FMT",'full menu'!F8="LMT",'full menu'!F8="LCMT"),"MTs",IF(OR('full menu'!F8="LCIT",'full menu'!F8="FCIT",'full menu'!F8="LIT",'full menu'!F8="FIT"),"ITs",IF(OR('full menu'!F8="MwERT", 'full menu'!F8="ERwMT", 'full menu'!F8="M&ERT", 'full menu'!F8="MwIT", 'full menu'!F8="IwMT", 'full menu'!F8="M&IT", 'full menu'!F8="IwERT", 'full menu'!F8="ERwIT", 'full menu'!F8="I&ERT", 'full menu'!F8="ER&M&IT"),"MixedTs",IF('full menu'!F8="UD","UD",IF('full menu'!F8="LSD","LSD",IF('full menu'!F8="WSD","WSD",""))))))))) -> ERTs | G8: =IF('full menu'!G8="MDC","MDC",IF(OR('full menu'!G8="PERF",'full menu'!G8="AERF",'full menu'!G8="PCB"),"ERfix",IF(OR('full menu'!G8="ACB", 'full menu'!G8="LCERT", 'full menu'!G8="LERT",'full menu'!G8="FCERT",'full menu'!G8="FERT"),"ERTs",IF(OR('full menu'!G8="FCMT",'full menu'!G8="FMT",'full menu'!G8="LMT",'full menu'!G8="LCMT"),"MTs",IF(OR('full menu'!G8="LCIT",'full menu'!G8="FCIT",'full menu'!G8="LIT",'full menu'!G8="FIT"),"ITs",IF(OR('full menu'!G8="MwERT", 'full menu'!G8="ERwMT", 'full menu'!G8="M&ERT", 'full menu'!G8="MwIT", 'full menu'!G8="IwMT", 'full menu'!G8="M&IT", 'full menu'!G8="IwERT", 'full menu'!G8="ERwIT", 'full menu'!G8="I&ERT", 'full menu'!G8="ER&M&IT"),"MixedTs",IF('full menu'!G8="UD","UD",IF('full menu'!G8="LSD","LSD",IF('full menu'!G8="WSD","WSD",""))))))))) -> ERTs | H8: =IF('full menu'!H8="MDC","MDC",IF(OR('full menu'!H8="PERF",'full menu'!H8="AERF",'full menu'!H8="PCB"),"ERfix",IF(OR('full menu'!H8="ACB", 'full menu'!H8="LCERT", 'full menu'!H8="LERT",'full menu'!H8="FCERT",'full menu'!H8="FERT"),"ERTs",IF(OR('full menu'!H8="FCMT",'full menu'!H8="FMT",'full menu'!H8="LMT",'full menu'!H8="LCMT"),"MTs",IF(OR('full menu'!H8="LCIT",'full menu'!H8="FCIT",'full menu'!H8="LIT",'full menu'!H8="FIT"),"ITs",IF(OR('full menu'!H8="MwERT", 'full menu'!H8="ERwMT", 'full menu'!H8="M&ERT", 'full menu'!H8="MwIT", 'full menu'!H8="IwMT", 'full menu'!H8="M&IT", 'full menu'!H8="IwERT", 'full menu'!H8="ERwIT", 'full menu'!H8="I&ERT", 'full menu'!H8="ER&M&IT"),"MixedTs",IF('full menu'!H8="UD","UD",IF('full menu'!H8="LSD","LSD",IF('full menu'!H8="WSD","WSD",""))))))))) -> ERTs | I8: =IF('full menu'!I8="MDC","MDC",IF(OR('full menu'!I8="PERF",'full menu'!I8="AERF",'full menu'!I8="PCB"),"ERfix",IF(OR('full menu'!I8="ACB", 'full menu'!I8="LCERT", 'full menu'!I8="LERT",'full menu'!I8="FCERT",'full menu'!I8="FERT"),"ERTs",IF(OR('full menu'!I8="FCMT",'full menu'!I8="FMT",'full menu'!I8="LMT",'full menu'!I8="LCMT"),"MTs",IF(OR('full menu'!I8="LCIT",'full menu'!I8="FCIT",'full menu'!I8="LIT",'full menu'!I8="FIT"),"ITs",IF(OR('full menu'!I8="MwERT", 'full menu'!I8="ERwMT", 'full menu'!I8="M&ERT", 'full menu'!I8="MwIT", 'full menu'!I8="IwMT", 'full menu'!I8="M&IT", 'full menu'!I8="IwERT", 'full menu'!I8="ERwIT", 'full menu'!I8="I&ERT", 'full menu'!I8="ER&M&IT"),"MixedTs",IF('full menu'!I8="UD","UD",IF('full menu'!I8="LSD","LSD",IF('full menu'!I8="WSD","WSD",""))))))))) -> ERTs | ... AY8: =IF('full menu'!AY8="MDC","MDC",IF(OR('full menu'!AY8="PERF",'full menu'!AY8="AERF",'full menu'!AY8="PCB"),"ERfix",IF(OR('full menu'!AY8="ACB", 'full menu'!AY8="LCERT", 'full menu'!AY8="LERT",'full menu'!AY8="FCERT",'full menu'!AY8="FERT"),"ERTs",IF(OR('full menu'!AY8="FCMT",'full menu'!AY8="FMT",'full menu'!AY8="LMT",'full menu'!AY8="LCMT"),"MTs",IF(OR('full menu'!AY8="LCIT",'full menu'!AY8="FCIT",'full menu'!AY8="LIT",'full menu'!AY8="FIT"),"ITs",IF(OR('full menu'!AY8="MwERT", 'full menu'!AY8="ERwMT", 'full menu'!AY8="M&ERT", 'full menu'!AY8="MwIT", 'full menu'!AY8="IwMT", 'full menu'!AY8="M&IT", 'full menu'!AY8="IwERT", 'full menu'!AY8="ERwIT", 'full menu'!AY8="I&ERT", 'full menu'!AY8="ER&M&IT"),"MixedTs",IF('full menu'!AY8="UD","UD",IF('full menu'!AY8="LSD","LSD",IF('full menu'!AY8="WSD","WSD",""))))))))) -> ERTs
A9: Lebanon | B9: =IF('full menu'!B9="MDC","MDC",IF(OR('full menu'!B9="PERF",'full menu'!B9="AERF",'full menu'!B9="PCB"),"ERfix",IF(OR('full menu'!B9="ACB", 'full menu'!B9="LCERT", 'full menu'!B9="LERT",'full menu'!B9="FCERT",'full menu'!B9="FERT"),"ERTs",IF(OR('full menu'!B9="FCMT",'full menu'!B9="FMT",'full menu'!B9="LMT",'full menu'!B9="LCMT"),"MTs",IF(OR('full menu'!B9="LCIT",'full menu'!B9="FCIT",'full menu'!B9="LIT",'full menu'!B9="FIT"),"ITs",IF(OR('full menu'!B9="MwERT", 'full menu'!B9="ERwMT", 'full menu'!B9="M&ERT", 'full menu'!B9="MwIT", 'full menu'!B9="IwMT", 'full menu'!B9="M&IT", 'full menu'!B9="IwERT", 'full menu'!B9="ERwIT", 'full menu'!B9="I&ERT", 'full menu'!B9="ER&M&IT"),"MixedTs",IF('full menu'!B9="UD","UD",IF('full menu'!B9="LSD","LSD",IF('full menu'!B9="WSD","WSD",""))))))))) -> LSD | C9: =IF('full menu'!C9="MDC","MDC",IF(OR('full menu'!C9="PERF",'full menu'!C9="AERF",'full menu'!C9="PCB"),"ERfix",IF(OR('full menu'!C9="ACB", 'full menu'!C9="LCERT", 'full menu'!C9="LERT",'full menu'!C9="FCERT",'full menu'!C9="FERT"),"ERTs",IF(OR('full menu'!C9="FCMT",'full menu'!C9="FMT",'full menu'!C9="LMT",'full menu'!C9="LCMT"),"MTs",IF(OR('full menu'!C9="LCIT",'full menu'!C9="FCIT",'full menu'!C9="LIT",'full menu'!C9="FIT"),"ITs",IF(OR('full menu'!C9="MwERT", 'full menu'!C9="ERwMT", 'full menu'!C9="M&ERT", 'full menu'!C9="MwIT", 'full menu'!C9="IwMT", 'full menu'!C9="M&IT", 'full menu'!C9="IwERT", 'full menu'!C9="ERwIT", 'full menu'!C9="I&ERT", 'full menu'!C9="ER&M&IT"),"MixedTs",IF('full menu'!C9="UD","UD",IF('full menu'!C9="LSD","LSD",IF('full menu'!C9="WSD","WSD",""))))))))) -> LSD | D9: =IF('full menu'!D9="MDC","MDC",IF(OR('full menu'!D9="PERF",'full menu'!D9="AERF",'full menu'!D9="PCB"),"ERfix",IF(OR('full menu'!D9="ACB", 'full menu'!D9="LCERT", 'full menu'!D9="LERT",'full menu'!D9="FCERT",'full menu'!D9="FERT"),"ERTs",IF(OR('full menu'!D9="FCMT",'full menu'!D9="FMT",'full menu'!D9="LMT",'full menu'!D9="LCMT"),"MTs",IF(OR('full menu'!D9="LCIT",'full menu'!D9="FCIT",'full menu'!D9="LIT",'full menu'!D9="FIT"),"ITs",IF(OR('full menu'!D9="MwERT", 'full menu'!D9="ERwMT", 'full menu'!D9="M&ERT", 'full menu'!D9="MwIT", 'full menu'!D9="IwMT", 'full menu'!D9="M&IT", 'full menu'!D9="IwERT", 'full menu'!D9="ERwIT", 'full menu'!D9="I&ERT", 'full menu'!D9="ER&M&IT"),"MixedTs",IF('full menu'!D9="UD","UD",IF('full menu'!D9="LSD","LSD",IF('full menu'!D9="WSD","WSD",""))))))))) -> LSD | E9: =IF('full menu'!E9="MDC","MDC",IF(OR('full menu'!E9="PERF",'full menu'!E9="AERF",'full menu'!E9="PCB"),"ERfix",IF(OR('full menu'!E9="ACB", 'full menu'!E9="LCERT", 'full menu'!E9="LERT",'full menu'!E9="FCERT",'full menu'!E9="FERT"),"ERTs",IF(OR('full menu'!E9="FCMT",'full menu'!E9="FMT",'full menu'!E9="LMT",'full menu'!E9="LCMT"),"MTs",IF(OR('full menu'!E9="LCIT",'full menu'!E9="FCIT",'full menu'!E9="LIT",'full menu'!E9="FIT"),"ITs",IF(OR('full menu'!E9="MwERT", 'full menu'!E9="ERwMT", 'full menu'!E9="M&ERT", 'full menu'!E9="MwIT", 'full menu'!E9="IwMT", 'full menu'!E9="M&IT", 'full menu'!E9="IwERT", 'full menu'!E9="ERwIT", 'full menu'!E9="I&ERT", 'full menu'!E9="ER&M&IT"),"MixedTs",IF('full menu'!E9="UD","UD",IF('full menu'!E9="LSD","LSD",IF('full menu'!E9="WSD","WSD",""))))))))) -> LSD | F9: =IF('full menu'!F9="MDC","MDC",IF(OR('full menu'!F9="PERF",'full menu'!F9="AERF",'full menu'!F9="PCB"),"ERfix",IF(OR('full menu'!F9="ACB", 'full menu'!F9="LCERT", 'full menu'!F9="LERT",'full menu'!F9="FCERT",'full menu'!F9="FERT"),"ERTs",IF(OR('full menu'!F9="FCMT",'full menu'!F9="FMT",'full menu'!F9="LMT",'full menu'!F9="LCMT"),"MTs",IF(OR('full menu'!F9="LCIT",'full menu'!F9="FCIT",'full menu'!F9="LIT",'full menu'!F9="FIT"),"ITs",IF(OR('full menu'!F9="MwERT", 'full menu'!F9="ERwMT", 'full menu'!F9="M&ERT", 'full menu'!F9="MwIT", 'full menu'!F9="IwMT", 'full menu'!F9="M&IT", 'full menu'!F9="IwERT", 'full menu'!F9="ERwIT", 'full menu'!F9="I&ERT", 'full menu'!F9="ER&M&IT"),"MixedTs",IF('full menu'!F9="UD","UD",IF('full menu'!F9="LSD","LSD",IF('full menu'!F9="WSD","WSD",""))))))))) -> LSD | G9: =IF('full menu'!G9="MDC","MDC",IF(OR('full menu'!G9="PERF",'full menu'!G9="AERF",'full menu'!G9="PCB"),"ERfix",IF(OR('full menu'!G9="ACB", 'full menu'!G9="LCERT", 'full menu'!G9="LERT",'full menu'!G9="FCERT",'full menu'!G9="FERT"),"ERTs",IF(OR('full menu'!G9="FCMT",'full menu'!G9="FMT",'full menu'!G9="LMT",'full menu'!G9="LCMT"),"MTs",IF(OR('full menu'!G9="LCIT",'full menu'!G9="FCIT",'full menu'!G9="LIT",'full menu'!G9="FIT"),"ITs",IF(OR('full menu'!G9="MwERT", 'full menu'!G9="ERwMT", 'full menu'!G9="M&ERT", 'full menu'!G9="MwIT", 'full menu'!G9="IwMT", 'full menu'!G9="M&IT", 'full menu'!G9="IwERT", 'full menu'!G9="ERwIT", 'full menu'!G9="I&ERT", 'full menu'!G9="ER&M&IT"),"MixedTs",IF('full menu'!G9="UD","UD",IF('full menu'!G9="LSD","LSD",IF('full menu'!G9="WSD","WSD",""))))))))) -> LSD | H9: =IF('full menu'!H9="MDC","MDC",IF(OR('full menu'!H9="PERF",'full menu'!H9="AERF",'full menu'!H9="PCB"),"ERfix",IF(OR('full menu'!H9="ACB", 'full menu'!H9="LCERT", 'full menu'!H9="LERT",'full menu'!H9="FCERT",'full menu'!H9="FERT"),"ERTs",IF(OR('full menu'!H9="FCMT",'full menu'!H9="FMT",'full menu'!H9="LMT",'full menu'!H9="LCMT"),"MTs",IF(OR('full menu'!H9="LCIT",'full menu'!H9="FCIT",'full menu'!H9="LIT",'full menu'!H9="FIT"),"ITs",IF(OR('full menu'!H9="MwERT", 'full menu'!H9="ERwMT", 'full menu'!H9="M&ERT", 'full menu'!H9="MwIT", 'full menu'!H9="IwMT", 'full menu'!H9="M&IT", 'full menu'!H9="IwERT", 'full menu'!H9="ERwIT", 'full menu'!H9="I&ERT", 'full menu'!H9="ER&M&IT"),"MixedTs",IF('full menu'!H9="UD","UD",IF('full menu'!H9="LSD","LSD",IF('full menu'!H9="WSD","WSD",""))))))))) -> LSD | I9: =IF('full menu'!I9="MDC","MDC",IF(OR('full menu'!I9="PERF",'full menu'!I9="AERF",'full menu'!I9="PCB"),"ERfix",IF(OR('full menu'!I9="ACB", 'full menu'!I9="LCERT", 'full menu'!I9="LERT",'full menu'!I9="FCERT",'full menu'!I9="FERT"),"ERTs",IF(OR('full menu'!I9="FCMT",'full menu'!I9="FMT",'full menu'!I9="LMT",'full menu'!I9="LCMT"),"MTs",IF(OR('full menu'!I9="LCIT",'full menu'!I9="FCIT",'full menu'!I9="LIT",'full menu'!I9="FIT"),"ITs",IF(OR('full menu'!I9="MwERT", 'full menu'!I9="ERwMT", 'full menu'!I9="M&ERT", 'full menu'!I9="MwIT", 'full menu'!I9="IwMT", 'full menu'!I9="M&IT", 'full menu'!I9="IwERT", 'full menu'!I9="ERwIT", 'full menu'!I9="I&ERT", 'full menu'!I9="ER&M&IT"),"MixedTs",IF('full menu'!I9="UD","UD",IF('full menu'!I9="LSD","LSD",IF('full menu'!I9="WSD","WSD",""))))))))) -> LSD | ... AY9: =IF('full menu'!AY9="MDC","MDC",IF(OR('full menu'!AY9="PERF",'full menu'!AY9="AERF",'full menu'!AY9="PCB"),"ERfix",IF(OR('full menu'!AY9="ACB", 'full menu'!AY9="LCERT", 'full menu'!AY9="LERT",'full menu'!AY9="FCERT",'full menu'!AY9="FERT"),"ERTs",IF(OR('full menu'!AY9="FCMT",'full menu'!AY9="FMT",'full menu'!AY9="LMT",'full menu'!AY9="LCMT"),"MTs",IF(OR('full menu'!AY9="LCIT",'full menu'!AY9="FCIT",'full menu'!AY9="LIT",'full menu'!AY9="FIT"),"ITs",IF(OR('full menu'!AY9="MwERT", 'full menu'!AY9="ERwMT", 'full menu'!AY9="M&ERT", 'full menu'!AY9="MwIT", 'full menu'!AY9="IwMT", 'full menu'!AY9="M&IT", 'full menu'!AY9="IwERT", 'full menu'!AY9="ERwIT", 'full menu'!AY9="I&ERT", 'full menu'!AY9="ER&M&IT"),"MixedTs",IF('full menu'!AY9="UD","UD",IF('full menu'!AY9="LSD","LSD",IF('full menu'!AY9="WSD","WSD",""))))))))) -> UD
A10: Libya | B10: =IF('full menu'!B10="MDC","MDC",IF(OR('full menu'!B10="PERF",'full menu'!B10="AERF",'full menu'!B10="PCB"),"ERfix",IF(OR('full menu'!B10="ACB", 'full menu'!B10="LCERT", 'full menu'!B10="LERT",'full menu'!B10="FCERT",'full menu'!B10="FERT"),"ERTs",IF(OR('full menu'!B10="FCMT",'full menu'!B10="FMT",'full menu'!B10="LMT",'full menu'!B10="LCMT"),"MTs",IF(OR('full menu'!B10="LCIT",'full menu'!B10="FCIT",'full menu'!B10="LIT",'full menu'!B10="FIT"),"ITs",IF(OR('full menu'!B10="MwERT", 'full menu'!B10="ERwMT", 'full menu'!B10="M&ERT", 'full menu'!B10="MwIT", 'full menu'!B10="IwMT", 'full menu'!B10="M&IT", 'full menu'!B10="IwERT", 'full menu'!B10="ERwIT", 'full menu'!B10="I&ERT", 'full menu'!B10="ER&M&IT"),"MixedTs",IF('full menu'!B10="UD","UD",IF('full menu'!B10="LSD","LSD",IF('full menu'!B10="WSD","WSD",""))))))))) -> ERfix | C10: =IF('full menu'!C10="MDC","MDC",IF(OR('full menu'!C10="PERF",'full menu'!C10="AERF",'full menu'!C10="PCB"),"ERfix",IF(OR('full menu'!C10="ACB", 'full menu'!C10="LCERT", 'full menu'!C10="LERT",'full menu'!C10="FCERT",'full menu'!C10="FERT"),"ERTs",IF(OR('full menu'!C10="FCMT",'full menu'!C10="FMT",'full menu'!C10="LMT",'full menu'!C10="LCMT"),"MTs",IF(OR('full menu'!C10="LCIT",'full menu'!C10="FCIT",'full menu'!C10="LIT",'full menu'!C10="FIT"),"ITs",IF(OR('full menu'!C10="MwERT", 'full menu'!C10="ERwMT", 'full menu'!C10="M&ERT", 'full menu'!C10="MwIT", 'full menu'!C10="IwMT", 'full menu'!C10="M&IT", 'full menu'!C10="IwERT", 'full menu'!C10="ERwIT", 'full menu'!C10="I&ERT", 'full menu'!C10="ER&M&IT"),"MixedTs",IF('full menu'!C10="UD","UD",IF('full menu'!C10="LSD","LSD",IF('full menu'!C10="WSD","WSD",""))))))))) -> ERfix | D10: =IF('full menu'!D10="MDC","MDC",IF(OR('full menu'!D10="PERF",'full menu'!D10="AERF",'full menu'!D10="PCB"),"ERfix",IF(OR('full menu'!D10="ACB", 'full menu'!D10="LCERT", 'full menu'!D10="LERT",'full menu'!D10="FCERT",'full menu'!D10="FERT"),"ERTs",IF(OR('full menu'!D10="FCMT",'full menu'!D10="FMT",'full menu'!D10="LMT",'full menu'!D10="LCMT"),"MTs",IF(OR('full menu'!D10="LCIT",'full menu'!D10="FCIT",'full menu'!D10="LIT",'full menu'!D10="FIT"),"ITs",IF(OR('full menu'!D10="MwERT", 'full menu'!D10="ERwMT", 'full menu'!D10="M&ERT", 'full menu'!D10="MwIT", 'full menu'!D10="IwMT", 'full menu'!D10="M&IT", 'full menu'!D10="IwERT", 'full menu'!D10="ERwIT", 'full menu'!D10="I&ERT", 'full menu'!D10="ER&M&IT"),"MixedTs",IF('full menu'!D10="UD","UD",IF('full menu'!D10="LSD","LSD",IF('full menu'!D10="WSD","WSD",""))))))))) -> ERfix | E10: =IF('full menu'!E10="MDC","MDC",IF(OR('full menu'!E10="PERF",'full menu'!E10="AERF",'full menu'!E10="PCB"),"ERfix",IF(OR('full menu'!E10="ACB", 'full menu'!E10="LCERT", 'full menu'!E10="LERT",'full menu'!E10="FCERT",'full menu'!E10="FERT"),"ERTs",IF(OR('full menu'!E10="FCMT",'full menu'!E10="FMT",'full menu'!E10="LMT",'full menu'!E10="LCMT"),"MTs",IF(OR('full menu'!E10="LCIT",'full menu'!E10="FCIT",'full menu'!E10="LIT",'full menu'!E10="FIT"),"ITs",IF(OR('full menu'!E10="MwERT", 'full menu'!E10="ERwMT", 'full menu'!E10="M&ERT", 'full menu'!E10="MwIT", 'full menu'!E10="IwMT", 'full menu'!E10="M&IT", 'full menu'!E10="IwERT", 'full menu'!E10="ERwIT", 'full menu'!E10="I&ERT", 'full menu'!E10="ER&M&IT"),"MixedTs",IF('full menu'!E10="UD","UD",IF('full menu'!E10="LSD","LSD",IF('full menu'!E10="WSD","WSD",""))))))))) -> ERfix | F10: =IF('full menu'!F10="MDC","MDC",IF(OR('full menu'!F10="PERF",'full menu'!F10="AERF",'full menu'!F10="PCB"),"ERfix",IF(OR('full menu'!F10="ACB", 'full menu'!F10="LCERT", 'full menu'!F10="LERT",'full menu'!F10="FCERT",'full menu'!F10="FERT"),"ERTs",IF(OR('full menu'!F10="FCMT",'full menu'!F10="FMT",'full menu'!F10="LMT",'full menu'!F10="LCMT"),"MTs",IF(OR('full menu'!F10="LCIT",'full menu'!F10="FCIT",'full menu'!F10="LIT",'full menu'!F10="FIT"),"ITs",IF(OR('full menu'!F10="MwERT", 'full menu'!F10="ERwMT", 'full menu'!F10="M&ERT", 'full menu'!F10="MwIT", 'full menu'!F10="IwMT", 'full menu'!F10="M&IT", 'full menu'!F10="IwERT", 'full menu'!F10="ERwIT", 'full menu'!F10="I&ERT", 'full menu'!F10="ER&M&IT"),"MixedTs",IF('full menu'!F10="UD","UD",IF('full menu'!F10="LSD","LSD",IF('full menu'!F10="WSD","WSD",""))))))))) -> ERfix | G10: =IF('full menu'!G10="MDC","MDC",IF(OR('full menu'!G10="PERF",'full menu'!G10="AERF",'full menu'!G10="PCB"),"ERfix",IF(OR('full menu'!G10="ACB", 'full menu'!G10="LCERT", 'full menu'!G10="LERT",'full menu'!G10="FCERT",'full menu'!G10="FERT"),"ERTs",IF(OR('full menu'!G10="FCMT",'full menu'!G10="FMT",'full menu'!G10="LMT",'full menu'!G10="LCMT"),"MTs",IF(OR('full menu'!G10="LCIT",'full menu'!G10="FCIT",'full menu'!G10="LIT",'full menu'!G10="FIT"),"ITs",IF(OR('full menu'!G10="MwERT", 'full menu'!G10="ERwMT", 'full menu'!G10="M&ERT", 'full menu'!G10="MwIT", 'full menu'!G10="IwMT", 'full menu'!G10="M&IT", 'full menu'!G10="IwERT", 'full menu'!G10="ERwIT", 'full menu'!G10="I&ERT", 'full menu'!G10="ER&M&IT"),"MixedTs",IF('full menu'!G10="UD","UD",IF('full menu'!G10="LSD","LSD",IF('full menu'!G10="WSD","WSD",""))))))))) -> ERfix | H10: =IF('full menu'!H10="MDC","MDC",IF(OR('full menu'!H10="PERF",'full menu'!H10="AERF",'full menu'!H10="PCB"),"ERfix",IF(OR('full menu'!H10="ACB", 'full menu'!H10="LCERT", 'full menu'!H10="LERT",'full menu'!H10="FCERT",'full menu'!H10="FERT"),"ERTs",IF(OR('full menu'!H10="FCMT",'full menu'!H10="FMT",'full menu'!H10="LMT",'full menu'!H10="LCMT"),"MTs",IF(OR('full menu'!H10="LCIT",'full menu'!H10="FCIT",'full menu'!H10="LIT",'full menu'!H10="FIT"),"ITs",IF(OR('full menu'!H10="MwERT", 'full menu'!H10="ERwMT", 'full menu'!H10="M&ERT", 'full menu'!H10="MwIT", 'full menu'!H10="IwMT", 'full menu'!H10="M&IT", 'full menu'!H10="IwERT", 'full menu'!H10="ERwIT", 'full menu'!H10="I&ERT", 'full menu'!H10="ER&M&IT"),"MixedTs",IF('full menu'!H10="UD","UD",IF('full menu'!H10="LSD","LSD",IF('full menu'!H10="WSD","WSD",""))))))))) -> ERfix | I10: =IF('full menu'!I10="MDC","MDC",IF(OR('full menu'!I10="PERF",'full menu'!I10="AERF",'full menu'!I10="PCB"),"ERfix",IF(OR('full menu'!I10="ACB", 'full menu'!I10="LCERT", 'full menu'!I10="LERT",'full menu'!I10="FCERT",'full menu'!I10="FERT"),"ERTs",IF(OR('full menu'!I10="FCMT",'full menu'!I10="FMT",'full menu'!I10="LMT",'full menu'!I10="LCMT"),"MTs",IF(OR('full menu'!I10="LCIT",'full menu'!I10="FCIT",'full menu'!I10="LIT",'full menu'!I10="FIT"),"ITs",IF(OR('full menu'!I10="MwERT", 'full menu'!I10="ERwMT", 'full menu'!I10="M&ERT", 'full menu'!I10="MwIT", 'full menu'!I10="IwMT", 'full menu'!I10="M&IT", 'full menu'!I10="IwERT", 'full menu'!I10="ERwIT", 'full menu'!I10="I&ERT", 'full menu'!I10="ER&M&IT"),"MixedTs",IF('full menu'!I10="UD","UD",IF('full menu'!I10="LSD","LSD",IF('full menu'!I10="WSD","WSD",""))))))))) -> ERfix | ... AY10: =IF('full menu'!AY10="MDC","MDC",IF(OR('full menu'!AY10="PERF",'full menu'!AY10="AERF",'full menu'!AY10="PCB"),"ERfix",IF(OR('full menu'!AY10="ACB", 'full menu'!AY10="LCERT", 'full menu'!AY10="LERT",'full menu'!AY10="FCERT",'full menu'!AY10="FERT"),"ERTs",IF(OR('full menu'!AY10="FCMT",'full menu'!AY10="FMT",'full menu'!AY10="LMT",'full menu'!AY10="LCMT"),"MTs",IF(OR('full menu'!AY10="LCIT",'full menu'!AY10="FCIT",'full menu'!AY10="LIT",'full menu'!AY10="FIT"),"ITs",IF(OR('full menu'!AY10="MwERT", 'full menu'!AY10="ERwMT", 'full menu'!AY10="M&ERT", 'full menu'!AY10="MwIT", 'full menu'!AY10="IwMT", 'full menu'!AY10="M&IT", 'full menu'!AY10="IwERT", 'full menu'!AY10="ERwIT", 'full menu'!AY10="I&ERT", 'full menu'!AY10="ER&M&IT"),"MixedTs",IF('full menu'!AY10="UD","UD",IF('full menu'!AY10="LSD","LSD",IF('full menu'!AY10="WSD","WSD",""))))))))) -> LSD
A11: Morocco | B11: =IF('full menu'!B11="MDC","MDC",IF(OR('full menu'!B11="PERF",'full menu'!B11="AERF",'full menu'!B11="PCB"),"ERfix",IF(OR('full menu'!B11="ACB", 'full menu'!B11="LCERT", 'full menu'!B11="LERT",'full menu'!B11="FCERT",'full menu'!B11="FERT"),"ERTs",IF(OR('full menu'!B11="FCMT",'full menu'!B11="FMT",'full menu'!B11="LMT",'full menu'!B11="LCMT"),"MTs",IF(OR('full menu'!B11="LCIT",'full menu'!B11="FCIT",'full menu'!B11="LIT",'full menu'!B11="FIT"),"ITs",IF(OR('full menu'!B11="MwERT", 'full menu'!B11="ERwMT", 'full menu'!B11="M&ERT", 'full menu'!B11="MwIT", 'full menu'!B11="IwMT", 'full menu'!B11="M&IT", 'full menu'!B11="IwERT", 'full menu'!B11="ERwIT", 'full menu'!B11="I&ERT", 'full menu'!B11="ER&M&IT"),"MixedTs",IF('full menu'!B11="UD","UD",IF('full menu'!B11="LSD","LSD",IF('full menu'!B11="WSD","WSD",""))))))))) -> ERfix | C11: =IF('full menu'!C11="MDC","MDC",IF(OR('full menu'!C11="PERF",'full menu'!C11="AERF",'full menu'!C11="PCB"),"ERfix",IF(OR('full menu'!C11="ACB", 'full menu'!C11="LCERT", 'full menu'!C11="LERT",'full menu'!C11="FCERT",'full menu'!C11="FERT"),"ERTs",IF(OR('full menu'!C11="FCMT",'full menu'!C11="FMT",'full menu'!C11="LMT",'full menu'!C11="LCMT"),"MTs",IF(OR('full menu'!C11="LCIT",'full menu'!C11="FCIT",'full menu'!C11="LIT",'full menu'!C11="FIT"),"ITs",IF(OR('full menu'!C11="MwERT", 'full menu'!C11="ERwMT", 'full menu'!C11="M&ERT", 'full menu'!C11="MwIT", 'full menu'!C11="IwMT", 'full menu'!C11="M&IT", 'full menu'!C11="IwERT", 'full menu'!C11="ERwIT", 'full menu'!C11="I&ERT", 'full menu'!C11="ER&M&IT"),"MixedTs",IF('full menu'!C11="UD","UD",IF('full menu'!C11="LSD","LSD",IF('full menu'!C11="WSD","WSD",""))))))))) -> ERfix | D11: =IF('full menu'!D11="MDC","MDC",IF(OR('full menu'!D11="PERF",'full menu'!D11="AERF",'full menu'!D11="PCB"),"ERfix",IF(OR('full menu'!D11="ACB", 'full menu'!D11="LCERT", 'full menu'!D11="LERT",'full menu'!D11="FCERT",'full menu'!D11="FERT"),"ERTs",IF(OR('full menu'!D11="FCMT",'full menu'!D11="FMT",'full menu'!D11="LMT",'full menu'!D11="LCMT"),"MTs",IF(OR('full menu'!D11="LCIT",'full menu'!D11="FCIT",'full menu'!D11="LIT",'full menu'!D11="FIT"),"ITs",IF(OR('full menu'!D11="MwERT", 'full menu'!D11="ERwMT", 'full menu'!D11="M&ERT", 'full menu'!D11="MwIT", 'full menu'!D11="IwMT", 'full menu'!D11="M&IT", 'full menu'!D11="IwERT", 'full menu'!D11="ERwIT", 'full menu'!D11="I&ERT", 'full menu'!D11="ER&M&IT"),"MixedTs",IF('full menu'!D11="UD","UD",IF('full menu'!D11="LSD","LSD",IF('full menu'!D11="WSD","WSD",""))))))))) -> ERfix | E11: =IF('full menu'!E11="MDC","MDC",IF(OR('full menu'!E11="PERF",'full menu'!E11="AERF",'full menu'!E11="PCB"),"ERfix",IF(OR('full menu'!E11="ACB", 'full menu'!E11="LCERT", 'full menu'!E11="LERT",'full menu'!E11="FCERT",'full menu'!E11="FERT"),"ERTs",IF(OR('full menu'!E11="FCMT",'full menu'!E11="FMT",'full menu'!E11="LMT",'full menu'!E11="LCMT"),"MTs",IF(OR('full menu'!E11="LCIT",'full menu'!E11="FCIT",'full menu'!E11="LIT",'full menu'!E11="FIT"),"ITs",IF(OR('full menu'!E11="MwERT", 'full menu'!E11="ERwMT", 'full menu'!E11="M&ERT", 'full menu'!E11="MwIT", 'full menu'!E11="IwMT", 'full menu'!E11="M&IT", 'full menu'!E11="IwERT", 'full menu'!E11="ERwIT", 'full menu'!E11="I&ERT", 'full menu'!E11="ER&M&IT"),"MixedTs",IF('full menu'!E11="UD","UD",IF('full menu'!E11="LSD","LSD",IF('full menu'!E11="WSD","WSD",""))))))))) -> ERfix | F11: =IF('full menu'!F11="MDC","MDC",IF(OR('full menu'!F11="PERF",'full menu'!F11="AERF",'full menu'!F11="PCB"),"ERfix",IF(OR('full menu'!F11="ACB", 'full menu'!F11="LCERT", 'full menu'!F11="LERT",'full menu'!F11="FCERT",'full menu'!F11="FERT"),"ERTs",IF(OR('full menu'!F11="FCMT",'full menu'!F11="FMT",'full menu'!F11="LMT",'full menu'!F11="LCMT"),"MTs",IF(OR('full menu'!F11="LCIT",'full menu'!F11="FCIT",'full menu'!F11="LIT",'full menu'!F11="FIT"),"ITs",IF(OR('full menu'!F11="MwERT", 'full menu'!F11="ERwMT", 'full menu'!F11="M&ERT", 'full menu'!F11="MwIT", 'full menu'!F11="IwMT", 'full menu'!F11="M&IT", 'full menu'!F11="IwERT", 'full menu'!F11="ERwIT", 'full menu'!F11="I&ERT", 'full menu'!F11="ER&M&IT"),"MixedTs",IF('full menu'!F11="UD","UD",IF('full menu'!F11="LSD","LSD",IF('full menu'!F11="WSD","WSD",""))))))))) -> ERfix | G11: =IF('full menu'!G11="MDC","MDC",IF(OR('full menu'!G11="PERF",'full menu'!G11="AERF",'full menu'!G11="PCB"),"ERfix",IF(OR('full menu'!G11="ACB", 'full menu'!G11="LCERT", 'full menu'!G11="LERT",'full menu'!G11="FCERT",'full menu'!G11="FERT"),"ERTs",IF(OR('full menu'!G11="FCMT",'full menu'!G11="FMT",'full menu'!G11="LMT",'full menu'!G11="LCMT"),"MTs",IF(OR('full menu'!G11="LCIT",'full menu'!G11="FCIT",'full menu'!G11="LIT",'full menu'!G11="FIT"),"ITs",IF(OR('full menu'!G11="MwERT", 'full menu'!G11="ERwMT", 'full menu'!G11="M&ERT", 'full menu'!G11="MwIT", 'full menu'!G11="IwMT", 'full menu'!G11="M&IT", 'full menu'!G11="IwERT", 'full menu'!G11="ERwIT", 'full menu'!G11="I&ERT", 'full menu'!G11="ER&M&IT"),"MixedTs",IF('full menu'!G11="UD","UD",IF('full menu'!G11="LSD","LSD",IF('full menu'!G11="WSD","WSD",""))))))))) -> ERfix | H11: =IF('full menu'!H11="MDC","MDC",IF(OR('full menu'!H11="PERF",'full menu'!H11="AERF",'full menu'!H11="PCB"),"ERfix",IF(OR('full menu'!H11="ACB", 'full menu'!H11="LCERT", 'full menu'!H11="LERT",'full menu'!H11="FCERT",'full menu'!H11="FERT"),"ERTs",IF(OR('full menu'!H11="FCMT",'full menu'!H11="FMT",'full menu'!H11="LMT",'full menu'!H11="LCMT"),"MTs",IF(OR('full menu'!H11="LCIT",'full menu'!H11="FCIT",'full menu'!H11="LIT",'full menu'!H11="FIT"),"ITs",IF(OR('full menu'!H11="MwERT", 'full menu'!H11="ERwMT", 'full menu'!H11="M&ERT", 'full menu'!H11="MwIT", 'full menu'!H11="IwMT", 'full menu'!H11="M&IT", 'full menu'!H11="IwERT", 'full menu'!H11="ERwIT", 'full menu'!H11="I&ERT", 'full menu'!H11="ER&M&IT"),"MixedTs",IF('full menu'!H11="UD","UD",IF('full menu'!H11="LSD","LSD",IF('full menu'!H11="WSD","WSD",""))))))))) -> ERfix | I11: =IF('full menu'!I11="MDC","MDC",IF(OR('full menu'!I11="PERF",'full menu'!I11="AERF",'full menu'!I11="PCB"),"ERfix",IF(OR('full menu'!I11="ACB", 'full menu'!I11="LCERT", 'full menu'!I11="LERT",'full menu'!I11="FCERT",'full menu'!I11="FERT"),"ERTs",IF(OR('full menu'!I11="FCMT",'full menu'!I11="FMT",'full menu'!I11="LMT",'full menu'!I11="LCMT"),"MTs",IF(OR('full menu'!I11="LCIT",'full menu'!I11="FCIT",'full menu'!I11="LIT",'full menu'!I11="FIT"),"ITs",IF(OR('full menu'!I11="MwERT", 'full menu'!I11="ERwMT", 'full menu'!I11="M&ERT", 'full menu'!I11="MwIT", 'full menu'!I11="IwMT", 'full menu'!I11="M&IT", 'full menu'!I11="IwERT", 'full menu'!I11="ERwIT", 'full menu'!I11="I&ERT", 'full menu'!I11="ER&M&IT"),"MixedTs",IF('full menu'!I11="UD","UD",IF('full menu'!I11="LSD","LSD",IF('full menu'!I11="WSD","WSD",""))))))))) -> LSD | ... AY11: =IF('full menu'!AY11="MDC","MDC",IF(OR('full menu'!AY11="PERF",'full menu'!AY11="AERF",'full menu'!AY11="PCB"),"ERfix",IF(OR('full menu'!AY11="ACB", 'full menu'!AY11="LCERT", 'full menu'!AY11="LERT",'full menu'!AY11="FCERT",'full menu'!AY11="FERT"),"ERTs",IF(OR('full menu'!AY11="FCMT",'full menu'!AY11="FMT",'full menu'!AY11="LMT",'full menu'!AY11="LCMT"),"MTs",IF(OR('full menu'!AY11="LCIT",'full menu'!AY11="FCIT",'full menu'!AY11="LIT",'full menu'!AY11="FIT"),"ITs",IF(OR('full menu'!AY11="MwERT", 'full menu'!AY11="ERwMT", 'full menu'!AY11="M&ERT", 'full menu'!AY11="MwIT", 'full menu'!AY11="IwMT", 'full menu'!AY11="M&IT", 'full menu'!AY11="IwERT", 'full menu'!AY11="ERwIT", 'full menu'!AY11="I&ERT", 'full menu'!AY11="ER&M&IT"),"MixedTs",IF('full menu'!AY11="UD","UD",IF('full menu'!AY11="LSD","LSD",IF('full menu'!AY11="WSD","WSD",""))))))))) -> ERTs
A12: Oman | B12: =IF('full menu'!B12="MDC","MDC",IF(OR('full menu'!B12="PERF",'full menu'!B12="AERF",'full menu'!B12="PCB"),"ERfix",IF(OR('full menu'!B12="ACB", 'full menu'!B12="LCERT", 'full menu'!B12="LERT",'full menu'!B12="FCERT",'full menu'!B12="FERT"),"ERTs",IF(OR('full menu'!B12="FCMT",'full menu'!B12="FMT",'full menu'!B12="LMT",'full menu'!B12="LCMT"),"MTs",IF(OR('full menu'!B12="LCIT",'full menu'!B12="FCIT",'full menu'!B12="LIT",'full menu'!B12="FIT"),"ITs",IF(OR('full menu'!B12="MwERT", 'full menu'!B12="ERwMT", 'full menu'!B12="M&ERT", 'full menu'!B12="MwIT", 'full menu'!B12="IwMT", 'full menu'!B12="M&IT", 'full menu'!B12="IwERT", 'full menu'!B12="ERwIT", 'full menu'!B12="I&ERT", 'full menu'!B12="ER&M&IT"),"MixedTs",IF('full menu'!B12="UD","UD",IF('full menu'!B12="LSD","LSD",IF('full menu'!B12="WSD","WSD",""))))))))) -> ERfix | C12: =IF('full menu'!C12="MDC","MDC",IF(OR('full menu'!C12="PERF",'full menu'!C12="AERF",'full menu'!C12="PCB"),"ERfix",IF(OR('full menu'!C12="ACB", 'full menu'!C12="LCERT", 'full menu'!C12="LERT",'full menu'!C12="FCERT",'full menu'!C12="FERT"),"ERTs",IF(OR('full menu'!C12="FCMT",'full menu'!C12="FMT",'full menu'!C12="LMT",'full menu'!C12="LCMT"),"MTs",IF(OR('full menu'!C12="LCIT",'full menu'!C12="FCIT",'full menu'!C12="LIT",'full menu'!C12="FIT"),"ITs",IF(OR('full menu'!C12="MwERT", 'full menu'!C12="ERwMT", 'full menu'!C12="M&ERT", 'full menu'!C12="MwIT", 'full menu'!C12="IwMT", 'full menu'!C12="M&IT", 'full menu'!C12="IwERT", 'full menu'!C12="ERwIT", 'full menu'!C12="I&ERT", 'full menu'!C12="ER&M&IT"),"MixedTs",IF('full menu'!C12="UD","UD",IF('full menu'!C12="LSD","LSD",IF('full menu'!C12="WSD","WSD",""))))))))) -> ERfix | D12: =IF('full menu'!D12="MDC","MDC",IF(OR('full menu'!D12="PERF",'full menu'!D12="AERF",'full menu'!D12="PCB"),"ERfix",IF(OR('full menu'!D12="ACB", 'full menu'!D12="LCERT", 'full menu'!D12="LERT",'full menu'!D12="FCERT",'full menu'!D12="FERT"),"ERTs",IF(OR('full menu'!D12="FCMT",'full menu'!D12="FMT",'full menu'!D12="LMT",'full menu'!D12="LCMT"),"MTs",IF(OR('full menu'!D12="LCIT",'full menu'!D12="FCIT",'full menu'!D12="LIT",'full menu'!D12="FIT"),"ITs",IF(OR('full menu'!D12="MwERT", 'full menu'!D12="ERwMT", 'full menu'!D12="M&ERT", 'full menu'!D12="MwIT", 'full menu'!D12="IwMT", 'full menu'!D12="M&IT", 'full menu'!D12="IwERT", 'full menu'!D12="ERwIT", 'full menu'!D12="I&ERT", 'full menu'!D12="ER&M&IT"),"MixedTs",IF('full menu'!D12="UD","UD",IF('full menu'!D12="LSD","LSD",IF('full menu'!D12="WSD","WSD",""))))))))) -> ERfix | E12: =IF('full menu'!E12="MDC","MDC",IF(OR('full menu'!E12="PERF",'full menu'!E12="AERF",'full menu'!E12="PCB"),"ERfix",IF(OR('full menu'!E12="ACB", 'full menu'!E12="LCERT", 'full menu'!E12="LERT",'full menu'!E12="FCERT",'full menu'!E12="FERT"),"ERTs",IF(OR('full menu'!E12="FCMT",'full menu'!E12="FMT",'full menu'!E12="LMT",'full menu'!E12="LCMT"),"MTs",IF(OR('full menu'!E12="LCIT",'full menu'!E12="FCIT",'full menu'!E12="LIT",'full menu'!E12="FIT"),"ITs",IF(OR('full menu'!E12="MwERT", 'full menu'!E12="ERwMT", 'full menu'!E12="M&ERT", 'full menu'!E12="MwIT", 'full menu'!E12="IwMT", 'full menu'!E12="M&IT", 'full menu'!E12="IwERT", 'full menu'!E12="ERwIT", 'full menu'!E12="I&ERT", 'full menu'!E12="ER&M&IT"),"MixedTs",IF('full menu'!E12="UD","UD",IF('full menu'!E12="LSD","LSD",IF('full menu'!E12="WSD","WSD",""))))))))) -> ERfix | F12: =IF('full menu'!F12="MDC","MDC",IF(OR('full menu'!F12="PERF",'full menu'!F12="AERF",'full menu'!F12="PCB"),"ERfix",IF(OR('full menu'!F12="ACB", 'full menu'!F12="LCERT", 'full menu'!F12="LERT",'full menu'!F12="FCERT",'full menu'!F12="FERT"),"ERTs",IF(OR('full menu'!F12="FCMT",'full menu'!F12="FMT",'full menu'!F12="LMT",'full menu'!F12="LCMT"),"MTs",IF(OR('full menu'!F12="LCIT",'full menu'!F12="FCIT",'full menu'!F12="LIT",'full menu'!F12="FIT"),"ITs",IF(OR('full menu'!F12="MwERT", 'full menu'!F12="ERwMT", 'full menu'!F12="M&ERT", 'full menu'!F12="MwIT", 'full menu'!F12="IwMT", 'full menu'!F12="M&IT", 'full menu'!F12="IwERT", 'full menu'!F12="ERwIT", 'full menu'!F12="I&ERT", 'full menu'!F12="ER&M&IT"),"MixedTs",IF('full menu'!F12="UD","UD",IF('full menu'!F12="LSD","LSD",IF('full menu'!F12="WSD","WSD",""))))))))) -> ERfix | G12: =IF('full menu'!G12="MDC","MDC",IF(OR('full menu'!G12="PERF",'full menu'!G12="AERF",'full menu'!G12="PCB"),"ERfix",IF(OR('full menu'!G12="ACB", 'full menu'!G12="LCERT", 'full menu'!G12="LERT",'full menu'!G12="FCERT",'full menu'!G12="FERT"),"ERTs",IF(OR('full menu'!G12="FCMT",'full menu'!G12="FMT",'full menu'!G12="LMT",'full menu'!G12="LCMT"),"MTs",IF(OR('full menu'!G12="LCIT",'full menu'!G12="FCIT",'full menu'!G12="LIT",'full menu'!G12="FIT"),"ITs",IF(OR('full menu'!G12="MwERT", 'full menu'!G12="ERwMT", 'full menu'!G12="M&ERT", 'full menu'!G12="MwIT", 'full menu'!G12="IwMT", 'full menu'!G12="M&IT", 'full menu'!G12="IwERT", 'full menu'!G12="ERwIT", 'full menu'!G12="I&ERT", 'full menu'!G12="ER&M&IT"),"MixedTs",IF('full menu'!G12="UD","UD",IF('full menu'!G12="LSD","LSD",IF('full menu'!G12="WSD","WSD",""))))))))) -> ERfix | H12: =IF('full menu'!H12="MDC","MDC",IF(OR('full menu'!H12="PERF",'full menu'!H12="AERF",'full menu'!H12="PCB"),"ERfix",IF(OR('full menu'!H12="ACB", 'full menu'!H12="LCERT", 'full menu'!H12="LERT",'full menu'!H12="FCERT",'full menu'!H12="FERT"),"ERTs",IF(OR('full menu'!H12="FCMT",'full menu'!H12="FMT",'full menu'!H12="LMT",'full menu'!H12="LCMT"),"MTs",IF(OR('full menu'!H12="LCIT",'full menu'!H12="FCIT",'full menu'!H12="LIT",'full menu'!H12="FIT"),"ITs",IF(OR('full menu'!H12="MwERT", 'full menu'!H12="ERwMT", 'full menu'!H12="M&ERT", 'full menu'!H12="MwIT", 'full menu'!H12="IwMT", 'full menu'!H12="M&IT", 'full menu'!H12="IwERT", 'full menu'!H12="ERwIT", 'full menu'!H12="I&ERT", 'full menu'!H12="ER&M&IT"),"MixedTs",IF('full menu'!H12="UD","UD",IF('full menu'!H12="LSD","LSD",IF('full menu'!H12="WSD","WSD",""))))))))) -> ERfix | I12: =IF('full menu'!I12="MDC","MDC",IF(OR('full menu'!I12="PERF",'full menu'!I12="AERF",'full menu'!I12="PCB"),"ERfix",IF(OR('full menu'!I12="ACB", 'full menu'!I12="LCERT", 'full menu'!I12="LERT",'full menu'!I12="FCERT",'full menu'!I12="FERT"),"ERTs",IF(OR('full menu'!I12="FCMT",'full menu'!I12="FMT",'full menu'!I12="LMT",'full menu'!I12="LCMT"),"MTs",IF(OR('full menu'!I12="LCIT",'full menu'!I12="FCIT",'full menu'!I12="LIT",'full menu'!I12="FIT"),"ITs",IF(OR('full menu'!I12="MwERT", 'full menu'!I12="ERwMT", 'full menu'!I12="M&ERT", 'full menu'!I12="MwIT", 'full menu'!I12="IwMT", 'full menu'!I12="M&IT", 'full menu'!I12="IwERT", 'full menu'!I12="ERwIT", 'full menu'!I12="I&ERT", 'full menu'!I12="ER&M&IT"),"MixedTs",IF('full menu'!I12="UD","UD",IF('full menu'!I12="LSD","LSD",IF('full menu'!I12="WSD","WSD",""))))))))) -> ERfix | ... AY12: =IF('full menu'!AY12="MDC","MDC",IF(OR('full menu'!AY12="PERF",'full menu'!AY12="AERF",'full menu'!AY12="PCB"),"ERfix",IF(OR('full menu'!AY12="ACB", 'full menu'!AY12="LCERT", 'full menu'!AY12="LERT",'full menu'!AY12="FCERT",'full menu'!AY12="FERT"),"ERTs",IF(OR('full menu'!AY12="FCMT",'full menu'!AY12="FMT",'full menu'!AY12="LMT",'full menu'!AY12="LCMT"),"MTs",IF(OR('full menu'!AY12="LCIT",'full menu'!AY12="FCIT",'full menu'!AY12="LIT",'full menu'!AY12="FIT"),"ITs",IF(OR('full menu'!AY12="MwERT", 'full menu'!AY12="ERwMT", 'full menu'!AY12="M&ERT", 'full menu'!AY12="MwIT", 'full menu'!AY12="IwMT", 'full menu'!AY12="M&IT", 'full menu'!AY12="IwERT", 'full menu'!AY12="ERwIT", 'full menu'!AY12="I&ERT", 'full menu'!AY12="ER&M&IT"),"MixedTs",IF('full menu'!AY12="UD","UD",IF('full menu'!AY12="LSD","LSD",IF('full menu'!AY12="WSD","WSD",""))))))))) -> ERfix
A13: Qatar | B13: =IF('full menu'!B13="MDC","MDC",IF(OR('full menu'!B13="PERF",'full menu'!B13="AERF",'full menu'!B13="PCB"),"ERfix",IF(OR('full menu'!B13="ACB", 'full menu'!B13="LCERT", 'full menu'!B13="LERT",'full menu'!B13="FCERT",'full menu'!B13="FERT"),"ERTs",IF(OR('full menu'!B13="FCMT",'full menu'!B13="FMT",'full menu'!B13="LMT",'full menu'!B13="LCMT"),"MTs",IF(OR('full menu'!B13="LCIT",'full menu'!B13="FCIT",'full menu'!B13="LIT",'full menu'!B13="FIT"),"ITs",IF(OR('full menu'!B13="MwERT", 'full menu'!B13="ERwMT", 'full menu'!B13="M&ERT", 'full menu'!B13="MwIT", 'full menu'!B13="IwMT", 'full menu'!B13="M&IT", 'full menu'!B13="IwERT", 'full menu'!B13="ERwIT", 'full menu'!B13="I&ERT", 'full menu'!B13="ER&M&IT"),"MixedTs",IF('full menu'!B13="UD","UD",IF('full menu'!B13="LSD","LSD",IF('full menu'!B13="WSD","WSD",""))))))))) -> ERfix | C13: =IF('full menu'!C13="MDC","MDC",IF(OR('full menu'!C13="PERF",'full menu'!C13="AERF",'full menu'!C13="PCB"),"ERfix",IF(OR('full menu'!C13="ACB", 'full menu'!C13="LCERT", 'full menu'!C13="LERT",'full menu'!C13="FCERT",'full menu'!C13="FERT"),"ERTs",IF(OR('full menu'!C13="FCMT",'full menu'!C13="FMT",'full menu'!C13="LMT",'full menu'!C13="LCMT"),"MTs",IF(OR('full menu'!C13="LCIT",'full menu'!C13="FCIT",'full menu'!C13="LIT",'full menu'!C13="FIT"),"ITs",IF(OR('full menu'!C13="MwERT", 'full menu'!C13="ERwMT", 'full menu'!C13="M&ERT", 'full menu'!C13="MwIT", 'full menu'!C13="IwMT", 'full menu'!C13="M&IT", 'full menu'!C13="IwERT", 'full menu'!C13="ERwIT", 'full menu'!C13="I&ERT", 'full menu'!C13="ER&M&IT"),"MixedTs",IF('full menu'!C13="UD","UD",IF('full menu'!C13="LSD","LSD",IF('full menu'!C13="WSD","WSD",""))))))))) -> ERfix | D13: =IF('full menu'!D13="MDC","MDC",IF(OR('full menu'!D13="PERF",'full menu'!D13="AERF",'full menu'!D13="PCB"),"ERfix",IF(OR('full menu'!D13="ACB", 'full menu'!D13="LCERT", 'full menu'!D13="LERT",'full menu'!D13="FCERT",'full menu'!D13="FERT"),"ERTs",IF(OR('full menu'!D13="FCMT",'full menu'!D13="FMT",'full menu'!D13="LMT",'full menu'!D13="LCMT"),"MTs",IF(OR('full menu'!D13="LCIT",'full menu'!D13="FCIT",'full menu'!D13="LIT",'full menu'!D13="FIT"),"ITs",IF(OR('full menu'!D13="MwERT", 'full menu'!D13="ERwMT", 'full menu'!D13="M&ERT", 'full menu'!D13="MwIT", 'full menu'!D13="IwMT", 'full menu'!D13="M&IT", 'full menu'!D13="IwERT", 'full menu'!D13="ERwIT", 'full menu'!D13="I&ERT", 'full menu'!D13="ER&M&IT"),"MixedTs",IF('full menu'!D13="UD","UD",IF('full menu'!D13="LSD","LSD",IF('full menu'!D13="WSD","WSD",""))))))))) -> ERfix | E13: =IF('full menu'!E13="MDC","MDC",IF(OR('full menu'!E13="PERF",'full menu'!E13="AERF",'full menu'!E13="PCB"),"ERfix",IF(OR('full menu'!E13="ACB", 'full menu'!E13="LCERT", 'full menu'!E13="LERT",'full menu'!E13="FCERT",'full menu'!E13="FERT"),"ERTs",IF(OR('full menu'!E13="FCMT",'full menu'!E13="FMT",'full menu'!E13="LMT",'full menu'!E13="LCMT"),"MTs",IF(OR('full menu'!E13="LCIT",'full menu'!E13="FCIT",'full menu'!E13="LIT",'full menu'!E13="FIT"),"ITs",IF(OR('full menu'!E13="MwERT", 'full menu'!E13="ERwMT", 'full menu'!E13="M&ERT", 'full menu'!E13="MwIT", 'full menu'!E13="IwMT", 'full menu'!E13="M&IT", 'full menu'!E13="IwERT", 'full menu'!E13="ERwIT", 'full menu'!E13="I&ERT", 'full menu'!E13="ER&M&IT"),"MixedTs",IF('full menu'!E13="UD","UD",IF('full menu'!E13="LSD","LSD",IF('full menu'!E13="WSD","WSD",""))))))))) -> ERfix | F13: =IF('full menu'!F13="MDC","MDC",IF(OR('full menu'!F13="PERF",'full menu'!F13="AERF",'full menu'!F13="PCB"),"ERfix",IF(OR('full menu'!F13="ACB", 'full menu'!F13="LCERT", 'full menu'!F13="LERT",'full menu'!F13="FCERT",'full menu'!F13="FERT"),"ERTs",IF(OR('full menu'!F13="FCMT",'full menu'!F13="FMT",'full menu'!F13="LMT",'full menu'!F13="LCMT"),"MTs",IF(OR('full menu'!F13="LCIT",'full menu'!F13="FCIT",'full menu'!F13="LIT",'full menu'!F13="FIT"),"ITs",IF(OR('full menu'!F13="MwERT", 'full menu'!F13="ERwMT", 'full menu'!F13="M&ERT", 'full menu'!F13="MwIT", 'full menu'!F13="IwMT", 'full menu'!F13="M&IT", 'full menu'!F13="IwERT", 'full menu'!F13="ERwIT", 'full menu'!F13="I&ERT", 'full menu'!F13="ER&M&IT"),"MixedTs",IF('full menu'!F13="UD","UD",IF('full menu'!F13="LSD","LSD",IF('full menu'!F13="WSD","WSD",""))))))))) -> ERfix | G13: =IF('full menu'!G13="MDC","MDC",IF(OR('full menu'!G13="PERF",'full menu'!G13="AERF",'full menu'!G13="PCB"),"ERfix",IF(OR('full menu'!G13="ACB", 'full menu'!G13="LCERT", 'full menu'!G13="LERT",'full menu'!G13="FCERT",'full menu'!G13="FERT"),"ERTs",IF(OR('full menu'!G13="FCMT",'full menu'!G13="FMT",'full menu'!G13="LMT",'full menu'!G13="LCMT"),"MTs",IF(OR('full menu'!G13="LCIT",'full menu'!G13="FCIT",'full menu'!G13="LIT",'full menu'!G13="FIT"),"ITs",IF(OR('full menu'!G13="MwERT", 'full menu'!G13="ERwMT", 'full menu'!G13="M&ERT", 'full menu'!G13="MwIT", 'full menu'!G13="IwMT", 'full menu'!G13="M&IT", 'full menu'!G13="IwERT", 'full menu'!G13="ERwIT", 'full menu'!G13="I&ERT", 'full menu'!G13="ER&M&IT"),"MixedTs",IF('full menu'!G13="UD","UD",IF('full menu'!G13="LSD","LSD",IF('full menu'!G13="WSD","WSD",""))))))))) -> ERTs | H13: =IF('full menu'!H13="MDC","MDC",IF(OR('full menu'!H13="PERF",'full menu'!H13="AERF",'full menu'!H13="PCB"),"ERfix",IF(OR('full menu'!H13="ACB", 'full menu'!H13="LCERT", 'full menu'!H13="LERT",'full menu'!H13="FCERT",'full menu'!H13="FERT"),"ERTs",IF(OR('full menu'!H13="FCMT",'full menu'!H13="FMT",'full menu'!H13="LMT",'full menu'!H13="LCMT"),"MTs",IF(OR('full menu'!H13="LCIT",'full menu'!H13="FCIT",'full menu'!H13="LIT",'full menu'!H13="FIT"),"ITs",IF(OR('full menu'!H13="MwERT", 'full menu'!H13="ERwMT", 'full menu'!H13="M&ERT", 'full menu'!H13="MwIT", 'full menu'!H13="IwMT", 'full menu'!H13="M&IT", 'full menu'!H13="IwERT", 'full menu'!H13="ERwIT", 'full menu'!H13="I&ERT", 'full menu'!H13="ER&M&IT"),"MixedTs",IF('full menu'!H13="UD","UD",IF('full menu'!H13="LSD","LSD",IF('full menu'!H13="WSD","WSD",""))))))))) -> ERTs | I13: =IF('full menu'!I13="MDC","MDC",IF(OR('full menu'!I13="PERF",'full menu'!I13="AERF",'full menu'!I13="PCB"),"ERfix",IF(OR('full menu'!I13="ACB", 'full menu'!I13="LCERT", 'full menu'!I13="LERT",'full menu'!I13="FCERT",'full menu'!I13="FERT"),"ERTs",IF(OR('full menu'!I13="FCMT",'full menu'!I13="FMT",'full menu'!I13="LMT",'full menu'!I13="LCMT"),"MTs",IF(OR('full menu'!I13="LCIT",'full menu'!I13="FCIT",'full menu'!I13="LIT",'full menu'!I13="FIT"),"ITs",IF(OR('full menu'!I13="MwERT", 'full menu'!I13="ERwMT", 'full menu'!I13="M&ERT", 'full menu'!I13="MwIT", 'full menu'!I13="IwMT", 'full menu'!I13="M&IT", 'full menu'!I13="IwERT", 'full menu'!I13="ERwIT", 'full menu'!I13="I&ERT", 'full menu'!I13="ER&M&IT"),"MixedTs",IF('full menu'!I13="UD","UD",IF('full menu'!I13="LSD","LSD",IF('full menu'!I13="WSD","WSD",""))))))))) -> ERTs | ... AY13: =IF('full menu'!AY13="MDC","MDC",IF(OR('full menu'!AY13="PERF",'full menu'!AY13="AERF",'full menu'!AY13="PCB"),"ERfix",IF(OR('full menu'!AY13="ACB", 'full menu'!AY13="LCERT", 'full menu'!AY13="LERT",'full menu'!AY13="FCERT",'full menu'!AY13="FERT"),"ERTs",IF(OR('full menu'!AY13="FCMT",'full menu'!AY13="FMT",'full menu'!AY13="LMT",'full menu'!AY13="LCMT"),"MTs",IF(OR('full menu'!AY13="LCIT",'full menu'!AY13="FCIT",'full menu'!AY13="LIT",'full menu'!AY13="FIT"),"ITs",IF(OR('full menu'!AY13="MwERT", 'full menu'!AY13="ERwMT", 'full menu'!AY13="M&ERT", 'full menu'!AY13="MwIT", 'full menu'!AY13="IwMT", 'full menu'!AY13="M&IT", 'full menu'!AY13="IwERT", 'full menu'!AY13="ERwIT", 'full menu'!AY13="I&ERT", 'full menu'!AY13="ER&M&IT"),"MixedTs",IF('full menu'!AY13="UD","UD",IF('full menu'!AY13="LSD","LSD",IF('full menu'!AY13="WSD","WSD",""))))))))) -> ERTs
... A19: UAE | B19: =IF('full menu'!B19="MDC","MDC",IF(OR('full menu'!B19="PERF",'full menu'!B19="AERF",'full menu'!B19="PCB"),"ERfix",IF(OR('full menu'!B19="ACB", 'full menu'!B19="LCERT", 'full menu'!B19="LERT",'full menu'!B19="FCERT",'full menu'!B19="FERT"),"ERTs",IF(OR('full menu'!B19="FCMT",'full menu'!B19="FMT",'full menu'!B19="LMT",'full menu'!B19="LCMT"),"MTs",IF(OR('full menu'!B19="LCIT",'full menu'!B19="FCIT",'full menu'!B19="LIT",'full menu'!B19="FIT"),"ITs",IF(OR('full menu'!B19="MwERT", 'full menu'!B19="ERwMT", 'full menu'!B19="M&ERT", 'full menu'!B19="MwIT", 'full menu'!B19="IwMT", 'full menu'!B19="M&IT", 'full menu'!B19="IwERT", 'full menu'!B19="ERwIT", 'full menu'!B19="I&ERT", 'full menu'!B19="ER&M&IT"),"MixedTs",IF('full menu'!B19="UD","UD",IF('full menu'!B19="LSD","LSD",IF('full menu'!B19="WSD","WSD",""))))))))) -> ERTs | C19: =IF('full menu'!C19="MDC","MDC",IF(OR('full menu'!C19="PERF",'full menu'!C19="AERF",'full menu'!C19="PCB"),"ERfix",IF(OR('full menu'!C19="ACB", 'full menu'!C19="LCERT", 'full menu'!C19="LERT",'full menu'!C19="FCERT",'full menu'!C19="FERT"),"ERTs",IF(OR('full menu'!C19="FCMT",'full menu'!C19="FMT",'full menu'!C19="LMT",'full menu'!C19="LCMT"),"MTs",IF(OR('full menu'!C19="LCIT",'full menu'!C19="FCIT",'full menu'!C19="LIT",'full menu'!C19="FIT"),"ITs",IF(OR('full menu'!C19="MwERT", 'full menu'!C19="ERwMT", 'full menu'!C19="M&ERT", 'full menu'!C19="MwIT", 'full menu'!C19="IwMT", 'full menu'!C19="M&IT", 'full menu'!C19="IwERT", 'full menu'!C19="ERwIT", 'full menu'!C19="I&ERT", 'full menu'!C19="ER&M&IT"),"MixedTs",IF('full menu'!C19="UD","UD",IF('full menu'!C19="LSD","LSD",IF('full menu'!C19="WSD","WSD",""))))))))) -> ERTs | D19: =IF('full menu'!D19="MDC","MDC",IF(OR('full menu'!D19="PERF",'full menu'!D19="AERF",'full menu'!D19="PCB"),"ERfix",IF(OR('full menu'!D19="ACB", 'full menu'!D19="LCERT", 'full menu'!D19="LERT",'full menu'!D19="FCERT",'full menu'!D19="FERT"),"ERTs",IF(OR('full menu'!D19="FCMT",'full menu'!D19="FMT",'full menu'!D19="LMT",'full menu'!D19="LCMT"),"MTs",IF(OR('full menu'!D19="LCIT",'full menu'!D19="FCIT",'full menu'!D19="LIT",'full menu'!D19="FIT"),"ITs",IF(OR('full menu'!D19="MwERT", 'full menu'!D19="ERwMT", 'full menu'!D19="M&ERT", 'full menu'!D19="MwIT", 'full menu'!D19="IwMT", 'full menu'!D19="M&IT", 'full menu'!D19="IwERT", 'full menu'!D19="ERwIT", 'full menu'!D19="I&ERT", 'full menu'!D19="ER&M&IT"),"MixedTs",IF('full menu'!D19="UD","UD",IF('full menu'!D19="LSD","LSD",IF('full menu'!D19="WSD","WSD",""))))))))) -> ERTs | E19: =IF('full menu'!E19="MDC","MDC",IF(OR('full menu'!E19="PERF",'full menu'!E19="AERF",'full menu'!E19="PCB"),"ERfix",IF(OR('full menu'!E19="ACB", 'full menu'!E19="LCERT", 'full menu'!E19="LERT",'full menu'!E19="FCERT",'full menu'!E19="FERT"),"ERTs",IF(OR('full menu'!E19="FCMT",'full menu'!E19="FMT",'full menu'!E19="LMT",'full menu'!E19="LCMT"),"MTs",IF(OR('full menu'!E19="LCIT",'full menu'!E19="FCIT",'full menu'!E19="LIT",'full menu'!E19="FIT"),"ITs",IF(OR('full menu'!E19="MwERT", 'full menu'!E19="ERwMT", 'full menu'!E19="M&ERT", 'full menu'!E19="MwIT", 'full menu'!E19="IwMT", 'full menu'!E19="M&IT", 'full menu'!E19="IwERT", 'full menu'!E19="ERwIT", 'full menu'!E19="I&ERT", 'full menu'!E19="ER&M&IT"),"MixedTs",IF('full menu'!E19="UD","UD",IF('full menu'!E19="LSD","LSD",IF('full menu'!E19="WSD","WSD",""))))))))) -> ERTs | F19: =IF('full menu'!F19="MDC","MDC",IF(OR('full menu'!F19="PERF",'full menu'!F19="AERF",'full menu'!F19="PCB"),"ERfix",IF(OR('full menu'!F19="ACB", 'full menu'!F19="LCERT", 'full menu'!F19="LERT",'full menu'!F19="FCERT",'full menu'!F19="FERT"),"ERTs",IF(OR('full menu'!F19="FCMT",'full menu'!F19="FMT",'full menu'!F19="LMT",'full menu'!F19="LCMT"),"MTs",IF(OR('full menu'!F19="LCIT",'full menu'!F19="FCIT",'full menu'!F19="LIT",'full menu'!F19="FIT"),"ITs",IF(OR('full menu'!F19="MwERT", 'full menu'!F19="ERwMT", 'full menu'!F19="M&ERT", 'full menu'!F19="MwIT", 'full menu'!F19="IwMT", 'full menu'!F19="M&IT", 'full menu'!F19="IwERT", 'full menu'!F19="ERwIT", 'full menu'!F19="I&ERT", 'full menu'!F19="ER&M&IT"),"MixedTs",IF('full menu'!F19="UD","UD",IF('full menu'!F19="LSD","LSD",IF('full menu'!F19="WSD","WSD",""))))))))) -> ERTs | G19: =IF('full menu'!G19="MDC","MDC",IF(OR('full menu'!G19="PERF",'full menu'!G19="AERF",'full menu'!G19="PCB"),"ERfix",IF(OR('full menu'!G19="ACB", 'full menu'!G19="LCERT", 'full menu'!G19="LERT",'full menu'!G19="FCERT",'full menu'!G19="FERT"),"ERTs",IF(OR('full menu'!G19="FCMT",'full menu'!G19="FMT",'full menu'!G19="LMT",'full menu'!G19="LCMT"),"MTs",IF(OR('full menu'!G19="LCIT",'full menu'!G19="FCIT",'full menu'!G19="LIT",'full menu'!G19="FIT"),"ITs",IF(OR('full menu'!G19="MwERT", 'full menu'!G19="ERwMT", 'full menu'!G19="M&ERT", 'full menu'!G19="MwIT", 'full menu'!G19="IwMT", 'full menu'!G19="M&IT", 'full menu'!G19="IwERT", 'full menu'!G19="ERwIT", 'full menu'!G19="I&ERT", 'full menu'!G19="ER&M&IT"),"MixedTs",IF('full menu'!G19="UD","UD",IF('full menu'!G19="LSD","LSD",IF('full menu'!G19="WSD","WSD",""))))))))) -> ERTs | H19: =IF('full menu'!H19="MDC","MDC",IF(OR('full menu'!H19="PERF",'full menu'!H19="AERF",'full menu'!H19="PCB"),"ERfix",IF(OR('full menu'!H19="ACB", 'full menu'!H19="LCERT", 'full menu'!H19="LERT",'full menu'!H19="FCERT",'full menu'!H19="FERT"),"ERTs",IF(OR('full menu'!H19="FCMT",'full menu'!H19="FMT",'full menu'!H19="LMT",'full menu'!H19="LCMT"),"MTs",IF(OR('full menu'!H19="LCIT",'full menu'!H19="FCIT",'full menu'!H19="LIT",'full menu'!H19="FIT"),"ITs",IF(OR('full menu'!H19="MwERT", 'full menu'!H19="ERwMT", 'full menu'!H19="M&ERT", 'full menu'!H19="MwIT", 'full menu'!H19="IwMT", 'full menu'!H19="M&IT", 'full menu'!H19="IwERT", 'full menu'!H19="ERwIT", 'full menu'!H19="I&ERT", 'full menu'!H19="ER&M&IT"),"MixedTs",IF('full menu'!H19="UD","UD",IF('full menu'!H19="LSD","LSD",IF('full menu'!H19="WSD","WSD",""))))))))) -> ERTs | I19: =IF('full menu'!I19="MDC","MDC",IF(OR('full menu'!I19="PERF",'full menu'!I19="AERF",'full menu'!I19="PCB"),"ERfix",IF(OR('full menu'!I19="ACB", 'full menu'!I19="LCERT", 'full menu'!I19="LERT",'full menu'!I19="FCERT",'full menu'!I19="FERT"),"ERTs",IF(OR('full menu'!I19="FCMT",'full menu'!I19="FMT",'full menu'!I19="LMT",'full menu'!I19="LCMT"),"MTs",IF(OR('full menu'!I19="LCIT",'full menu'!I19="FCIT",'full menu'!I19="LIT",'full menu'!I19="FIT"),"ITs",IF(OR('full menu'!I19="MwERT", 'full menu'!I19="ERwMT", 'full menu'!I19="M&ERT", 'full menu'!I19="MwIT", 'full menu'!I19="IwMT", 'full menu'!I19="M&IT", 'full menu'!I19="IwERT", 'full menu'!I19="ERwIT", 'full menu'!I19="I&ERT", 'full menu'!I19="ER&M&IT"),"MixedTs",IF('full menu'!I19="UD","UD",IF('full menu'!I19="LSD","LSD",IF('full menu'!I19="WSD","WSD",""))))))))) -> ERTs | ... AY19: =IF('full menu'!AY19="MDC","MDC",IF(OR('full menu'!AY19="PERF",'full menu'!AY19="AERF",'full menu'!AY19="PCB"),"ERfix",IF(OR('full menu'!AY19="ACB", 'full menu'!AY19="LCERT", 'full menu'!AY19="LERT",'full menu'!AY19="FCERT",'full menu'!AY19="FERT"),"ERTs",IF(OR('full menu'!AY19="FCMT",'full menu'!AY19="FMT",'full menu'!AY19="LMT",'full menu'!AY19="LCMT"),"MTs",IF(OR('full menu'!AY19="LCIT",'full menu'!AY19="FCIT",'full menu'!AY19="LIT",'full menu'!AY19="FIT"),"ITs",IF(OR('full menu'!AY19="MwERT", 'full menu'!AY19="ERwMT", 'full menu'!AY19="M&ERT", 'full menu'!AY19="MwIT", 'full menu'!AY19="IwMT", 'full menu'!AY19="M&IT", 'full menu'!AY19="IwERT", 'full menu'!AY19="ERwIT", 'full menu'!AY19="I&ERT", 'full menu'!AY19="ER&M&IT"),"MixedTs",IF('full menu'!AY19="UD","UD",IF('full menu'!AY19="LSD","LSD",IF('full menu'!AY19="WSD","WSD",""))))))))) -> ERTs
A20: Yemen Arab Republic (north) | B20: =IF('full menu'!B20="MDC","MDC",IF(OR('full menu'!B20="PERF",'full menu'!B20="AERF",'full menu'!B20="PCB"),"ERfix",IF(OR('full menu'!B20="ACB", 'full menu'!B20="LCERT", 'full menu'!B20="LERT",'full menu'!B20="FCERT",'full menu'!B20="FERT"),"ERTs",IF(OR('full menu'!B20="FCMT",'full menu'!B20="FMT",'full menu'!B20="LMT",'full menu'!B20="LCMT"),"MTs",IF(OR('full menu'!B20="LCIT",'full menu'!B20="FCIT",'full menu'!B20="LIT",'full menu'!B20="FIT"),"ITs",IF(OR('full menu'!B20="MwERT", 'full menu'!B20="ERwMT", 'full menu'!B20="M&ERT", 'full menu'!B20="MwIT", 'full menu'!B20="IwMT", 'full menu'!B20="M&IT", 'full menu'!B20="IwERT", 'full menu'!B20="ERwIT", 'full menu'!B20="I&ERT", 'full menu'!B20="ER&M&IT"),"MixedTs",IF('full menu'!B20="UD","UD",IF('full menu'!B20="LSD","LSD",IF('full menu'!B20="WSD","WSD",""))))))))) -> ERfix | C20: =IF('full menu'!C20="MDC","MDC",IF(OR('full menu'!C20="PERF",'full menu'!C20="AERF",'full menu'!C20="PCB"),"ERfix",IF(OR('full menu'!C20="ACB", 'full menu'!C20="LCERT", 'full menu'!C20="LERT",'full menu'!C20="FCERT",'full menu'!C20="FERT"),"ERTs",IF(OR('full menu'!C20="FCMT",'full menu'!C20="FMT",'full menu'!C20="LMT",'full menu'!C20="LCMT"),"MTs",IF(OR('full menu'!C20="LCIT",'full menu'!C20="FCIT",'full menu'!C20="LIT",'full menu'!C20="FIT"),"ITs",IF(OR('full menu'!C20="MwERT", 'full menu'!C20="ERwMT", 'full menu'!C20="M&ERT", 'full menu'!C20="MwIT", 'full menu'!C20="IwMT", 'full menu'!C20="M&IT", 'full menu'!C20="IwERT", 'full menu'!C20="ERwIT", 'full menu'!C20="I&ERT", 'full menu'!C20="ER&M&IT"),"MixedTs",IF('full menu'!C20="UD","UD",IF('full menu'!C20="LSD","LSD",IF('full menu'!C20="WSD","WSD",""))))))))) -> ERfix | D20: =IF('full menu'!D20="MDC","MDC",IF(OR('full menu'!D20="PERF",'full menu'!D20="AERF",'full menu'!D20="PCB"),"ERfix",IF(OR('full menu'!D20="ACB", 'full menu'!D20="LCERT", 'full menu'!D20="LERT",'full menu'!D20="FCERT",'full menu'!D20="FERT"),"ERTs",IF(OR('full menu'!D20="FCMT",'full menu'!D20="FMT",'full menu'!D20="LMT",'full menu'!D20="LCMT"),"MTs",IF(OR('full menu'!D20="LCIT",'full menu'!D20="FCIT",'full menu'!D20="LIT",'full menu'!D20="FIT"),"ITs",IF(OR('full menu'!D20="MwERT", 'full menu'!D20="ERwMT", 'full menu'!D20="M&ERT", 'full menu'!D20="MwIT", 'full menu'!D20="IwMT", 'full menu'!D20="M&IT", 'full menu'!D20="IwERT", 'full menu'!D20="ERwIT", 'full menu'!D20="I&ERT", 'full menu'!D20="ER&M&IT"),"MixedTs",IF('full menu'!D20="UD","UD",IF('full menu'!D20="LSD","LSD",IF('full menu'!D20="WSD","WSD",""))))))))) -> ERfix | E20: =IF('full menu'!E20="MDC","MDC",IF(OR('full menu'!E20="PERF",'full menu'!E20="AERF",'full menu'!E20="PCB"),"ERfix",IF(OR('full menu'!E20="ACB", 'full menu'!E20="LCERT", 'full menu'!E20="LERT",'full menu'!E20="FCERT",'full menu'!E20="FERT"),"ERTs",IF(OR('full menu'!E20="FCMT",'full menu'!E20="FMT",'full menu'!E20="LMT",'full menu'!E20="LCMT"),"MTs",IF(OR('full menu'!E20="LCIT",'full menu'!E20="FCIT",'full menu'!E20="LIT",'full menu'!E20="FIT"),"ITs",IF(OR('full menu'!E20="MwERT", 'full menu'!E20="ERwMT", 'full menu'!E20="M&ERT", 'full menu'!E20="MwIT", 'full menu'!E20="IwMT", 'full menu'!E20="M&IT", 'full menu'!E20="IwERT", 'full menu'!E20="ERwIT", 'full menu'!E20="I&ERT", 'full menu'!E20="ER&M&IT"),"MixedTs",IF('full menu'!E20="UD","UD",IF('full menu'!E20="LSD","LSD",IF('full menu'!E20="WSD","WSD",""))))))))) -> ERfix | F20: =IF('full menu'!F20="MDC","MDC",IF(OR('full menu'!F20="PERF",'full menu'!F20="AERF",'full menu'!F20="PCB"),"ERfix",IF(OR('full menu'!F20="ACB", 'full menu'!F20="LCERT", 'full menu'!F20="LERT",'full menu'!F20="FCERT",'full menu'!F20="FERT"),"ERTs",IF(OR('full menu'!F20="FCMT",'full menu'!F20="FMT",'full menu'!F20="LMT",'full menu'!F20="LCMT"),"MTs",IF(OR('full menu'!F20="LCIT",'full menu'!F20="FCIT",'full menu'!F20="LIT",'full menu'!F20="FIT"),"ITs",IF(OR('full menu'!F20="MwERT", 'full menu'!F20="ERwMT", 'full menu'!F20="M&ERT", 'full menu'!F20="MwIT", 'full menu'!F20="IwMT", 'full menu'!F20="M&IT", 'full menu'!F20="IwERT", 'full menu'!F20="ERwIT", 'full menu'!F20="I&ERT", 'full menu'!F20="ER&M&IT"),"MixedTs",IF('full menu'!F20="UD","UD",IF('full menu'!F20="LSD","LSD",IF('full menu'!F20="WSD","WSD",""))))))))) -> ERfix | G20: =IF('full menu'!G20="MDC","MDC",IF(OR('full menu'!G20="PERF",'full menu'!G20="AERF",'full menu'!G20="PCB"),"ERfix",IF(OR('full menu'!G20="ACB", 'full menu'!G20="LCERT", 'full menu'!G20="LERT",'full menu'!G20="FCERT",'full menu'!G20="FERT"),"ERTs",IF(OR('full menu'!G20="FCMT",'full menu'!G20="FMT",'full menu'!G20="LMT",'full menu'!G20="LCMT"),"MTs",IF(OR('full menu'!G20="LCIT",'full menu'!G20="FCIT",'full menu'!G20="LIT",'full menu'!G20="FIT"),"ITs",IF(OR('full menu'!G20="MwERT", 'full menu'!G20="ERwMT", 'full menu'!G20="M&ERT", 'full menu'!G20="MwIT", 'full menu'!G20="IwMT", 'full menu'!G20="M&IT", 'full menu'!G20="IwERT", 'full menu'!G20="ERwIT", 'full menu'!G20="I&ERT", 'full menu'!G20="ER&M&IT"),"MixedTs",IF('full menu'!G20="UD","UD",IF('full menu'!G20="LSD","LSD",IF('full menu'!G20="WSD","WSD",""))))))))) -> ERfix | H20: =IF('full menu'!H20="MDC","MDC",IF(OR('full menu'!H20="PERF",'full menu'!H20="AERF",'full menu'!H20="PCB"),"ERfix",IF(OR('full menu'!H20="ACB", 'full menu'!H20="LCERT", 'full menu'!H20="LERT",'full menu'!H20="FCERT",'full menu'!H20="FERT"),"ERTs",IF(OR('full menu'!H20="FCMT",'full menu'!H20="FMT",'full menu'!H20="LMT",'full menu'!H20="LCMT"),"MTs",IF(OR('full menu'!H20="LCIT",'full menu'!H20="FCIT",'full menu'!H20="LIT",'full menu'!H20="FIT"),"ITs",IF(OR('full menu'!H20="MwERT", 'full menu'!H20="ERwMT", 'full menu'!H20="M&ERT", 'full menu'!H20="MwIT", 'full menu'!H20="IwMT", 'full menu'!H20="M&IT", 'full menu'!H20="IwERT", 'full menu'!H20="ERwIT", 'full menu'!H20="I&ERT", 'full menu'!H20="ER&M&IT"),"MixedTs",IF('full menu'!H20="UD","UD",IF('full menu'!H20="LSD","LSD",IF('full menu'!H20="WSD","WSD",""))))))))) -> ERfix | I20: =IF('full menu'!I20="MDC","MDC",IF(OR('full menu'!I20="PERF",'full menu'!I20="AERF",'full menu'!I20="PCB"),"ERfix",IF(OR('full menu'!I20="ACB", 'full menu'!I20="LCERT", 'full menu'!I20="LERT",'full menu'!I20="FCERT",'full menu'!I20="FERT"),"ERTs",IF(OR('full menu'!I20="FCMT",'full menu'!I20="FMT",'full menu'!I20="LMT",'full menu'!I20="LCMT"),"MTs",IF(OR('full menu'!I20="LCIT",'full menu'!I20="FCIT",'full menu'!I20="LIT",'full menu'!I20="FIT"),"ITs",IF(OR('full menu'!I20="MwERT", 'full menu'!I20="ERwMT", 'full menu'!I20="M&ERT", 'full menu'!I20="MwIT", 'full menu'!I20="IwMT", 'full menu'!I20="M&IT", 'full menu'!I20="IwERT", 'full menu'!I20="ERwIT", 'full menu'!I20="I&ERT", 'full menu'!I20="ER&M&IT"),"MixedTs",IF('full menu'!I20="UD","UD",IF('full menu'!I20="LSD","LSD",IF('full menu'!I20="WSD","WSD",""))))))))) -> ERfix | ... Q20: =IF('full menu'!Q20="MDC","MDC",IF(OR('full menu'!Q20="PERF",'full menu'!Q20="AERF",'full menu'!Q20="PCB"),"ERfix",IF(OR('full menu'!Q20="ACB", 'full menu'!Q20="LCERT", 'full menu'!Q20="LERT",'full menu'!Q20="FCERT",'full menu'!Q20="FERT"),"ERTs",IF(OR('full menu'!Q20="FCMT",'full menu'!Q20="FMT",'full menu'!Q20="LMT",'full menu'!Q20="LCMT"),"MTs",IF(OR('full menu'!Q20="LCIT",'full menu'!Q20="FCIT",'full menu'!Q20="LIT",'full menu'!Q20="FIT"),"ITs",IF(OR('full menu'!Q20="MwERT", 'full menu'!Q20="ERwMT", 'full menu'!Q20="M&ERT", 'full menu'!Q20="MwIT", 'full menu'!Q20="IwMT", 'full menu'!Q20="M&IT", 'full menu'!Q20="IwERT", 'full menu'!Q20="ERwIT", 'full menu'!Q20="I&ERT", 'full menu'!Q20="ER&M&IT"),"MixedTs",IF('full menu'!Q20="UD","UD",IF('full menu'!Q20="LSD","LSD",IF('full menu'!Q20="WSD","WSD",""))))))))) -> LSD | R20: =IF('full menu'!R20="MDC","MDC",IF(OR('full menu'!R20="PERF",'full menu'!R20="AERF",'full menu'!R20="PCB"),"ERfix",IF(OR('full menu'!R20="ACB", 'full menu'!R20="LCERT", 'full menu'!R20="LERT",'full menu'!R20="FCERT",'full menu'!R20="FERT"),"ERTs",IF(OR('full menu'!R20="FCMT",'full menu'!R20="FMT",'full menu'!R20="LMT",'full menu'!R20="LCMT"),"MTs",IF(OR('full menu'!R20="LCIT",'full menu'!R20="FCIT",'full menu'!R20="LIT",'full menu'!R20="FIT"),"ITs",IF(OR('full menu'!R20="MwERT", 'full menu'!R20="ERwMT", 'full menu'!R20="M&ERT", 'full menu'!R20="MwIT", 'full menu'!R20="IwMT", 'full menu'!R20="M&IT", 'full menu'!R20="IwERT", 'full menu'!R20="ERwIT", 'full menu'!R20="I&ERT", 'full menu'!R20="ER&M&IT"),"MixedTs",IF('full menu'!R20="UD","UD",IF('full menu'!R20="LSD","LSD",IF('full menu'!R20="WSD","WSD",IF('full menu'!R20="X","X","")))))))))) -> X | S20: =IF('full menu'!S20="MDC","MDC",IF(OR('full menu'!S20="PERF",'full menu'!S20="AERF",'full menu'!S20="PCB"),"ERfix",IF(OR('full menu'!S20="ACB", 'full menu'!S20="LCERT", 'full menu'!S20="LERT",'full menu'!S20="FCERT",'full menu'!S20="FERT"),"ERTs",IF(OR('full menu'!S20="FCMT",'full menu'!S20="FMT",'full menu'!S20="LMT",'full menu'!S20="LCMT"),"MTs",IF(OR('full menu'!S20="LCIT",'full menu'!S20="FCIT",'full menu'!S20="LIT",'full menu'!S20="FIT"),"ITs",IF(OR('full menu'!S20="MwERT", 'full menu'!S20="ERwMT", 'full menu'!S20="M&ERT", 'full menu'!S20="MwIT", 'full menu'!S20="IwMT", 'full menu'!S20="M&IT", 'full menu'!S20="IwERT", 'full menu'!S20="ERwIT", 'full menu'!S20="I&ERT", 'full menu'!S20="ER&M&IT"),"MixedTs",IF('full menu'!S20="UD","UD",IF('full menu'!S20="LSD","LSD",IF('full menu'!S20="WSD","WSD",IF('full menu'!S20="X","X","")))))))))) -> X | T20: =IF('full menu'!T20="MDC","MDC",IF(OR('full menu'!T20="PERF",'full menu'!T20="AERF",'full menu'!T20="PCB"),"ERfix",IF(OR('full menu'!T20="ACB", 'full menu'!T20="LCERT", 'full menu'!T20="LERT",'full menu'!T20="FCERT",'full menu'!T20="FERT"),"ERTs",IF(OR('full menu'!T20="FCMT",'full menu'!T20="FMT",'full menu'!T20="LMT",'full menu'!T20="LCMT"),"MTs",IF(OR('full menu'!T20="LCIT",'full menu'!T20="FCIT",'full menu'!T20="LIT",'full menu'!T20="FIT"),"ITs",IF(OR('full menu'!T20="MwERT", 'full menu'!T20="ERwMT", 'full menu'!T20="M&ERT", 'full menu'!T20="MwIT", 'full menu'!T20="IwMT", 'full menu'!T20="M&IT", 'full menu'!T20="IwERT", 'full menu'!T20="ERwIT", 'full menu'!T20="I&ERT", 'full menu'!T20="ER&M&IT"),"MixedTs",IF('full menu'!T20="UD","UD",IF('full menu'!T20="LSD","LSD",IF('full menu'!T20="WSD","WSD",IF('full menu'!T20="X","X","")))))))))) -> X | U20: =IF('full menu'!U20="MDC","MDC",IF(OR('full menu'!U20="PERF",'full menu'!U20="AERF",'full menu'!U20="PCB"),"ERfix",IF(OR('full menu'!U20="ACB", 'full menu'!U20="LCERT", 'full menu'!U20="LERT",'full menu'!U20="FCERT",'full menu'!U20="FERT"),"ERTs",IF(OR('full menu'!U20="FCMT",'full menu'!U20="FMT",'full menu'!U20="LMT",'full menu'!U20="LCMT"),"MTs",IF(OR('full menu'!U20="LCIT",'full menu'!U20="FCIT",'full menu'!U20="LIT",'full menu'!U20="FIT"),"ITs",IF(OR('full menu'!U20="MwERT", 'full menu'!U20="ERwMT", 'full menu'!U20="M&ERT", 'full menu'!U20="MwIT", 'full menu'!U20="IwMT", 'full menu'!U20="M&IT", 'full menu'!U20="IwERT", 'full menu'!U20="ERwIT", 'full menu'!U20="I&ERT", 'full menu'!U20="ER&M&IT"),"MixedTs",IF('full menu'!U20="UD","UD",IF('full menu'!U20="LSD","LSD",IF('full menu'!U20="WSD","WSD",IF('full menu'!U20="X","X","")))))))))) -> X | V20: =IF('full menu'!V20="MDC","MDC",IF(OR('full menu'!V20="PERF",'full menu'!V20="AERF",'full menu'!V20="PCB"),"ERfix",IF(OR('full menu'!V20="ACB", 'full menu'!V20="LCERT", 'full menu'!V20="LERT",'full menu'!V20="FCERT",'full menu'!V20="FERT"),"ERTs",IF(OR('full menu'!V20="FCMT",'full menu'!V20="FMT",'full menu'!V20="LMT",'full menu'!V20="LCMT"),"MTs",IF(OR('full menu'!V20="LCIT",'full menu'!V20="FCIT",'full menu'!V20="LIT",'full menu'!V20="FIT"),"ITs",IF(OR('full menu'!V20="MwERT", 'full menu'!V20="ERwMT", 'full menu'!V20="M&ERT", 'full menu'!V20="MwIT", 'full menu'!V20="IwMT", 'full menu'!V20="M&IT", 'full menu'!V20="IwERT", 'full menu'!V20="ERwIT", 'full menu'!V20="I&ERT", 'full menu'!V20="ER&M&IT"),"MixedTs",IF('full menu'!V20="UD","UD",IF('full menu'!V20="LSD","LSD",IF('full menu'!V20="WSD","WSD",IF('full menu'!V20="X","X","")))))))))) -> X | W20: =IF('full menu'!W20="MDC","MDC",IF(OR('full menu'!W20="PERF",'full menu'!W20="AERF",'full menu'!W20="PCB"),"ERfix",IF(OR('full menu'!W20="ACB", 'full menu'!W20="LCERT", 'full menu'!W20="LERT",'full menu'!W20="FCERT",'full menu'!W20="FERT"),"ERTs",IF(OR('full menu'!W20="FCMT",'full menu'!W20="FMT",'full menu'!W20="LMT",'full menu'!W20="LCMT"),"MTs",IF(OR('full menu'!W20="LCIT",'full menu'!W20="FCIT",'full menu'!W20="LIT",'full menu'!W20="FIT"),"ITs",IF(OR('full menu'!W20="MwERT", 'full menu'!W20="ERwMT", 'full menu'!W20="M&ERT", 'full menu'!W20="MwIT", 'full menu'!W20="IwMT", 'full menu'!W20="M&IT", 'full menu'!W20="IwERT", 'full menu'!W20="ERwIT", 'full menu'!W20="I&ERT", 'full menu'!W20="ER&M&IT"),"MixedTs",IF('full menu'!W20="UD","UD",IF('full menu'!W20="LSD","LSD",IF('full menu'!W20="WSD","WSD",IF('full menu'!W20="X","X","")))))))))) -> X | X20: =IF('full menu'!X20="MDC","MDC",IF(OR('full menu'!X20="PERF",'full menu'!X20="AERF",'full menu'!X20="PCB"),"ERfix",IF(OR('full menu'!X20="ACB", 'full menu'!X20="LCERT", 'full menu'!X20="LERT",'full menu'!X20="FCERT",'full menu'!X20="FERT"),"ERTs",IF(OR('full menu'!X20="FCMT",'full menu'!X20="FMT",'full menu'!X20="LMT",'full menu'!X20="LCMT"),"MTs",IF(OR('full menu'!X20="LCIT",'full menu'!X20="FCIT",'full menu'!X20="LIT",'full menu'!X20="FIT"),"ITs",IF(OR('full menu'!X20="MwERT", 'full menu'!X20="ERwMT", 'full menu'!X20="M&ERT", 'full menu'!X20="MwIT", 'full menu'!X20="IwMT", 'full menu'!X20="M&IT", 'full menu'!X20="IwERT", 'full menu'!X20="ERwIT", 'full menu'!X20="I&ERT", 'full menu'!X20="ER&M&IT"),"MixedTs",IF('full menu'!X20="UD","UD",IF('full menu'!X20="LSD","LSD",IF('full menu'!X20="WSD","WSD",IF('full menu'!X20="X","X","")))))))))) -> X | Y20: =IF('full menu'!Y20="MDC","MDC",IF(OR('full menu'!Y20="PERF",'full menu'!Y20="AERF",'full menu'!Y20="PCB"),"ERfix",IF(OR('full menu'!Y20="ACB", 'full menu'!Y20="LCERT", 'full menu'!Y20="LERT",'full menu'!Y20="FCERT",'full menu'!Y20="FERT"),"ERTs",IF(OR('full menu'!Y20="FCMT",'full menu'!Y20="FMT",'full menu'!Y20="LMT",'full menu'!Y20="LCMT"),"MTs",IF(OR('full menu'!Y20="LCIT",'full menu'!Y20="FCIT",'full menu'!Y20="LIT",'full menu'!Y20="FIT"),"ITs",IF(OR('full menu'!Y20="MwERT", 'full menu'!Y20="ERwMT", 'full menu'!Y20="M&ERT", 'full menu'!Y20="MwIT", 'full menu'!Y20="IwMT", 'full menu'!Y20="M&IT", 'full menu'!Y20="IwERT", 'full menu'!Y20="ERwIT", 'full menu'!Y20="I&ERT", 'full menu'!Y20="ER&M&IT"),"MixedTs",IF('full menu'!Y20="UD","UD",IF('full menu'!Y20="LSD","LSD",IF('full menu'!Y20="WSD","WSD",IF('full menu'!Y20="X","X","")))))))))) -> X | ... AY20: =IF('full menu'!AY20="MDC","MDC",IF(OR('full menu'!AY20="PERF",'full menu'!AY20="AERF",'full menu'!AY20="PCB"),"ERfix",IF(OR('full menu'!AY20="ACB", 'full menu'!AY20="LCERT", 'full menu'!AY20="LERT",'full menu'!AY20="FCERT",'full menu'!AY20="FERT"),"ERTs",IF(OR('full menu'!AY20="FCMT",'full menu'!AY20="FMT",'full menu'!AY20="LMT",'full menu'!AY20="LCMT"),"MTs",IF(OR('full menu'!AY20="LCIT",'full menu'!AY20="FCIT",'full menu'!AY20="LIT",'full menu'!AY20="FIT"),"ITs",IF(OR('full menu'!AY20="MwERT", 'full menu'!AY20="ERwMT", 'full menu'!AY20="M&ERT", 'full menu'!AY20="MwIT", 'full menu'!AY20="IwMT", 'full menu'!AY20="M&IT", 'full menu'!AY20="IwERT", 'full menu'!AY20="ERwIT", 'full menu'!AY20="I&ERT", 'full menu'!AY20="ER&M&IT"),"MixedTs",IF('full menu'!AY20="UD","UD",IF('full menu'!AY20="LSD","LSD",IF('full menu'!AY20="WSD","WSD",IF('full menu'!AY20="X","X","")))))))))) -> X
A21: Yemen, People's Democratic Republic (south) | B21: =IF('full menu'!B21="MDC","MDC",IF(OR('full menu'!B21="PERF",'full menu'!B21="AERF",'full menu'!B21="PCB"),"ERfix",IF(OR('full menu'!B21="ACB", 'full menu'!B21="LCERT", 'full menu'!B21="LERT",'full menu'!B21="FCERT",'full menu'!B21="FERT"),"ERTs",IF(OR('full menu'!B21="FCMT",'full menu'!B21="FMT",'full menu'!B21="LMT",'full menu'!B21="LCMT"),"MTs",IF(OR('full menu'!B21="LCIT",'full menu'!B21="FCIT",'full menu'!B21="LIT",'full menu'!B21="FIT"),"ITs",IF(OR('full menu'!B21="MwERT", 'full menu'!B21="ERwMT", 'full menu'!B21="M&ERT", 'full menu'!B21="MwIT", 'full menu'!B21="IwMT", 'full menu'!B21="M&IT", 'full menu'!B21="IwERT", 'full menu'!B21="ERwIT", 'full menu'!B21="I&ERT", 'full menu'!B21="ER&M&IT"),"MixedTs",IF('full menu'!B21="UD","UD",IF('full menu'!B21="LSD","LSD",IF('full menu'!B21="WSD","WSD",""))))))))) -> ERfix | C21: =IF('full menu'!C21="MDC","MDC",IF(OR('full menu'!C21="PERF",'full menu'!C21="AERF",'full menu'!C21="PCB"),"ERfix",IF(OR('full menu'!C21="ACB", 'full menu'!C21="LCERT", 'full menu'!C21="LERT",'full menu'!C21="FCERT",'full menu'!C21="FERT"),"ERTs",IF(OR('full menu'!C21="FCMT",'full menu'!C21="FMT",'full menu'!C21="LMT",'full menu'!C21="LCMT"),"MTs",IF(OR('full menu'!C21="LCIT",'full menu'!C21="FCIT",'full menu'!C21="LIT",'full menu'!C21="FIT"),"ITs",IF(OR('full menu'!C21="MwERT", 'full menu'!C21="ERwMT", 'full menu'!C21="M&ERT", 'full menu'!C21="MwIT", 'full menu'!C21="IwMT", 'full menu'!C21="M&IT", 'full menu'!C21="IwERT", 'full menu'!C21="ERwIT", 'full menu'!C21="I&ERT", 'full menu'!C21="ER&M&IT"),"MixedTs",IF('full menu'!C21="UD","UD",IF('full menu'!C21="LSD","LSD",IF('full menu'!C21="WSD","WSD",""))))))))) -> ERfix | D21: =IF('full menu'!D21="MDC","MDC",IF(OR('full menu'!D21="PERF",'full menu'!D21="AERF",'full menu'!D21="PCB"),"ERfix",IF(OR('full menu'!D21="ACB", 'full menu'!D21="LCERT", 'full menu'!D21="LERT",'full menu'!D21="FCERT",'full menu'!D21="FERT"),"ERTs",IF(OR('full menu'!D21="FCMT",'full menu'!D21="FMT",'full menu'!D21="LMT",'full menu'!D21="LCMT"),"MTs",IF(OR('full menu'!D21="LCIT",'full menu'!D21="FCIT",'full menu'!D21="LIT",'full menu'!D21="FIT"),"ITs",IF(OR('full menu'!D21="MwERT", 'full menu'!D21="ERwMT", 'full menu'!D21="M&ERT", 'full menu'!D21="MwIT", 'full menu'!D21="IwMT", 'full menu'!D21="M&IT", 'full menu'!D21="IwERT", 'full menu'!D21="ERwIT", 'full menu'!D21="I&ERT", 'full menu'!D21="ER&M&IT"),"MixedTs",IF('full menu'!D21="UD","UD",IF('full menu'!D21="LSD","LSD",IF('full menu'!D21="WSD","WSD",""))))))))) -> ERfix | E21: =IF('full menu'!E21="MDC","MDC",IF(OR('full menu'!E21="PERF",'full menu'!E21="AERF",'full menu'!E21="PCB"),"ERfix",IF(OR('full menu'!E21="ACB", 'full menu'!E21="LCERT", 'full menu'!E21="LERT",'full menu'!E21="FCERT",'full menu'!E21="FERT"),"ERTs",IF(OR('full menu'!E21="FCMT",'full menu'!E21="FMT",'full menu'!E21="LMT",'full menu'!E21="LCMT"),"MTs",IF(OR('full menu'!E21="LCIT",'full menu'!E21="FCIT",'full menu'!E21="LIT",'full menu'!E21="FIT"),"ITs",IF(OR('full menu'!E21="MwERT", 'full menu'!E21="ERwMT", 'full menu'!E21="M&ERT", 'full menu'!E21="MwIT", 'full menu'!E21="IwMT", 'full menu'!E21="M&IT", 'full menu'!E21="IwERT", 'full menu'!E21="ERwIT", 'full menu'!E21="I&ERT", 'full menu'!E21="ER&M&IT"),"MixedTs",IF('full menu'!E21="UD","UD",IF('full menu'!E21="LSD","LSD",IF('full menu'!E21="WSD","WSD",""))))))))) -> ERfix | F21: =IF('full menu'!F21="MDC","MDC",IF(OR('full menu'!F21="PERF",'full menu'!F21="AERF",'full menu'!F21="PCB"),"ERfix",IF(OR('full menu'!F21="ACB", 'full menu'!F21="LCERT", 'full menu'!F21="LERT",'full menu'!F21="FCERT",'full menu'!F21="FERT"),"ERTs",IF(OR('full menu'!F21="FCMT",'full menu'!F21="FMT",'full menu'!F21="LMT",'full menu'!F21="LCMT"),"MTs",IF(OR('full menu'!F21="LCIT",'full menu'!F21="FCIT",'full menu'!F21="LIT",'full menu'!F21="FIT"),"ITs",IF(OR('full menu'!F21="MwERT", 'full menu'!F21="ERwMT", 'full menu'!F21="M&ERT", 'full menu'!F21="MwIT", 'full menu'!F21="IwMT", 'full menu'!F21="M&IT", 'full menu'!F21="IwERT", 'full menu'!F21="ERwIT", 'full menu'!F21="I&ERT", 'full menu'!F21="ER&M&IT"),"MixedTs",IF('full menu'!F21="UD","UD",IF('full menu'!F21="LSD","LSD",IF('full menu'!F21="WSD","WSD",""))))))))) -> ERfix | G21: =IF('full menu'!G21="MDC","MDC",IF(OR('full menu'!G21="PERF",'full menu'!G21="AERF",'full menu'!G21="PCB"),"ERfix",IF(OR('full menu'!G21="ACB", 'full menu'!G21="LCERT", 'full menu'!G21="LERT",'full menu'!G21="FCERT",'full menu'!G21="FERT"),"ERTs",IF(OR('full menu'!G21="FCMT",'full menu'!G21="FMT",'full menu'!G21="LMT",'full menu'!G21="LCMT"),"MTs",IF(OR('full menu'!G21="LCIT",'full menu'!G21="FCIT",'full menu'!G21="LIT",'full menu'!G21="FIT"),"ITs",IF(OR('full menu'!G21="MwERT", 'full menu'!G21="ERwMT", 'full menu'!G21="M&ERT", 'full menu'!G21="MwIT", 'full menu'!G21="IwMT", 'full menu'!G21="M&IT", 'full menu'!G21="IwERT", 'full menu'!G21="ERwIT", 'full menu'!G21="I&ERT", 'full menu'!G21="ER&M&IT"),"MixedTs",IF('full menu'!G21="UD","UD",IF('full menu'!G21="LSD","LSD",IF('full menu'!G21="WSD","WSD",""))))))))) -> ERfix | H21: =IF('full menu'!H21="MDC","MDC",IF(OR('full menu'!H21="PERF",'full menu'!H21="AERF",'full menu'!H21="PCB"),"ERfix",IF(OR('full menu'!H21="ACB", 'full menu'!H21="LCERT", 'full menu'!H21="LERT",'full menu'!H21="FCERT",'full menu'!H21="FERT"),"ERTs",IF(OR('full menu'!H21="FCMT",'full menu'!H21="FMT",'full menu'!H21="LMT",'full menu'!H21="LCMT"),"MTs",IF(OR('full menu'!H21="LCIT",'full menu'!H21="FCIT",'full menu'!H21="LIT",'full menu'!H21="FIT"),"ITs",IF(OR('full menu'!H21="MwERT", 'full menu'!H21="ERwMT", 'full menu'!H21="M&ERT", 'full menu'!H21="MwIT", 'full menu'!H21="IwMT", 'full menu'!H21="M&IT", 'full menu'!H21="IwERT", 'full menu'!H21="ERwIT", 'full menu'!H21="I&ERT", 'full menu'!H21="ER&M&IT"),"MixedTs",IF('full menu'!H21="UD","UD",IF('full menu'!H21="LSD","LSD",IF('full menu'!H21="WSD","WSD",""))))))))) -> ERfix | I21: =IF('full menu'!I21="MDC","MDC",IF(OR('full menu'!I21="PERF",'full menu'!I21="AERF",'full menu'!I21="PCB"),"ERfix",IF(OR('full menu'!I21="ACB", 'full menu'!I21="LCERT", 'full menu'!I21="LERT",'full menu'!I21="FCERT",'full menu'!I21="FERT"),"ERTs",IF(OR('full menu'!I21="FCMT",'full menu'!I21="FMT",'full menu'!I21="LMT",'full menu'!I21="LCMT"),"MTs",IF(OR('full menu'!I21="LCIT",'full menu'!I21="FCIT",'full menu'!I21="LIT",'full menu'!I21="FIT"),"ITs",IF(OR('full menu'!I21="MwERT", 'full menu'!I21="ERwMT", 'full menu'!I21="M&ERT", 'full menu'!I21="MwIT", 'full menu'!I21="IwMT", 'full menu'!I21="M&IT", 'full menu'!I21="IwERT", 'full menu'!I21="ERwIT", 'full menu'!I21="I&ERT", 'full menu'!I21="ER&M&IT"),"MixedTs",IF('full menu'!I21="UD","UD",IF('full menu'!I21="LSD","LSD",IF('full menu'!I21="WSD","WSD",""))))))))) -> ERfix | ... Q21: =IF('full menu'!Q21="MDC","MDC",IF(OR('full menu'!Q21="PERF",'full menu'!Q21="AERF",'full menu'!Q21="PCB"),"ERfix",IF(OR('full menu'!Q21="ACB", 'full menu'!Q21="LCERT", 'full menu'!Q21="LERT",'full menu'!Q21="FCERT",'full menu'!Q21="FERT"),"ERTs",IF(OR('full menu'!Q21="FCMT",'full menu'!Q21="FMT",'full menu'!Q21="LMT",'full menu'!Q21="LCMT"),"MTs",IF(OR('full menu'!Q21="LCIT",'full menu'!Q21="FCIT",'full menu'!Q21="LIT",'full menu'!Q21="FIT"),"ITs",IF(OR('full menu'!Q21="MwERT", 'full menu'!Q21="ERwMT", 'full menu'!Q21="M&ERT", 'full menu'!Q21="MwIT", 'full menu'!Q21="IwMT", 'full menu'!Q21="M&IT", 'full menu'!Q21="IwERT", 'full menu'!Q21="ERwIT", 'full menu'!Q21="I&ERT", 'full menu'!Q21="ER&M&IT"),"MixedTs",IF('full menu'!Q21="UD","UD",IF('full menu'!Q21="LSD","LSD",IF('full menu'!Q21="WSD","WSD",""))))))))) -> ERfix | R21: =IF('full menu'!R21="MDC","MDC",IF(OR('full menu'!R21="PERF",'full menu'!R21="AERF",'full menu'!R21="PCB"),"ERfix",IF(OR('full menu'!R21="ACB", 'full menu'!R21="LCERT", 'full menu'!R21="LERT",'full menu'!R21="FCERT",'full menu'!R21="FERT"),"ERTs",IF(OR('full menu'!R21="FCMT",'full menu'!R21="FMT",'full menu'!R21="LMT",'full menu'!R21="LCMT"),"MTs",IF(OR('full menu'!R21="LCIT",'full menu'!R21="FCIT",'full menu'!R21="LIT",'full menu'!R21="FIT"),"ITs",IF(OR('full menu'!R21="MwERT", 'full menu'!R21="ERwMT", 'full menu'!R21="M&ERT", 'full menu'!R21="MwIT", 'full menu'!R21="IwMT", 'full menu'!R21="M&IT", 'full menu'!R21="IwERT", 'full menu'!R21="ERwIT", 'full menu'!R21="I&ERT", 'full menu'!R21="ER&M&IT"),"MixedTs",IF('full menu'!R21="UD","UD",IF('full menu'!R21="LSD","LSD",IF('full menu'!R21="WSD","WSD",IF('full menu'!R21="X","X","")))))))))) -> X | S21: =IF('full menu'!S21="MDC","MDC",IF(OR('full menu'!S21="PERF",'full menu'!S21="AERF",'full menu'!S21="PCB"),"ERfix",IF(OR('full menu'!S21="ACB", 'full menu'!S21="LCERT", 'full menu'!S21="LERT",'full menu'!S21="FCERT",'full menu'!S21="FERT"),"ERTs",IF(OR('full menu'!S21="FCMT",'full menu'!S21="FMT",'full menu'!S21="LMT",'full menu'!S21="LCMT"),"MTs",IF(OR('full menu'!S21="LCIT",'full menu'!S21="FCIT",'full menu'!S21="LIT",'full menu'!S21="FIT"),"ITs",IF(OR('full menu'!S21="MwERT", 'full menu'!S21="ERwMT", 'full menu'!S21="M&ERT", 'full menu'!S21="MwIT", 'full menu'!S21="IwMT", 'full menu'!S21="M&IT", 'full menu'!S21="IwERT", 'full menu'!S21="ERwIT", 'full menu'!S21="I&ERT", 'full menu'!S21="ER&M&IT"),"MixedTs",IF('full menu'!S21="UD","UD",IF('full menu'!S21="LSD","LSD",IF('full menu'!S21="WSD","WSD",IF('full menu'!S21="X","X","")))))))))) -> X | T21: =IF('full menu'!T21="MDC","MDC",IF(OR('full menu'!T21="PERF",'full menu'!T21="AERF",'full menu'!T21="PCB"),"ERfix",IF(OR('full menu'!T21="ACB", 'full menu'!T21="LCERT", 'full menu'!T21="LERT",'full menu'!T21="FCERT",'full menu'!T21="FERT"),"ERTs",IF(OR('full menu'!T21="FCMT",'full menu'!T21="FMT",'full menu'!T21="LMT",'full menu'!T21="LCMT"),"MTs",IF(OR('full menu'!T21="LCIT",'full menu'!T21="FCIT",'full menu'!T21="LIT",'full menu'!T21="FIT"),"ITs",IF(OR('full menu'!T21="MwERT", 'full menu'!T21="ERwMT", 'full menu'!T21="M&ERT", 'full menu'!T21="MwIT", 'full menu'!T21="IwMT", 'full menu'!T21="M&IT", 'full menu'!T21="IwERT", 'full menu'!T21="ERwIT", 'full menu'!T21="I&ERT", 'full menu'!T21="ER&M&IT"),"MixedTs",IF('full menu'!T21="UD","UD",IF('full menu'!T21="LSD","LSD",IF('full menu'!T21="WSD","WSD",IF('full menu'!T21="X","X","")))))))))) -> X | U21: =IF('full menu'!U21="MDC","MDC",IF(OR('full menu'!U21="PERF",'full menu'!U21="AERF",'full menu'!U21="PCB"),"ERfix",IF(OR('full menu'!U21="ACB", 'full menu'!U21="LCERT", 'full menu'!U21="LERT",'full menu'!U21="FCERT",'full menu'!U21="FERT"),"ERTs",IF(OR('full menu'!U21="FCMT",'full menu'!U21="FMT",'full menu'!U21="LMT",'full menu'!U21="LCMT"),"MTs",IF(OR('full menu'!U21="LCIT",'full menu'!U21="FCIT",'full menu'!U21="LIT",'full menu'!U21="FIT"),"ITs",IF(OR('full menu'!U21="MwERT", 'full menu'!U21="ERwMT", 'full menu'!U21="M&ERT", 'full menu'!U21="MwIT", 'full menu'!U21="IwMT", 'full menu'!U21="M&IT", 'full menu'!U21="IwERT", 'full menu'!U21="ERwIT", 'full menu'!U21="I&ERT", 'full menu'!U21="ER&M&IT"),"MixedTs",IF('full menu'!U21="UD","UD",IF('full menu'!U21="LSD","LSD",IF('full menu'!U21="WSD","WSD",IF('full menu'!U21="X","X","")))))))))) -> X | V21: =IF('full menu'!V21="MDC","MDC",IF(OR('full menu'!V21="PERF",'full menu'!V21="AERF",'full menu'!V21="PCB"),"ERfix",IF(OR('full menu'!V21="ACB", 'full menu'!V21="LCERT", 'full menu'!V21="LERT",'full menu'!V21="FCERT",'full menu'!V21="FERT"),"ERTs",IF(OR('full menu'!V21="FCMT",'full menu'!V21="FMT",'full menu'!V21="LMT",'full menu'!V21="LCMT"),"MTs",IF(OR('full menu'!V21="LCIT",'full menu'!V21="FCIT",'full menu'!V21="LIT",'full menu'!V21="FIT"),"ITs",IF(OR('full menu'!V21="MwERT", 'full menu'!V21="ERwMT", 'full menu'!V21="M&ERT", 'full menu'!V21="MwIT", 'full menu'!V21="IwMT", 'full menu'!V21="M&IT", 'full menu'!V21="IwERT", 'full menu'!V21="ERwIT", 'full menu'!V21="I&ERT", 'full menu'!V21="ER&M&IT"),"MixedTs",IF('full menu'!V21="UD","UD",IF('full menu'!V21="LSD","LSD",IF('full menu'!V21="WSD","WSD",IF('full menu'!V21="X","X","")))))))))) -> X | W21: =IF('full menu'!W21="MDC","MDC",IF(OR('full menu'!W21="PERF",'full menu'!W21="AERF",'full menu'!W21="PCB"),"ERfix",IF(OR('full menu'!W21="ACB", 'full menu'!W21="LCERT", 'full menu'!W21="LERT",'full menu'!W21="FCERT",'full menu'!W21="FERT"),"ERTs",IF(OR('full menu'!W21="FCMT",'full menu'!W21="FMT",'full menu'!W21="LMT",'full menu'!W21="LCMT"),"MTs",IF(OR('full menu'!W21="LCIT",'full menu'!W21="FCIT",'full menu'!W21="LIT",'full menu'!W21="FIT"),"ITs",IF(OR('full menu'!W21="MwERT", 'full menu'!W21="ERwMT", 'full menu'!W21="M&ERT", 'full menu'!W21="MwIT", 'full menu'!W21="IwMT", 'full menu'!W21="M&IT", 'full menu'!W21="IwERT", 'full menu'!W21="ERwIT", 'full menu'!W21="I&ERT", 'full menu'!W21="ER&M&IT"),"MixedTs",IF('full menu'!W21="UD","UD",IF('full menu'!W21="LSD","LSD",IF('full menu'!W21="WSD","WSD",IF('full menu'!W21="X","X","")))))))))) -> X | X21: =IF('full menu'!X21="MDC","MDC",IF(OR('full menu'!X21="PERF",'full menu'!X21="AERF",'full menu'!X21="PCB"),"ERfix",IF(OR('full menu'!X21="ACB", 'full menu'!X21="LCERT", 'full menu'!X21="LERT",'full menu'!X21="FCERT",'full menu'!X21="FERT"),"ERTs",IF(OR('full menu'!X21="FCMT",'full menu'!X21="FMT",'full menu'!X21="LMT",'full menu'!X21="LCMT"),"MTs",IF(OR('full menu'!X21="LCIT",'full menu'!X21="FCIT",'full menu'!X21="LIT",'full menu'!X21="FIT"),"ITs",IF(OR('full menu'!X21="MwERT", 'full menu'!X21="ERwMT", 'full menu'!X21="M&ERT", 'full menu'!X21="MwIT", 'full menu'!X21="IwMT", 'full menu'!X21="M&IT", 'full menu'!X21="IwERT", 'full menu'!X21="ERwIT", 'full menu'!X21="I&ERT", 'full menu'!X21="ER&M&IT"),"MixedTs",IF('full menu'!X21="UD","UD",IF('full menu'!X21="LSD","LSD",IF('full menu'!X21="WSD","WSD",IF('full menu'!X21="X","X","")))))))))) -> X | Y21: =IF('full menu'!Y21="MDC","MDC",IF(OR('full menu'!Y21="PERF",'full menu'!Y21="AERF",'full menu'!Y21="PCB"),"ERfix",IF(OR('full menu'!Y21="ACB", 'full menu'!Y21="LCERT", 'full menu'!Y21="LERT",'full menu'!Y21="FCERT",'full menu'!Y21="FERT"),"ERTs",IF(OR('full menu'!Y21="FCMT",'full menu'!Y21="FMT",'full menu'!Y21="LMT",'full menu'!Y21="LCMT"),"MTs",IF(OR('full menu'!Y21="LCIT",'full menu'!Y21="FCIT",'full menu'!Y21="LIT",'full menu'!Y21="FIT"),"ITs",IF(OR('full menu'!Y21="MwERT", 'full menu'!Y21="ERwMT", 'full menu'!Y21="M&ERT", 'full menu'!Y21="MwIT", 'full menu'!Y21="IwMT", 'full menu'!Y21="M&IT", 'full menu'!Y21="IwERT", 'full menu'!Y21="ERwIT", 'full menu'!Y21="I&ERT", 'full menu'!Y21="ER&M&IT"),"MixedTs",IF('full menu'!Y21="UD","UD",IF('full menu'!Y21="LSD","LSD",IF('full menu'!Y21="WSD","WSD",IF('full menu'!Y21="X","X","")))))))))) -> X | ... AY21: =IF('full menu'!AY21="MDC","MDC",IF(OR('full menu'!AY21="PERF",'full menu'!AY21="AERF",'full menu'!AY21="PCB"),"ERfix",IF(OR('full menu'!AY21="ACB", 'full menu'!AY21="LCERT", 'full menu'!AY21="LERT",'full menu'!AY21="FCERT",'full menu'!AY21="FERT"),"ERTs",IF(OR('full menu'!AY21="FCMT",'full menu'!AY21="FMT",'full menu'!AY21="LMT",'full menu'!AY21="LCMT"),"MTs",IF(OR('full menu'!AY21="LCIT",'full menu'!AY21="FCIT",'full menu'!AY21="LIT",'full menu'!AY21="FIT"),"ITs",IF(OR('full menu'!AY21="MwERT", 'full menu'!AY21="ERwMT", 'full menu'!AY21="M&ERT", 'full menu'!AY21="MwIT", 'full menu'!AY21="IwMT", 'full menu'!AY21="M&IT", 'full menu'!AY21="IwERT", 'full menu'!AY21="ERwIT", 'full menu'!AY21="I&ERT", 'full menu'!AY21="ER&M&IT"),"MixedTs",IF('full menu'!AY21="UD","UD",IF('full menu'!AY21="LSD","LSD",IF('full menu'!AY21="WSD","WSD",IF('full menu'!AY21="X","X","")))))))))) -> X
A22: Yemen, Republic of | B22: =IF('full menu'!B22="MDC","MDC",IF(OR('full menu'!B22="PERF",'full menu'!B22="AERF",'full menu'!B22="PCB"),"ERfix",IF(OR('full menu'!B22="ACB", 'full menu'!B22="LCERT", 'full menu'!B22="LERT",'full menu'!B22="FCERT",'full menu'!B22="FERT"),"ERTs",IF(OR('full menu'!B22="FCMT",'full menu'!B22="FMT",'full menu'!B22="LMT",'full menu'!B22="LCMT"),"MTs",IF(OR('full menu'!B22="LCIT",'full menu'!B22="FCIT",'full menu'!B22="LIT",'full menu'!B22="FIT"),"ITs",IF(OR('full menu'!B22="MwERT", 'full menu'!B22="ERwMT", 'full menu'!B22="M&ERT", 'full menu'!B22="MwIT", 'full menu'!B22="IwMT", 'full menu'!B22="M&IT", 'full menu'!B22="IwERT", 'full menu'!B22="ERwIT", 'full menu'!B22="I&ERT", 'full menu'!B22="ER&M&IT"),"MixedTs",IF('full menu'!B22="UD","UD",IF('full menu'!B22="LSD","LSD",IF('full menu'!B22="WSD","WSD",IF('full menu'!B22="X","X","")))))))))) -> X | C22: =IF('full menu'!C22="MDC","MDC",IF(OR('full menu'!C22="PERF",'full menu'!C22="AERF",'full menu'!C22="PCB"),"ERfix",IF(OR('full menu'!C22="ACB", 'full menu'!C22="LCERT", 'full menu'!C22="LERT",'full menu'!C22="FCERT",'full menu'!C22="FERT"),"ERTs",IF(OR('full menu'!C22="FCMT",'full menu'!C22="FMT",'full menu'!C22="LMT",'full menu'!C22="LCMT"),"MTs",IF(OR('full menu'!C22="LCIT",'full menu'!C22="FCIT",'full menu'!C22="LIT",'full menu'!C22="FIT"),"ITs",IF(OR('full menu'!C22="MwERT", 'full menu'!C22="ERwMT", 'full menu'!C22="M&ERT", 'full menu'!C22="MwIT", 'full menu'!C22="IwMT", 'full menu'!C22="M&IT", 'full menu'!C22="IwERT", 'full menu'!C22="ERwIT", 'full menu'!C22="I&ERT", 'full menu'!C22="ER&M&IT"),"MixedTs",IF('full menu'!C22="UD","UD",IF('full menu'!C22="LSD","LSD",IF('full menu'!C22="WSD","WSD",IF('full menu'!C22="X","X","")))))))))) -> X | D22: =IF('full menu'!D22="MDC","MDC",IF(OR('full menu'!D22="PERF",'full menu'!D22="AERF",'full menu'!D22="PCB"),"ERfix",IF(OR('full menu'!D22="ACB", 'full menu'!D22="LCERT", 'full menu'!D22="LERT",'full menu'!D22="FCERT",'full menu'!D22="FERT"),"ERTs",IF(OR('full menu'!D22="FCMT",'full menu'!D22="FMT",'full menu'!D22="LMT",'full menu'!D22="LCMT"),"MTs",IF(OR('full menu'!D22="LCIT",'full menu'!D22="FCIT",'full menu'!D22="LIT",'full menu'!D22="FIT"),"ITs",IF(OR('full menu'!D22="MwERT", 'full menu'!D22="ERwMT", 'full menu'!D22="M&ERT", 'full menu'!D22="MwIT", 'full menu'!D22="IwMT", 'full menu'!D22="M&IT", 'full menu'!D22="IwERT", 'full menu'!D22="ERwIT", 'full menu'!D22="I&ERT", 'full menu'!D22="ER&M&IT"),"MixedTs",IF('full menu'!D22="UD","UD",IF('full menu'!D22="LSD","LSD",IF('full menu'!D22="WSD","WSD",IF('full menu'!D22="X","X","")))))))))) -> X | E22: =IF('full menu'!E22="MDC","MDC",IF(OR('full menu'!E22="PERF",'full menu'!E22="AERF",'full menu'!E22="PCB"),"ERfix",IF(OR('full menu'!E22="ACB", 'full menu'!E22="LCERT", 'full menu'!E22="LERT",'full menu'!E22="FCERT",'full menu'!E22="FERT"),"ERTs",IF(OR('full menu'!E22="FCMT",'full menu'!E22="FMT",'full menu'!E22="LMT",'full menu'!E22="LCMT"),"MTs",IF(OR('full menu'!E22="LCIT",'full menu'!E22="FCIT",'full menu'!E22="LIT",'full menu'!E22="FIT"),"ITs",IF(OR('full menu'!E22="MwERT", 'full menu'!E22="ERwMT", 'full menu'!E22="M&ERT", 'full menu'!E22="MwIT", 'full menu'!E22="IwMT", 'full menu'!E22="M&IT", 'full menu'!E22="IwERT", 'full menu'!E22="ERwIT", 'full menu'!E22="I&ERT", 'full menu'!E22="ER&M&IT"),"MixedTs",IF('full menu'!E22="UD","UD",IF('full menu'!E22="LSD","LSD",IF('full menu'!E22="WSD","WSD",IF('full menu'!E22="X","X","")))))))))) -> X | F22: =IF('full menu'!F22="MDC","MDC",IF(OR('full menu'!F22="PERF",'full menu'!F22="AERF",'full menu'!F22="PCB"),"ERfix",IF(OR('full menu'!F22="ACB", 'full menu'!F22="LCERT", 'full menu'!F22="LERT",'full menu'!F22="FCERT",'full menu'!F22="FERT"),"ERTs",IF(OR('full menu'!F22="FCMT",'full menu'!F22="FMT",'full menu'!F22="LMT",'full menu'!F22="LCMT"),"MTs",IF(OR('full menu'!F22="LCIT",'full menu'!F22="FCIT",'full menu'!F22="LIT",'full menu'!F22="FIT"),"ITs",IF(OR('full menu'!F22="MwERT", 'full menu'!F22="ERwMT", 'full menu'!F22="M&ERT", 'full menu'!F22="MwIT", 'full menu'!F22="IwMT", 'full menu'!F22="M&IT", 'full menu'!F22="IwERT", 'full menu'!F22="ERwIT", 'full menu'!F22="I&ERT", 'full menu'!F22="ER&M&IT"),"MixedTs",IF('full menu'!F22="UD","UD",IF('full menu'!F22="LSD","LSD",IF('full menu'!F22="WSD","WSD",IF('full menu'!F22="X","X","")))))))))) -> X | G22: =IF('full menu'!G22="MDC","MDC",IF(OR('full menu'!G22="PERF",'full menu'!G22="AERF",'full menu'!G22="PCB"),"ERfix",IF(OR('full menu'!G22="ACB", 'full menu'!G22="LCERT", 'full menu'!G22="LERT",'full menu'!G22="FCERT",'full menu'!G22="FERT"),"ERTs",IF(OR('full menu'!G22="FCMT",'full menu'!G22="FMT",'full menu'!G22="LMT",'full menu'!G22="LCMT"),"MTs",IF(OR('full menu'!G22="LCIT",'full menu'!G22="FCIT",'full menu'!G22="LIT",'full menu'!G22="FIT"),"ITs",IF(OR('full menu'!G22="MwERT", 'full menu'!G22="ERwMT", 'full menu'!G22="M&ERT", 'full menu'!G22="MwIT", 'full menu'!G22="IwMT", 'full menu'!G22="M&IT", 'full menu'!G22="IwERT", 'full menu'!G22="ERwIT", 'full menu'!G22="I&ERT", 'full menu'!G22="ER&M&IT"),"MixedTs",IF('full menu'!G22="UD","UD",IF('full menu'!G22="LSD","LSD",IF('full menu'!G22="WSD","WSD",IF('full menu'!G22="X","X","")))))))))) -> X | H22: =IF('full menu'!H22="MDC","MDC",IF(OR('full menu'!H22="PERF",'full menu'!H22="AERF",'full menu'!H22="PCB"),"ERfix",IF(OR('full menu'!H22="ACB", 'full menu'!H22="LCERT", 'full menu'!H22="LERT",'full menu'!H22="FCERT",'full menu'!H22="FERT"),"ERTs",IF(OR('full menu'!H22="FCMT",'full menu'!H22="FMT",'full menu'!H22="LMT",'full menu'!H22="LCMT"),"MTs",IF(OR('full menu'!H22="LCIT",'full menu'!H22="FCIT",'full menu'!H22="LIT",'full menu'!H22="FIT"),"ITs",IF(OR('full menu'!H22="MwERT", 'full menu'!H22="ERwMT", 'full menu'!H22="M&ERT", 'full menu'!H22="MwIT", 'full menu'!H22="IwMT", 'full menu'!H22="M&IT", 'full menu'!H22="IwERT", 'full menu'!H22="ERwIT", 'full menu'!H22="I&ERT", 'full menu'!H22="ER&M&IT"),"MixedTs",IF('full menu'!H22="UD","UD",IF('full menu'!H22="LSD","LSD",IF('full menu'!H22="WSD","WSD",IF('full menu'!H22="X","X","")))))))))) -> X | I22: =IF('full menu'!I22="MDC","MDC",IF(OR('full menu'!I22="PERF",'full menu'!I22="AERF",'full menu'!I22="PCB"),"ERfix",IF(OR('full menu'!I22="ACB", 'full menu'!I22="LCERT", 'full menu'!I22="LERT",'full menu'!I22="FCERT",'full menu'!I22="FERT"),"ERTs",IF(OR('full menu'!I22="FCMT",'full menu'!I22="FMT",'full menu'!I22="LMT",'full menu'!I22="LCMT"),"MTs",IF(OR('full menu'!I22="LCIT",'full menu'!I22="FCIT",'full menu'!I22="LIT",'full menu'!I22="FIT"),"ITs",IF(OR('full menu'!I22="MwERT", 'full menu'!I22="ERwMT", 'full menu'!I22="M&ERT", 'full menu'!I22="MwIT", 'full menu'!I22="IwMT", 'full menu'!I22="M&IT", 'full menu'!I22="IwERT", 'full menu'!I22="ERwIT", 'full menu'!I22="I&ERT", 'full menu'!I22="ER&M&IT"),"MixedTs",IF('full menu'!I22="UD","UD",IF('full menu'!I22="LSD","LSD",IF('full menu'!I22="WSD","WSD",IF('full menu'!I22="X","X","")))))))))) -> X | ... Q22: =IF('full menu'!Q22="MDC","MDC",IF(OR('full menu'!Q22="PERF",'full menu'!Q22="AERF",'full menu'!Q22="PCB"),"ERfix",IF(OR('full menu'!Q22="ACB", 'full menu'!Q22="LCERT", 'full menu'!Q22="LERT",'full menu'!Q22="FCERT",'full menu'!Q22="FERT"),"ERTs",IF(OR('full menu'!Q22="FCMT",'full menu'!Q22="FMT",'full menu'!Q22="LMT",'full menu'!Q22="LCMT"),"MTs",IF(OR('full menu'!Q22="LCIT",'full menu'!Q22="FCIT",'full menu'!Q22="LIT",'full menu'!Q22="FIT"),"ITs",IF(OR('full menu'!Q22="MwERT", 'full menu'!Q22="ERwMT", 'full menu'!Q22="M&ERT", 'full menu'!Q22="MwIT", 'full menu'!Q22="IwMT", 'full menu'!Q22="M&IT", 'full menu'!Q22="IwERT", 'full menu'!Q22="ERwIT", 'full menu'!Q22="I&ERT", 'full menu'!Q22="ER&M&IT"),"MixedTs",IF('full menu'!Q22="UD","UD",IF('full menu'!Q22="LSD","LSD",IF('full menu'!Q22="WSD","WSD",IF('full menu'!Q22="X","X","")))))))))) -> X | R22: =IF('full menu'!R22="MDC","MDC",IF(OR('full menu'!R22="PERF",'full menu'!R22="AERF",'full menu'!R22="PCB"),"ERfix",IF(OR('full menu'!R22="ACB", 'full menu'!R22="LCERT", 'full menu'!R22="LERT",'full menu'!R22="FCERT",'full menu'!R22="FERT"),"ERTs",IF(OR('full menu'!R22="FCMT",'full menu'!R22="FMT",'full menu'!R22="LMT",'full menu'!R22="LCMT"),"MTs",IF(OR('full menu'!R22="LCIT",'full menu'!R22="FCIT",'full menu'!R22="LIT",'full menu'!R22="FIT"),"ITs",IF(OR('full menu'!R22="MwERT", 'full menu'!R22="ERwMT", 'full menu'!R22="M&ERT", 'full menu'!R22="MwIT", 'full menu'!R22="IwMT", 'full menu'!R22="M&IT", 'full menu'!R22="IwERT", 'full menu'!R22="ERwIT", 'full menu'!R22="I&ERT", 'full menu'!R22="ER&M&IT"),"MixedTs",IF('full menu'!R22="UD","UD",IF('full menu'!R22="LSD","LSD",IF('full menu'!R22="WSD","WSD",""))))))))) -> UD | S22: =IF('full menu'!S22="MDC","MDC",IF(OR('full menu'!S22="PERF",'full menu'!S22="AERF",'full menu'!S22="PCB"),"ERfix",IF(OR('full menu'!S22="ACB", 'full menu'!S22="LCERT", 'full menu'!S22="LERT",'full menu'!S22="FCERT",'full menu'!S22="FERT"),"ERTs",IF(OR('full menu'!S22="FCMT",'full menu'!S22="FMT",'full menu'!S22="LMT",'full menu'!S22="LCMT"),"MTs",IF(OR('full menu'!S22="LCIT",'full menu'!S22="FCIT",'full menu'!S22="LIT",'full menu'!S22="FIT"),"ITs",IF(OR('full menu'!S22="MwERT", 'full menu'!S22="ERwMT", 'full menu'!S22="M&ERT", 'full menu'!S22="MwIT", 'full menu'!S22="IwMT", 'full menu'!S22="M&IT", 'full menu'!S22="IwERT", 'full menu'!S22="ERwIT", 'full menu'!S22="I&ERT", 'full menu'!S22="ER&M&IT"),"MixedTs",IF('full menu'!S22="UD","UD",IF('full menu'!S22="LSD","LSD",IF('full menu'!S22="WSD","WSD",""))))))))) -> UD | T22: =IF('full menu'!T22="MDC","MDC",IF(OR('full menu'!T22="PERF",'full menu'!T22="AERF",'full menu'!T22="PCB"),"ERfix",IF(OR('full menu'!T22="ACB", 'full menu'!T22="LCERT", 'full menu'!T22="LERT",'full menu'!T22="FCERT",'full menu'!T22="FERT"),"ERTs",IF(OR('full menu'!T22="FCMT",'full menu'!T22="FMT",'full menu'!T22="LMT",'full menu'!T22="LCMT"),"MTs",IF(OR('full menu'!T22="LCIT",'full menu'!T22="FCIT",'full menu'!T22="LIT",'full menu'!T22="FIT"),"ITs",IF(OR('full menu'!T22="MwERT", 'full menu'!T22="ERwMT", 'full menu'!T22="M&ERT", 'full menu'!T22="MwIT", 'full menu'!T22="IwMT", 'full menu'!T22="M&IT", 'full menu'!T22="IwERT", 'full menu'!T22="ERwIT", 'full menu'!T22="I&ERT", 'full menu'!T22="ER&M&IT"),"MixedTs",IF('full menu'!T22="UD","UD",IF('full menu'!T22="LSD","LSD",IF('full menu'!T22="WSD","WSD",""))))))))) -> UD | U22: =IF('full menu'!U22="MDC","MDC",IF(OR('full menu'!U22="PERF",'full menu'!U22="AERF",'full menu'!U22="PCB"),"ERfix",IF(OR('full menu'!U22="ACB", 'full menu'!U22="LCERT", 'full menu'!U22="LERT",'full menu'!U22="FCERT",'full menu'!U22="FERT"),"ERTs",IF(OR('full menu'!U22="FCMT",'full menu'!U22="FMT",'full menu'!U22="LMT",'full menu'!U22="LCMT"),"MTs",IF(OR('full menu'!U22="LCIT",'full menu'!U22="FCIT",'full menu'!U22="LIT",'full menu'!U22="FIT"),"ITs",IF(OR('full menu'!U22="MwERT", 'full menu'!U22="ERwMT", 'full menu'!U22="M&ERT", 'full menu'!U22="MwIT", 'full menu'!U22="IwMT", 'full menu'!U22="M&IT", 'full menu'!U22="IwERT", 'full menu'!U22="ERwIT", 'full menu'!U22="I&ERT", 'full menu'!U22="ER&M&IT"),"MixedTs",IF('full menu'!U22="UD","UD",IF('full menu'!U22="LSD","LSD",IF('full menu'!U22="WSD","WSD",""))))))))) -> UD | V22: =IF('full menu'!V22="MDC","MDC",IF(OR('full menu'!V22="PERF",'full menu'!V22="AERF",'full menu'!V22="PCB"),"ERfix",IF(OR('full menu'!V22="ACB", 'full menu'!V22="LCERT", 'full menu'!V22="LERT",'full menu'!V22="FCERT",'full menu'!V22="FERT"),"ERTs",IF(OR('full menu'!V22="FCMT",'full menu'!V22="FMT",'full menu'!V22="LMT",'full menu'!V22="LCMT"),"MTs",IF(OR('full menu'!V22="LCIT",'full menu'!V22="FCIT",'full menu'!V22="LIT",'full menu'!V22="FIT"),"ITs",IF(OR('full menu'!V22="MwERT", 'full menu'!V22="ERwMT", 'full menu'!V22="M&ERT", 'full menu'!V22="MwIT", 'full menu'!V22="IwMT", 'full menu'!V22="M&IT", 'full menu'!V22="IwERT", 'full menu'!V22="ERwIT", 'full menu'!V22="I&ERT", 'full menu'!V22="ER&M&IT"),"MixedTs",IF('full menu'!V22="UD","UD",IF('full menu'!V22="LSD","LSD",IF('full menu'!V22="WSD","WSD",""))))))))) -> UD | W22: =IF('full menu'!W22="MDC","MDC",IF(OR('full menu'!W22="PERF",'full menu'!W22="AERF",'full menu'!W22="PCB"),"ERfix",IF(OR('full menu'!W22="ACB", 'full menu'!W22="LCERT", 'full menu'!W22="LERT",'full menu'!W22="FCERT",'full menu'!W22="FERT"),"ERTs",IF(OR('full menu'!W22="FCMT",'full menu'!W22="FMT",'full menu'!W22="LMT",'full menu'!W22="LCMT"),"MTs",IF(OR('full menu'!W22="LCIT",'full menu'!W22="FCIT",'full menu'!W22="LIT",'full menu'!W22="FIT"),"ITs",IF(OR('full menu'!W22="MwERT", 'full menu'!W22="ERwMT", 'full menu'!W22="M&ERT", 'full menu'!W22="MwIT", 'full menu'!W22="IwMT", 'full menu'!W22="M&IT", 'full menu'!W22="IwERT", 'full menu'!W22="ERwIT", 'full menu'!W22="I&ERT", 'full menu'!W22="ER&M&IT"),"MixedTs",IF('full menu'!W22="UD","UD",IF('full menu'!W22="LSD","LSD",IF('full menu'!W22="WSD","WSD",""))))))))) -> LSD | X22: =IF('full menu'!X22="MDC","MDC",IF(OR('full menu'!X22="PERF",'full menu'!X22="AERF",'full menu'!X22="PCB"),"ERfix",IF(OR('full menu'!X22="ACB", 'full menu'!X22="LCERT", 'full menu'!X22="LERT",'full menu'!X22="FCERT",'full menu'!X22="FERT"),"ERTs",IF(OR('full menu'!X22="FCMT",'full menu'!X22="FMT",'full menu'!X22="LMT",'full menu'!X22="LCMT"),"MTs",IF(OR('full menu'!X22="LCIT",'full menu'!X22="FCIT",'full menu'!X22="LIT",'full menu'!X22="FIT"),"ITs",IF(OR('full menu'!X22="MwERT", 'full menu'!X22="ERwMT", 'full menu'!X22="M&ERT", 'full menu'!X22="MwIT", 'full menu'!X22="IwMT", 'full menu'!X22="M&IT", 'full menu'!X22="IwERT", 'full menu'!X22="ERwIT", 'full menu'!X22="I&ERT", 'full menu'!X22="ER&M&IT"),"MixedTs",IF('full menu'!X22="UD","UD",IF('full menu'!X22="LSD","LSD",IF('full menu'!X22="WSD","WSD",""))))))))) -> LSD | Y22: =IF('full menu'!Y22="MDC","MDC",IF(OR('full menu'!Y22="PERF",'full menu'!Y22="AERF",'full menu'!Y22="PCB"),"ERfix",IF(OR('full menu'!Y22="ACB", 'full menu'!Y22="LCERT", 'full menu'!Y22="LERT",'full menu'!Y22="FCERT",'full menu'!Y22="FERT"),"ERTs",IF(OR('full menu'!Y22="FCMT",'full menu'!Y22="FMT",'full menu'!Y22="LMT",'full menu'!Y22="LCMT"),"MTs",IF(OR('full menu'!Y22="LCIT",'full menu'!Y22="FCIT",'full menu'!Y22="LIT",'full menu'!Y22="FIT"),"ITs",IF(OR('full menu'!Y22="MwERT", 'full menu'!Y22="ERwMT", 'full menu'!Y22="M&ERT", 'full menu'!Y22="MwIT", 'full menu'!Y22="IwMT", 'full menu'!Y22="M&IT", 'full menu'!Y22="IwERT", 'full menu'!Y22="ERwIT", 'full menu'!Y22="I&ERT", 'full menu'!Y22="ER&M&IT"),"MixedTs",IF('full menu'!Y22="UD","UD",IF('full menu'!Y22="LSD","LSD",IF('full menu'!Y22="WSD","WSD",""))))))))) -> LSD | ... AY22: =IF('full menu'!AY22="MDC","MDC",IF(OR('full menu'!AY22="PERF",'full menu'!AY22="AERF",'full menu'!AY22="PCB"),"ERfix",IF(OR('full menu'!AY22="ACB", 'full menu'!AY22="LCERT", 'full menu'!AY22="LERT",'full menu'!AY22="FCERT",'full menu'!AY22="FERT"),"ERTs",IF(OR('full menu'!AY22="FCMT",'full menu'!AY22="FMT",'full menu'!AY22="LMT",'full menu'!AY22="LCMT"),"MTs",IF(OR('full menu'!AY22="LCIT",'full menu'!AY22="FCIT",'full menu'!AY22="LIT",'full menu'!AY22="FIT"),"ITs",IF(OR('full menu'!AY22="MwERT", 'full menu'!AY22="ERwMT", 'full menu'!AY22="M&ERT", 'full menu'!AY22="MwIT", 'full menu'!AY22="IwMT", 'full menu'!AY22="M&IT", 'full menu'!AY22="IwERT", 'full menu'!AY22="ERwIT", 'full menu'!AY22="I&ERT", 'full menu'!AY22="ER&M&IT"),"MixedTs",IF('full menu'!AY22="UD","UD",IF('full menu'!AY22="LSD","LSD",IF('full menu'!AY22="WSD","WSD",""))))))))) -> UD
B27: 1974 | C27: 1975 | D27: 1976 | E27: 1977 | F27: 1978 | G27: 1979 | H27: 1980 | I27: 1981 | J27: 1982 | K27: 1983 | L27: 1984 | M27: 1985 | N27: 1986 | O27: 1987 | P27: 1988 | Q27: 1989 | R27: 1990 | S27: 1991 | T27: 1992 | U27: 1993 | V27: 1994 | W27: 1995 | X27: 1996 | Y27: 1997 | Z27: 1998 | AA27: 1999 | AB27: 2000 | AC27: 2001 | AD27: 2002 | AE27: 2003 | AF27: 2004 | AG27: 2005 | AH27: 2006 | AI27: 2007 | AJ27: 2008 | AK27: 2009 | AL27: 2010 | AM27: 2011 | AN27: 2012 | AO27: 2013 | AP27: 2014 | AQ27: 2015 | AR27: 2016 | AS27: 2017 | AT27: 2018 | AU27: 2019 | AV27: 2020 | AW27: 2021 | AX27: 2022 | AY27: 2023
A28: X | B28: =COUNTIF(B2:B22,"X") -> 1 | C28: =COUNTIF(C2:C22,"X") -> 1 | D28: =COUNTIF(D2:D22,"X") -> 1 | E28: =COUNTIF(E2:E22,"X") -> 1 | F28: =COUNTIF(F2:F22,"X") -> 1 | G28: =COUNTIF(G2:G22,"X") -> 1 | H28: =COUNTIF(H2:H22,"X") -> 1 | I28: =COUNTIF(I2:I22,"X") -> 1 | ... AY28: =COUNTIF(AY2:AY22,"X") -> 2
A29: MDC | B29: =COUNTIF(B2:B22,"MDC") -> 3 | C29: =COUNTIF(C2:C22,"MDC") -> 3 | D29: =COUNTIF(D2:D22,"MDC") -> 3 | E29: =COUNTIF(E2:E22,"MDC") -> 2 | F29: =COUNTIF(F2:F22,"MDC") -> 2 | G29: =COUNTIF(G2:G22,"MDC") -> 2 | H29: =COUNTIF(H2:H22,"MDC") -> 2 | I29: =COUNTIF(I2:I22,"MDC") -> 2 | ... AY29: =COUNTIF(AY2:AY22,"MDC") -> 0
A30: ERFix | B30: =COUNTIF(B2:B22,"ERFix") -> 9 | C30: =COUNTIF(C2:C22,"ERFix") -> 10 | D30: =COUNTIF(D2:D22,"ERFix") -> 10 | E30: =COUNTIF(E2:E22,"ERFix") -> 10 | F30: =COUNTIF(F2:F22,"ERFix") -> 10 | G30: =COUNTIF(G2:G22,"ERFix") -> 9 | H30: =COUNTIF(H2:H22,"ERFix") -> 9 | I30: =COUNTIF(I2:I22,"ERFix") -> 8 | ... AY30: =COUNTIF(AY2:AY22,"ERFix") -> 2
A31: ERTs | B31: =COUNTIF(B2:B22,"ERTs") -> 3 | C31: =COUNTIF(C2:C22,"ERTs") -> 2 | D31: =COUNTIF(D2:D22,"ERTs") -> 2 | E31: =COUNTIF(E2:E22,"ERTs") -> 2 | F31: =COUNTIF(F2:F22,"ERTs") -> 2 | G31: =COUNTIF(G2:G22,"ERTs") -> 3 | H31: =COUNTIF(H2:H22,"ERTs") -> 3 | I31: =COUNTIF(I2:I22,"ERTs") -> 3 | ... AY31: =COUNTIF(AY2:AY22,"ERTs") -> 7
A32: MTs | B32: =COUNTIF(B2:B22,"MTs") -> 0 | C32: =COUNTIF(C2:C22,"MTs") -> 0 | D32: =COUNTIF(D2:D22,"MTs") -> 0 | E32: =COUNTIF(E2:E22,"MTs") -> 0 | F32: =COUNTIF(F2:F22,"MTs") -> 0 | G32: =COUNTIF(G2:G22,"MTs") -> 0 | H32: =COUNTIF(H2:H22,"MTs") -> 0 | I32: =COUNTIF(I2:I22,"MTs") -> 0 | ... AY32: =COUNTIF(AY2:AY22,"MTs") -> 0
A33: ITs | B33: =COUNTIF(B2:B22,"ITs") -> 0 | C33: =COUNTIF(C2:C22,"ITs") -> 0 | D33: =COUNTIF(D2:D22,"ITs") -> 0 | E33: =COUNTIF(E2:E22,"ITs") -> 0 | F33: =COUNTIF(F2:F22,"ITs") -> 0 | G33: =COUNTIF(G2:G22,"ITs") -> 0 | H33: =COUNTIF(H2:H22,"ITs") -> 0 | I33: =COUNTIF(I2:I22,"ITs") -> 0 | ... AY33: =COUNTIF(AY2:AY22,"ITs") -> 0
A34: MixedTs | B34: =COUNTIF(B2:B22,"MixedTs") -> 0 | C34: =COUNTIF(C2:C22,"MixedTs") -> 0 | D34: =COUNTIF(D2:D22,"MixedTs") -> 0 | E34: =COUNTIF(E2:E22,"MixedTs") -> 0 | F34: =COUNTIF(F2:F22,"MixedTs") -> 0 | G34: =COUNTIF(G2:G22,"MixedTs") -> 0 | H34: =COUNTIF(H2:H22,"MixedTs") -> 0 | I34: =COUNTIF(I2:I22,"MixedTs") -> 0 | ... AY34: =COUNTIF(AY2:AY22,"MixedTs") -> 0
A35: UD | B35: =COUNTIF(B2:B22,"UD") -> 2 | C35: =COUNTIF(C2:C22,"UD") -> 2 | D35: =COUNTIF(D2:D22,"UD") -> 2 | E35: =COUNTIF(E2:E22,"UD") -> 3 | F35: =COUNTIF(F2:F22,"UD") -> 3 | G35: =COUNTIF(G2:G22,"UD") -> 3 | H35: =COUNTIF(H2:H22,"UD") -> 4 | I35: =COUNTIF(I2:I22,"UD") -> 4 | ... AY35: =COUNTIF(AY2:AY22,"UD") -> 4
A36: LSD | B36: =COUNTIF(B2:B22,"LSD") -> 3 | C36: =COUNTIF(C2:C22,"LSD") -> 3 | D36: =COUNTIF(D2:D22,"LSD") -> 3 | E36: =COUNTIF(E2:E22,"LSD") -> 3 | F36: =COUNTIF(F2:F22,"LSD") -> 3 | G36: =COUNTIF(G2:G22,"LSD") -> 3 | H36: =COUNTIF(H2:H22,"LSD") -> 2 | I36: =COUNTIF(I2:I22,"LSD") -> 3 | ... AY36: =COUNTIF(AY2:AY22,"LSD") -> 6
A37: WSD | B37: =COUNTIF(B2:B22,"WSD") -> 0 | C37: =COUNTIF(C2:C22,"WSD") -> 0 | D37: =COUNTIF(D2:D22,"WSD") -> 0 | E37: =COUNTIF(E2:E22,"WSD") -> 0 | F37: =COUNTIF(F2:F22,"WSD") -> 0 | G37: =COUNTIF(G2:G22,"WSD") -> 0 | H37: =COUNTIF(H2:H22,"WSD") -> 0 | I37: =COUNTIF(I2:I22,"WSD") -> 0 | ... AY37: =COUNTIF(AY2:AY22,"WSD") -> 0
B39: =SUM(B28:B37) -> 21 | C39: =SUM(C28:C37) -> 21 | D39: =SUM(D28:D37) -> 21 | E39: =SUM(E28:E37) -> 21 | F39: =SUM(F28:F37) -> 21 | G39: =SUM(G28:G37) -> 21 | H39: =SUM(H28:H37) -> 21 | I39: =SUM(I28:I37) -> 21 | ... AY39: =SUM(AY28:AY37) -> 21

Sheet docvar
B1: 1974 | C1: 1975 | D1: 1976 | E1: 1977 | F1: 1978 | G1: 1979 | H1: 1980 | I1: 1981 | J1: 1982 | K1: 1983 | L1: 1984 | M1: 1985 | N1: 1986 | O1: 1987 | P1: 1988 | Q1: 1989 | R1: 1990 | S1: 1991 | T1: 1992 | U1: 1993 | V1: 1994 | W1: 1995 | X1: 1996 | Y1: 1997 | Z1: 1998 | AA1: 1999 | AB1: 2000 | AC1: 2001 | AD1: 2002 | AE1: 2003 | AF1: 2004 | AG1: 2005 | AH1: 2006 | AI1: 2007 | AJ1: 2008 | AK1: 2009 | AL1: 2010 | AM1: 2011 | AN1: 2012 | AO1: 2013 | AP1: 2014 | AQ1: 2015 | AR1: 2016 | AS1: 2017 | AT1: 2018 | AU1: 2019 | AV1: 2020 | AW1: 2021 | AX1: 2022 | AY1: 2023
A2: Algeria | B2: =IF(OR('full menu'!B2="MDC",'full menu'!B2="PERF"),"rude",IF(OR('full menu'!B2="PCB",'full menu'!B2="AERF",'full menu'!B2="UD"),"inter",IF(OR('full menu'!B2="ACB",'full menu'!B2="LCERT",'full menu'!B2="LERT",'full menu'!B2="FCERT",'full menu'!B2="FCMT",'full menu'!B2="LCMT",'full menu'!B2="LMT",'full menu'!B2="LCIT",'full menu'!B2="FCIT",'full menu'!B2="LIT",'full menu'!B2="MwERT",'full menu'!B2="ERwMT",'full menu'!B2="M&ERT",'full menu'!B2="MwIT",'full menu'!B2="IwMT",'full menu'!B2="M&IT",'full menu'!B2="IwERT",'full menu'!B2="ERwIT",'full menu'!B2="I&ERT",'full menu'!B2="ER&M&IT",'full menu'!B2="LSD"),"subst",IF(OR('full menu'!B2="FERT",'full menu'!B2="FMT",'full menu'!B2="FIT",'full menu'!B2="WSD"),"intens","")))) -> rude | C2: =IF(OR('full menu'!C2="MDC",'full menu'!C2="PERF"),"rude",IF(OR('full menu'!C2="PCB",'full menu'!C2="AERF",'full menu'!C2="UD"),"inter",IF(OR('full menu'!C2="ACB",'full menu'!C2="LCERT",'full menu'!C2="LERT",'full menu'!C2="FCERT",'full menu'!C2="FCMT",'full menu'!C2="LCMT",'full menu'!C2="LMT",'full menu'!C2="LCIT",'full menu'!C2="FCIT",'full menu'!C2="LIT",'full menu'!C2="MwERT",'full menu'!C2="ERwMT",'full menu'!C2="M&ERT",'full menu'!C2="MwIT",'full menu'!C2="IwMT",'full menu'!C2="M&IT",'full menu'!C2="IwERT",'full menu'!C2="ERwIT",'full menu'!C2="I&ERT",'full menu'!C2="ER&M&IT",'full menu'!C2="LSD"),"subst",IF(OR('full menu'!C2="FERT",'full menu'!C2="FMT",'full menu'!C2="FIT",'full menu'!C2="WSD"),"intens","")))) -> rude | D2: =IF(OR('full menu'!D2="MDC",'full menu'!D2="PERF"),"rude",IF(OR('full menu'!D2="PCB",'full menu'!D2="AERF",'full menu'!D2="UD"),"inter",IF(OR('full menu'!D2="ACB",'full menu'!D2="LCERT",'full menu'!D2="LERT",'full menu'!D2="FCERT",'full menu'!D2="FCMT",'full menu'!D2="LCMT",'full menu'!D2="LMT",'full menu'!D2="LCIT",'full menu'!D2="FCIT",'full menu'!D2="LIT",'full menu'!D2="MwERT",'full menu'!D2="ERwMT",'full menu'!D2="M&ERT",'full menu'!D2="MwIT",'full menu'!D2="IwMT",'full menu'!D2="M&IT",'full menu'!D2="IwERT",'full menu'!D2="ERwIT",'full menu'!D2="I&ERT",'full menu'!D2="ER&M&IT",'full menu'!D2="LSD"),"subst",IF(OR('full menu'!D2="FERT",'full menu'!D2="FMT",'full menu'!D2="FIT",'full menu'!D2="WSD"),"intens","")))) -> rude | E2: =IF(OR('full menu'!E2="MDC",'full menu'!E2="PERF"),"rude",IF(OR('full menu'!E2="PCB",'full menu'!E2="AERF",'full menu'!E2="UD"),"inter",IF(OR('full menu'!E2="ACB",'full menu'!E2="LCERT",'full menu'!E2="LERT",'full menu'!E2="FCERT",'full menu'!E2="FCMT",'full menu'!E2="LCMT",'full menu'!E2="LMT",'full menu'!E2="LCIT",'full menu'!E2="FCIT",'full menu'!E2="LIT",'full menu'!E2="MwERT",'full menu'!E2="ERwMT",'full menu'!E2="M&ERT",'full menu'!E2="MwIT",'full menu'!E2="IwMT",'full menu'!E2="M&IT",'full menu'!E2="IwERT",'full menu'!E2="ERwIT",'full menu'!E2="I&ERT",'full menu'!E2="ER&M&IT",'full menu'!E2="LSD"),"subst",IF(OR('full menu'!E2="FERT",'full menu'!E2="FMT",'full menu'!E2="FIT",'full menu'!E2="WSD"),"intens","")))) -> rude | F2: =IF(OR('full menu'!F2="MDC",'full menu'!F2="PERF"),"rude",IF(OR('full menu'!F2="PCB",'full menu'!F2="AERF",'full menu'!F2="UD"),"inter",IF(OR('full menu'!F2="ACB",'full menu'!F2="LCERT",'full menu'!F2="LERT",'full menu'!F2="FCERT",'full menu'!F2="FCMT",'full menu'!F2="LCMT",'full menu'!F2="LMT",'full menu'!F2="LCIT",'full menu'!F2="FCIT",'full menu'!F2="LIT",'full menu'!F2="MwERT",'full menu'!F2="ERwMT",'full menu'!F2="M&ERT",'full menu'!F2="MwIT",'full menu'!F2="IwMT",'full menu'!F2="M&IT",'full menu'!F2="IwERT",'full menu'!F2="ERwIT",'full menu'!F2="I&ERT",'full menu'!F2="ER&M&IT",'full menu'!F2="LSD"),"subst",IF(OR('full menu'!F2="FERT",'full menu'!F2="FMT",'full menu'!F2="FIT",'full menu'!F2="WSD"),"intens","")))) -> rude | G2: =IF(OR('full menu'!G2="MDC",'full menu'!G2="PERF"),"rude",IF(OR('full menu'!G2="PCB",'full menu'!G2="AERF",'full menu'!G2="UD"),"inter",IF(OR('full menu'!G2="ACB",'full menu'!G2="LCERT",'full menu'!G2="LERT",'full menu'!G2="FCERT",'full menu'!G2="FCMT",'full menu'!G2="LCMT",'full menu'!G2="LMT",'full menu'!G2="LCIT",'full menu'!G2="FCIT",'full menu'!G2="LIT",'full menu'!G2="MwERT",'full menu'!G2="ERwMT",'full menu'!G2="M&ERT",'full menu'!G2="MwIT",'full menu'!G2="IwMT",'full menu'!G2="M&IT",'full menu'!G2="IwERT",'full menu'!G2="ERwIT",'full menu'!G2="I&ERT",'full menu'!G2="ER&M&IT",'full menu'!G2="LSD"),"subst",IF(OR('full menu'!G2="FERT",'full menu'!G2="FMT",'full menu'!G2="FIT",'full menu'!G2="WSD"),"intens","")))) -> rude | H2: =IF(OR('full menu'!H2="MDC",'full menu'!H2="PERF"),"rude",IF(OR('full menu'!H2="PCB",'full menu'!H2="AERF",'full menu'!H2="UD"),"inter",IF(OR('full menu'!H2="ACB",'full menu'!H2="LCERT",'full menu'!H2="LERT",'full menu'!H2="FCERT",'full menu'!H2="FCMT",'full menu'!H2="LCMT",'full menu'!H2="LMT",'full menu'!H2="LCIT",'full menu'!H2="FCIT",'full menu'!H2="LIT",'full menu'!H2="MwERT",'full menu'!H2="ERwMT",'full menu'!H2="M&ERT",'full menu'!H2="MwIT",'full menu'!H2="IwMT",'full menu'!H2="M&IT",'full menu'!H2="IwERT",'full menu'!H2="ERwIT",'full menu'!H2="I&ERT",'full menu'!H2="ER&M&IT",'full menu'!H2="LSD"),"subst",IF(OR('full menu'!H2="FERT",'full menu'!H2="FMT",'full menu'!H2="FIT",'full menu'!H2="WSD"),"intens","")))) -> rude | I2: =IF(OR('full menu'!I2="MDC",'full menu'!I2="PERF"),"rude",IF(OR('full menu'!I2="PCB",'full menu'!I2="AERF",'full menu'!I2="UD"),"inter",IF(OR('full menu'!I2="ACB",'full menu'!I2="LCERT",'full menu'!I2="LERT",'full menu'!I2="FCERT",'full menu'!I2="FCMT",'full menu'!I2="LCMT",'full menu'!I2="LMT",'full menu'!I2="LCIT",'full menu'!I2="FCIT",'full menu'!I2="LIT",'full menu'!I2="MwERT",'full menu'!I2="ERwMT",'full menu'!I2="M&ERT",'full menu'!I2="MwIT",'full menu'!I2="IwMT",'full menu'!I2="M&IT",'full menu'!I2="IwERT",'full menu'!I2="ERwIT",'full menu'!I2="I&ERT",'full menu'!I2="ER&M&IT",'full menu'!I2="LSD"),"subst",IF(OR('full menu'!I2="FERT",'full menu'!I2="FMT",'full menu'!I2="FIT",'full menu'!I2="WSD"),"intens","")))) -> rude | ... AY2: =IF(OR('full menu'!AY2="MDC",'full menu'!AY2="PERF"),"rude",IF(OR('full menu'!AY2="PCB",'full menu'!AY2="AERF",'full menu'!AY2="UD"),"inter",IF(OR('full menu'!AY2="ACB",'full menu'!AY2="LCERT",'full menu'!AY2="LERT",'full menu'!AY2="FCERT",'full menu'!AY2="FCMT",'full menu'!AY2="LCMT",'full menu'!AY2="LMT",'full menu'!AY2="LCIT",'full menu'!AY2="FCIT",'full menu'!AY2="LIT",'full menu'!AY2="MwERT",'full menu'!AY2="ERwMT",'full menu'!AY2="M&ERT",'full menu'!AY2="MwIT",'full menu'!AY2="IwMT",'full menu'!AY2="M&IT",'full menu'!AY2="IwERT",'full menu'!AY2="ERwIT",'full menu'!AY2="I&ERT",'full menu'!AY2="ER&M&IT",'full menu'!AY2="LSD"),"subst",IF(OR('full menu'!AY2="FERT",'full menu'!AY2="FMT",'full menu'!AY2="FIT",'full menu'!AY2="WSD"),"intens","")))) -> subst
A3: Bahrain | B3: =IF(OR('full menu'!B3="MDC",'full menu'!B3="PERF"),"rude",IF(OR('full menu'!B3="PCB",'full menu'!B3="AERF",'full menu'!B3="UD"),"inter",IF(OR('full menu'!B3="ACB",'full menu'!B3="LCERT",'full menu'!B3="LERT",'full menu'!B3="FCERT",'full menu'!B3="FCMT",'full menu'!B3="LCMT",'full menu'!B3="LMT",'full menu'!B3="LCIT",'full menu'!B3="FCIT",'full menu'!B3="LIT",'full menu'!B3="MwERT",'full menu'!B3="ERwMT",'full menu'!B3="M&ERT",'full menu'!B3="MwIT",'full menu'!B3="IwMT",'full menu'!B3="M&IT",'full menu'!B3="IwERT",'full menu'!B3="ERwIT",'full menu'!B3="I&ERT",'full menu'!B3="ER&M&IT",'full menu'!B3="LSD"),"subst",IF(OR('full menu'!B3="FERT",'full menu'!B3="FMT",'full menu'!B3="FIT",'full menu'!B3="WSD"),"intens","")))) -> subst | C3: =IF(OR('full menu'!C3="MDC",'full menu'!C3="PERF"),"rude",IF(OR('full menu'!C3="PCB",'full menu'!C3="AERF",'full menu'!C3="UD"),"inter",IF(OR('full menu'!C3="ACB",'full menu'!C3="LCERT",'full menu'!C3="LERT",'full menu'!C3="FCERT",'full menu'!C3="FCMT",'full menu'!C3="LCMT",'full menu'!C3="LMT",'full menu'!C3="LCIT",'full menu'!C3="FCIT",'full menu'!C3="LIT",'full menu'!C3="MwERT",'full menu'!C3="ERwMT",'full menu'!C3="M&ERT",'full menu'!C3="MwIT",'full menu'!C3="IwMT",'full menu'!C3="M&IT",'full menu'!C3="IwERT",'full menu'!C3="ERwIT",'full menu'!C3="I&ERT",'full menu'!C3="ER&M&IT",'full menu'!C3="LSD"),"subst",IF(OR('full menu'!C3="FERT",'full menu'!C3="FMT",'full menu'!C3="FIT",'full menu'!C3="WSD"),"intens","")))) -> inter | D3: =IF(OR('full menu'!D3="MDC",'full menu'!D3="PERF"),"rude",IF(OR('full menu'!D3="PCB",'full menu'!D3="AERF",'full menu'!D3="UD"),"inter",IF(OR('full menu'!D3="ACB",'full menu'!D3="LCERT",'full menu'!D3="LERT",'full menu'!D3="FCERT",'full menu'!D3="FCMT",'full menu'!D3="LCMT",'full menu'!D3="LMT",'full menu'!D3="LCIT",'full menu'!D3="FCIT",'full menu'!D3="LIT",'full menu'!D3="MwERT",'full menu'!D3="ERwMT",'full menu'!D3="M&ERT",'full menu'!D3="MwIT",'full menu'!D3="IwMT",'full menu'!D3="M&IT",'full menu'!D3="IwERT",'full menu'!D3="ERwIT",'full menu'!D3="I&ERT",'full menu'!D3="ER&M&IT",'full menu'!D3="LSD"),"subst",IF(OR('full menu'!D3="FERT",'full menu'!D3="FMT",'full menu'!D3="FIT",'full menu'!D3="WSD"),"intens","")))) -> inter | E3: =IF(OR('full menu'!E3="MDC",'full menu'!E3="PERF"),"rude",IF(OR('full menu'!E3="PCB",'full menu'!E3="AERF",'full menu'!E3="UD"),"inter",IF(OR('full menu'!E3="ACB",'full menu'!E3="LCERT",'full menu'!E3="LERT",'full menu'!E3="FCERT",'full menu'!E3="FCMT",'full menu'!E3="LCMT",'full menu'!E3="LMT",'full menu'!E3="LCIT",'full menu'!E3="FCIT",'full menu'!E3="LIT",'full menu'!E3="MwERT",'full menu'!E3="ERwMT",'full menu'!E3="M&ERT",'full menu'!E3="MwIT",'full menu'!E3="IwMT",'full menu'!E3="M&IT",'full menu'!E3="IwERT",'full menu'!E3="ERwIT",'full menu'!E3="I&ERT",'full menu'!E3="ER&M&IT",'full menu'!E3="LSD"),"subst",IF(OR('full menu'!E3="FERT",'full menu'!E3="FMT",'full menu'!E3="FIT",'full menu'!E3="WSD"),"intens","")))) -> inter | F3: =IF(OR('full menu'!F3="MDC",'full menu'!F3="PERF"),"rude",IF(OR('full menu'!F3="PCB",'full menu'!F3="AERF",'full menu'!F3="UD"),"inter",IF(OR('full menu'!F3="ACB",'full menu'!F3="LCERT",'full menu'!F3="LERT",'full menu'!F3="FCERT",'full menu'!F3="FCMT",'full menu'!F3="LCMT",'full menu'!F3="LMT",'full menu'!F3="LCIT",'full menu'!F3="FCIT",'full menu'!F3="LIT",'full menu'!F3="MwERT",'full menu'!F3="ERwMT",'full menu'!F3="M&ERT",'full menu'!F3="MwIT",'full menu'!F3="IwMT",'full menu'!F3="M&IT",'full menu'!F3="IwERT",'full menu'!F3="ERwIT",'full menu'!F3="I&ERT",'full menu'!F3="ER&M&IT",'full menu'!F3="LSD"),"subst",IF(OR('full menu'!F3="FERT",'full menu'!F3="FMT",'full menu'!F3="FIT",'full menu'!F3="WSD"),"intens","")))) -> inter | G3: =IF(OR('full menu'!G3="MDC",'full menu'!G3="PERF"),"rude",IF(OR('full menu'!G3="PCB",'full menu'!G3="AERF",'full menu'!G3="UD"),"inter",IF(OR('full menu'!G3="ACB",'full menu'!G3="LCERT",'full menu'!G3="LERT",'full menu'!G3="FCERT",'full menu'!G3="FCMT",'full menu'!G3="LCMT",'full menu'!G3="LMT",'full menu'!G3="LCIT",'full menu'!G3="FCIT",'full menu'!G3="LIT",'full menu'!G3="MwERT",'full menu'!G3="ERwMT",'full menu'!G3="M&ERT",'full menu'!G3="MwIT",'full menu'!G3="IwMT",'full menu'!G3="M&IT",'full menu'!G3="IwERT",'full menu'!G3="ERwIT",'full menu'!G3="I&ERT",'full menu'!G3="ER&M&IT",'full menu'!G3="LSD"),"subst",IF(OR('full menu'!G3="FERT",'full menu'!G3="FMT",'full menu'!G3="FIT",'full menu'!G3="WSD"),"intens","")))) -> inter | H3: =IF(OR('full menu'!H3="MDC",'full menu'!H3="PERF"),"rude",IF(OR('full menu'!H3="PCB",'full menu'!H3="AERF",'full menu'!H3="UD"),"inter",IF(OR('full menu'!H3="ACB",'full menu'!H3="LCERT",'full menu'!H3="LERT",'full menu'!H3="FCERT",'full menu'!H3="FCMT",'full menu'!H3="LCMT",'full menu'!H3="LMT",'full menu'!H3="LCIT",'full menu'!H3="FCIT",'full menu'!H3="LIT",'full menu'!H3="MwERT",'full menu'!H3="ERwMT",'full menu'!H3="M&ERT",'full menu'!H3="MwIT",'full menu'!H3="IwMT",'full menu'!H3="M&IT",'full menu'!H3="IwERT",'full menu'!H3="ERwIT",'full menu'!H3="I&ERT",'full menu'!H3="ER&M&IT",'full menu'!H3="LSD"),"subst",IF(OR('full menu'!H3="FERT",'full menu'!H3="FMT",'full menu'!H3="FIT",'full menu'!H3="WSD"),"intens","")))) -> inter | I3: =IF(OR('full menu'!I3="MDC",'full menu'!I3="PERF"),"rude",IF(OR('full menu'!I3="PCB",'full menu'!I3="AERF",'full menu'!I3="UD"),"inter",IF(OR('full menu'!I3="ACB",'full menu'!I3="LCERT",'full menu'!I3="LERT",'full menu'!I3="FCERT",'full menu'!I3="FCMT",'full menu'!I3="LCMT",'full menu'!I3="LMT",'full menu'!I3="LCIT",'full menu'!I3="FCIT",'full menu'!I3="LIT",'full menu'!I3="MwERT",'full menu'!I3="ERwMT",'full menu'!I3="M&ERT",'full menu'!I3="MwIT",'full menu'!I3="IwMT",'full menu'!I3="M&IT",'full menu'!I3="IwERT",'full menu'!I3="ERwIT",'full menu'!I3="I&ERT",'full menu'!I3="ER&M&IT",'full menu'!I3="LSD"),"subst",IF(OR('full menu'!I3="FERT",'full menu'!I3="FMT",'full menu'!I3="FIT",'full menu'!I3="WSD"),"intens","")))) -> inter | ... AY3: =IF(OR('full menu'!AY3="MDC",'full menu'!AY3="PERF"),"rude",IF(OR('full menu'!AY3="PCB",'full menu'!AY3="AERF",'full menu'!AY3="UD"),"inter",IF(OR('full menu'!AY3="ACB",'full menu'!AY3="LCERT",'full menu'!AY3="LERT",'full menu'!AY3="FCERT",'full menu'!AY3="FCMT",'full menu'!AY3="LCMT",'full menu'!AY3="LMT",'full menu'!AY3="LCIT",'full menu'!AY3="FCIT",'full menu'!AY3="LIT",'full menu'!AY3="MwERT",'full menu'!AY3="ERwMT",'full menu'!AY3="M&ERT",'full menu'!AY3="MwIT",'full menu'!AY3="IwMT",'full menu'!AY3="M&IT",'full menu'!AY3="IwERT",'full menu'!AY3="ERwIT",'full menu'!AY3="I&ERT",'full menu'!AY3="ER&M&IT",'full menu'!AY3="LSD"),"subst",IF(OR('full menu'!AY3="FERT",'full menu'!AY3="FMT",'full menu'!AY3="FIT",'full menu'!AY3="WSD"),"intens","")))) -> intens
A4: Egypt | B4: =IF(OR('full menu'!B4="MDC",'full menu'!B4="PERF"),"rude",IF(OR('full menu'!B4="PCB",'full menu'!B4="AERF",'full menu'!B4="UD"),"inter",IF(OR('full menu'!B4="ACB",'full menu'!B4="LCERT",'full menu'!B4="LERT",'full menu'!B4="FCERT",'full menu'!B4="FCMT",'full menu'!B4="LCMT",'full menu'!B4="LMT",'full menu'!B4="LCIT",'full menu'!B4="FCIT",'full menu'!B4="LIT",'full menu'!B4="MwERT",'full menu'!B4="ERwMT",'full menu'!B4="M&ERT",'full menu'!B4="MwIT",'full menu'!B4="IwMT",'full menu'!B4="M&IT",'full menu'!B4="IwERT",'full menu'!B4="ERwIT",'full menu'!B4="I&ERT",'full menu'!B4="ER&M&IT",'full menu'!B4="LSD"),"subst",IF(OR('full menu'!B4="FERT",'full menu'!B4="FMT",'full menu'!B4="FIT",'full menu'!B4="WSD"),"intens","")))) -> rude | C4: =IF(OR('full menu'!C4="MDC",'full menu'!C4="PERF"),"rude",IF(OR('full menu'!C4="PCB",'full menu'!C4="AERF",'full menu'!C4="UD"),"inter",IF(OR('full menu'!C4="ACB",'full menu'!C4="LCERT",'full menu'!C4="LERT",'full menu'!C4="FCERT",'full menu'!C4="FCMT",'full menu'!C4="LCMT",'full menu'!C4="LMT",'full menu'!C4="LCIT",'full menu'!C4="FCIT",'full menu'!C4="LIT",'full menu'!C4="MwERT",'full menu'!C4="ERwMT",'full menu'!C4="M&ERT",'full menu'!C4="MwIT",'full menu'!C4="IwMT",'full menu'!C4="M&IT",'full menu'!C4="IwERT",'full menu'!C4="ERwIT",'full menu'!C4="I&ERT",'full menu'!C4="ER&M&IT",'full menu'!C4="LSD"),"subst",IF(OR('full menu'!C4="FERT",'full menu'!C4="FMT",'full menu'!C4="FIT",'full menu'!C4="WSD"),"intens","")))) -> rude | D4: =IF(OR('full menu'!D4="MDC",'full menu'!D4="PERF"),"rude",IF(OR('full menu'!D4="PCB",'full menu'!D4="AERF",'full menu'!D4="UD"),"inter",IF(OR('full menu'!D4="ACB",'full menu'!D4="LCERT",'full menu'!D4="LERT",'full menu'!D4="FCERT",'full menu'!D4="FCMT",'full menu'!D4="LCMT",'full menu'!D4="LMT",'full menu'!D4="LCIT",'full menu'!D4="FCIT",'full menu'!D4="LIT",'full menu'!D4="MwERT",'full menu'!D4="ERwMT",'full menu'!D4="M&ERT",'full menu'!D4="MwIT",'full menu'!D4="IwMT",'full menu'!D4="M&IT",'full menu'!D4="IwERT",'full menu'!D4="ERwIT",'full menu'!D4="I&ERT",'full menu'!D4="ER&M&IT",'full menu'!D4="LSD"),"subst",IF(OR('full menu'!D4="FERT",'full menu'!D4="FMT",'full menu'!D4="FIT",'full menu'!D4="WSD"),"intens","")))) -> rude | E4: =IF(OR('full menu'!E4="MDC",'full menu'!E4="PERF"),"rude",IF(OR('full menu'!E4="PCB",'full menu'!E4="AERF",'full menu'!E4="UD"),"inter",IF(OR('full menu'!E4="ACB",'full menu'!E4="LCERT",'full menu'!E4="LERT",'full menu'!E4="FCERT",'full menu'!E4="FCMT",'full menu'!E4="LCMT",'full menu'!E4="LMT",'full menu'!E4="LCIT",'full menu'!E4="FCIT",'full menu'!E4="LIT",'full menu'!E4="MwERT",'full menu'!E4="ERwMT",'full menu'!E4="M&ERT",'full menu'!E4="MwIT",'full menu'!E4="IwMT",'full menu'!E4="M&IT",'full menu'!E4="IwERT",'full menu'!E4="ERwIT",'full menu'!E4="I&ERT",'full menu'!E4="ER&M&IT",'full menu'!E4="LSD"),"subst",IF(OR('full menu'!E4="FERT",'full menu'!E4="FMT",'full menu'!E4="FIT",'full menu'!E4="WSD"),"intens","")))) -> inter | F4: =IF(OR('full menu'!F4="MDC",'full menu'!F4="PERF"),"rude",IF(OR('full menu'!F4="PCB",'full menu'!F4="AERF",'full menu'!F4="UD"),"inter",IF(OR('full menu'!F4="ACB",'full menu'!F4="LCERT",'full menu'!F4="LERT",'full menu'!F4="FCERT",'full menu'!F4="FCMT",'full menu'!F4="LCMT",'full menu'!F4="LMT",'full menu'!F4="LCIT",'full menu'!F4="FCIT",'full menu'!F4="LIT",'full menu'!F4="MwERT",'full menu'!F4="ERwMT",'full menu'!F4="M&ERT",'full menu'!F4="MwIT",'full menu'!F4="IwMT",'full menu'!F4="M&IT",'full menu'!F4="IwERT",'full menu'!F4="ERwIT",'full menu'!F4="I&ERT",'full menu'!F4="ER&M&IT",'full menu'!F4="LSD"),"subst",IF(OR('full menu'!F4="FERT",'full menu'!F4="FMT",'full menu'!F4="FIT",'full menu'!F4="WSD"),"intens","")))) -> inter | G4: =IF(OR('full menu'!G4="MDC",'full menu'!G4="PERF"),"rude",IF(OR('full menu'!G4="PCB",'full menu'!G4="AERF",'full menu'!G4="UD"),"inter",IF(OR('full menu'!G4="ACB",'full menu'!G4="LCERT",'full menu'!G4="LERT",'full menu'!G4="FCERT",'full menu'!G4="FCMT",'full menu'!G4="LCMT",'full menu'!G4="LMT",'full menu'!G4="LCIT",'full menu'!G4="FCIT",'full menu'!G4="LIT",'full menu'!G4="MwERT",'full menu'!G4="ERwMT",'full menu'!G4="M&ERT",'full menu'!G4="MwIT",'full menu'!G4="IwMT",'full menu'!G4="M&IT",'full menu'!G4="IwERT",'full menu'!G4="ERwIT",'full menu'!G4="I&ERT",'full menu'!G4="ER&M&IT",'full menu'!G4="LSD"),"subst",IF(OR('full menu'!G4="FERT",'full menu'!G4="FMT",'full menu'!G4="FIT",'full menu'!G4="WSD"),"intens","")))) -> inter | H4: =IF(OR('full menu'!H4="MDC",'full menu'!H4="PERF"),"rude",IF(OR('full menu'!H4="PCB",'full menu'!H4="AERF",'full menu'!H4="UD"),"inter",IF(OR('full menu'!H4="ACB",'full menu'!H4="LCERT",'full menu'!H4="LERT",'full menu'!H4="FCERT",'full menu'!H4="FCMT",'full menu'!H4="LCMT",'full menu'!H4="LMT",'full menu'!H4="LCIT",'full menu'!H4="FCIT",'full menu'!H4="LIT",'full menu'!H4="MwERT",'full menu'!H4="ERwMT",'full menu'!H4="M&ERT",'full menu'!H4="MwIT",'full menu'!H4="IwMT",'full menu'!H4="M&IT",'full menu'!H4="IwERT",'full menu'!H4="ERwIT",'full menu'!H4="I&ERT",'full menu'!H4="ER&M&IT",'full menu'!H4="LSD"),"subst",IF(OR('full menu'!H4="FERT",'full menu'!H4="FMT",'full menu'!H4="FIT",'full menu'!H4="WSD"),"intens","")))) -> inter | I4: =IF(OR('full menu'!I4="MDC",'full menu'!I4="PERF"),"rude",IF(OR('full menu'!I4="PCB",'full menu'!I4="AERF",'full menu'!I4="UD"),"inter",IF(OR('full menu'!I4="ACB",'full menu'!I4="LCERT",'full menu'!I4="LERT",'full menu'!I4="FCERT",'full menu'!I4="FCMT",'full menu'!I4="LCMT",'full menu'!I4="LMT",'full menu'!I4="LCIT",'full menu'!I4="FCIT",'full menu'!I4="LIT",'full menu'!I4="MwERT",'full menu'!I4="ERwMT",'full menu'!I4="M&ERT",'full menu'!I4="MwIT",'full menu'!I4="IwMT",'full menu'!I4="M&IT",'full menu'!I4="IwERT",'full menu'!I4="ERwIT",'full menu'!I4="I&ERT",'full menu'!I4="ER&M&IT",'full menu'!I4="LSD"),"subst",IF(OR('full menu'!I4="FERT",'full menu'!I4="FMT",'full menu'!I4="FIT",'full menu'!I4="WSD"),"intens","")))) -> inter | ... AY4: =IF(OR('full menu'!AY4="MDC",'full menu'!AY4="PERF"),"rude",IF(OR('full menu'!AY4="PCB",'full menu'!AY4="AERF",'full menu'!AY4="UD"),"inter",IF(OR('full menu'!AY4="ACB",'full menu'!AY4="LCERT",'full menu'!AY4="LERT",'full menu'!AY4="FCERT",'full menu'!AY4="FCMT",'full menu'!AY4="LCMT",'full menu'!AY4="LMT",'full menu'!AY4="LCIT",'full menu'!AY4="FCIT",'full menu'!AY4="LIT",'full menu'!AY4="MwERT",'full menu'!AY4="ERwMT",'full menu'!AY4="M&ERT",'full menu'!AY4="MwIT",'full menu'!AY4="IwMT",'full menu'!AY4="M&IT",'full menu'!AY4="IwERT",'full menu'!AY4="ERwIT",'full menu'!AY4="I&ERT",'full menu'!AY4="ER&M&IT",'full menu'!AY4="LSD"),"subst",IF(OR('full menu'!AY4="FERT",'full menu'!AY4="FMT",'full menu'!AY4="FIT",'full menu'!AY4="WSD"),"intens","")))) -> subst
A5: Iran | B5: =IF(OR('full menu'!B5="MDC",'full menu'!B5="PERF"),"rude",IF(OR('full menu'!B5="PCB",'full menu'!B5="AERF",'full menu'!B5="UD"),"inter",IF(OR('full menu'!B5="ACB",'full menu'!B5="LCERT",'full menu'!B5="LERT",'full menu'!B5="FCERT",'full menu'!B5="FCMT",'full menu'!B5="LCMT",'full menu'!B5="LMT",'full menu'!B5="LCIT",'full menu'!B5="FCIT",'full menu'!B5="LIT",'full menu'!B5="MwERT",'full menu'!B5="ERwMT",'full menu'!B5="M&ERT",'full menu'!B5="MwIT",'full menu'!B5="IwMT",'full menu'!B5="M&IT",'full menu'!B5="IwERT",'full menu'!B5="ERwIT",'full menu'!B5="I&ERT",'full menu'!B5="ER&M&IT",'full menu'!B5="LSD"),"subst",IF(OR('full menu'!B5="FERT",'full menu'!B5="FMT",'full menu'!B5="FIT",'full menu'!B5="WSD"),"intens","")))) -> subst | C5: =IF(OR('full menu'!C5="MDC",'full menu'!C5="PERF"),"rude",IF(OR('full menu'!C5="PCB",'full menu'!C5="AERF",'full menu'!C5="UD"),"inter",IF(OR('full menu'!C5="ACB",'full menu'!C5="LCERT",'full menu'!C5="LERT",'full menu'!C5="FCERT",'full menu'!C5="FCMT",'full menu'!C5="LCMT",'full menu'!C5="LMT",'full menu'!C5="LCIT",'full menu'!C5="FCIT",'full menu'!C5="LIT",'full menu'!C5="MwERT",'full menu'!C5="ERwMT",'full menu'!C5="M&ERT",'full menu'!C5="MwIT",'full menu'!C5="IwMT",'full menu'!C5="M&IT",'full menu'!C5="IwERT",'full menu'!C5="ERwIT",'full menu'!C5="I&ERT",'full menu'!C5="ER&M&IT",'full menu'!C5="LSD"),"subst",IF(OR('full menu'!C5="FERT",'full menu'!C5="FMT",'full menu'!C5="FIT",'full menu'!C5="WSD"),"intens","")))) -> subst | D5: =IF(OR('full menu'!D5="MDC",'full menu'!D5="PERF"),"rude",IF(OR('full menu'!D5="PCB",'full menu'!D5="AERF",'full menu'!D5="UD"),"inter",IF(OR('full menu'!D5="ACB",'full menu'!D5="LCERT",'full menu'!D5="LERT",'full menu'!D5="FCERT",'full menu'!D5="FCMT",'full menu'!D5="LCMT",'full menu'!D5="LMT",'full menu'!D5="LCIT",'full menu'!D5="FCIT",'full menu'!D5="LIT",'full menu'!D5="MwERT",'full menu'!D5="ERwMT",'full menu'!D5="M&ERT",'full menu'!D5="MwIT",'full menu'!D5="IwMT",'full menu'!D5="M&IT",'full menu'!D5="IwERT",'full menu'!D5="ERwIT",'full menu'!D5="I&ERT",'full menu'!D5="ER&M&IT",'full menu'!D5="LSD"),"subst",IF(OR('full menu'!D5="FERT",'full menu'!D5="FMT",'full menu'!D5="FIT",'full menu'!D5="WSD"),"intens","")))) -> subst | E5: =IF(OR('full menu'!E5="MDC",'full menu'!E5="PERF"),"rude",IF(OR('full menu'!E5="PCB",'full menu'!E5="AERF",'full menu'!E5="UD"),"inter",IF(OR('full menu'!E5="ACB",'full menu'!E5="LCERT",'full menu'!E5="LERT",'full menu'!E5="FCERT",'full menu'!E5="FCMT",'full menu'!E5="LCMT",'full menu'!E5="LMT",'full menu'!E5="LCIT",'full menu'!E5="FCIT",'full menu'!E5="LIT",'full menu'!E5="MwERT",'full menu'!E5="ERwMT",'full menu'!E5="M&ERT",'full menu'!E5="MwIT",'full menu'!E5="IwMT",'full menu'!E5="M&IT",'full menu'!E5="IwERT",'full menu'!E5="ERwIT",'full menu'!E5="I&ERT",'full menu'!E5="ER&M&IT",'full menu'!E5="LSD"),"subst",IF(OR('full menu'!E5="FERT",'full menu'!E5="FMT",'full menu'!E5="FIT",'full menu'!E5="WSD"),"intens","")))) -> subst | F5: =IF(OR('full menu'!F5="MDC",'full menu'!F5="PERF"),"rude",IF(OR('full menu'!F5="PCB",'full menu'!F5="AERF",'full menu'!F5="UD"),"inter",IF(OR('full menu'!F5="ACB",'full menu'!F5="LCERT",'full menu'!F5="LERT",'full menu'!F5="FCERT",'full menu'!F5="FCMT",'full menu'!F5="LCMT",'full menu'!F5="LMT",'full menu'!F5="LCIT",'full menu'!F5="FCIT",'full menu'!F5="LIT",'full menu'!F5="MwERT",'full menu'!F5="ERwMT",'full menu'!F5="M&ERT",'full menu'!F5="MwIT",'full menu'!F5="IwMT",'full menu'!F5="M&IT",'full menu'!F5="IwERT",'full menu'!F5="ERwIT",'full menu'!F5="I&ERT",'full menu'!F5="ER&M&IT",'full menu'!F5="LSD"),"subst",IF(OR('full menu'!F5="FERT",'full menu'!F5="FMT",'full menu'!F5="FIT",'full menu'!F5="WSD"),"intens","")))) -> subst | G5: =IF(OR('full menu'!G5="MDC",'full menu'!G5="PERF"),"rude",IF(OR('full menu'!G5="PCB",'full menu'!G5="AERF",'full menu'!G5="UD"),"inter",IF(OR('full menu'!G5="ACB",'full menu'!G5="LCERT",'full menu'!G5="LERT",'full menu'!G5="FCERT",'full menu'!G5="FCMT",'full menu'!G5="LCMT",'full menu'!G5="LMT",'full menu'!G5="LCIT",'full menu'!G5="FCIT",'full menu'!G5="LIT",'full menu'!G5="MwERT",'full menu'!G5="ERwMT",'full menu'!G5="M&ERT",'full menu'!G5="MwIT",'full menu'!G5="IwMT",'full menu'!G5="M&IT",'full menu'!G5="IwERT",'full menu'!G5="ERwIT",'full menu'!G5="I&ERT",'full menu'!G5="ER&M&IT",'full menu'!G5="LSD"),"subst",IF(OR('full menu'!G5="FERT",'full menu'!G5="FMT",'full menu'!G5="FIT",'full menu'!G5="WSD"),"intens","")))) -> subst | H5: =IF(OR('full menu'!H5="MDC",'full menu'!H5="PERF"),"rude",IF(OR('full menu'!H5="PCB",'full menu'!H5="AERF",'full menu'!H5="UD"),"inter",IF(OR('full menu'!H5="ACB",'full menu'!H5="LCERT",'full menu'!H5="LERT",'full menu'!H5="FCERT",'full menu'!H5="FCMT",'full menu'!H5="LCMT",'full menu'!H5="LMT",'full menu'!H5="LCIT",'full menu'!H5="FCIT",'full menu'!H5="LIT",'full menu'!H5="MwERT",'full menu'!H5="ERwMT",'full menu'!H5="M&ERT",'full menu'!H5="MwIT",'full menu'!H5="IwMT",'full menu'!H5="M&IT",'full menu'!H5="IwERT",'full menu'!H5="ERwIT",'full menu'!H5="I&ERT",'full menu'!H5="ER&M&IT",'full menu'!H5="LSD"),"subst",IF(OR('full menu'!H5="FERT",'full menu'!H5="FMT",'full menu'!H5="FIT",'full menu'!H5="WSD"),"intens","")))) -> inter | I5: =IF(OR('full menu'!I5="MDC",'full menu'!I5="PERF"),"rude",IF(OR('full menu'!I5="PCB",'full menu'!I5="AERF",'full menu'!I5="UD"),"inter",IF(OR('full menu'!I5="ACB",'full menu'!I5="LCERT",'full menu'!I5="LERT",'full menu'!I5="FCERT",'full menu'!I5="FCMT",'full menu'!I5="LCMT",'full menu'!I5="LMT",'full menu'!I5="LCIT",'full menu'!I5="FCIT",'full menu'!I5="LIT",'full menu'!I5="MwERT",'full menu'!I5="ERwMT",'full menu'!I5="M&ERT",'full menu'!I5="MwIT",'full menu'!I5="IwMT",'full menu'!I5="M&IT",'full menu'!I5="IwERT",'full menu'!I5="ERwIT",'full menu'!I5="I&ERT",'full menu'!I5="ER&M&IT",'full menu'!I5="LSD"),"subst",IF(OR('full menu'!I5="FERT",'full menu'!I5="FMT",'full menu'!I5="FIT",'full menu'!I5="WSD"),"intens","")))) -> inter | ... AY5: =IF(OR('full menu'!AY5="MDC",'full menu'!AY5="PERF"),"rude",IF(OR('full menu'!AY5="PCB",'full menu'!AY5="AERF",'full menu'!AY5="UD"),"inter",IF(OR('full menu'!AY5="ACB",'full menu'!AY5="LCERT",'full menu'!AY5="LERT",'full menu'!AY5="FCERT",'full menu'!AY5="FCMT",'full menu'!AY5="LCMT",'full menu'!AY5="LMT",'full menu'!AY5="LCIT",'full menu'!AY5="FCIT",'full menu'!AY5="LIT",'full menu'!AY5="MwERT",'full menu'!AY5="ERwMT",'full menu'!AY5="M&ERT",'full menu'!AY5="MwIT",'full menu'!AY5="IwMT",'full menu'!AY5="M&IT",'full menu'!AY5="IwERT",'full menu'!AY5="ERwIT",'full menu'!AY5="I&ERT",'full menu'!AY5="ER&M&IT",'full menu'!AY5="LSD"),"subst",IF(OR('full menu'!AY5="FERT",'full menu'!AY5="FMT",'full menu'!AY5="FIT",'full menu'!AY5="WSD"),"intens","")))) -> subst
