Workbook

Sheet full menu
A1: country | B1: 1974 | C1: 1975 | D1: 1976 | E1: 1977 | F1: 1978 | G1: 1979 | H1: 1980 | I1: 1981 | J1: 1982 | K1: 1983 | L1: 1984 | M1: 1985 | N1: 1986 | O1: 1987 | P1: 1988 | Q1: 1989 | R1: 1990 | S1: 1991 | T1: 1992 | U1: 1993 | V1: 1994 | W1: 1995 | X1: 1996 | Y1: 1997 | Z1: 1998 | AA1: 1999 | AB1: 2000 | AC1: 2001 | AD1: 2002 | AE1: 2003 | AF1: 2004 | AG1: 2005 | AH1: 2006 | AI1: 2007 | AJ1: 2008 | AK1: 2009 | AL1: 2010 | AM1: 2011 | AN1: 2012 | AO1: 2013 | AP1: 2014 | AQ1: 2015 | AR1: 2016 | AS1: 2017
A2: Albania | B2: MDC | C2: MDC | D2: MDC | E2: MDC | F2: MDC | G2: MDC | H2: MDC | I2: MDC | J2: MDC | K2: MDC | L2: MDC | M2: MDC | N2: MDC | O2: MDC | P2: MDC | Q2: MDC | R2: UD | S2: UD | T2: UD | U2: LSD | V2: LSD | W2: LSD | X2: LSD | Y2: LSD | Z2: LSD | AA2: LSD | AB2: LIT | AC2: LIT | AD2: LIT | AE2: LIT | AF2: LIT | AG2: LIT | AH2: LIT | AI2: LIT | AJ2: LIT | AK2: LIT | AL2: LIT | AM2: LIT | AN2: LIT | AO2: LIT | AP2: LIT | AQ2: LIT | AR2: LIT | AS2: LIT
A3: Algeria | B3: MDC | C3: MDC | D3: MDC | E3: MDC | F3: MDC | G3: MDC | H3: MDC | I3: MDC | J3: MDC | K3: MDC | L3: MDC | M3: MDC | N3: MDC | O3: UD | P3: UD | Q3: UD | R3: LSD | S3: LSD | T3: LSD | U3: LSD | V3: LSD | W3: LSD | X3: LSD | Y3: LSD | Z3: LSD | AA3: LSD | AB3: LSD | AC3: LSD | AD3: LSD | AE3: LSD | AF3: LSD | AG3: LSD | AH3: LSD | AI3: LSD | AJ3: LSD | AK3: LSD | AL3: LSD | AM3: LSD | AN3: LSD | AO3: LSD | AP3: LSD | AQ3: LSD | AR3: LSD | AS3: LSD
A4: Armenia | B4: X | C4: X | D4: X | E4: X | F4: X | G4: X | H4: X | I4: X | J4: X | K4: X | L4: X | M4: X | N4: X | O4: X | P4: X | Q4: X | R4: X | S4: X | T4: UD | U4: UD | V4: UD | W4: LSD | X4: LSD | Y4: LSD | Z4: LSD | AA4: LSD | AB4: LSD | AC4: LSD | AD4: LSD | AE4: LSD | AF4: LSD | AG4: LSD | AH4: LSD | AI4: LSD | AJ4: LSD | AK4: LSD | AL4: LSD | AM4: LIT | AN4: LIT | AO4: LIT | AP4: LIT | AQ4: LIT | AR4: LIT | AS4: LIT
A5: Azerbaijan | B5: X | C5: X | D5: X | E5: X | F5: X | G5: X | H5: X | I5: X | J5: X | K5: X | L5: X | M5: X | N5: X | O5: X | P5: X | Q5: X | R5: X | S5: X | T5: UD | U5: UD | V5: UD | W5: LSD | X5: LSD | Y5: LSD | Z5: LSD | AA5: LSD | AB5: LSD | AC5: LSD | AD5: LSD | AE5: LSD | AF5: LSD | AG5: LSD | AH5: LSD | AI5: LSD | AJ5: LSD | AK5: LSD | AL5: LSD | AM5: LSD | AN5: LSD | AO5: LSD | AP5: LSD | AQ5: LSD | AR5: LSD | AS5: LSD
A6: Belarus | B6: X | C6: X | D6: X | E6: X | F6: X | G6: X | H6: X | I6: X | J6: X | K6: X | L6: X | M6: X | N6: X | O6: X | P6: X | Q6: X | R6: X | S6: X | T6: UD | U6: UD | V6: UD | W6: UD | X6: UD | Y6: UD | Z6: UD | AA6: UD | AB6: LSD | AC6: LSD | AD6: LSD | AE6: LSD | AF6: LSD | AG6: LSD | AH6: LSD | AI6: LSD | AJ6: LSD | AK6: LSD | AL6: LSD | AM6: LSD | AN6: LSD | AO6: LSD | AP6: LSD | AQ6: LSD | AR6: LSD | AS6: LSD
A7: Bolivia | B7: AERF | C7: AERF | D7: AERF | E7: AERF | F7: AERF | G7: AERF | H7: UD | I7: UD | J7: UD | K7: UD | L7: UD | M7: UD | N7: UD | O7: UD | P7: UD | Q7: LSD | R7: LSD | S7: LSD | T7: LSD | U7: LSD | V7: LSD | W7: LSD | X7: LSD | Y7: LSD | Z7: LSD | AA7: LSD | AB7: LSD | AC7: LSD | AD7: LSD | AE7: LSD | AF7: LSD | AG7: LSD | AH7: LSD | AI7: LSD | AJ7: LSD | AK7: LSD | AL7: LSD | AM7: LSD | AN7: LSD | AO7: LSD | AP7: LSD | AQ7: LSD | AR7: LSD | AS7: LSD
A8: Bosnia & Herzegovina | B8: X | C8: X | D8: X | E8: X | F8: X | G8: X | H8: X | I8: X | J8: X | K8: X | L8: X | M8: X | N8: X | O8: X | P8: X | Q8: X | R8: X | S8: X | T8: UD | U8: UD | V8: UD | W8: UD | X8: LSD | Y8: LSD | Z8: PCB | AA8: PCB | AB8: PCB | AC8: PCB | AD8: PCB | AE8: PCB | AF8: PCB | AG8: PCB | AH8: PCB | AI8: PCB | AJ8: PCB | AK8: PCB | AL8: PCB | AM8: PCB | AN8: PCB | AO8: PCB | AP8: PCB | AQ8: PCB | AR8: PCB | AS8: PCB
A9: Brazil | B9: UD | C9: UD | D9: UD | E9: UD | F9: UD | G9: UD | H9: UD | I9: UD | J9: UD | K9: UD | L9: UD | M9: UD | N9: LSD | O9: LSD | P9: LSD | Q9: LSD | R9: LSD | S9: LSD | T9: LSD | U9: LSD | V9: LSD | W9: LSD | X9: LSD | Y9: LSD | Z9: LSD | AA9: LCIT | AB9: LCIT | AC9: LSD | AD9: LSD | AE9: LSD | AF9: LIT | AG9: LIT | AH9: LIT | AI9: LIT | AJ9: LIT | AK9: LIT | AL9: LIT | AM9: LIT | AN9: LIT | AO9: LIT | AP9: LIT | AQ9: LIT | AR9: LIT | AS9: LIT
A10: Bulgaria | B10: MDC | C10: MDC | D10: MDC | E10: MDC | F10: MDC | G10: MDC | H10: MDC | I10: MDC | J10: MDC | K10: MDC | L10: MDC | M10: MDC | N10: MDC | O10: MDC | P10: MDC | Q10: MDC | R10: UD | S10: UD | T10: UD | U10: UD | V10: UD | W10: UD | X10: UD | Y10: UD | Z10: ACB | AA10: ACB | AB10: ACB | AC10: ACB | AD10: ACB | AE10: ACB | AF10: ACB | AG10: ACB | AH10: ACB | AI10: ACB | AJ10: ACB | AK10: ACB | AL10: ACB | AM10: ACB | AN10: ACB | AO10: ACB | AP10: ACB | AQ10: ACB | AR10: ACB | AS10: ACB
A11: Cabo Verde | B11: X | C11: AERF | D11: AERF | E11: AERF | F11: AERF | G11: AERF | H11: AERF | I11: AERF | J11: AERF | K11: AERF | L11: AERF | M11: AERF | N11: AERF | O11: AERF | P11: AERF | Q11: AERF | R11: AERF | S11: AERF | T11: AERF | U11: AERF | V11: AERF | W11: AERF | X11: AERF | Y11: AERF | Z11: AERF | AA11: AERF | AB11: AERF | AC11: AERF | AD11: AERF | AE11: AERF | AF11: AERF | AG11: AERF | AH11: AERF | AI11: AERF | AJ11: AERF | AK11: AERF | AL11: AERF | AM11: AERF | AN11: AERF | AO11: AERF | AP11: AERF | AQ11: AERF | AR11: AERF | AS11: AERF
A12: Cameroon | B12: CU | C12: CU | D12: CU | E12: CU | F12: CU | G12: CU | H12: CU | I12: CU | J12: CU | K12: CU | L12: CU | M12: CU | N12: CU | O12: CU | P12: CU | Q12: CU | R12: CU | S12: CU | T12: CU | U12: CU | V12: CU | W12: CU | X12: CU | Y12: CU | Z12: CU | AA12: CU | AB12: CU | AC12: CU | AD12: CU | AE12: CU | AF12: CU | AG12: CU | AH12: CU | AI12: CU | AJ12: CU | AK12: CU | AL12: CU | AM12: CU | AN12: CU | AO12: CU | AP12: CU | AQ12: CU | AR12: CU | AS12: CU
A13: China | B13: MDC | C13: MDC | D13: MDC | E13: MDC | F13: MDC | G13: MDC | H13: MDC | I13: MDC | J13: MDC | K13: MDC | L13: UD | M13: UD | N13: UD | O13: UD | P13: UD | Q13: UD | R13: UD | S13: UD | T13: UD | U13: UD | V13: LSD | W13: LSD | X13: LSD | Y13: LSD | Z13: LSD | AA13: LSD | AB13: LSD | AC13: LSD | AD13: LSD | AE13: LSD | AF13: LSD | AG13: LSD | AH13: LSD | AI13: LSD | AJ13: LSD | AK13: LSD | AL13: LSD | AM13: LSD | AN13: LSD | AO13: LSD | AP13: LSD | AQ13: LSD | AR13: LSD | AS13: LSD
... A55: Vanuatu | B55: X | C55: X | D55: X | E55: X | F55: X | G55: X | H55: X | I55: AERF | J55: AERF | K55: AERF | L55: AERF | M55: AERF | N55: AERF | O55: AERF | P55: AERF | Q55: AERF | R55: AERF | S55: AERF | T55: AERF | U55: AERF | V55: AERF | W55: AERF | X55: AERF | Y55: AERF | Z55: AERF | AA55: AERF | AB55: AERF | AC55: AERF | AD55: AERF | AE55: AERF | AF55: AERF | AG55: AERF | AH55: AERF | AI55: AERF | AJ55: AERF | AK55: AERF | AL55: AERF | AM55: AERF | AN55: AERF | AO55: AERF | AP55: AERF | AQ55: AERF | AR55: AERF | AS55: AERF
B59: 1974
A60: X | B60: =COUNTIF(B2:B55,"X") -> 16 | C60: =COUNTIF(C2:C55,"X") -> 15 | D60: =COUNTIF(D2:D55,"X") -> 15 | E60: =COUNTIF(E2:E55,"X") -> 14 | F60: =COUNTIF(F2:F55,"X") -> 14 | G60: =COUNTIF(G2:G55,"X") -> 14 | H60: =COUNTIF(H2:H55,"X") -> 14 | I60: =COUNTIF(I2:I55,"X") -> 13 | ... AS60: =COUNTIF(AS2:AS55,"X") -> 1
A61: MDC | B61: =COUNTIF(B2:B55,"MDC") -> 9 | C61: =COUNTIF(C2:C55,"MDC") -> 9 | D61: =COUNTIF(D2:D55,"MDC") -> 9 | E61: =COUNTIF(E2:E55,"MDC") -> 8 | F61: =COUNTIF(F2:F55,"MDC") -> 8 | G61: =COUNTIF(G2:G55,"MDC") -> 8 | H61: =COUNTIF(H2:H55,"MDC") -> 8 | I61: =COUNTIF(I2:I55,"MDC") -> 8 | ... AS61: =COUNTIF(AS2:AS55,"MDC") -> 0
A62: PERF | B62: =COUNTIF(B2:B55,"PERF") -> 0 | C62: =COUNTIF(C2:C55,"PERF") -> 0 | D62: =COUNTIF(D2:D55,"PERF") -> 0 | E62: =COUNTIF(E2:E55,"PERF") -> 0 | F62: =COUNTIF(F2:F55,"PERF") -> 0 | G62: =COUNTIF(G2:G55,"PERF") -> 1 | H62: =COUNTIF(H2:H55,"PERF") -> 1 | I62: =COUNTIF(I2:I55,"PERF") -> 1 | ... AS62: =COUNTIF(AS2:AS55,"PERF") -> 0
A63: AERF | B63: =COUNTIF(B2:B55,"AERF") -> 17 | C63: =COUNTIF(C2:C55,"AERF") -> 18 | D63: =COUNTIF(D2:D55,"AERF") -> 18 | E63: =COUNTIF(E2:E55,"AERF") -> 17 | F63: =COUNTIF(F2:F55,"AERF") -> 16 | G63: =COUNTIF(G2:G55,"AERF") -> 15 | H63: =COUNTIF(H2:H55,"AERF") -> 13 | I63: =COUNTIF(I2:I55,"AERF") -> 13 | ... AS63: =COUNTIF(AS2:AS55,"AERF") -> 8
A64: PCB | B64: =COUNTIF(B2:B55,"PCB") -> 0 | C64: =COUNTIF(C2:C55,"PCB") -> 0 | D64: =COUNTIF(D2:D55,"PCB") -> 0 | E64: =COUNTIF(E2:E55,"PCB") -> 1 | F64: =COUNTIF(F2:F55,"PCB") -> 1 | G64: =COUNTIF(G2:G55,"PCB") -> 1 | H64: =COUNTIF(H2:H55,"PCB") -> 1 | I64: =COUNTIF(I2:I55,"PCB") -> 1 | ... AS64: =COUNTIF(AS2:AS55,"PCB") -> 2
A65: ACB | B65: =COUNTIF(B2:B55,"ACB") -> 0 | C65: =COUNTIF(C2:C55,"ACB") -> 0 | D65: =COUNTIF(D2:D55,"ACB") -> 0 | E65: =COUNTIF(E2:E55,"ACB") -> 0 | F65: =COUNTIF(F2:F55,"ACB") -> 0 | G65: =COUNTIF(G2:G55,"ACB") -> 0 | H65: =COUNTIF(H2:H55,"ACB") -> 0 | I65: =COUNTIF(I2:I55,"ACB") -> 0 | ... AS65: =COUNTIF(AS2:AS55,"ACB") -> 1
A66: UD | B66: =COUNTIF(B2:B55,"UD") -> 4 | C66: =COUNTIF(C2:C55,"UD") -> 4 | D66: =COUNTIF(D2:D55,"UD") -> 4 | E66: =COUNTIF(E2:E55,"UD") -> 5 | F66: =COUNTIF(F2:F55,"UD") -> 5 | G66: =COUNTIF(G2:G55,"UD") -> 4 | H66: =COUNTIF(H2:H55,"UD") -> 7 | I66: =COUNTIF(I2:I55,"UD") -> 7 | ... AS66: =COUNTIF(AS2:AS55,"UD") -> 1
A67: LERT | B67: =COUNTIF(B2:B55,"LERT") -> 0 | C67: =COUNTIF(C2:C55,"LERT") -> 0 | D67: =COUNTIF(D2:D55,"LERT") -> 0 | E67: =COUNTIF(E2:E55,"LERT") -> 0 | F67: =COUNTIF(F2:F55,"LERT") -> 0 | G67: =COUNTIF(G2:G55,"LERT") -> 0 | H67: =COUNTIF(H2:H55,"LERT") -> 0 | I67: =COUNTIF(I2:I55,"LERT") -> 0 | ... AS67: =COUNTIF(AS2:AS55,"LERT") -> 1
A68: LCERT | B68: =COUNTIF(B2:B55,"LCERT") -> 0 | C68: =COUNTIF(C2:C55,"LCERT") -> 0 | D68: =COUNTIF(D2:D55,"LCERT") -> 0 | E68: =COUNTIF(E2:E55,"LCERT") -> 0 | F68: =COUNTIF(F2:F55,"LCERT") -> 0 | G68: =COUNTIF(G2:G55,"LCERT") -> 0 | H68: =COUNTIF(H2:H55,"LCERT") -> 0 | I68: =COUNTIF(I2:I55,"LCERT") -> 0 | ... AS68: =COUNTIF(AS2:AS55,"LCERT") -> 0
A69: LMT | B69: =COUNTIF(B2:B55,"LMT") -> 0 | C69: =COUNTIF(C2:C55,"LMT") -> 0 | D69: =COUNTIF(D2:D55,"LMT") -> 0 | E69: =COUNTIF(E2:E55,"LMT") -> 0 | F69: =COUNTIF(F2:F55,"LMT") -> 0 | G69: =COUNTIF(G2:G55,"LMT") -> 0 | H69: =COUNTIF(H2:H55,"LMT") -> 0 | I69: =COUNTIF(I2:I55,"LMT") -> 0 | ... AS69: =COUNTIF(AS2:AS55,"LMT") -> 0
A70: LCMT | B70: =COUNTIF(B2:B55,"LCMT") -> 0 | C70: =COUNTIF(C2:C55,"LCMT") -> 0 | D70: =COUNTIF(D2:D55,"LCMT") -> 0 | E70: =COUNTIF(E2:E55,"LCMT") -> 0 | F70: =COUNTIF(F2:F55,"LCMT") -> 0 | G70: =COUNTIF(G2:G55,"LCMT") -> 0 | H70: =COUNTIF(H2:H55,"LCMT") -> 0 | I70: =COUNTIF(I2:I55,"LCMT") -> 0 | ... AS70: =COUNTIF(AS2:AS55,"LCMT") -> 0
A71: LIT | B71: =COUNTIF(B2:B55,"LIT") -> 0 | C71: =COUNTIF(C2:C55,"LIT") -> 0 | D71: =COUNTIF(D2:D55,"LIT") -> 0 | E71: =COUNTIF(E2:E55,"LIT") -> 0 | F71: =COUNTIF(F2:F55,"LIT") -> 0 | G71: =COUNTIF(G2:G55,"LIT") -> 0 | H71: =COUNTIF(H2:H55,"LIT") -> 0 | I71: =COUNTIF(I2:I55,"LIT") -> 0 | ... AS71: =COUNTIF(AS2:AS55,"LIT") -> 9
A72: LCIT | B72: =COUNTIF(B2:B55,"LCIT") -> 0 | C72: =COUNTIF(C2:C55,"LCIT") -> 0 | D72: =COUNTIF(D2:D55,"LCIT") -> 0 | E72: =COUNTIF(E2:E55,"LCIT") -> 0 | F72: =COUNTIF(F2:F55,"LCIT") -> 0 | G72: =COUNTIF(G2:G55,"LCIT") -> 0 | H72: =COUNTIF(H2:H55,"LCIT") -> 0 | I72: =COUNTIF(I2:I55,"LCIT") -> 0 | ... AS72: =COUNTIF(AS2:AS55,"LCIT") -> 2
A73: MwERT | B73: =COUNTIF(B2:B55,"MwERT") -> 0 | C73: =COUNTIF(C2:C55,"MwERT") -> 0 | D73: =COUNTIF(D2:D55,"MwERT") -> 0 | E73: =COUNTIF(E2:E55,"MwERT") -> 0 | F73: =COUNTIF(F2:F55,"MwERT") -> 0 | G73: =COUNTIF(G2:G55,"MwERT") -> 0 | H73: =COUNTIF(H2:H55,"MwERT") -> 0 | I73: =COUNTIF(I2:I55,"MwERT") -> 0 | ... AS73: =COUNTIF(AS2:AS55,"MwERT") -> 0
A74: ERwMT | B74: =COUNTIF(B2:B55,"ERwMT") -> 0 | C74: =COUNTIF(C2:C55,"ERwMT") -> 0 | D74: =COUNTIF(D2:D55,"ERwMT") -> 0 | E74: =COUNTIF(E2:E55,"ERwMT") -> 0 | F74: =COUNTIF(F2:F55,"ERwMT") -> 0 | G74: =COUNTIF(G2:G55,"ERwMT") -> 0 | H74: =COUNTIF(H2:H55,"ERwMT") -> 0 | I74: =COUNTIF(I2:I55,"ERwMT") -> 0 | ... AS74: =COUNTIF(AS2:AS55,"ERwMT") -> 0
A75: M&ERT | B75: =COUNTIF(B2:B55,"M&ERT") -> 0 | C75: =COUNTIF(C2:C55,"M&ERT") -> 0 | D75: =COUNTIF(D2:D55,"M&ERT") -> 0 | E75: =COUNTIF(E2:E55,"M&ERT") -> 0 | F75: =COUNTIF(F2:F55,"M&ERT") -> 0 | G75: =COUNTIF(G2:G55,"M&ERT") -> 0 | H75: =COUNTIF(H2:H55,"M&ERT") -> 0 | I75: =COUNTIF(I2:I55,"M&ERT") -> 0 | ... AS75: =COUNTIF(AS2:AS55,"M&ERT") -> 0
A76: MwIT | B76: =COUNTIF(B2:B55,"MwIT") -> 0 | C76: =COUNTIF(C2:C55,"MwIT") -> 0 | D76: =COUNTIF(D2:D55,"MwIT") -> 0 | E76: =COUNTIF(E2:E55,"MwIT") -> 0 | F76: =COUNTIF(F2:F55,"MwIT") -> 0 | G76: =COUNTIF(G2:G55,"MwIT") -> 0 | H76: =COUNTIF(H2:H55,"MwIT") -> 0 | I76: =COUNTIF(I2:I55,"MwIT") -> 0 | ... AS76: =COUNTIF(AS2:AS55,"MwIT") -> 0
A77: IwMT | B77: =COUNTIF(B2:B55,"IwMT") -> 0 | C77: =COUNTIF(C2:C55,"IwMT") -> 0 | D77: =COUNTIF(D2:D55,"IwMT") -> 0 | E77: =COUNTIF(E2:E55,"IwMT") -> 0 | F77: =COUNTIF(F2:F55,"IwMT") -> 0 | G77: =COUNTIF(G2:G55,"IwMT") -> 0 | H77: =COUNTIF(H2:H55,"IwMT") -> 0 | I77: =COUNTIF(I2:I55,"IwMT") -> 0 | ... AS77: =COUNTIF(AS2:AS55,"IwMT") -> 0
A78: M&IT | B78: =COUNTIF(B2:B55,"M&IT") -> 0 | C78: =COUNTIF(C2:C55,"M&IT") -> 0 | D78: =COUNTIF(D2:D55,"M&IT") -> 0 | E78: =COUNTIF(E2:E55,"M&IT") -> 0 | F78: =COUNTIF(F2:F55,"M&IT") -> 0 | G78: =COUNTIF(G2:G55,"M&IT") -> 0 | H78: =COUNTIF(H2:H55,"M&IT") -> 0 | I78: =COUNTIF(I2:I55,"M&IT") -> 0 | ... AS78: =COUNTIF(AS2:AS55,"M&IT") -> 0
A79: IwERT | B79: =COUNTIF(B2:B55,"IwERT") -> 0 | C79: =COUNTIF(C2:C55,"IwERT") -> 0 | D79: =COUNTIF(D2:D55,"IwERT") -> 0 | E79: =COUNTIF(E2:E55,"IwERT") -> 0 | F79: =COUNTIF(F2:F55,"IwERT") -> 0 | G79: =COUNTIF(G2:G55,"IwERT") -> 0 | H79: =COUNTIF(H2:H55,"IwERT") -> 0 | I79: =COUNTIF(I2:I55,"IwERT") -> 0 | ... AS79: =COUNTIF(AS2:AS55,"IwERT") -> 0
A80: ERwIT | B80: =COUNTIF(B2:B55,"ERwIT") -> 0 | C80: =COUNTIF(C2:C55,"ERwIT") -> 0 | D80: =COUNTIF(D2:D55,"ERwIT") -> 0 | E80: =COUNTIF(E2:E55,"ERwIT") -> 0 | F80: =COUNTIF(F2:F55,"ERwIT") -> 0 | G80: =COUNTIF(G2:G55,"ERwIT") -> 0 | H80: =COUNTIF(H2:H55,"ERwIT") -> 0 | I80: =COUNTIF(I2:I55,"ERwIT") -> 0 | ... AS80: =COUNTIF(AS2:AS55,"ERwIT") -> 0
A81: I&ERT | B81: =COUNTIF(B2:B55,"I&ERT") -> 0 | C81: =COUNTIF(C2:C55,"I&ERT") -> 0 | D81: =COUNTIF(D2:D55,"I&ERT") -> 0 | E81: =COUNTIF(E2:E55,"I&ERT") -> 0 | F81: =COUNTIF(F2:F55,"I&ERT") -> 0 | G81: =COUNTIF(G2:G55,"I&ERT") -> 0 | H81: =COUNTIF(H2:H55,"I&ERT") -> 0 | I81: =COUNTIF(I2:I55,"I&ERT") -> 0 | ... AS81: =COUNTIF(AS2:AS55,"I&ERT") -> 0
A82: ER&M&IT | B82: =COUNTIF(B2:B55,"ER&M&IT") -> 0 | C82: =COUNTIF(C2:C55,"ER&M&IT") -> 0 | D82: =COUNTIF(D2:D55,"ER&M&IT") -> 0 | E82: =COUNTIF(E2:E55,"ER&M&IT") -> 0 | F82: =COUNTIF(F2:F55,"ER&M&IT") -> 0 | G82: =COUNTIF(G2:G55,"ER&M&IT") -> 0 | H82: =COUNTIF(H2:H55,"ER&M&IT") -> 0 | I82: =COUNTIF(I2:I55,"ER&M&IT") -> 0 | ... AS82: =COUNTIF(AS2:AS55,"ER&M&IT") -> 0
A83: LSD | B83: =COUNTIF(B2:B55,"LSD") -> 4 | C83: =COUNTIF(C2:C55,"LSD") -> 5 | D83: =COUNTIF(D2:D55,"LSD") -> 5 | E83: =COUNTIF(E2:E55,"LSD") -> 6 | F83: =COUNTIF(F2:F55,"LSD") -> 7 | G83: =COUNTIF(G2:G55,"LSD") -> 8 | H83: =COUNTIF(H2:H55,"LSD") -> 8 | I83: =COUNTIF(I2:I55,"LSD") -> 9 | ... AS83: =COUNTIF(AS2:AS55,"LSD") -> 19
A84: UASC | B84: =COUNTIF(B2:B55,"UASC") -> 2 | C84: =COUNTIF(C2:C55,"UASC") -> 1 | D84: =COUNTIF(D2:D55,"UASC") -> 1 | E84: =COUNTIF(E2:E55,"UASC") -> 1 | F84: =COUNTIF(F2:F55,"UASC") -> 1 | G84: =COUNTIF(G2:G55,"UASC") -> 1 | H84: =COUNTIF(H2:H55,"UASC") -> 0 | I84: =COUNTIF(I2:I55,"UASC") -> 0 | ... AS84: =COUNTIF(AS2:AS55,"UASC") -> 3
A85: CU | B85: =COUNTIF(B2:B55,"CU") -> 2 | C85: =COUNTIF(C2:C55,"CU") -> 2 | D85: =COUNTIF(D2:D55,"CU") -> 2 | E85: =COUNTIF(E2:E55,"CU") -> 2 | F85: =COUNTIF(F2:F55,"CU") -> 2 | G85: =COUNTIF(G2:G55,"CU") -> 2 | H85: =COUNTIF(H2:H55,"CU") -> 2 | I85: =COUNTIF(I2:I55,"CU") -> 2 | ... AS85: =COUNTIF(AS2:AS55,"CU") -> 2
A86: FERT | B86: =COUNTIF(B2:B55,"FERT") -> 0 | C86: =COUNTIF(C2:C55,"FERT") -> 0 | D86: =COUNTIF(D2:D55,"FERT") -> 0 | E86: =COUNTIF(E2:E55,"FERT") -> 0 | F86: =COUNTIF(F2:F55,"FERT") -> 0 | G86: =COUNTIF(G2:G55,"FERT") -> 0 | H86: =COUNTIF(H2:H55,"FERT") -> 0 | I86: =COUNTIF(I2:I55,"FERT") -> 0 | ... AS86: =COUNTIF(AS2:AS55,"FERT") -> 2
A87: FCERT | B87: =COUNTIF(B2:B55,"FCERT") -> 0 | C87: =COUNTIF(C2:C55,"FCERT") -> 0 | D87: =COUNTIF(D2:D55,"FCERT") -> 0 | E87: =COUNTIF(E2:E55,"FCERT") -> 0 | F87: =COUNTIF(F2:F55,"FCERT") -> 0 | G87: =COUNTIF(G2:G55,"FCERT") -> 0 | H87: =COUNTIF(H2:H55,"FCERT") -> 0 | I87: =COUNTIF(I2:I55,"FCERT") -> 0 | ... AS87: =COUNTIF(AS2:AS55,"FCERT") -> 0
A88: FMT | B88: =COUNTIF(B2:B55,"FMT") -> 0 | C88: =COUNTIF(C2:C55,"FMT") -> 0 | D88: =COUNTIF(D2:D55,"FMT") -> 0 | E88: =COUNTIF(E2:E55,"FMT") -> 0 | F88: =COUNTIF(F2:F55,"FMT") -> 0 | G88: =COUNTIF(G2:G55,"FMT") -> 0 | H88: =COUNTIF(H2:H55,"FMT") -> 0 | I88: =COUNTIF(I2:I55,"FMT") -> 0 | ... AS88: =COUNTIF(AS2:AS55,"FMT") -> 0
A89: FCMT | B89: =COUNTIF(B2:B55,"FCMT") -> 0 | C89: =COUNTIF(C2:C55,"FCMT") -> 0 | D89: =COUNTIF(D2:D55,"FCMT") -> 0 | E89: =COUNTIF(E2:E55,"FCMT") -> 0 | F89: =COUNTIF(F2:F55,"FCMT") -> 0 | G89: =COUNTIF(G2:G55,"FCMT") -> 0 | H89: =COUNTIF(H2:H55,"FCMT") -> 0 | I89: =COUNTIF(I2:I55,"FCMT") -> 0 | ... AS89: =COUNTIF(AS2:AS55,"FCMT") -> 0
A90: FIT | B90: =COUNTIF(B2:B55,"FIT") -> 0 | C90: =COUNTIF(C2:C55,"FIT") -> 0 | D90: =COUNTIF(D2:D55,"FIT") -> 0 | E90: =COUNTIF(E2:E55,"FIT") -> 0 | F90: =COUNTIF(F2:F55,"FIT") -> 0 | G90: =COUNTIF(G2:G55,"FIT") -> 0 | H90: =COUNTIF(H2:H55,"FIT") -> 0 | I90: =COUNTIF(I2:I55,"FIT") -> 0 | ... AS90: =COUNTIF(AS2:AS55,"FIT") -> 3
A91: FCIT | B91: =COUNTIF(B2:B55,"FCIT") -> 0 | C91: =COUNTIF(C2:C55,"FCIT") -> 0 | D91: =COUNTIF(D2:D55,"FCIT") -> 0 | E91: =COUNTIF(E2:E55,"FCIT") -> 0 | F91: =COUNTIF(F2:F55,"FCIT") -> 0 | G91: =COUNTIF(G2:G55,"FCIT") -> 0 | H91: =COUNTIF(H2:H55,"FCIT") -> 0 | I91: =COUNTIF(I2:I55,"FCIT") -> 0 | ... AS91: =COUNTIF(AS2:AS55,"FCIT") -> 0
A92: WSD | B92: =COUNTIF(B2:B55,"WSD") -> 0 | C92: =COUNTIF(C2:C55,"WSD") -> 0 | D92: =COUNTIF(D2:D55,"WSD") -> 0 | E92: =COUNTIF(E2:E55,"WSD") -> 0 | F92: =COUNTIF(F2:F55,"WSD") -> 0 | G92: =COUNTIF(G2:G55,"WSD") -> 0 | H92: =COUNTIF(H2:H55,"WSD") -> 0 | I92: =COUNTIF(I2:I55,"WSD") -> 0 | ... AS92: =COUNTIF(AS2:AS55,"WSD") -> 0
A94: total | B94: =SUM(B60:B92) -> 54 | C94: =SUM(C60:C92) -> 54 | D94: =SUM(D60:D92) -> 54 | E94: =SUM(E60:E92) -> 54 | F94: =SUM(F60:F92) -> 54 | G94: =SUM(G60:G92) -> 54 | H94: =SUM(H60:H92) -> 54 | I94: =SUM(I60:I92) -> 54 | ... AS94: =SUM(AS60:AS92) -> 54

Sheet targvar
A1: country | B1: 1974 | C1: 1975 | D1: 1976 | E1: 1977 | F1: 1978 | G1: 1979 | H1: 1980 | I1: 1981 | J1: 1982 | K1: 1983 | L1: 1984 | M1: 1985 | N1: 1986 | O1: 1987 | P1: 1988 | Q1: 1989 | R1: 1990 | S1: 1991 | T1: 1992 | U1: 1993 | V1: 1994 | W1: 1995 | X1: 1996 | Y1: 1997 | Z1: 1998 | AA1: 1999 | AB1: 2000 | AC1: 2001 | AD1: 2002 | AE1: 2003 | AF1: 2004 | AG1: 2005 | AH1: 2006 | AI1: 2007 | AJ1: 2008 | AK1: 2009 | AL1: 2010 | AM1: 2011 | AN1: 2012 | AO1: 2013 | AP1: 2014 | AQ1: 2015 | AR1: 2016 | AS1: 2017
A2: Albania | B2: =IF('full menu'!B2="MDC","MDC",IF('full menu'!B2="X","X",IF('full menu'!B2="UASC","UASC",IF(OR('full menu'!B2="PERF",'full menu'!B2="AERF",'full menu'!B2="PCB"),"ERfix",IF(OR('full menu'!B2="ACB",'full menu'!B2="LCERT",'full menu'!B2="LERT",'full menu'!B2="FCERT",'full menu'!B2="FERT"),"ERTs",IF(OR('full menu'!B2="FCMT",'full menu'!B2="FMT",'full menu'!B2="LMT",'full menu'!B2="LCMT"),"MTs",IF(OR('full menu'!B2="LCIT",'full menu'!B2="FCIT",'full menu'!B2="LIT",'full menu'!B2="FIT"),"ITs",IF(OR('full menu'!B2="MwERT",'full menu'!B2="ERwMT",'full menu'!B2="M&ERT",'full menu'!B2="MwIT",'full menu'!B2="IwMT",'full menu'!B2="M&IT",'full menu'!B2="IwERT",'full menu'!B2="ERwIT",'full menu'!B2="I&ERT",'full menu'!B2="ER&M&IT"),"MixedTs",IF('full menu'!B2="UD","UD",IF('full menu'!B2="LSD","LSD",IF('full menu'!B2="WSD","WSD",""))))))))))) -> MDC | C2: =IF('full menu'!C2="MDC","MDC",IF('full menu'!C2="X","X",IF('full menu'!C2="UASC","UASC",IF(OR('full menu'!C2="PERF",'full menu'!C2="AERF",'full menu'!C2="PCB"),"ERfix",IF(OR('full menu'!C2="ACB",'full menu'!C2="LCERT",'full menu'!C2="LERT",'full menu'!C2="FCERT",'full menu'!C2="FERT"),"ERTs",IF(OR('full menu'!C2="FCMT",'full menu'!C2="FMT",'full menu'!C2="LMT",'full menu'!C2="LCMT"),"MTs",IF(OR('full menu'!C2="LCIT",'full menu'!C2="FCIT",'full menu'!C2="LIT",'full menu'!C2="FIT"),"ITs",IF(OR('full menu'!C2="MwERT",'full menu'!C2="ERwMT",'full menu'!C2="M&ERT",'full menu'!C2="MwIT",'full menu'!C2="IwMT",'full menu'!C2="M&IT",'full menu'!C2="IwERT",'full menu'!C2="ERwIT",'full menu'!C2="I&ERT",'full menu'!C2="ER&M&IT"),"MixedTs",IF('full menu'!C2="UD","UD",IF('full menu'!C2="LSD","LSD",IF('full menu'!C2="WSD","WSD",""))))))))))) -> MDC | D2: =IF('full menu'!D2="MDC","MDC",IF('full menu'!D2="X","X",IF('full menu'!D2="UASC","UASC",IF(OR('full menu'!D2="PERF",'full menu'!D2="AERF",'full menu'!D2="PCB"),"ERfix",IF(OR('full menu'!D2="ACB",'full menu'!D2="LCERT",'full menu'!D2="LERT",'full menu'!D2="FCERT",'full menu'!D2="FERT"),"ERTs",IF(OR('full menu'!D2="FCMT",'full menu'!D2="FMT",'full menu'!D2="LMT",'full menu'!D2="LCMT"),"MTs",IF(OR('full menu'!D2="LCIT",'full menu'!D2="FCIT",'full menu'!D2="LIT",'full menu'!D2="FIT"),"ITs",IF(OR('full menu'!D2="MwERT",'full menu'!D2="ERwMT",'full menu'!D2="M&ERT",'full menu'!D2="MwIT",'full menu'!D2="IwMT",'full menu'!D2="M&IT",'full menu'!D2="IwERT",'full menu'!D2="ERwIT",'full menu'!D2="I&ERT",'full menu'!D2="ER&M&IT"),"MixedTs",IF('full menu'!D2="UD","UD",IF('full menu'!D2="LSD","LSD",IF('full menu'!D2="WSD","WSD",""))))))))))) -> MDC | E2: =IF('full menu'!E2="MDC","MDC",IF('full menu'!E2="X","X",IF('full menu'!E2="UASC","UASC",IF(OR('full menu'!E2="PERF",'full menu'!E2="AERF",'full menu'!E2="PCB"),"ERfix",IF(OR('full menu'!E2="ACB",'full menu'!E2="LCERT",'full menu'!E2="LERT",'full menu'!E2="FCERT",'full menu'!E2="FERT"),"ERTs",IF(OR('full menu'!E2="FCMT",'full menu'!E2="FMT",'full menu'!E2="LMT",'full menu'!E2="LCMT"),"MTs",IF(OR('full menu'!E2="LCIT",'full menu'!E2="FCIT",'full menu'!E2="LIT",'full menu'!E2="FIT"),"ITs",IF(OR('full menu'!E2="MwERT",'full menu'!E2="ERwMT",'full menu'!E2="M&ERT",'full menu'!E2="MwIT",'full menu'!E2="IwMT",'full menu'!E2="M&IT",'full menu'!E2="IwERT",'full menu'!E2="ERwIT",'full menu'!E2="I&ERT",'full menu'!E2="ER&M&IT"),"MixedTs",IF('full menu'!E2="UD","UD",IF('full menu'!E2="LSD","LSD",IF('full menu'!E2="WSD","WSD",""))))))))))) -> MDC | F2: =IF('full menu'!F2="MDC","MDC",IF('full menu'!F2="X","X",IF('full menu'!F2="UASC","UASC",IF(OR('full menu'!F2="PERF",'full menu'!F2="AERF",'full menu'!F2="PCB"),"ERfix",IF(OR('full menu'!F2="ACB",'full menu'!F2="LCERT",'full menu'!F2="LERT",'full menu'!F2="FCERT",'full menu'!F2="FERT"),"ERTs",IF(OR('full menu'!F2="FCMT",'full menu'!F2="FMT",'full menu'!F2="LMT",'full menu'!F2="LCMT"),"MTs",IF(OR('full menu'!F2="LCIT",'full menu'!F2="FCIT",'full menu'!F2="LIT",'full menu'!F2="FIT"),"ITs",IF(OR('full menu'!F2="MwERT",'full menu'!F2="ERwMT",'full menu'!F2="M&ERT",'full menu'!F2="MwIT",'full menu'!F2="IwMT",'full menu'!F2="M&IT",'full menu'!F2="IwERT",'full menu'!F2="ERwIT",'full menu'!F2="I&ERT",'full menu'!F2="ER&M&IT"),"MixedTs",IF('full menu'!F2="UD","UD",IF('full menu'!F2="LSD","LSD",IF('full menu'!F2="WSD","WSD",""))))))))))) -> MDC | G2: =IF('full menu'!G2="MDC","MDC",IF('full menu'!G2="X","X",IF('full menu'!G2="UASC","UASC",IF(OR('full menu'!G2="PERF",'full menu'!G2="AERF",'full menu'!G2="PCB"),"ERfix",IF(OR('full menu'!G2="ACB",'full menu'!G2="LCERT",'full menu'!G2="LERT",'full menu'!G2="FCERT",'full menu'!G2="FERT"),"ERTs",IF(OR('full menu'!G2="FCMT",'full menu'!G2="FMT",'full menu'!G2="LMT",'full menu'!G2="LCMT"),"MTs",IF(OR('full menu'!G2="LCIT",'full menu'!G2="FCIT",'full menu'!G2="LIT",'full menu'!G2="FIT"),"ITs",IF(OR('full menu'!G2="MwERT",'full menu'!G2="ERwMT",'full menu'!G2="M&ERT",'full menu'!G2="MwIT",'full menu'!G2="IwMT",'full menu'!G2="M&IT",'full menu'!G2="IwERT",'full menu'!G2="ERwIT",'full menu'!G2="I&ERT",'full menu'!G2="ER&M&IT"),"MixedTs",IF('full menu'!G2="UD","UD",IF('full menu'!G2="LSD","LSD",IF('full menu'!G2="WSD","WSD",""))))))))))) -> MDC | H2: =IF('full menu'!H2="MDC","MDC",IF('full menu'!H2="X","X",IF('full menu'!H2="UASC","UASC",IF(OR('full menu'!H2="PERF",'full menu'!H2="AERF",'full menu'!H2="PCB"),"ERfix",IF(OR('full menu'!H2="ACB",'full menu'!H2="LCERT",'full menu'!H2="LERT",'full menu'!H2="FCERT",'full menu'!H2="FERT"),"ERTs",IF(OR('full menu'!H2="FCMT",'full menu'!H2="FMT",'full menu'!H2="LMT",'full menu'!H2="LCMT"),"MTs",IF(OR('full menu'!H2="LCIT",'full menu'!H2="FCIT",'full menu'!H2="LIT",'full menu'!H2="FIT"),"ITs",IF(OR('full menu'!H2="MwERT",'full menu'!H2="ERwMT",'full menu'!H2="M&ERT",'full menu'!H2="MwIT",'full menu'!H2="IwMT",'full menu'!H2="M&IT",'full menu'!H2="IwERT",'full menu'!H2="ERwIT",'full menu'!H2="I&ERT",'full menu'!H2="ER&M&IT"),"MixedTs",IF('full menu'!H2="UD","UD",IF('full menu'!H2="LSD","LSD",IF('full menu'!H2="WSD","WSD",""))))))))))) -> MDC | I2: =IF('full menu'!I2="MDC","MDC",IF('full menu'!I2="X","X",IF('full menu'!I2="UASC","UASC",IF(OR('full menu'!I2="PERF",'full menu'!I2="AERF",'full menu'!I2="PCB"),"ERfix",IF(OR('full menu'!I2="ACB",'full menu'!I2="LCERT",'full menu'!I2="LERT",'full menu'!I2="FCERT",'full menu'!I2="FERT"),"ERTs",IF(OR('full menu'!I2="FCMT",'full menu'!I2="FMT",'full menu'!I2="LMT",'full menu'!I2="LCMT"),"MTs",IF(OR('full menu'!I2="LCIT",'full menu'!I2="FCIT",'full menu'!I2="LIT",'full menu'!I2="FIT"),"ITs",IF(OR('full menu'!I2="MwERT",'full menu'!I2="ERwMT",'full menu'!I2="M&ERT",'full menu'!I2="MwIT",'full menu'!I2="IwMT",'full menu'!I2="M&IT",'full menu'!I2="IwERT",'full menu'!I2="ERwIT",'full menu'!I2="I&ERT",'full menu'!I2="ER&M&IT"),"MixedTs",IF('full menu'!I2="UD","UD",IF('full menu'!I2="LSD","LSD",IF('full menu'!I2="WSD","WSD",""))))))))))) -> MDC | ... AS2: =IF('full menu'!AS2="MDC","MDC",IF('full menu'!AS2="X","X",IF('full menu'!AS2="UASC","UASC",IF(OR('full menu'!AS2="PERF",'full menu'!AS2="AERF",'full menu'!AS2="PCB"),"ERfix",IF(OR('full menu'!AS2="ACB",'full menu'!AS2="LCERT",'full menu'!AS2="LERT",'full menu'!AS2="FCERT",'full menu'!AS2="FERT"),"ERTs",IF(OR('full menu'!AS2="FCMT",'full menu'!AS2="FMT",'full menu'!AS2="LMT",'full menu'!AS2="LCMT"),"MTs",IF(OR('full menu'!AS2="LCIT",'full menu'!AS2="FCIT",'full menu'!AS2="LIT",'full menu'!AS2="FIT"),"ITs",IF(OR('full menu'!AS2="MwERT",'full menu'!AS2="ERwMT",'full menu'!AS2="M&ERT",'full menu'!AS2="MwIT",'full menu'!AS2="IwMT",'full menu'!AS2="M&IT",'full menu'!AS2="IwERT",'full menu'!AS2="ERwIT",'full menu'!AS2="I&ERT",'full menu'!AS2="ER&M&IT"),"MixedTs",IF('full menu'!AS2="UD","UD",IF('full menu'!AS2="LSD","LSD",IF('full menu'!AS2="WSD","WSD",""))))))))))) -> ITs
A3: Algeria | B3: =IF('full menu'!B3="MDC","MDC",IF('full menu'!B3="X","X",IF('full menu'!B3="UASC","UASC",IF(OR('full menu'!B3="PERF",'full menu'!B3="AERF",'full menu'!B3="PCB"),"ERfix",IF(OR('full menu'!B3="ACB",'full menu'!B3="LCERT",'full menu'!B3="LERT",'full menu'!B3="FCERT",'full menu'!B3="FERT"),"ERTs",IF(OR('full menu'!B3="FCMT",'full menu'!B3="FMT",'full menu'!B3="LMT",'full menu'!B3="LCMT"),"MTs",IF(OR('full menu'!B3="LCIT",'full menu'!B3="FCIT",'full menu'!B3="LIT",'full menu'!B3="FIT"),"ITs",IF(OR('full menu'!B3="MwERT",'full menu'!B3="ERwMT",'full menu'!B3="M&ERT",'full menu'!B3="MwIT",'full menu'!B3="IwMT",'full menu'!B3="M&IT",'full menu'!B3="IwERT",'full menu'!B3="ERwIT",'full menu'!B3="I&ERT",'full menu'!B3="ER&M&IT"),"MixedTs",IF('full menu'!B3="UD","UD",IF('full menu'!B3="LSD","LSD",IF('full menu'!B3="WSD","WSD",""))))))))))) -> MDC | C3: =IF('full menu'!C3="MDC","MDC",IF('full menu'!C3="X","X",IF('full menu'!C3="UASC","UASC",IF(OR('full menu'!C3="PERF",'full menu'!C3="AERF",'full menu'!C3="PCB"),"ERfix",IF(OR('full menu'!C3="ACB",'full menu'!C3="LCERT",'full menu'!C3="LERT",'full menu'!C3="FCERT",'full menu'!C3="FERT"),"ERTs",IF(OR('full menu'!C3="FCMT",'full menu'!C3="FMT",'full menu'!C3="LMT",'full menu'!C3="LCMT"),"MTs",IF(OR('full menu'!C3="LCIT",'full menu'!C3="FCIT",'full menu'!C3="LIT",'full menu'!C3="FIT"),"ITs",IF(OR('full menu'!C3="MwERT",'full menu'!C3="ERwMT",'full menu'!C3="M&ERT",'full menu'!C3="MwIT",'full menu'!C3="IwMT",'full menu'!C3="M&IT",'full menu'!C3="IwERT",'full menu'!C3="ERwIT",'full menu'!C3="I&ERT",'full menu'!C3="ER&M&IT"),"MixedTs",IF('full menu'!C3="UD","UD",IF('full menu'!C3="LSD","LSD",IF('full menu'!C3="WSD","WSD",""))))))))))) -> MDC | D3: =IF('full menu'!D3="MDC","MDC",IF('full menu'!D3="X","X",IF('full menu'!D3="UASC","UASC",IF(OR('full menu'!D3="PERF",'full menu'!D3="AERF",'full menu'!D3="PCB"),"ERfix",IF(OR('full menu'!D3="ACB",'full menu'!D3="LCERT",'full menu'!D3="LERT",'full menu'!D3="FCERT",'full menu'!D3="FERT"),"ERTs",IF(OR('full menu'!D3="FCMT",'full menu'!D3="FMT",'full menu'!D3="LMT",'full menu'!D3="LCMT"),"MTs",IF(OR('full menu'!D3="LCIT",'full menu'!D3="FCIT",'full menu'!D3="LIT",'full menu'!D3="FIT"),"ITs",IF(OR('full menu'!D3="MwERT",'full menu'!D3="ERwMT",'full menu'!D3="M&ERT",'full menu'!D3="MwIT",'full menu'!D3="IwMT",'full menu'!D3="M&IT",'full menu'!D3="IwERT",'full menu'!D3="ERwIT",'full menu'!D3="I&ERT",'full menu'!D3="ER&M&IT"),"MixedTs",IF('full menu'!D3="UD","UD",IF('full menu'!D3="LSD","LSD",IF('full menu'!D3="WSD","WSD",""))))))))))) -> MDC | E3: =IF('full menu'!E3="MDC","MDC",IF('full menu'!E3="X","X",IF('full menu'!E3="UASC","UASC",IF(OR('full menu'!E3="PERF",'full menu'!E3="AERF",'full menu'!E3="PCB"),"ERfix",IF(OR('full menu'!E3="ACB",'full menu'!E3="LCERT",'full menu'!E3="LERT",'full menu'!E3="FCERT",'full menu'!E3="FERT"),"ERTs",IF(OR('full menu'!E3="FCMT",'full menu'!E3="FMT",'full menu'!E3="LMT",'full menu'!E3="LCMT"),"MTs",IF(OR('full menu'!E3="LCIT",'full menu'!E3="FCIT",'full menu'!E3="LIT",'full menu'!E3="FIT"),"ITs",IF(OR('full menu'!E3="MwERT",'full menu'!E3="ERwMT",'full menu'!E3="M&ERT",'full menu'!E3="MwIT",'full menu'!E3="IwMT",'full menu'!E3="M&IT",'full menu'!E3="IwERT",'full menu'!E3="ERwIT",'full menu'!E3="I&ERT",'full menu'!E3="ER&M&IT"),"MixedTs",IF('full menu'!E3="UD","UD",IF('full menu'!E3="LSD","LSD",IF('full menu'!E3="WSD","WSD",""))))))))))) -> MDC | F3: =IF('full menu'!F3="MDC","MDC",IF('full menu'!F3="X","X",IF('full menu'!F3="UASC","UASC",IF(OR('full menu'!F3="PERF",'full menu'!F3="AERF",'full menu'!F3="PCB"),"ERfix",IF(OR('full menu'!F3="ACB",'full menu'!F3="LCERT",'full menu'!F3="LERT",'full menu'!F3="FCERT",'full menu'!F3="FERT"),"ERTs",IF(OR('full menu'!F3="FCMT",'full menu'!F3="FMT",'full menu'!F3="LMT",'full menu'!F3="LCMT"),"MTs",IF(OR('full menu'!F3="LCIT",'full menu'!F3="FCIT",'full menu'!F3="LIT",'full menu'!F3="FIT"),"ITs",IF(OR('full menu'!F3="MwERT",'full menu'!F3="ERwMT",'full menu'!F3="M&ERT",'full menu'!F3="MwIT",'full menu'!F3="IwMT",'full menu'!F3="M&IT",'full menu'!F3="IwERT",'full menu'!F3="ERwIT",'full menu'!F3="I&ERT",'full menu'!F3="ER&M&IT"),"MixedTs",IF('full menu'!F3="UD","UD",IF('full menu'!F3="LSD","LSD",IF('full menu'!F3="WSD","WSD",""))))))))))) -> MDC | G3: =IF('full menu'!G3="MDC","MDC",IF('full menu'!G3="X","X",IF('full menu'!G3="UASC","UASC",IF(OR('full menu'!G3="PERF",'full menu'!G3="AERF",'full menu'!G3="PCB"),"ERfix",IF(OR('full menu'!G3="ACB",'full menu'!G3="LCERT",'full menu'!G3="LERT",'full menu'!G3="FCERT",'full menu'!G3="FERT"),"ERTs",IF(OR('full menu'!G3="FCMT",'full menu'!G3="FMT",'full menu'!G3="LMT",'full menu'!G3="LCMT"),"MTs",IF(OR('full menu'!G3="LCIT",'full menu'!G3="FCIT",'full menu'!G3="LIT",'full menu'!G3="FIT"),"ITs",IF(OR('full menu'!G3="MwERT",'full menu'!G3="ERwMT",'full menu'!G3="M&ERT",'full menu'!G3="MwIT",'full menu'!G3="IwMT",'full menu'!G3="M&IT",'full menu'!G3="IwERT",'full menu'!G3="ERwIT",'full menu'!G3="I&ERT",'full menu'!G3="ER&M&IT"),"MixedTs",IF('full menu'!G3="UD","UD",IF('full menu'!G3="LSD","LSD",IF('full menu'!G3="WSD","WSD",""))))))))))) -> MDC | H3: =IF('full menu'!H3="MDC","MDC",IF('full menu'!H3="X","X",IF('full menu'!H3="UASC","UASC",IF(OR('full menu'!H3="PERF",'full menu'!H3="AERF",'full menu'!H3="PCB"),"ERfix",IF(OR('full menu'!H3="ACB",'full menu'!H3="LCERT",'full menu'!H3="LERT",'full menu'!H3="FCERT",'full menu'!H3="FERT"),"ERTs",IF(OR('full menu'!H3="FCMT",'full menu'!H3="FMT",'full menu'!H3="LMT",'full menu'!H3="LCMT"),"MTs",IF(OR('full menu'!H3="LCIT",'full menu'!H3="FCIT",'full menu'!H3="LIT",'full menu'!H3="FIT"),"ITs",IF(OR('full menu'!H3="MwERT",'full menu'!H3="ERwMT",'full menu'!H3="M&ERT",'full menu'!H3="MwIT",'full menu'!H3="IwMT",'full menu'!H3="M&IT",'full menu'!H3="IwERT",'full menu'!H3="ERwIT",'full menu'!H3="I&ERT",'full menu'!H3="ER&M&IT"),"MixedTs",IF('full menu'!H3="UD","UD",IF('full menu'!H3="LSD","LSD",IF('full menu'!H3="WSD","WSD",""))))))))))) -> MDC | I3: =IF('full menu'!I3="MDC","MDC",IF('full menu'!I3="X","X",IF('full menu'!I3="UASC","UASC",IF(OR('full menu'!I3="PERF",'full menu'!I3="AERF",'full menu'!I3="PCB"),"ERfix",IF(OR('full menu'!I3="ACB",'full menu'!I3="LCERT",'full menu'!I3="LERT",'full menu'!I3="FCERT",'full menu'!I3="FERT"),"ERTs",IF(OR('full menu'!I3="FCMT",'full menu'!I3="FMT",'full menu'!I3="LMT",'full menu'!I3="LCMT"),"MTs",IF(OR('full menu'!I3="LCIT",'full menu'!I3="FCIT",'full menu'!I3="LIT",'full menu'!I3="FIT"),"ITs",IF(OR('full menu'!I3="MwERT",'full menu'!I3="ERwMT",'full menu'!I3="M&ERT",'full menu'!I3="MwIT",'full menu'!I3="IwMT",'full menu'!I3="M&IT",'full menu'!I3="IwERT",'full menu'!I3="ERwIT",'full menu'!I3="I&ERT",'full menu'!I3="ER&M&IT"),"MixedTs",IF('full menu'!I3="UD","UD",IF('full menu'!I3="LSD","LSD",IF('full menu'!I3="WSD","WSD",""))))))))))) -> MDC | ... AS3: =IF('full menu'!AS3="MDC","MDC",IF('full menu'!AS3="X","X",IF('full menu'!AS3="UASC","UASC",IF(OR('full menu'!AS3="PERF",'full menu'!AS3="AERF",'full menu'!AS3="PCB"),"ERfix",IF(OR('full menu'!AS3="ACB",'full menu'!AS3="LCERT",'full menu'!AS3="LERT",'full menu'!AS3="FCERT",'full menu'!AS3="FERT"),"ERTs",IF(OR('full menu'!AS3="FCMT",'full menu'!AS3="FMT",'full menu'!AS3="LMT",'full menu'!AS3="LCMT"),"MTs",IF(OR('full menu'!AS3="LCIT",'full menu'!AS3="FCIT",'full menu'!AS3="LIT",'full menu'!AS3="FIT"),"ITs",IF(OR('full menu'!AS3="MwERT",'full menu'!AS3="ERwMT",'full menu'!AS3="M&ERT",'full menu'!AS3="MwIT",'full menu'!AS3="IwMT",'full menu'!AS3="M&IT",'full menu'!AS3="IwERT",'full menu'!AS3="ERwIT",'full menu'!AS3="I&ERT",'full menu'!AS3="ER&M&IT"),"MixedTs",IF('full menu'!AS3="UD","UD",IF('full menu'!AS3="LSD","LSD",IF('full menu'!AS3="WSD","WSD",""))))))))))) -> LSD
A4: Armenia | B4: =IF('full menu'!B4="MDC","MDC",IF('full menu'!B4="X","X",IF('full menu'!B4="UASC","UASC",IF(OR('full menu'!B4="PERF",'full menu'!B4="AERF",'full menu'!B4="PCB"),"ERfix",IF(OR('full menu'!B4="ACB",'full menu'!B4="LCERT",'full menu'!B4="LERT",'full menu'!B4="FCERT",'full menu'!B4="FERT"),"ERTs",IF(OR('full menu'!B4="FCMT",'full menu'!B4="FMT",'full menu'!B4="LMT",'full menu'!B4="LCMT"),"MTs",IF(OR('full menu'!B4="LCIT",'full menu'!B4="FCIT",'full menu'!B4="LIT",'full menu'!B4="FIT"),"ITs",IF(OR('full menu'!B4="MwERT",'full menu'!B4="ERwMT",'full menu'!B4="M&ERT",'full menu'!B4="MwIT",'full menu'!B4="IwMT",'full menu'!B4="M&IT",'full menu'!B4="IwERT",'full menu'!B4="ERwIT",'full menu'!B4="I&ERT",'full menu'!B4="ER&M&IT"),"MixedTs",IF('full menu'!B4="UD","UD",IF('full menu'!B4="LSD","LSD",IF('full menu'!B4="WSD","WSD",""))))))))))) -> X | C4: =IF('full menu'!C4="MDC","MDC",IF('full menu'!C4="X","X",IF('full menu'!C4="UASC","UASC",IF(OR('full menu'!C4="PERF",'full menu'!C4="AERF",'full menu'!C4="PCB"),"ERfix",IF(OR('full menu'!C4="ACB",'full menu'!C4="LCERT",'full menu'!C4="LERT",'full menu'!C4="FCERT",'full menu'!C4="FERT"),"ERTs",IF(OR('full menu'!C4="FCMT",'full menu'!C4="FMT",'full menu'!C4="LMT",'full menu'!C4="LCMT"),"MTs",IF(OR('full menu'!C4="LCIT",'full menu'!C4="FCIT",'full menu'!C4="LIT",'full menu'!C4="FIT"),"ITs",IF(OR('full menu'!C4="MwERT",'full menu'!C4="ERwMT",'full menu'!C4="M&ERT",'full menu'!C4="MwIT",'full menu'!C4="IwMT",'full menu'!C4="M&IT",'full menu'!C4="IwERT",'full menu'!C4="ERwIT",'full menu'!C4="I&ERT",'full menu'!C4="ER&M&IT"),"MixedTs",IF('full menu'!C4="UD","UD",IF('full menu'!C4="LSD","LSD",IF('full menu'!C4="WSD","WSD",""))))))))))) -> X | D4: =IF('full menu'!D4="MDC","MDC",IF('full menu'!D4="X","X",IF('full menu'!D4="UASC","UASC",IF(OR('full menu'!D4="PERF",'full menu'!D4="AERF",'full menu'!D4="PCB"),"ERfix",IF(OR('full menu'!D4="ACB",'full menu'!D4="LCERT",'full menu'!D4="LERT",'full menu'!D4="FCERT",'full menu'!D4="FERT"),"ERTs",IF(OR('full menu'!D4="FCMT",'full menu'!D4="FMT",'full menu'!D4="LMT",'full menu'!D4="LCMT"),"MTs",IF(OR('full menu'!D4="LCIT",'full menu'!D4="FCIT",'full menu'!D4="LIT",'full menu'!D4="FIT"),"ITs",IF(OR('full menu'!D4="MwERT",'full menu'!D4="ERwMT",'full menu'!D4="M&ERT",'full menu'!D4="MwIT",'full menu'!D4="IwMT",'full menu'!D4="M&IT",'full menu'!D4="IwERT",'full menu'!D4="ERwIT",'full menu'!D4="I&ERT",'full menu'!D4="ER&M&IT"),"MixedTs",IF('full menu'!D4="UD","UD",IF('full menu'!D4="LSD","LSD",IF('full menu'!D4="WSD","WSD",""))))))))))) -> X | E4: =IF('full menu'!E4="MDC","MDC",IF('full menu'!E4="X","X",IF('full menu'!E4="UASC","UASC",IF(OR('full menu'!E4="PERF",'full menu'!E4="AERF",'full menu'!E4="PCB"),"ERfix",IF(OR('full menu'!E4="ACB",'full menu'!E4="LCERT",'full menu'!E4="LERT",'full menu'!E4="FCERT",'full menu'!E4="FERT"),"ERTs",IF(OR('full menu'!E4="FCMT",'full menu'!E4="FMT",'full menu'!E4="LMT",'full menu'!E4="LCMT"),"MTs",IF(OR('full menu'!E4="LCIT",'full menu'!E4="FCIT",'full menu'!E4="LIT",'full menu'!E4="FIT"),"ITs",IF(OR('full menu'!E4="MwERT",'full menu'!E4="ERwMT",'full menu'!E4="M&ERT",'full menu'!E4="MwIT",'full menu'!E4="IwMT",'full menu'!E4="M&IT",'full menu'!E4="IwERT",'full menu'!E4="ERwIT",'full menu'!E4="I&ERT",'full menu'!E4="ER&M&IT"),"MixedTs",IF('full menu'!E4="UD","UD",IF('full menu'!E4="LSD","LSD",IF('full menu'!E4="WSD","WSD",""))))))))))) -> X | F4: =IF('full menu'!F4="MDC","MDC",IF('full menu'!F4="X","X",IF('full menu'!F4="UASC","UASC",IF(OR('full menu'!F4="PERF",'full menu'!F4="AERF",'full menu'!F4="PCB"),"ERfix",IF(OR('full menu'!F4="ACB",'full menu'!F4="LCERT",'full menu'!F4="LERT",'full menu'!F4="FCERT",'full menu'!F4="FERT"),"ERTs",IF(OR('full menu'!F4="FCMT",'full menu'!F4="FMT",'full menu'!F4="LMT",'full menu'!F4="LCMT"),"MTs",IF(OR('full menu'!F4="LCIT",'full menu'!F4="FCIT",'full menu'!F4="LIT",'full menu'!F4="FIT"),"ITs",IF(OR('full menu'!F4="MwERT",'full menu'!F4="ERwMT",'full menu'!F4="M&ERT",'full menu'!F4="MwIT",'full menu'!F4="IwMT",'full menu'!F4="M&IT",'full menu'!F4="IwERT",'full menu'!F4="ERwIT",'full menu'!F4="I&ERT",'full menu'!F4="ER&M&IT"),"MixedTs",IF('full menu'!F4="UD","UD",IF('full menu'!F4="LSD","LSD",IF('full menu'!F4="WSD","WSD",""))))))))))) -> X | G4: =IF('full menu'!G4="MDC","MDC",IF('full menu'!G4="X","X",IF('full menu'!G4="UASC","UASC",IF(OR('full menu'!G4="PERF",'full menu'!G4="AERF",'full menu'!G4="PCB"),"ERfix",IF(OR('full menu'!G4="ACB",'full menu'!G4="LCERT",'full menu'!G4="LERT",'full menu'!G4="FCERT",'full menu'!G4="FERT"),"ERTs",IF(OR('full menu'!G4="FCMT",'full menu'!G4="FMT",'full menu'!G4="LMT",'full menu'!G4="LCMT"),"MTs",IF(OR('full menu'!G4="LCIT",'full menu'!G4="FCIT",'full menu'!G4="LIT",'full menu'!G4="FIT"),"ITs",IF(OR('full menu'!G4="MwERT",'full menu'!G4="ERwMT",'full menu'!G4="M&ERT",'full menu'!G4="MwIT",'full menu'!G4="IwMT",'full menu'!G4="M&IT",'full menu'!G4="IwERT",'full menu'!G4="ERwIT",'full menu'!G4="I&ERT",'full menu'!G4="ER&M&IT"),"MixedTs",IF('full menu'!G4="UD","UD",IF('full menu'!G4="LSD","LSD",IF('full menu'!G4="WSD","WSD",""))))))))))) -> X | H4: =IF('full menu'!H4="MDC","MDC",IF('full menu'!H4="X","X",IF('full menu'!H4="UASC","UASC",IF(OR('full menu'!H4="PERF",'full menu'!H4="AERF",'full menu'!H4="PCB"),"ERfix",IF(OR('full menu'!H4="ACB",'full menu'!H4="LCERT",'full menu'!H4="LERT",'full menu'!H4="FCERT",'full menu'!H4="FERT"),"ERTs",IF(OR('full menu'!H4="FCMT",'full menu'!H4="FMT",'full menu'!H4="LMT",'full menu'!H4="LCMT"),"MTs",IF(OR('full menu'!H4="LCIT",'full menu'!H4="FCIT",'full menu'!H4="LIT",'full menu'!H4="FIT"),"ITs",IF(OR('full menu'!H4="MwERT",'full menu'!H4="ERwMT",'full menu'!H4="M&ERT",'full menu'!H4="MwIT",'full menu'!H4="IwMT",'full menu'!H4="M&IT",'full menu'!H4="IwERT",'full menu'!H4="ERwIT",'full menu'!H4="I&ERT",'full menu'!H4="ER&M&IT"),"MixedTs",IF('full menu'!H4="UD","UD",IF('full menu'!H4="LSD","LSD",IF('full menu'!H4="WSD","WSD",""))))))))))) -> X | I4: =IF('full menu'!I4="MDC","MDC",IF('full menu'!I4="X","X",IF('full menu'!I4="UASC","UASC",IF(OR('full menu'!I4="PERF",'full menu'!I4="AERF",'full menu'!I4="PCB"),"ERfix",IF(OR('full menu'!I4="ACB",'full menu'!I4="LCERT",'full menu'!I4="LERT",'full menu'!I4="FCERT",'full menu'!I4="FERT"),"ERTs",IF(OR('full menu'!I4="FCMT",'full menu'!I4="FMT",'full menu'!I4="LMT",'full menu'!I4="LCMT"),"MTs",IF(OR('full menu'!I4="LCIT",'full menu'!I4="FCIT",'full menu'!I4="LIT",'full menu'!I4="FIT"),"ITs",IF(OR('full menu'!I4="MwERT",'full menu'!I4="ERwMT",'full menu'!I4="M&ERT",'full menu'!I4="MwIT",'full menu'!I4="IwMT",'full menu'!I4="M&IT",'full menu'!I4="IwERT",'full menu'!I4="ERwIT",'full menu'!I4="I&ERT",'full menu'!I4="ER&M&IT"),"MixedTs",IF('full menu'!I4="UD","UD",IF('full menu'!I4="LSD","LSD",IF('full menu'!I4="WSD","WSD",""))))))))))) -> X | ... AS4: =IF('full menu'!AS4="MDC","MDC",IF('full menu'!AS4="X","X",IF('full menu'!AS4="UASC","UASC",IF(OR('full menu'!AS4="PERF",'full menu'!AS4="AERF",'full menu'!AS4="PCB"),"ERfix",IF(OR('full menu'!AS4="ACB",'full menu'!AS4="LCERT",'full menu'!AS4="LERT",'full menu'!AS4="FCERT",'full menu'!AS4="FERT"),"ERTs",IF(OR('full menu'!AS4="FCMT",'full menu'!AS4="FMT",'full menu'!AS4="LMT",'full menu'!AS4="LCMT"),"MTs",IF(OR('full menu'!AS4="LCIT",'full menu'!AS4="FCIT",'full menu'!AS4="LIT",'full menu'!AS4="FIT"),"ITs",IF(OR('full menu'!AS4="MwERT",'full menu'!AS4="ERwMT",'full menu'!AS4="M&ERT",'full menu'!AS4="MwIT",'full menu'!AS4="IwMT",'full menu'!AS4="M&IT",'full menu'!AS4="IwERT",'full menu'!AS4="ERwIT",'full menu'!AS4="I&ERT",'full menu'!AS4="ER&M&IT"),"MixedTs",IF('full menu'!AS4="UD","UD",IF('full menu'!AS4="LSD","LSD",IF('full menu'!AS4="WSD","WSD",""))))))))))) -> ITs
A5: Azerbaijan | B5: =IF('full menu'!B5="MDC","MDC",IF('full menu'!B5="X","X",IF('full menu'!B5="UASC","UASC",IF(OR('full menu'!B5="PERF",'full menu'!B5="AERF",'full menu'!B5="PCB"),"ERfix",IF(OR('full menu'!B5="ACB",'full menu'!B5="LCERT",'full menu'!B5="LERT",'full menu'!B5="FCERT",'full menu'!B5="FERT"),"ERTs",IF(OR('full menu'!B5="FCMT",'full menu'!B5="FMT",'full menu'!B5="LMT",'full menu'!B5="LCMT"),"MTs",IF(OR('full menu'!B5="LCIT",'full menu'!B5="FCIT",'full menu'!B5="LIT",'full menu'!B5="FIT"),"ITs",IF(OR('full menu'!B5="MwERT",'full menu'!B5="ERwMT",'full menu'!B5="M&ERT",'full menu'!B5="MwIT",'full menu'!B5="IwMT",'full menu'!B5="M&IT",'full menu'!B5="IwERT",'full menu'!B5="ERwIT",'full menu'!B5="I&ERT",'full menu'!B5="ER&M&IT"),"MixedTs",IF('full menu'!B5="UD","UD",IF('full menu'!B5="LSD","LSD",IF('full menu'!B5="WSD","WSD",""))))))))))) -> X | C5: =IF('full menu'!C5="MDC","MDC",IF('full menu'!C5="X","X",IF('full menu'!C5="UASC","UASC",IF(OR('full menu'!C5="PERF",'full menu'!C5="AERF",'full menu'!C5="PCB"),"ERfix",IF(OR('full menu'!C5="ACB",'full menu'!C5="LCERT",'full menu'!C5="LERT",'full menu'!C5="FCERT",'full menu'!C5="FERT"),"ERTs",IF(OR('full menu'!C5="FCMT",'full menu'!C5="FMT",'full menu'!C5="LMT",'full menu'!C5="LCMT"),"MTs",IF(OR('full menu'!C5="LCIT",'full menu'!C5="FCIT",'full menu'!C5="LIT",'full menu'!C5="FIT"),"ITs",IF(OR('full menu'!C5="MwERT",'full menu'!C5="ERwMT",'full menu'!C5="M&ERT",'full menu'!C5="MwIT",'full menu'!C5="IwMT",'full menu'!C5="M&IT",'full menu'!C5="IwERT",'full menu'!C5="ERwIT",'full menu'!C5="I&ERT",'full menu'!C5="ER&M&IT"),"MixedTs",IF('full menu'!C5="UD","UD",IF('full menu'!C5="LSD","LSD",IF('full menu'!C5="WSD","WSD",""))))))))))) -> X | D5: =IF('full menu'!D5="MDC","MDC",IF('full menu'!D5="X","X",IF('full menu'!D5="UASC","UASC",IF(OR('full menu'!D5="PERF",'full menu'!D5="AERF",'full menu'!D5="PCB"),"ERfix",IF(OR('full menu'!D5="ACB",'full menu'!D5="LCERT",'full menu'!D5="LERT",'full menu'!D5="FCERT",'full menu'!D5="FERT"),"ERTs",IF(OR('full menu'!D5="FCMT",'full menu'!D5="FMT",'full menu'!D5="LMT",'full menu'!D5="LCMT"),"MTs",IF(OR('full menu'!D5="LCIT",'full menu'!D5="FCIT",'full menu'!D5="LIT",'full menu'!D5="FIT"),"ITs",IF(OR('full menu'!D5="MwERT",'full menu'!D5="ERwMT",'full menu'!D5="M&ERT",'full menu'!D5="MwIT",'full menu'!D5="IwMT",'full menu'!D5="M&IT",'full menu'!D5="IwERT",'full menu'!D5="ERwIT",'full menu'!D5="I&ERT",'full menu'!D5="ER&M&IT"),"MixedTs",IF('full menu'!D5="UD","UD",IF('full menu'!D5="LSD","LSD",IF('full menu'!D5="WSD","WSD",""))))))))))) -> X | E5: =IF('full menu'!E5="MDC","MDC",IF('full menu'!E5="X","X",IF('full menu'!E5="UASC","UASC",IF(OR('full menu'!E5="PERF",'full menu'!E5="AERF",'full menu'!E5="PCB"),"ERfix",IF(OR('full menu'!E5="ACB",'full menu'!E5="LCERT",'full menu'!E5="LERT",'full menu'!E5="FCERT",'full menu'!E5="FERT"),"ERTs",IF(OR('full menu'!E5="FCMT",'full menu'!E5="FMT",'full menu'!E5="LMT",'full menu'!E5="LCMT"),"MTs",IF(OR('full menu'!E5="LCIT",'full menu'!E5="FCIT",'full menu'!E5="LIT",'full menu'!E5="FIT"),"ITs",IF(OR('full menu'!E5="MwERT",'full menu'!E5="ERwMT",'full menu'!E5="M&ERT",'full menu'!E5="MwIT",'full menu'!E5="IwMT",'full menu'!E5="M&IT",'full menu'!E5="IwERT",'full menu'!E5="ERwIT",'full menu'!E5="I&ERT",'full menu'!E5="ER&M&IT"),"MixedTs",IF('full menu'!E5="UD","UD",IF('full menu'!E5="LSD","LSD",IF('full menu'!E5="WSD","WSD",""))))))))))) -> X | F5: =IF('full menu'!F5="MDC","MDC",IF('full menu'!F5="X","X",IF('full menu'!F5="UASC","UASC",IF(OR('full menu'!F5="PERF",'full menu'!F5="AERF",'full menu'!F5="PCB"),"ERfix",IF(OR('full menu'!F5="ACB",'full menu'!F5="LCERT",'full menu'!F5="LERT",'full menu'!F5="FCERT",'full menu'!F5="FERT"),"ERTs",IF(OR('full menu'!F5="FCMT",'full menu'!F5="FMT",'full menu'!F5="LMT",'full menu'!F5="LCMT"),"MTs",IF(OR('full menu'!F5="LCIT",'full menu'!F5="FCIT",'full menu'!F5="LIT",'full menu'!F5="FIT"),"ITs",IF(OR('full menu'!F5="MwERT",'full menu'!F5="ERwMT",'full menu'!F5="M&ERT",'full menu'!F5="MwIT",'full menu'!F5="IwMT",'full menu'!F5="M&IT",'full menu'!F5="IwERT",'full menu'!F5="ERwIT",'full menu'!F5="I&ERT",'full menu'!F5="ER&M&IT"),"MixedTs",IF('full menu'!F5="UD","UD",IF('full menu'!F5="LSD","LSD",IF('full menu'!F5="WSD","WSD",""))))))))))) -> X | G5: =IF('full menu'!G5="MDC","MDC",IF('full menu'!G5="X","X",IF('full menu'!G5="UASC","UASC",IF(OR('full menu'!G5="PERF",'full menu'!G5="AERF",'full menu'!G5="PCB"),"ERfix",IF(OR('full menu'!G5="ACB",'full menu'!G5="LCERT",'full menu'!G5="LERT",'full menu'!G5="FCERT",'full menu'!G5="FERT"),"ERTs",IF(OR('full menu'!G5="FCMT",'full menu'!G5="FMT",'full menu'!G5="LMT",'full menu'!G5="LCMT"),"MTs",IF(OR('full menu'!G5="LCIT",'full menu'!G5="FCIT",'full menu'!G5="LIT",'full menu'!G5="FIT"),"ITs",IF(OR('full menu'!G5="MwERT",'full menu'!G5="ERwMT",'full menu'!G5="M&ERT",'full menu'!G5="MwIT",'full menu'!G5="IwMT",'full menu'!G5="M&IT",'full menu'!G5="IwERT",'full menu'!G5="ERwIT",'full menu'!G5="I&ERT",'full menu'!G5="ER&M&IT"),"MixedTs",IF('full menu'!G5="UD","UD",IF('full menu'!G5="LSD","LSD",IF('full menu'!G5="WSD","WSD",""))))))))))) -> X | H5: =IF('full menu'!H5="MDC","MDC",IF('full menu'!H5="X","X",IF('full menu'!H5="UASC","UASC",IF(OR('full menu'!H5="PERF",'full menu'!H5="AERF",'full menu'!H5="PCB"),"ERfix",IF(OR('full menu'!H5="ACB",'full menu'!H5="LCERT",'full menu'!H5="LERT",'full menu'!H5="FCERT",'full menu'!H5="FERT"),"ERTs",IF(OR('full menu'!H5="FCMT",'full menu'!H5="FMT",'full menu'!H5="LMT",'full menu'!H5="LCMT"),"MTs",IF(OR('full menu'!H5="LCIT",'full menu'!H5="FCIT",'full menu'!H5="LIT",'full menu'!H5="FIT"),"ITs",IF(OR('full menu'!H5="MwERT",'full menu'!H5="ERwMT",'full menu'!H5="M&ERT",'full menu'!H5="MwIT",'full menu'!H5="IwMT",'full menu'!H5="M&IT",'full menu'!H5="IwERT",'full menu'!H5="ERwIT",'full menu'!H5="I&ERT",'full menu'!H5="ER&M&IT"),"MixedTs",IF('full menu'!H5="UD","UD",IF('full menu'!H5="LSD","LSD",IF('full menu'!H5="WSD","WSD",""))))))))))) -> X | I5: =IF('full menu'!I5="MDC","MDC",IF('full menu'!I5="X","X",IF('full menu'!I5="UASC","UASC",IF(OR('full menu'!I5="PERF",'full menu'!I5="AERF",'full menu'!I5="PCB"),"ERfix",IF(OR('full menu'!I5="ACB",'full menu'!I5="LCERT",'full menu'!I5="LERT",'full menu'!I5="FCERT",'full menu'!I5="FERT"),"ERTs",IF(OR('full menu'!I5="FCMT",'full menu'!I5="FMT",'full menu'!I5="LMT",'full menu'!I5="LCMT"),"MTs",IF(OR('full menu'!I5="LCIT",'full menu'!I5="FCIT",'full menu'!I5="LIT",'full menu'!I5="FIT"),"ITs",IF(OR('full menu'!I5="MwERT",'full menu'!I5="ERwMT",'full menu'!I5="M&ERT",'full menu'!I5="MwIT",'full menu'!I5="IwMT",'full menu'!I5="M&IT",'full menu'!I5="IwERT",'full menu'!I5="ERwIT",'full menu'!I5="I&ERT",'full menu'!I5="ER&M&IT"),"MixedTs",IF('full menu'!I5="UD","UD",IF('full menu'!I5="LSD","LSD",IF('full menu'!I5="WSD","WSD",""))))))))))) -> X | ... AS5: =IF('full menu'!AS5="MDC","MDC",IF('full menu'!AS5="X","X",IF('full menu'!AS5="UASC","UASC",IF(OR('full menu'!AS5="PERF",'full menu'!AS5="AERF",'full menu'!AS5="PCB"),"ERfix",IF(OR('full menu'!AS5="ACB",'full menu'!AS5="LCERT",'full menu'!AS5="LERT",'full menu'!AS5="FCERT",'full menu'!AS5="FERT"),"ERTs",IF(OR('full menu'!AS5="FCMT",'full menu'!AS5="FMT",'full menu'!AS5="LMT",'full menu'!AS5="LCMT"),"MTs",IF(OR('full menu'!AS5="LCIT",'full menu'!AS5="FCIT",'full menu'!AS5="LIT",'full menu'!AS5="FIT"),"ITs",IF(OR('full menu'!AS5="MwERT",'full menu'!AS5="ERwMT",'full menu'!AS5="M&ERT",'full menu'!AS5="MwIT",'full menu'!AS5="IwMT",'full menu'!AS5="M&IT",'full menu'!AS5="IwERT",'full menu'!AS5="ERwIT",'full menu'!AS5="I&ERT",'full menu'!AS5="ER&M&IT"),"MixedTs",IF('full menu'!AS5="UD","UD",IF('full menu'!AS5="LSD","LSD",IF('full menu'!AS5="WSD","WSD",""))))))))))) -> LSD
A6: Belarus | B6: =IF('full menu'!B6="MDC","MDC",IF('full menu'!B6="X","X",IF('full menu'!B6="UASC","UASC",IF(OR('full menu'!B6="PERF",'full menu'!B6="AERF",'full menu'!B6="PCB"),"ERfix",IF(OR('full menu'!B6="ACB",'full menu'!B6="LCERT",'full menu'!B6="LERT",'full menu'!B6="FCERT",'full menu'!B6="FERT"),"ERTs",IF(OR('full menu'!B6="FCMT",'full menu'!B6="FMT",'full menu'!B6="LMT",'full menu'!B6="LCMT"),"MTs",IF(OR('full menu'!B6="LCIT",'full menu'!B6="FCIT",'full menu'!B6="LIT",'full menu'!B6="FIT"),"ITs",IF(OR('full menu'!B6="MwERT",'full menu'!B6="ERwMT",'full menu'!B6="M&ERT",'full menu'!B6="MwIT",'full menu'!B6="IwMT",'full menu'!B6="M&IT",'full menu'!B6="IwERT",'full menu'!B6="ERwIT",'full menu'!B6="I&ERT",'full menu'!B6="ER&M&IT"),"MixedTs",IF('full menu'!B6="UD","UD",IF('full menu'!B6="LSD","LSD",IF('full menu'!B6="WSD","WSD",""))))))))))) -> X | C6: =IF('full menu'!C6="MDC","MDC",IF('full menu'!C6="X","X",IF('full menu'!C6="UASC","UASC",IF(OR('full menu'!C6="PERF",'full menu'!C6="AERF",'full menu'!C6="PCB"),"ERfix",IF(OR('full menu'!C6="ACB",'full menu'!C6="LCERT",'full menu'!C6="LERT",'full menu'!C6="FCERT",'full menu'!C6="FERT"),"ERTs",IF(OR('full menu'!C6="FCMT",'full menu'!C6="FMT",'full menu'!C6="LMT",'full menu'!C6="LCMT"),"MTs",IF(OR('full menu'!C6="LCIT",'full menu'!C6="FCIT",'full menu'!C6="LIT",'full menu'!C6="FIT"),"ITs",IF(OR('full menu'!C6="MwERT",'full menu'!C6="ERwMT",'full menu'!C6="M&ERT",'full menu'!C6="MwIT",'full menu'!C6="IwMT",'full menu'!C6="M&IT",'full menu'!C6="IwERT",'full menu'!C6="ERwIT",'full menu'!C6="I&ERT",'full menu'!C6="ER&M&IT"),"MixedTs",IF('full menu'!C6="UD","UD",IF('full menu'!C6="LSD","LSD",IF('full menu'!C6="WSD","WSD",""))))))))))) -> X | D6: =IF('full menu'!D6="MDC","MDC",IF('full menu'!D6="X","X",IF('full menu'!D6="UASC","UASC",IF(OR('full menu'!D6="PERF",'full menu'!D6="AERF",'full menu'!D6="PCB"),"ERfix",IF(OR('full menu'!D6="ACB",'full menu'!D6="LCERT",'full menu'!D6="LERT",'full menu'!D6="FCERT",'full menu'!D6="FERT"),"ERTs",IF(OR('full menu'!D6="FCMT",'full menu'!D6="FMT",'full menu'!D6="LMT",'full menu'!D6="LCMT"),"MTs",IF(OR('full menu'!D6="LCIT",'full menu'!D6="FCIT",'full menu'!D6="LIT",'full menu'!D6="FIT"),"ITs",IF(OR('full menu'!D6="MwERT",'full menu'!D6="ERwMT",'full menu'!D6="M&ERT",'full menu'!D6="MwIT",'full menu'!D6="IwMT",'full menu'!D6="M&IT",'full menu'!D6="IwERT",'full menu'!D6="ERwIT",'full menu'!D6="I&ERT",'full menu'!D6="ER&M&IT"),"MixedTs",IF('full menu'!D6="UD","UD",IF('full menu'!D6="LSD","LSD",IF('full menu'!D6="WSD","WSD",""))))))))))) -> X | E6: =IF('full menu'!E6="MDC","MDC",IF('full menu'!E6="X","X",IF('full menu'!E6="UASC","UASC",IF(OR('full menu'!E6="PERF",'full menu'!E6="AERF",'full menu'!E6="PCB"),"ERfix",IF(OR('full menu'!E6="ACB",'full menu'!E6="LCERT",'full menu'!E6="LERT",'full menu'!E6="FCERT",'full menu'!E6="FERT"),"ERTs",IF(OR('full menu'!E6="FCMT",'full menu'!E6="FMT",'full menu'!E6="LMT",'full menu'!E6="LCMT"),"MTs",IF(OR('full menu'!E6="LCIT",'full menu'!E6="FCIT",'full menu'!E6="LIT",'full menu'!E6="FIT"),"ITs",IF(OR('full menu'!E6="MwERT",'full menu'!E6="ERwMT",'full menu'!E6="M&ERT",'full menu'!E6="MwIT",'full menu'!E6="IwMT",'full menu'!E6="M&IT",'full menu'!E6="IwERT",'full menu'!E6="ERwIT",'full menu'!E6="I&ERT",'full menu'!E6="ER&M&IT"),"MixedTs",IF('full menu'!E6="UD","UD",IF('full menu'!E6="LSD","LSD",IF('full menu'!E6="WSD","WSD",""))))))))))) -> X | F6: =IF('full menu'!F6="MDC","MDC",IF('full menu'!F6="X","X",IF('full menu'!F6="UASC","UASC",IF(OR('full menu'!F6="PERF",'full menu'!F6="AERF",'full menu'!F6="PCB"),"ERfix",IF(OR('full menu'!F6="ACB",'full menu'!F6="LCERT",'full menu'!F6="LERT",'full menu'!F6="FCERT",'full menu'!F6="FERT"),"ERTs",IF(OR('full menu'!F6="FCMT",'full menu'!F6="FMT",'full menu'!F6="LMT",'full menu'!F6="LCMT"),"MTs",IF(OR('full menu'!F6="LCIT",'full menu'!F6="FCIT",'full menu'!F6="LIT",'full menu'!F6="FIT"),"ITs",IF(OR('full menu'!F6="MwERT",'full menu'!F6="ERwMT",'full menu'!F6="M&ERT",'full menu'!F6="MwIT",'full menu'!F6="IwMT",'full menu'!F6="M&IT",'full menu'!F6="IwERT",'full menu'!F6="ERwIT",'full menu'!F6="I&ERT",'full menu'!F6="ER&M&IT"),"MixedTs",IF('full menu'!F6="UD","UD",IF('full menu'!F6="LSD","LSD",IF('full menu'!F6="WSD","WSD",""))))))))))) -> X | G6: =IF('full menu'!G6="MDC","MDC",IF('full menu'!G6="X","X",IF('full menu'!G6="UASC","UASC",IF(OR('full menu'!G6="PERF",'full menu'!G6="AERF",'full menu'!G6="PCB"),"ERfix",IF(OR('full menu'!G6="ACB",'full menu'!G6="LCERT",'full menu'!G6="LERT",'full menu'!G6="FCERT",'full menu'!G6="FERT"),"ERTs",IF(OR('full menu'!G6="FCMT",'full menu'!G6="FMT",'full menu'!G6="LMT",'full menu'!G6="LCMT"),"MTs",IF(OR('full menu'!G6="LCIT",'full menu'!G6="FCIT",'full menu'!G6="LIT",'full menu'!G6="FIT"),"ITs",IF(OR('full menu'!G6="MwERT",'full menu'!G6="ERwMT",'full menu'!G6="M&ERT",'full menu'!G6="MwIT",'full menu'!G6="IwMT",'full menu'!G6="M&IT",'full menu'!G6="IwERT",'full menu'!G6="ERwIT",'full menu'!G6="I&ERT",'full menu'!G6="ER&M&IT"),"MixedTs",IF('full menu'!G6="UD","UD",IF('full menu'!G6="LSD","LSD",IF('full menu'!G6="WSD","WSD",""))))))))))) -> X | H6: =IF('full menu'!H6="MDC","MDC",IF('full menu'!H6="X","X",IF('full menu'!H6="UASC","UASC",IF(OR('full menu'!H6="PERF",'full menu'!H6="AERF",'full menu'!H6="PCB"),"ERfix",IF(OR('full menu'!H6="ACB",'full menu'!H6="LCERT",'full menu'!H6="LERT",'full menu'!H6="FCERT",'full menu'!H6="FERT"),"ERTs",IF(OR('full menu'!H6="FCMT",'full menu'!H6="FMT",'full menu'!H6="LMT",'full menu'!H6="LCMT"),"MTs",IF(OR('full menu'!H6="LCIT",'full menu'!H6="FCIT",'full menu'!H6="LIT",'full menu'!H6="FIT"),"ITs",IF(OR('full menu'!H6="MwERT",'full menu'!H6="ERwMT",'full menu'!H6="M&ERT",'full menu'!H6="MwIT",'full menu'!H6="IwMT",'full menu'!H6="M&IT",'full menu'!H6="IwERT",'full menu'!H6="ERwIT",'full menu'!H6="I&ERT",'full menu'!H6="ER&M&IT"),"MixedTs",IF('full menu'!H6="UD","UD",IF('full menu'!H6="LSD","LSD",IF('full menu'!H6="WSD","WSD",""))))))))))) -> X | I6: =IF('full menu'!I6="MDC","MDC",IF('full menu'!I6="X","X",IF('full menu'!I6="UASC","UASC",IF(OR('full menu'!I6="PERF",'full menu'!I6="AERF",'full menu'!I6="PCB"),"ERfix",IF(OR('full menu'!I6="ACB",'full menu'!I6="LCERT",'full menu'!I6="LERT",'full menu'!I6="FCERT",'full menu'!I6="FERT"),"ERTs",IF(OR('full menu'!I6="FCMT",'full menu'!I6="FMT",'full menu'!I6="LMT",'full menu'!I6="LCMT"),"MTs",IF(OR('full menu'!I6="LCIT",'full menu'!I6="FCIT",'full menu'!I6="LIT",'full menu'!I6="FIT"),"ITs",IF(OR('full menu'!I6="MwERT",'full menu'!I6="ERwMT",'full menu'!I6="M&ERT",'full menu'!I6="MwIT",'full menu'!I6="IwMT",'full menu'!I6="M&IT",'full menu'!I6="IwERT",'full menu'!I6="ERwIT",'full menu'!I6="I&ERT",'full menu'!I6="ER&M&IT"),"MixedTs",IF('full menu'!I6="UD","UD",IF('full menu'!I6="LSD","LSD",IF('full menu'!I6="WSD","WSD",""))))))))))) -> X | ... AS6: =IF('full menu'!AS6="MDC","MDC",IF('full menu'!AS6="X","X",IF('full menu'!AS6="UASC","UASC",IF(OR('full menu'!AS6="PERF",'full menu'!AS6="AERF",'full menu'!AS6="PCB"),"ERfix",IF(OR('full menu'!AS6="ACB",'full menu'!AS6="LCERT",'full menu'!AS6="LERT",'full menu'!AS6="FCERT",'full menu'!AS6="FERT"),"ERTs",IF(OR('full menu'!AS6="FCMT",'full menu'!AS6="FMT",'full menu'!AS6="LMT",'full menu'!AS6="LCMT"),"MTs",IF(OR('full menu'!AS6="LCIT",'full menu'!AS6="FCIT",'full menu'!AS6="LIT",'full menu'!AS6="FIT"),"ITs",IF(OR('full menu'!AS6="MwERT",'full menu'!AS6="ERwMT",'full menu'!AS6="M&ERT",'full menu'!AS6="MwIT",'full menu'!AS6="IwMT",'full menu'!AS6="M&IT",'full menu'!AS6="IwERT",'full menu'!AS6="ERwIT",'full menu'!AS6="I&ERT",'full menu'!AS6="ER&M&IT"),"MixedTs",IF('full menu'!AS6="UD","UD",IF('full menu'!AS6="LSD","LSD",IF('full menu'!AS6="WSD","WSD",""))))))))))) -> LSD
A7: Bolivia | B7: =IF('full menu'!B7="MDC","MDC",IF('full menu'!B7="X","X",IF('full menu'!B7="UASC","UASC",IF(OR('full menu'!B7="PERF",'full menu'!B7="AERF",'full menu'!B7="PCB"),"ERfix",IF(OR('full menu'!B7="ACB",'full menu'!B7="LCERT",'full menu'!B7="LERT",'full menu'!B7="FCERT",'full menu'!B7="FERT"),"ERTs",IF(OR('full menu'!B7="FCMT",'full menu'!B7="FMT",'full menu'!B7="LMT",'full menu'!B7="LCMT"),"MTs",IF(OR('full menu'!B7="LCIT",'full menu'!B7="FCIT",'full menu'!B7="LIT",'full menu'!B7="FIT"),"ITs",IF(OR('full menu'!B7="MwERT",'full menu'!B7="ERwMT",'full menu'!B7="M&ERT",'full menu'!B7="MwIT",'full menu'!B7="IwMT",'full menu'!B7="M&IT",'full menu'!B7="IwERT",'full menu'!B7="ERwIT",'full menu'!B7="I&ERT",'full menu'!B7="ER&M&IT"),"MixedTs",IF('full menu'!B7="UD","UD",IF('full menu'!B7="LSD","LSD",IF('full menu'!B7="WSD","WSD",""))))))))))) -> ERfix | C7: =IF('full menu'!C7="MDC","MDC",IF('full menu'!C7="X","X",IF('full menu'!C7="UASC","UASC",IF(OR('full menu'!C7="PERF",'full menu'!C7="AERF",'full menu'!C7="PCB"),"ERfix",IF(OR('full menu'!C7="ACB",'full menu'!C7="LCERT",'full menu'!C7="LERT",'full menu'!C7="FCERT",'full menu'!C7="FERT"),"ERTs",IF(OR('full menu'!C7="FCMT",'full menu'!C7="FMT",'full menu'!C7="LMT",'full menu'!C7="LCMT"),"MTs",IF(OR('full menu'!C7="LCIT",'full menu'!C7="FCIT",'full menu'!C7="LIT",'full menu'!C7="FIT"),"ITs",IF(OR('full menu'!C7="MwERT",'full menu'!C7="ERwMT",'full menu'!C7="M&ERT",'full menu'!C7="MwIT",'full menu'!C7="IwMT",'full menu'!C7="M&IT",'full menu'!C7="IwERT",'full menu'!C7="ERwIT",'full menu'!C7="I&ERT",'full menu'!C7="ER&M&IT"),"MixedTs",IF('full menu'!C7="UD","UD",IF('full menu'!C7="LSD","LSD",IF('full menu'!C7="WSD","WSD",""))))))))))) -> ERfix | D7: =IF('full menu'!D7="MDC","MDC",IF('full menu'!D7="X","X",IF('full menu'!D7="UASC","UASC",IF(OR('full menu'!D7="PERF",'full menu'!D7="AERF",'full menu'!D7="PCB"),"ERfix",IF(OR('full menu'!D7="ACB",'full menu'!D7="LCERT",'full menu'!D7="LERT",'full menu'!D7="FCERT",'full menu'!D7="FERT"),"ERTs",IF(OR('full menu'!D7="FCMT",'full menu'!D7="FMT",'full menu'!D7="LMT",'full menu'!D7="LCMT"),"MTs",IF(OR('full menu'!D7="LCIT",'full menu'!D7="FCIT",'full menu'!D7="LIT",'full menu'!D7="FIT"),"ITs",IF(OR('full menu'!D7="MwERT",'full menu'!D7="ERwMT",'full menu'!D7="M&ERT",'full menu'!D7="MwIT",'full menu'!D7="IwMT",'full menu'!D7="M&IT",'full menu'!D7="IwERT",'full menu'!D7="ERwIT",'full menu'!D7="I&ERT",'full menu'!D7="ER&M&IT"),"MixedTs",IF('full menu'!D7="UD","UD",IF('full menu'!D7="LSD","LSD",IF('full menu'!D7="WSD","WSD",""))))))))))) -> ERfix | E7: =IF('full menu'!E7="MDC","MDC",IF('full menu'!E7="X","X",IF('full menu'!E7="UASC","UASC",IF(OR('full menu'!E7="PERF",'full menu'!E7="AERF",'full menu'!E7="PCB"),"ERfix",IF(OR('full menu'!E7="ACB",'full menu'!E7="LCERT",'full menu'!E7="LERT",'full menu'!E7="FCERT",'full menu'!E7="FERT"),"ERTs",IF(OR('full menu'!E7="FCMT",'full menu'!E7="FMT",'full menu'!E7="LMT",'full menu'!E7="LCMT"),"MTs",IF(OR('full menu'!E7="LCIT",'full menu'!E7="FCIT",'full menu'!E7="LIT",'full menu'!E7="FIT"),"ITs",IF(OR('full menu'!E7="MwERT",'full menu'!E7="ERwMT",'full menu'!E7="M&ERT",'full menu'!E7="MwIT",'full menu'!E7="IwMT",'full menu'!E7="M&IT",'full menu'!E7="IwERT",'full menu'!E7="ERwIT",'full menu'!E7="I&ERT",'full menu'!E7="ER&M&IT"),"MixedTs",IF('full menu'!E7="UD","UD",IF('full menu'!E7="LSD","LSD",IF('full menu'!E7="WSD","WSD",""))))))))))) -> ERfix | F7: =IF('full menu'!F7="MDC","MDC",IF('full menu'!F7="X","X",IF('full menu'!F7="UASC","UASC",IF(OR('full menu'!F7="PERF",'full menu'!F7="AERF",'full menu'!F7="PCB"),"ERfix",IF(OR('full menu'!F7="ACB",'full menu'!F7="LCERT",'full menu'!F7="LERT",'full menu'!F7="FCERT",'full menu'!F7="FERT"),"ERTs",IF(OR('full menu'!F7="FCMT",'full menu'!F7="FMT",'full menu'!F7="LMT",'full menu'!F7="LCMT"),"MTs",IF(OR('full menu'!F7="LCIT",'full menu'!F7="FCIT",'full menu'!F7="LIT",'full menu'!F7="FIT"),"ITs",IF(OR('full menu'!F7="MwERT",'full menu'!F7="ERwMT",'full menu'!F7="M&ERT",'full menu'!F7="MwIT",'full menu'!F7="IwMT",'full menu'!F7="M&IT",'full menu'!F7="IwERT",'full menu'!F7="ERwIT",'full menu'!F7="I&ERT",'full menu'!F7="ER&M&IT"),"MixedTs",IF('full menu'!F7="UD","UD",IF('full menu'!F7="LSD","LSD",IF('full menu'!F7="WSD","WSD",""))))))))))) -> ERfix | G7: =IF('full menu'!G7="MDC","MDC",IF('full menu'!G7="X","X",IF('full menu'!G7="UASC","UASC",IF(OR('full menu'!G7="PERF",'full menu'!G7="AERF",'full menu'!G7="PCB"),"ERfix",IF(OR('full menu'!G7="ACB",'full menu'!G7="LCERT",'full menu'!G7="LERT",'full menu'!G7="FCERT",'full menu'!G7="FERT"),"ERTs",IF(OR('full menu'!G7="FCMT",'full menu'!G7="FMT",'full menu'!G7="LMT",'full menu'!G7="LCMT"),"MTs",IF(OR('full menu'!G7="LCIT",'full menu'!G7="FCIT",'full menu'!G7="LIT",'full menu'!G7="FIT"),"ITs",IF(OR('full menu'!G7="MwERT",'full menu'!G7="ERwMT",'full menu'!G7="M&ERT",'full menu'!G7="MwIT",'full menu'!G7="IwMT",'full menu'!G7="M&IT",'full menu'!G7="IwERT",'full menu'!G7="ERwIT",'full menu'!G7="I&ERT",'full menu'!G7="ER&M&IT"),"MixedTs",IF('full menu'!G7="UD","UD",IF('full menu'!G7="LSD","LSD",IF('full menu'!G7="WSD","WSD",""))))))))))) -> ERfix | H7: =IF('full menu'!H7="MDC","MDC",IF('full menu'!H7="X","X",IF('full menu'!H7="UASC","UASC",IF(OR('full menu'!H7="PERF",'full menu'!H7="AERF",'full menu'!H7="PCB"),"ERfix",IF(OR('full menu'!H7="ACB",'full menu'!H7="LCERT",'full menu'!H7="LERT",'full menu'!H7="FCERT",'full menu'!H7="FERT"),"ERTs",IF(OR('full menu'!H7="FCMT",'full menu'!H7="FMT",'full menu'!H7="LMT",'full menu'!H7="LCMT"),"MTs",IF(OR('full menu'!H7="LCIT",'full menu'!H7="FCIT",'full menu'!H7="LIT",'full menu'!H7="FIT"),"ITs",IF(OR('full menu'!H7="MwERT",'full menu'!H7="ERwMT",'full menu'!H7="M&ERT",'full menu'!H7="MwIT",'full menu'!H7="IwMT",'full menu'!H7="M&IT",'full menu'!H7="IwERT",'full menu'!H7="ERwIT",'full menu'!H7="I&ERT",'full menu'!H7="ER&M&IT"),"MixedTs",IF('full menu'!H7="UD","UD",IF('full menu'!H7="LSD","LSD",IF('full menu'!H7="WSD","WSD",""))))))))))) -> UD | I7: =IF('full menu'!I7="MDC","MDC",IF('full menu'!I7="X","X",IF('full menu'!I7="UASC","UASC",IF(OR('full menu'!I7="PERF",'full menu'!I7="AERF",'full menu'!I7="PCB"),"ERfix",IF(OR('full menu'!I7="ACB",'full menu'!I7="LCERT",'full menu'!I7="LERT",'full menu'!I7="FCERT",'full menu'!I7="FERT"),"ERTs",IF(OR('full menu'!I7="FCMT",'full menu'!I7="FMT",'full menu'!I7="LMT",'full menu'!I7="LCMT"),"MTs",IF(OR('full menu'!I7="LCIT",'full menu'!I7="FCIT",'full menu'!I7="LIT",'full menu'!I7="FIT"),"ITs",IF(OR('full menu'!I7="MwERT",'full menu'!I7="ERwMT",'full menu'!I7="M&ERT",'full menu'!I7="MwIT",'full menu'!I7="IwMT",'full menu'!I7="M&IT",'full menu'!I7="IwERT",'full menu'!I7="ERwIT",'full menu'!I7="I&ERT",'full menu'!I7="ER&M&IT"),"MixedTs",IF('full menu'!I7="UD","UD",IF('full menu'!I7="LSD","LSD",IF('full menu'!I7="WSD","WSD",""))))))))))) -> UD | ... AS7: =IF('full menu'!AS7="MDC","MDC",IF('full menu'!AS7="X","X",IF('full menu'!AS7="UASC","UASC",IF(OR('full menu'!AS7="PERF",'full menu'!AS7="AERF",'full menu'!AS7="PCB"),"ERfix",IF(OR('full menu'!AS7="ACB",'full menu'!AS7="LCERT",'full menu'!AS7="LERT",'full menu'!AS7="FCERT",'full menu'!AS7="FERT"),"ERTs",IF(OR('full menu'!AS7="FCMT",'full menu'!AS7="FMT",'full menu'!AS7="LMT",'full menu'!AS7="LCMT"),"MTs",IF(OR('full menu'!AS7="LCIT",'full menu'!AS7="FCIT",'full menu'!AS7="LIT",'full menu'!AS7="FIT"),"ITs",IF(OR('full menu'!AS7="MwERT",'full menu'!AS7="ERwMT",'full menu'!AS7="M&ERT",'full menu'!AS7="MwIT",'full menu'!AS7="IwMT",'full menu'!AS7="M&IT",'full menu'!AS7="IwERT",'full menu'!AS7="ERwIT",'full menu'!AS7="I&ERT",'full menu'!AS7="ER&M&IT"),"MixedTs",IF('full menu'!AS7="UD","UD",IF('full menu'!AS7="LSD","LSD",IF('full menu'!AS7="WSD","WSD",""))))))))))) -> LSD
A8: Bosnia & Herzegovina | B8: =IF('full menu'!B8="MDC","MDC",IF('full menu'!B8="X","X",IF('full menu'!B8="UASC","UASC",IF(OR('full menu'!B8="PERF",'full menu'!B8="AERF",'full menu'!B8="PCB"),"ERfix",IF(OR('full menu'!B8="ACB",'full menu'!B8="LCERT",'full menu'!B8="LERT",'full menu'!B8="FCERT",'full menu'!B8="FERT"),"ERTs",IF(OR('full menu'!B8="FCMT",'full menu'!B8="FMT",'full menu'!B8="LMT",'full menu'!B8="LCMT"),"MTs",IF(OR('full menu'!B8="LCIT",'full menu'!B8="FCIT",'full menu'!B8="LIT",'full menu'!B8="FIT"),"ITs",IF(OR('full menu'!B8="MwERT",'full menu'!B8="ERwMT",'full menu'!B8="M&ERT",'full menu'!B8="MwIT",'full menu'!B8="IwMT",'full menu'!B8="M&IT",'full menu'!B8="IwERT",'full menu'!B8="ERwIT",'full menu'!B8="I&ERT",'full menu'!B8="ER&M&IT"),"MixedTs",IF('full menu'!B8="UD","UD",IF('full menu'!B8="LSD","LSD",IF('full menu'!B8="WSD","WSD",""))))))))))) -> X | C8: =IF('full menu'!C8="MDC","MDC",IF('full menu'!C8="X","X",IF('full menu'!C8="UASC","UASC",IF(OR('full menu'!C8="PERF",'full menu'!C8="AERF",'full menu'!C8="PCB"),"ERfix",IF(OR('full menu'!C8="ACB",'full menu'!C8="LCERT",'full menu'!C8="LERT",'full menu'!C8="FCERT",'full menu'!C8="FERT"),"ERTs",IF(OR('full menu'!C8="FCMT",'full menu'!C8="FMT",'full menu'!C8="LMT",'full menu'!C8="LCMT"),"MTs",IF(OR('full menu'!C8="LCIT",'full menu'!C8="FCIT",'full menu'!C8="LIT",'full menu'!C8="FIT"),"ITs",IF(OR('full menu'!C8="MwERT",'full menu'!C8="ERwMT",'full menu'!C8="M&ERT",'full menu'!C8="MwIT",'full menu'!C8="IwMT",'full menu'!C8="M&IT",'full menu'!C8="IwERT",'full menu'!C8="ERwIT",'full menu'!C8="I&ERT",'full menu'!C8="ER&M&IT"),"MixedTs",IF('full menu'!C8="UD","UD",IF('full menu'!C8="LSD","LSD",IF('full menu'!C8="WSD","WSD",""))))))))))) -> X | D8: =IF('full menu'!D8="MDC","MDC",IF('full menu'!D8="X","X",IF('full menu'!D8="UASC","UASC",IF(OR('full menu'!D8="PERF",'full menu'!D8="AERF",'full menu'!D8="PCB"),"ERfix",IF(OR('full menu'!D8="ACB",'full menu'!D8="LCERT",'full menu'!D8="LERT",'full menu'!D8="FCERT",'full menu'!D8="FERT"),"ERTs",IF(OR('full menu'!D8="FCMT",'full menu'!D8="FMT",'full menu'!D8="LMT",'full menu'!D8="LCMT"),"MTs",IF(OR('full menu'!D8="LCIT",'full menu'!D8="FCIT",'full menu'!D8="LIT",'full menu'!D8="FIT"),"ITs",IF(OR('full menu'!D8="MwERT",'full menu'!D8="ERwMT",'full menu'!D8="M&ERT",'full menu'!D8="MwIT",'full menu'!D8="IwMT",'full menu'!D8="M&IT",'full menu'!D8="IwERT",'full menu'!D8="ERwIT",'full menu'!D8="I&ERT",'full menu'!D8="ER&M&IT"),"MixedTs",IF('full menu'!D8="UD","UD",IF('full menu'!D8="LSD","LSD",IF('full menu'!D8="WSD","WSD",""))))))))))) -> X | E8: =IF('full menu'!E8="MDC","MDC",IF('full menu'!E8="X","X",IF('full menu'!E8="UASC","UASC",IF(OR('full menu'!E8="PERF",'full menu'!E8="AERF",'full menu'!E8="PCB"),"ERfix",IF(OR('full menu'!E8="ACB",'full menu'!E8="LCERT",'full menu'!E8="LERT",'full menu'!E8="FCERT",'full menu'!E8="FERT"),"ERTs",IF(OR('full menu'!E8="FCMT",'full menu'!E8="FMT",'full menu'!E8="LMT",'full menu'!E8="LCMT"),"MTs",IF(OR('full menu'!E8="LCIT",'full menu'!E8="FCIT",'full menu'!E8="LIT",'full menu'!E8="FIT"),"ITs",IF(OR('full menu'!E8="MwERT",'full menu'!E8="ERwMT",'full menu'!E8="M&ERT",'full menu'!E8="MwIT",'full menu'!E8="IwMT",'full menu'!E8="M&IT",'full menu'!E8="IwERT",'full menu'!E8="ERwIT",'full menu'!E8="I&ERT",'full menu'!E8="ER&M&IT"),"MixedTs",IF('full menu'!E8="UD","UD",IF('full menu'!E8="LSD","LSD",IF('full menu'!E8="WSD","WSD",""))))))))))) -> X | F8: =IF('full menu'!F8="MDC","MDC",IF('full menu'!F8="X","X",IF('full menu'!F8="UASC","UASC",IF(OR('full menu'!F8="PERF",'full menu'!F8="AERF",'full menu'!F8="PCB"),"ERfix",IF(OR('full menu'!F8="ACB",'full menu'!F8="LCERT",'full menu'!F8="LERT",'full menu'!F8="FCERT",'full menu'!F8="FERT"),"ERTs",IF(OR('full menu'!F8="FCMT",'full menu'!F8="FMT",'full menu'!F8="LMT",'full menu'!F8="LCMT"),"MTs",IF(OR('full menu'!F8="LCIT",'full menu'!F8="FCIT",'full menu'!F8="LIT",'full menu'!F8="FIT"),"ITs",IF(OR('full menu'!F8="MwERT",'full menu'!F8="ERwMT",'full menu'!F8="M&ERT",'full menu'!F8="MwIT",'full menu'!F8="IwMT",'full menu'!F8="M&IT",'full menu'!F8="IwERT",'full menu'!F8="ERwIT",'full menu'!F8="I&ERT",'full menu'!F8="ER&M&IT"),"MixedTs",IF('full menu'!F8="UD","UD",IF('full menu'!F8="LSD","LSD",IF('full menu'!F8="WSD","WSD",""))))))))))) -> X | G8: =IF('full menu'!G8="MDC","MDC",IF('full menu'!G8="X","X",IF('full menu'!G8="UASC","UASC",IF(OR('full menu'!G8="PERF",'full menu'!G8="AERF",'full menu'!G8="PCB"),"ERfix",IF(OR('full menu'!G8="ACB",'full menu'!G8="LCERT",'full menu'!G8="LERT",'full menu'!G8="FCERT",'full menu'!G8="FERT"),"ERTs",IF(OR('full menu'!G8="FCMT",'full menu'!G8="FMT",'full menu'!G8="LMT",'full menu'!G8="LCMT"),"MTs",IF(OR('full menu'!G8="LCIT",'full menu'!G8="FCIT",'full menu'!G8="LIT",'full menu'!G8="FIT"),"ITs",IF(OR('full menu'!G8="MwERT",'full menu'!G8="ERwMT",'full menu'!G8="M&ERT",'full menu'!G8="MwIT",'full menu'!G8="IwMT",'full menu'!G8="M&IT",'full menu'!G8="IwERT",'full menu'!G8="ERwIT",'full menu'!G8="I&ERT",'full menu'!G8="ER&M&IT"),"MixedTs",IF('full menu'!G8="UD","UD",IF('full menu'!G8="LSD","LSD",IF('full menu'!G8="WSD","WSD",""))))))))))) -> X | H8: =IF('full menu'!H8="MDC","MDC",IF('full menu'!H8="X","X",IF('full menu'!H8="UASC","UASC",IF(OR('full menu'!H8="PERF",'full menu'!H8="AERF",'full menu'!H8="PCB"),"ERfix",IF(OR('full menu'!H8="ACB",'full menu'!H8="LCERT",'full menu'!H8="LERT",'full menu'!H8="FCERT",'full menu'!H8="FERT"),"ERTs",IF(OR('full menu'!H8="FCMT",'full menu'!H8="FMT",'full menu'!H8="LMT",'full menu'!H8="LCMT"),"MTs",IF(OR('full menu'!H8="LCIT",'full menu'!H8="FCIT",'full menu'!H8="LIT",'full menu'!H8="FIT"),"ITs",IF(OR('full menu'!H8="MwERT",'full menu'!H8="ERwMT",'full menu'!H8="M&ERT",'full menu'!H8="MwIT",'full menu'!H8="IwMT",'full menu'!H8="M&IT",'full menu'!H8="IwERT",'full menu'!H8="ERwIT",'full menu'!H8="I&ERT",'full menu'!H8="ER&M&IT"),"MixedTs",IF('full menu'!H8="UD","UD",IF('full menu'!H8="LSD","LSD",IF('full menu'!H8="WSD","WSD",""))))))))))) -> X | I8: =IF('full menu'!I8="MDC","MDC",IF('full menu'!I8="X","X",IF('full menu'!I8="UASC","UASC",IF(OR('full menu'!I8="PERF",'full menu'!I8="AERF",'full menu'!I8="PCB"),"ERfix",IF(OR('full menu'!I8="ACB",'full menu'!I8="LCERT",'full menu'!I8="LERT",'full menu'!I8="FCERT",'full menu'!I8="FERT"),"ERTs",IF(OR('full menu'!I8="FCMT",'full menu'!I8="FMT",'full menu'!I8="LMT",'full menu'!I8="LCMT"),"MTs",IF(OR('full menu'!I8="LCIT",'full menu'!I8="FCIT",'full menu'!I8="LIT",'full menu'!I8="FIT"),"ITs",IF(OR('full menu'!I8="MwERT",'full menu'!I8="ERwMT",'full menu'!I8="M&ERT",'full menu'!I8="MwIT",'full menu'!I8="IwMT",'full menu'!I8="M&IT",'full menu'!I8="IwERT",'full menu'!I8="ERwIT",'full menu'!I8="I&ERT",'full menu'!I8="ER&M&IT"),"MixedTs",IF('full menu'!I8="UD","UD",IF('full menu'!I8="LSD","LSD",IF('full menu'!I8="WSD","WSD",""))))))))))) -> X | ... AS8: =IF('full menu'!AS8="MDC","MDC",IF('full menu'!AS8="X","X",IF('full menu'!AS8="UASC","UASC",IF(OR('full menu'!AS8="PERF",'full menu'!AS8="AERF",'full menu'!AS8="PCB"),"ERfix",IF(OR('full menu'!AS8="ACB",'full menu'!AS8="LCERT",'full menu'!AS8="LERT",'full menu'!AS8="FCERT",'full menu'!AS8="FERT"),"ERTs",IF(OR('full menu'!AS8="FCMT",'full menu'!AS8="FMT",'full menu'!AS8="LMT",'full menu'!AS8="LCMT"),"MTs",IF(OR('full menu'!AS8="LCIT",'full menu'!AS8="FCIT",'full menu'!AS8="LIT",'full menu'!AS8="FIT"),"ITs",IF(OR('full menu'!AS8="MwERT",'full menu'!AS8="ERwMT",'full menu'!AS8="M&ERT",'full menu'!AS8="MwIT",'full menu'!AS8="IwMT",'full menu'!AS8="M&IT",'full menu'!AS8="IwERT",'full menu'!AS8="ERwIT",'full menu'!AS8="I&ERT",'full menu'!AS8="ER&M&IT"),"MixedTs",IF('full menu'!AS8="UD","UD",IF('full menu'!AS8="LSD","LSD",IF('full menu'!AS8="WSD","WSD",""))))))))))) -> ERfix
A9: Brazil | B9: =IF('full menu'!B9="MDC","MDC",IF('full menu'!B9="X","X",IF('full menu'!B9="UASC","UASC",IF(OR('full menu'!B9="PERF",'full menu'!B9="AERF",'full menu'!B9="PCB"),"ERfix",IF(OR('full menu'!B9="ACB",'full menu'!B9="LCERT",'full menu'!B9="LERT",'full menu'!B9="FCERT",'full menu'!B9="FERT"),"ERTs",IF(OR('full menu'!B9="FCMT",'full menu'!B9="FMT",'full menu'!B9="LMT",'full menu'!B9="LCMT"),"MTs",IF(OR('full menu'!B9="LCIT",'full menu'!B9="FCIT",'full menu'!B9="LIT",'full menu'!B9="FIT"),"ITs",IF(OR('full menu'!B9="MwERT",'full menu'!B9="ERwMT",'full menu'!B9="M&ERT",'full menu'!B9="MwIT",'full menu'!B9="IwMT",'full menu'!B9="M&IT",'full menu'!B9="IwERT",'full menu'!B9="ERwIT",'full menu'!B9="I&ERT",'full menu'!B9="ER&M&IT"),"MixedTs",IF('full menu'!B9="UD","UD",IF('full menu'!B9="LSD","LSD",IF('full menu'!B9="WSD","WSD",""))))))))))) -> UD | C9: =IF('full menu'!C9="MDC","MDC",IF('full menu'!C9="X","X",IF('full menu'!C9="UASC","UASC",IF(OR('full menu'!C9="PERF",'full menu'!C9="AERF",'full menu'!C9="PCB"),"ERfix",IF(OR('full menu'!C9="ACB",'full menu'!C9="LCERT",'full menu'!C9="LERT",'full menu'!C9="FCERT",'full menu'!C9="FERT"),"ERTs",IF(OR('full menu'!C9="FCMT",'full menu'!C9="FMT",'full menu'!C9="LMT",'full menu'!C9="LCMT"),"MTs",IF(OR('full menu'!C9="LCIT",'full menu'!C9="FCIT",'full menu'!C9="LIT",'full menu'!C9="FIT"),"ITs",IF(OR('full menu'!C9="MwERT",'full menu'!C9="ERwMT",'full menu'!C9="M&ERT",'full menu'!C9="MwIT",'full menu'!C9="IwMT",'full menu'!C9="M&IT",'full menu'!C9="IwERT",'full menu'!C9="ERwIT",'full menu'!C9="I&ERT",'full menu'!C9="ER&M&IT"),"MixedTs",IF('full menu'!C9="UD","UD",IF('full menu'!C9="LSD","LSD",IF('full menu'!C9="WSD","WSD",""))))))))))) -> UD | D9: =IF('full menu'!D9="MDC","MDC",IF('full menu'!D9="X","X",IF('full menu'!D9="UASC","UASC",IF(OR('full menu'!D9="PERF",'full menu'!D9="AERF",'full menu'!D9="PCB"),"ERfix",IF(OR('full menu'!D9="ACB",'full menu'!D9="LCERT",'full menu'!D9="LERT",'full menu'!D9="FCERT",'full menu'!D9="FERT"),"ERTs",IF(OR('full menu'!D9="FCMT",'full menu'!D9="FMT",'full menu'!D9="LMT",'full menu'!D9="LCMT"),"MTs",IF(OR('full menu'!D9="LCIT",'full menu'!D9="FCIT",'full menu'!D9="LIT",'full menu'!D9="FIT"),"ITs",IF(OR('full menu'!D9="MwERT",'full menu'!D9="ERwMT",'full menu'!D9="M&ERT",'full menu'!D9="MwIT",'full menu'!D9="IwMT",'full menu'!D9="M&IT",'full menu'!D9="IwERT",'full menu'!D9="ERwIT",'full menu'!D9="I&ERT",'full menu'!D9="ER&M&IT"),"MixedTs",IF('full menu'!D9="UD","UD",IF('full menu'!D9="LSD","LSD",IF('full menu'!D9="WSD","WSD",""))))))))))) -> UD | E9: =IF('full menu'!E9="MDC","MDC",IF('full menu'!E9="X","X",IF('full menu'!E9="UASC","UASC",IF(OR('full menu'!E9="PERF",'full menu'!E9="AERF",'full menu'!E9="PCB"),"ERfix",IF(OR('full menu'!E9="ACB",'full menu'!E9="LCERT",'full menu'!E9="LERT",'full menu'!E9="FCERT",'full menu'!E9="FERT"),"ERTs",IF(OR('full menu'!E9="FCMT",'full menu'!E9="FMT",'full menu'!E9="LMT",'full menu'!E9="LCMT"),"MTs",IF(OR('full menu'!E9="LCIT",'full menu'!E9="FCIT",'full menu'!E9="LIT",'full menu'!E9="FIT"),"ITs",IF(OR('full menu'!E9="MwERT",'full menu'!E9="ERwMT",'full menu'!E9="M&ERT",'full menu'!E9="MwIT",'full menu'!E9="IwMT",'full menu'!E9="M&IT",'full menu'!E9="IwERT",'full menu'!E9="ERwIT",'full menu'!E9="I&ERT",'full menu'!E9="ER&M&IT"),"MixedTs",IF('full menu'!E9="UD","UD",IF('full menu'!E9="LSD","LSD",IF('full menu'!E9="WSD","WSD",""))))))))))) -> UD | F9: =IF('full menu'!F9="MDC","MDC",IF('full menu'!F9="X","X",IF('full menu'!F9="UASC","UASC",IF(OR('full menu'!F9="PERF",'full menu'!F9="AERF",'full menu'!F9="PCB"),"ERfix",IF(OR('full menu'!F9="ACB",'full menu'!F9="LCERT",'full menu'!F9="LERT",'full menu'!F9="FCERT",'full menu'!F9="FERT"),"ERTs",IF(OR('full menu'!F9="FCMT",'full menu'!F9="FMT",'full menu'!F9="LMT",'full menu'!F9="LCMT"),"MTs",IF(OR('full menu'!F9="LCIT",'full menu'!F9="FCIT",'full menu'!F9="LIT",'full menu'!F9="FIT"),"ITs",IF(OR('full menu'!F9="MwERT",'full menu'!F9="ERwMT",'full menu'!F9="M&ERT",'full menu'!F9="MwIT",'full menu'!F9="IwMT",'full menu'!F9="M&IT",'full menu'!F9="IwERT",'full menu'!F9="ERwIT",'full menu'!F9="I&ERT",'full menu'!F9="ER&M&IT"),"MixedTs",IF('full menu'!F9="UD","UD",IF('full menu'!F9="LSD","LSD",IF('full menu'!F9="WSD","WSD",""))))))))))) -> UD | G9: =IF('full menu'!G9="MDC","MDC",IF('full menu'!G9="X","X",IF('full menu'!G9="UASC","UASC",IF(OR('full menu'!G9="PERF",'full menu'!G9="AERF",'full menu'!G9="PCB"),"ERfix",IF(OR('full menu'!G9="ACB",'full menu'!G9="LCERT",'full menu'!G9="LERT",'full menu'!G9="FCERT",'full menu'!G9="FERT"),"ERTs",IF(OR('full menu'!G9="FCMT",'full menu'!G9="FMT",'full menu'!G9="LMT",'full menu'!G9="LCMT"),"MTs",IF(OR('full menu'!G9="LCIT",'full menu'!G9="FCIT",'full menu'!G9="LIT",'full menu'!G9="FIT"),"ITs",IF(OR('full menu'!G9="MwERT",'full menu'!G9="ERwMT",'full menu'!G9="M&ERT",'full menu'!G9="MwIT",'full menu'!G9="IwMT",'full menu'!G9="M&IT",'full menu'!G9="IwERT",'full menu'!G9="ERwIT",'full menu'!G9="I&ERT",'full menu'!G9="ER&M&IT"),"MixedTs",IF('full menu'!G9="UD","UD",IF('full menu'!G9="LSD","LSD",IF('full menu'!G9="WSD","WSD",""))))))))))) -> UD | H9: =IF('full menu'!H9="MDC","MDC",IF('full menu'!H9="X","X",IF('full menu'!H9="UASC","UASC",IF(OR('full menu'!H9="PERF",'full menu'!H9="AERF",'full menu'!H9="PCB"),"ERfix",IF(OR('full menu'!H9="ACB",'full menu'!H9="LCERT",'full menu'!H9="LERT",'full menu'!H9="FCERT",'full menu'!H9="FERT"),"ERTs",IF(OR('full menu'!H9="FCMT",'full menu'!H9="FMT",'full menu'!H9="LMT",'full menu'!H9="LCMT"),"MTs",IF(OR('full menu'!H9="LCIT",'full menu'!H9="FCIT",'full menu'!H9="LIT",'full menu'!H9="FIT"),"ITs",IF(OR('full menu'!H9="MwERT",'full menu'!H9="ERwMT",'full menu'!H9="M&ERT",'full menu'!H9="MwIT",'full menu'!H9="IwMT",'full menu'!H9="M&IT",'full menu'!H9="IwERT",'full menu'!H9="ERwIT",'full menu'!H9="I&ERT",'full menu'!H9="ER&M&IT"),"MixedTs",IF('full menu'!H9="UD","UD",IF('full menu'!H9="LSD","LSD",IF('full menu'!H9="WSD","WSD",""))))))))))) -> UD | I9: =IF('full menu'!I9="MDC","MDC",IF('full menu'!I9="X","X",IF('full menu'!I9="UASC","UASC",IF(OR('full menu'!I9="PERF",'full menu'!I9="AERF",'full menu'!I9="PCB"),"ERfix",IF(OR('full menu'!I9="ACB",'full menu'!I9="LCERT",'full menu'!I9="LERT",'full menu'!I9="FCERT",'full menu'!I9="FERT"),"ERTs",IF(OR('full menu'!I9="FCMT",'full menu'!I9="FMT",'full menu'!I9="LMT",'full menu'!I9="LCMT"),"MTs",IF(OR('full menu'!I9="LCIT",'full menu'!I9="FCIT",'full menu'!I9="LIT",'full menu'!I9="FIT"),"ITs",IF(OR('full menu'!I9="MwERT",'full menu'!I9="ERwMT",'full menu'!I9="M&ERT",'full menu'!I9="MwIT",'full menu'!I9="IwMT",'full menu'!I9="M&IT",'full menu'!I9="IwERT",'full menu'!I9="ERwIT",'full menu'!I9="I&ERT",'full menu'!I9="ER&M&IT"),"MixedTs",IF('full menu'!I9="UD","UD",IF('full menu'!I9="LSD","LSD",IF('full menu'!I9="WSD","WSD",""))))))))))) -> UD | ... AS9: =IF('full menu'!AS9="MDC","MDC",IF('full menu'!AS9="X","X",IF('full menu'!AS9="UASC","UASC",IF(OR('full menu'!AS9="PERF",'full menu'!AS9="AERF",'full menu'!AS9="PCB"),"ERfix",IF(OR('full menu'!AS9="ACB",'full menu'!AS9="LCERT",'full menu'!AS9="LERT",'full menu'!AS9="FCERT",'full menu'!AS9="FERT"),"ERTs",IF(OR('full menu'!AS9="FCMT",'full menu'!AS9="FMT",'full menu'!AS9="LMT",'full menu'!AS9="LCMT"),"MTs",IF(OR('full menu'!AS9="LCIT",'full menu'!AS9="FCIT",'full menu'!AS9="LIT",'full menu'!AS9="FIT"),"ITs",IF(OR('full menu'!AS9="MwERT",'full menu'!AS9="ERwMT",'full menu'!AS9="M&ERT",'full menu'!AS9="MwIT",'full menu'!AS9="IwMT",'full menu'!AS9="M&IT",'full menu'!AS9="IwERT",'full menu'!AS9="ERwIT",'full menu'!AS9="I&ERT",'full menu'!AS9="ER&M&IT"),"MixedTs",IF('full menu'!AS9="UD","UD",IF('full menu'!AS9="LSD","LSD",IF('full menu'!AS9="WSD","WSD",""))))))))))) -> ITs
A10: Bulgaria | B10: =IF('full menu'!B10="MDC","MDC",IF('full menu'!B10="X","X",IF('full menu'!B10="UASC","UASC",IF(OR('full menu'!B10="PERF",'full menu'!B10="AERF",'full menu'!B10="PCB"),"ERfix",IF(OR('full menu'!B10="ACB",'full menu'!B10="LCERT",'full menu'!B10="LERT",'full menu'!B10="FCERT",'full menu'!B10="FERT"),"ERTs",IF(OR('full menu'!B10="FCMT",'full menu'!B10="FMT",'full menu'!B10="LMT",'full menu'!B10="LCMT"),"MTs",IF(OR('full menu'!B10="LCIT",'full menu'!B10="FCIT",'full menu'!B10="LIT",'full menu'!B10="FIT"),"ITs",IF(OR('full menu'!B10="MwERT",'full menu'!B10="ERwMT",'full menu'!B10="M&ERT",'full menu'!B10="MwIT",'full menu'!B10="IwMT",'full menu'!B10="M&IT",'full menu'!B10="IwERT",'full menu'!B10="ERwIT",'full menu'!B10="I&ERT",'full menu'!B10="ER&M&IT"),"MixedTs",IF('full menu'!B10="UD","UD",IF('full menu'!B10="LSD","LSD",IF('full menu'!B10="WSD","WSD",""))))))))))) -> MDC | C10: =IF('full menu'!C10="MDC","MDC",IF('full menu'!C10="X","X",IF('full menu'!C10="UASC","UASC",IF(OR('full menu'!C10="PERF",'full menu'!C10="AERF",'full menu'!C10="PCB"),"ERfix",IF(OR('full menu'!C10="ACB",'full menu'!C10="LCERT",'full menu'!C10="LERT",'full menu'!C10="FCERT",'full menu'!C10="FERT"),"ERTs",IF(OR('full menu'!C10="FCMT",'full menu'!C10="FMT",'full menu'!C10="LMT",'full menu'!C10="LCMT"),"MTs",IF(OR('full menu'!C10="LCIT",'full menu'!C10="FCIT",'full menu'!C10="LIT",'full menu'!C10="FIT"),"ITs",IF(OR('full menu'!C10="MwERT",'full menu'!C10="ERwMT",'full menu'!C10="M&ERT",'full menu'!C10="MwIT",'full menu'!C10="IwMT",'full menu'!C10="M&IT",'full menu'!C10="IwERT",'full menu'!C10="ERwIT",'full menu'!C10="I&ERT",'full menu'!C10="ER&M&IT"),"MixedTs",IF('full menu'!C10="UD","UD",IF('full menu'!C10="LSD","LSD",IF('full menu'!C10="WSD","WSD",""))))))))))) -> MDC | D10: =IF('full menu'!D10="MDC","MDC",IF('full menu'!D10="X","X",IF('full menu'!D10="UASC","UASC",IF(OR('full menu'!D10="PERF",'full menu'!D10="AERF",'full menu'!D10="PCB"),"ERfix",IF(OR('full menu'!D10="ACB",'full menu'!D10="LCERT",'full menu'!D10="LERT",'full menu'!D10="FCERT",'full menu'!D10="FERT"),"ERTs",IF(OR('full menu'!D10="FCMT",'full menu'!D10="FMT",'full menu'!D10="LMT",'full menu'!D10="LCMT"),"MTs",IF(OR('full menu'!D10="LCIT",'full menu'!D10="FCIT",'full menu'!D10="LIT",'full menu'!D10="FIT"),"ITs",IF(OR('full menu'!D10="MwERT",'full menu'!D10="ERwMT",'full menu'!D10="M&ERT",'full menu'!D10="MwIT",'full menu'!D10="IwMT",'full menu'!D10="M&IT",'full menu'!D10="IwERT",'full menu'!D10="ERwIT",'full menu'!D10="I&ERT",'full menu'!D10="ER&M&IT"),"MixedTs",IF('full menu'!D10="UD","UD",IF('full menu'!D10="LSD","LSD",IF('full menu'!D10="WSD","WSD",""))))))))))) -> MDC | E10: =IF('full menu'!E10="MDC","MDC",IF('full menu'!E10="X","X",IF('full menu'!E10="UASC","UASC",IF(OR('full menu'!E10="PERF",'full menu'!E10="AERF",'full menu'!E10="PCB"),"ERfix",IF(OR('full menu'!E10="ACB",'full menu'!E10="LCERT",'full menu'!E10="LERT",'full menu'!E10="FCERT",'full menu'!E10="FERT"),"ERTs",IF(OR('full menu'!E10="FCMT",'full menu'!E10="FMT",'full menu'!E10="LMT",'full menu'!E10="LCMT"),"MTs",IF(OR('full menu'!E10="LCIT",'full menu'!E10="FCIT",'full menu'!E10="LIT",'full menu'!E10="FIT"),"ITs",IF(OR('full menu'!E10="MwERT",'full menu'!E10="ERwMT",'full menu'!E10="M&ERT",'full menu'!E10="MwIT",'full menu'!E10="IwMT",'full menu'!E10="M&IT",'full menu'!E10="IwERT",'full menu'!E10="ERwIT",'full menu'!E10="I&ERT",'full menu'!E10="ER&M&IT"),"MixedTs",IF('full menu'!E10="UD","UD",IF('full menu'!E10="LSD","LSD",IF('full menu'!E10="WSD","WSD",""))))))))))) -> MDC | F10: =IF('full menu'!F10="MDC","MDC",IF('full menu'!F10="X","X",IF('full menu'!F10="UASC","UASC",IF(OR('full menu'!F10="PERF",'full menu'!F10="AERF",'full menu'!F10="PCB"),"ERfix",IF(OR('full menu'!F10="ACB",'full menu'!F10="LCERT",'full menu'!F10="LERT",'full menu'!F10="FCERT",'full menu'!F10="FERT"),"ERTs",IF(OR('full menu'!F10="FCMT",'full menu'!F10="FMT",'full menu'!F10="LMT",'full menu'!F10="LCMT"),"MTs",IF(OR('full menu'!F10="LCIT",'full menu'!F10="FCIT",'full menu'!F10="LIT",'full menu'!F10="FIT"),"ITs",IF(OR('full menu'!F10="MwERT",'full menu'!F10="ERwMT",'full menu'!F10="M&ERT",'full menu'!F10="MwIT",'full menu'!F10="IwMT",'full menu'!F10="M&IT",'full menu'!F10="IwERT",'full menu'!F10="ERwIT",'full menu'!F10="I&ERT",'full menu'!F10="ER&M&IT"),"MixedTs",IF('full menu'!F10="UD","UD",IF('full menu'!F10="LSD","LSD",IF('full menu'!F10="WSD","WSD",""))))))))))) -> MDC | G10: =IF('full menu'!G10="MDC","MDC",IF('full menu'!G10="X","X",IF('full menu'!G10="UASC","UASC",IF(OR('full menu'!G10="PERF",'full menu'!G10="AERF",'full menu'!G10="PCB"),"ERfix",IF(OR('full menu'!G10="ACB",'full menu'!G10="LCERT",'full menu'!G10="LERT",'full menu'!G10="FCERT",'full menu'!G10="FERT"),"ERTs",IF(OR('full menu'!G10="FCMT",'full menu'!G10="FMT",'full menu'!G10="LMT",'full menu'!G10="LCMT"),"MTs",IF(OR('full menu'!G10="LCIT",'full menu'!G10="FCIT",'full menu'!G10="LIT",'full menu'!G10="FIT"),"ITs",IF(OR('full menu'!G10="MwERT",'full menu'!G10="ERwMT",'full menu'!G10="M&ERT",'full menu'!G10="MwIT",'full menu'!G10="IwMT",'full menu'!G10="M&IT",'full menu'!G10="IwERT",'full menu'!G10="ERwIT",'full menu'!G10="I&ERT",'full menu'!G10="ER&M&IT"),"MixedTs",IF('full menu'!G10="UD","UD",IF('full menu'!G10="LSD","LSD",IF('full menu'!G10="WSD","WSD",""))))))))))) -> MDC | H10: =IF('full menu'!H10="MDC","MDC",IF('full menu'!H10="X","X",IF('full menu'!H10="UASC","UASC",IF(OR('full menu'!H10="PERF",'full menu'!H10="AERF",'full menu'!H10="PCB"),"ERfix",IF(OR('full menu'!H10="ACB",'full menu'!H10="LCERT",'full menu'!H10="LERT",'full menu'!H10="FCERT",'full menu'!H10="FERT"),"ERTs",IF(OR('full menu'!H10="FCMT",'full menu'!H10="FMT",'full menu'!H10="LMT",'full menu'!H10="LCMT"),"MTs",IF(OR('full menu'!H10="LCIT",'full menu'!H10="FCIT",'full menu'!H10="LIT",'full menu'!H10="FIT"),"ITs",IF(OR('full menu'!H10="MwERT",'full menu'!H10="ERwMT",'full menu'!H10="M&ERT",'full menu'!H10="MwIT",'full menu'!H10="IwMT",'full menu'!H10="M&IT",'full menu'!H10="IwERT",'full menu'!H10="ERwIT",'full menu'!H10="I&ERT",'full menu'!H10="ER&M&IT"),"MixedTs",IF('full menu'!H10="UD","UD",IF('full menu'!H10="LSD","LSD",IF('full menu'!H10="WSD","WSD",""))))))))))) -> MDC | I10: =IF('full menu'!I10="MDC","MDC",IF('full menu'!I10="X","X",IF('full menu'!I10="UASC","UASC",IF(OR('full menu'!I10="PERF",'full menu'!I10="AERF",'full menu'!I10="PCB"),"ERfix",IF(OR('full menu'!I10="ACB",'full menu'!I10="LCERT",'full menu'!I10="LERT",'full menu'!I10="FCERT",'full menu'!I10="FERT"),"ERTs",IF(OR('full menu'!I10="FCMT",'full menu'!I10="FMT",'full menu'!I10="LMT",'full menu'!I10="LCMT"),"MTs",IF(OR('full menu'!I10="LCIT",'full menu'!I10="FCIT",'full menu'!I10="LIT",'full menu'!I10="FIT"),"ITs",IF(OR('full menu'!I10="MwERT",'full menu'!I10="ERwMT",'full menu'!I10="M&ERT",'full menu'!I10="MwIT",'full menu'!I10="IwMT",'full menu'!I10="M&IT",'full menu'!I10="IwERT",'full menu'!I10="ERwIT",'full menu'!I10="I&ERT",'full menu'!I10="ER&M&IT"),"MixedTs",IF('full menu'!I10="UD","UD",IF('full menu'!I10="LSD","LSD",IF('full menu'!I10="WSD","WSD",""))))))))))) -> MDC | ... AS10: =IF('full menu'!AS10="MDC","MDC",IF('full menu'!AS10="X","X",IF('full menu'!AS10="UASC","UASC",IF(OR('full menu'!AS10="PERF",'full menu'!AS10="AERF",'full menu'!AS10="PCB"),"ERfix",IF(OR('full menu'!AS10="ACB",'full menu'!AS10="LCERT",'full menu'!AS10="LERT",'full menu'!AS10="FCERT",'full menu'!AS10="FERT"),"ERTs",IF(OR('full menu'!AS10="FCMT",'full menu'!AS10="FMT",'full menu'!AS10="LMT",'full menu'!AS10="LCMT"),"MTs",IF(OR('full menu'!AS10="LCIT",'full menu'!AS10="FCIT",'full menu'!AS10="LIT",'full menu'!AS10="FIT"),"ITs",IF(OR('full menu'!AS10="MwERT",'full menu'!AS10="ERwMT",'full menu'!AS10="M&ERT",'full menu'!AS10="MwIT",'full menu'!AS10="IwMT",'full menu'!AS10="M&IT",'full menu'!AS10="IwERT",'full menu'!AS10="ERwIT",'full menu'!AS10="I&ERT",'full menu'!AS10="ER&M&IT"),"MixedTs",IF('full menu'!AS10="UD","UD",IF('full menu'!AS10="LSD","LSD",IF('full menu'!AS10="WSD","WSD",""))))))))))) -> ERTs
A11: Cabo Verde | B11: =IF('full menu'!B11="MDC","MDC",IF('full menu'!B11="X","X",IF('full menu'!B11="UASC","UASC",IF(OR('full menu'!B11="PERF",'full menu'!B11="AERF",'full menu'!B11="PCB"),"ERfix",IF(OR('full menu'!B11="ACB",'full menu'!B11="LCERT",'full menu'!B11="LERT",'full menu'!B11="FCERT",'full menu'!B11="FERT"),"ERTs",IF(OR('full menu'!B11="FCMT",'full menu'!B11="FMT",'full menu'!B11="LMT",'full menu'!B11="LCMT"),"MTs",IF(OR('full menu'!B11="LCIT",'full menu'!B11="FCIT",'full menu'!B11="LIT",'full menu'!B11="FIT"),"ITs",IF(OR('full menu'!B11="MwERT",'full menu'!B11="ERwMT",'full menu'!B11="M&ERT",'full menu'!B11="MwIT",'full menu'!B11="IwMT",'full menu'!B11="M&IT",'full menu'!B11="IwERT",'full menu'!B11="ERwIT",'full menu'!B11="I&ERT",'full menu'!B11="ER&M&IT"),"MixedTs",IF('full menu'!B11="UD","UD",IF('full menu'!B11="LSD","LSD",IF('full menu'!B11="WSD","WSD",""))))))))))) -> X | C11: =IF('full menu'!C11="MDC","MDC",IF('full menu'!C11="X","X",IF('full menu'!C11="UASC","UASC",IF(OR('full menu'!C11="PERF",'full menu'!C11="AERF",'full menu'!C11="PCB"),"ERfix",IF(OR('full menu'!C11="ACB",'full menu'!C11="LCERT",'full menu'!C11="LERT",'full menu'!C11="FCERT",'full menu'!C11="FERT"),"ERTs",IF(OR('full menu'!C11="FCMT",'full menu'!C11="FMT",'full menu'!C11="LMT",'full menu'!C11="LCMT"),"MTs",IF(OR('full menu'!C11="LCIT",'full menu'!C11="FCIT",'full menu'!C11="LIT",'full menu'!C11="FIT"),"ITs",IF(OR('full menu'!C11="MwERT",'full menu'!C11="ERwMT",'full menu'!C11="M&ERT",'full menu'!C11="MwIT",'full menu'!C11="IwMT",'full menu'!C11="M&IT",'full menu'!C11="IwERT",'full menu'!C11="ERwIT",'full menu'!C11="I&ERT",'full menu'!C11="ER&M&IT"),"MixedTs",IF('full menu'!C11="UD","UD",IF('full menu'!C11="LSD","LSD",IF('full menu'!C11="WSD","WSD",""))))))))))) -> ERfix | D11: =IF('full menu'!D11="MDC","MDC",IF('full menu'!D11="X","X",IF('full menu'!D11="UASC","UASC",IF(OR('full menu'!D11="PERF",'full menu'!D11="AERF",'full menu'!D11="PCB"),"ERfix",IF(OR('full menu'!D11="ACB",'full menu'!D11="LCERT",'full menu'!D11="LERT",'full menu'!D11="FCERT",'full menu'!D11="FERT"),"ERTs",IF(OR('full menu'!D11="FCMT",'full menu'!D11="FMT",'full menu'!D11="LMT",'full menu'!D11="LCMT"),"MTs",IF(OR('full menu'!D11="LCIT",'full menu'!D11="FCIT",'full menu'!D11="LIT",'full menu'!D11="FIT"),"ITs",IF(OR('full menu'!D11="MwERT",'full menu'!D11="ERwMT",'full menu'!D11="M&ERT",'full menu'!D11="MwIT",'full menu'!D11="IwMT",'full menu'!D11="M&IT",'full menu'!D11="IwERT",'full menu'!D11="ERwIT",'full menu'!D11="I&ERT",'full menu'!D11="ER&M&IT"),"MixedTs",IF('full menu'!D11="UD","UD",IF('full menu'!D11="LSD","LSD",IF('full menu'!D11="WSD","WSD",""))))))))))) -> ERfix | E11: =IF('full menu'!E11="MDC","MDC",IF('full menu'!E11="X","X",IF('full menu'!E11="UASC","UASC",IF(OR('full menu'!E11="PERF",'full menu'!E11="AERF",'full menu'!E11="PCB"),"ERfix",IF(OR('full menu'!E11="ACB",'full menu'!E11="LCERT",'full menu'!E11="LERT",'full menu'!E11="FCERT",'full menu'!E11="FERT"),"ERTs",IF(OR('full menu'!E11="FCMT",'full menu'!E11="FMT",'full menu'!E11="LMT",'full menu'!E11="LCMT"),"MTs",IF(OR('full menu'!E11="LCIT",'full menu'!E11="FCIT",'full menu'!E11="LIT",'full menu'!E11="FIT"),"ITs",IF(OR('full menu'!E11="MwERT",'full menu'!E11="ERwMT",'full menu'!E11="M&ERT",'full menu'!E11="MwIT",'full menu'!E11="IwMT",'full menu'!E11="M&IT",'full menu'!E11="IwERT",'full menu'!E11="ERwIT",'full menu'!E11="I&ERT",'full menu'!E11="ER&M&IT"),"MixedTs",IF('full menu'!E11="UD","UD",IF('full menu'!E11="LSD","LSD",IF('full menu'!E11="WSD","WSD",""))))))))))) -> ERfix | F11: =IF('full menu'!F11="MDC","MDC",IF('full menu'!F11="X","X",IF('full menu'!F11="UASC","UASC",IF(OR('full menu'!F11="PERF",'full menu'!F11="AERF",'full menu'!F11="PCB"),"ERfix",IF(OR('full menu'!F11="ACB",'full menu'!F11="LCERT",'full menu'!F11="LERT",'full menu'!F11="FCERT",'full menu'!F11="FERT"),"ERTs",IF(OR('full menu'!F11="FCMT",'full menu'!F11="FMT",'full menu'!F11="LMT",'full menu'!F11="LCMT"),"MTs",IF(OR('full menu'!F11="LCIT",'full menu'!F11="FCIT",'full menu'!F11="LIT",'full menu'!F11="FIT"),"ITs",IF(OR('full menu'!F11="MwERT",'full menu'!F11="ERwMT",'full menu'!F11="M&ERT",'full menu'!F11="MwIT",'full menu'!F11="IwMT",'full menu'!F11="M&IT",'full menu'!F11="IwERT",'full menu'!F11="ERwIT",'full menu'!F11="I&ERT",'full menu'!F11="ER&M&IT"),"MixedTs",IF('full menu'!F11="UD","UD",IF('full menu'!F11="LSD","LSD",IF('full menu'!F11="WSD","WSD",""))))))))))) -> ERfix | G11: =IF('full menu'!G11="MDC","MDC",IF('full menu'!G11="X","X",IF('full menu'!G11="UASC","UASC",IF(OR('full menu'!G11="PERF",'full menu'!G11="AERF",'full menu'!G11="PCB"),"ERfix",IF(OR('full menu'!G11="ACB",'full menu'!G11="LCERT",'full menu'!G11="LERT",'full menu'!G11="FCERT",'full menu'!G11="FERT"),"ERTs",IF(OR('full menu'!G11="FCMT",'full menu'!G11="FMT",'full menu'!G11="LMT",'full menu'!G11="LCMT"),"MTs",IF(OR('full menu'!G11="LCIT",'full menu'!G11="FCIT",'full menu'!G11="LIT",'full menu'!G11="FIT"),"ITs",IF(OR('full menu'!G11="MwERT",'full menu'!G11="ERwMT",'full menu'!G11="M&ERT",'full menu'!G11="MwIT",'full menu'!G11="IwMT",'full menu'!G11="M&IT",'full menu'!G11="IwERT",'full menu'!G11="ERwIT",'full menu'!G11="I&ERT",'full menu'!G11="ER&M&IT"),"MixedTs",IF('full menu'!G11="UD","UD",IF('full menu'!G11="LSD","LSD",IF('full menu'!G11="WSD","WSD",""))))))))))) -> ERfix | H11: =IF('full menu'!H11="MDC","MDC",IF('full menu'!H11="X","X",IF('full menu'!H11="UASC","UASC",IF(OR('full menu'!H11="PERF",'full menu'!H11="AERF",'full menu'!H11="PCB"),"ERfix",IF(OR('full menu'!H11="ACB",'full menu'!H11="LCERT",'full menu'!H11="LERT",'full menu'!H11="FCERT",'full menu'!H11="FERT"),"ERTs",IF(OR('full menu'!H11="FCMT",'full menu'!H11="FMT",'full menu'!H11="LMT",'full menu'!H11="LCMT"),"MTs",IF(OR('full menu'!H11="LCIT",'full menu'!H11="FCIT",'full menu'!H11="LIT",'full menu'!H11="FIT"),"ITs",IF(OR('full menu'!H11="MwERT",'full menu'!H11="ERwMT",'full menu'!H11="M&ERT",'full menu'!H11="MwIT",'full menu'!H11="IwMT",'full menu'!H11="M&IT",'full menu'!H11="IwERT",'full menu'!H11="ERwIT",'full menu'!H11="I&ERT",'full menu'!H11="ER&M&IT"),"MixedTs",IF('full menu'!H11="UD","UD",IF('full menu'!H11="LSD","LSD",IF('full menu'!H11="WSD","WSD",""))))))))))) -> ERfix | I11: =IF('full menu'!I11="MDC","MDC",IF('full menu'!I11="X","X",IF('full menu'!I11="UASC","UASC",IF(OR('full menu'!I11="PERF",'full menu'!I11="AERF",'full menu'!I11="PCB"),"ERfix",IF(OR('full menu'!I11="ACB",'full menu'!I11="LCERT",'full menu'!I11="LERT",'full menu'!I11="FCERT",'full menu'!I11="FERT"),"ERTs",IF(OR('full menu'!I11="FCMT",'full menu'!I11="FMT",'full menu'!I11="LMT",'full menu'!I11="LCMT"),"MTs",IF(OR('full menu'!I11="LCIT",'full menu'!I11="FCIT",'full menu'!I11="LIT",'full menu'!I11="FIT"),"ITs",IF(OR('full menu'!I11="MwERT",'full menu'!I11="ERwMT",'full menu'!I11="M&ERT",'full menu'!I11="MwIT",'full menu'!I11="IwMT",'full menu'!I11="M&IT",'full menu'!I11="IwERT",'full menu'!I11="ERwIT",'full menu'!I11="I&ERT",'full menu'!I11="ER&M&IT"),"MixedTs",IF('full menu'!I11="UD","UD",IF('full menu'!I11="LSD","LSD",IF('full menu'!I11="WSD","WSD",""))))))))))) -> ERfix | ... AS11: =IF('full menu'!AS11="MDC","MDC",IF('full menu'!AS11="X","X",IF('full menu'!AS11="UASC","UASC",IF(OR('full menu'!AS11="PERF",'full menu'!AS11="AERF",'full menu'!AS11="PCB"),"ERfix",IF(OR('full menu'!AS11="ACB",'full menu'!AS11="LCERT",'full menu'!AS11="LERT",'full menu'!AS11="FCERT",'full menu'!AS11="FERT"),"ERTs",IF(OR('full menu'!AS11="FCMT",'full menu'!AS11="FMT",'full menu'!AS11="LMT",'full menu'!AS11="LCMT"),"MTs",IF(OR('full menu'!AS11="LCIT",'full menu'!AS11="FCIT",'full menu'!AS11="LIT",'full menu'!AS11="FIT"),"ITs",IF(OR('full menu'!AS11="MwERT",'full menu'!AS11="ERwMT",'full menu'!AS11="M&ERT",'full menu'!AS11="MwIT",'full menu'!AS11="IwMT",'full menu'!AS11="M&IT",'full menu'!AS11="IwERT",'full menu'!AS11="ERwIT",'full menu'!AS11="I&ERT",'full menu'!AS11="ER&M&IT"),"MixedTs",IF('full menu'!AS11="UD","UD",IF('full menu'!AS11="LSD","LSD",IF('full menu'!AS11="WSD","WSD",""))))))))))) -> ERfix
A12: Cameroon | B12: =IF('full menu'!B12="MDC","MDC",IF('full menu'!B12="X","X",IF('full menu'!B12="UASC","UASC",IF(OR('full menu'!B12="PERF",'full menu'!B12="AERF",'full menu'!B12="PCB"),"ERfix",IF(OR('full menu'!B12="ACB",'full menu'!B12="LCERT",'full menu'!B12="LERT",'full menu'!B12="FCERT",'full menu'!B12="FERT"),"ERTs",IF(OR('full menu'!B12="FCMT",'full menu'!B12="FMT",'full menu'!B12="LMT",'full menu'!B12="LCMT"),"MTs",IF(OR('full menu'!B12="LCIT",'full menu'!B12="FCIT",'full menu'!B12="LIT",'full menu'!B12="FIT"),"ITs",IF(OR('full menu'!B12="MwERT",'full menu'!B12="ERwMT",'full menu'!B12="M&ERT",'full menu'!B12="MwIT",'full menu'!B12="IwMT",'full menu'!B12="M&IT",'full menu'!B12="IwERT",'full menu'!B12="ERwIT",'full menu'!B12="I&ERT",'full menu'!B12="ER&M&IT"),"MixedTs",IF('full menu'!B12="UD","UD",IF('full menu'!B12="LSD","LSD",IF('full menu'!B12="WSD","WSD",""))))))))))) | C12: =IF('full menu'!C12="MDC","MDC",IF('full menu'!C12="X","X",IF('full menu'!C12="UASC","UASC",IF(OR('full menu'!C12="PERF",'full menu'!C12="AERF",'full menu'!C12="PCB"),"ERfix",IF(OR('full menu'!C12="ACB",'full menu'!C12="LCERT",'full menu'!C12="LERT",'full menu'!C12="FCERT",'full menu'!C12="FERT"),"ERTs",IF(OR('full menu'!C12="FCMT",'full menu'!C12="FMT",'full menu'!C12="LMT",'full menu'!C12="LCMT"),"MTs",IF(OR('full menu'!C12="LCIT",'full menu'!C12="FCIT",'full menu'!C12="LIT",'full menu'!C12="FIT"),"ITs",IF(OR('full menu'!C12="MwERT",'full menu'!C12="ERwMT",'full menu'!C12="M&ERT",'full menu'!C12="MwIT",'full menu'!C12="IwMT",'full menu'!C12="M&IT",'full menu'!C12="IwERT",'full menu'!C12="ERwIT",'full menu'!C12="I&ERT",'full menu'!C12="ER&M&IT"),"MixedTs",IF('full menu'!C12="UD","UD",IF('full menu'!C12="LSD","LSD",IF('full menu'!C12="WSD","WSD",""))))))))))) | D12: =IF('full menu'!D12="MDC","MDC",IF('full menu'!D12="X","X",IF('full menu'!D12="UASC","UASC",IF(OR('full menu'!D12="PERF",'full menu'!D12="AERF",'full menu'!D12="PCB"),"ERfix",IF(OR('full menu'!D12="ACB",'full menu'!D12="LCERT",'full menu'!D12="LERT",'full menu'!D12="FCERT",'full menu'!D12="FERT"),"ERTs",IF(OR('full menu'!D12="FCMT",'full menu'!D12="FMT",'full menu'!D12="LMT",'full menu'!D12="LCMT"),"MTs",IF(OR('full menu'!D12="LCIT",'full menu'!D12="FCIT",'full menu'!D12="LIT",'full menu'!D12="FIT"),"ITs",IF(OR('full menu'!D12="MwERT",'full menu'!D12="ERwMT",'full menu'!D12="M&ERT",'full menu'!D12="MwIT",'full menu'!D12="IwMT",'full menu'!D12="M&IT",'full menu'!D12="IwERT",'full menu'!D12="ERwIT",'full menu'!D12="I&ERT",'full menu'!D12="ER&M&IT"),"MixedTs",IF('full menu'!D12="UD","UD",IF('full menu'!D12="LSD","LSD",IF('full menu'!D12="WSD","WSD",""))))))))))) | E12: =IF('full menu'!E12="MDC","MDC",IF('full menu'!E12="X","X",IF('full menu'!E12="UASC","UASC",IF(OR('full menu'!E12="PERF",'full menu'!E12="AERF",'full menu'!E12="PCB"),"ERfix",IF(OR('full menu'!E12="ACB",'full menu'!E12="LCERT",'full menu'!E12="LERT",'full menu'!E12="FCERT",'full menu'!E12="FERT"),"ERTs",IF(OR('full menu'!E12="FCMT",'full menu'!E12="FMT",'full menu'!E12="LMT",'full menu'!E12="LCMT"),"MTs",IF(OR('full menu'!E12="LCIT",'full menu'!E12="FCIT",'full menu'!E12="LIT",'full menu'!E12="FIT"),"ITs",IF(OR('full menu'!E12="MwERT",'full menu'!E12="ERwMT",'full menu'!E12="M&ERT",'full menu'!E12="MwIT",'full menu'!E12="IwMT",'full menu'!E12="M&IT",'full menu'!E12="IwERT",'full menu'!E12="ERwIT",'full menu'!E12="I&ERT",'full menu'!E12="ER&M&IT"),"MixedTs",IF('full menu'!E12="UD","UD",IF('full menu'!E12="LSD","LSD",IF('full menu'!E12="WSD","WSD",""))))))))))) | F12: =IF('full menu'!F12="MDC","MDC",IF('full menu'!F12="X","X",IF('full menu'!F12="UASC","UASC",IF(OR('full menu'!F12="PERF",'full menu'!F12="AERF",'full menu'!F12="PCB"),"ERfix",IF(OR('full menu'!F12="ACB",'full menu'!F12="LCERT",'full menu'!F12="LERT",'full menu'!F12="FCERT",'full menu'!F12="FERT"),"ERTs",IF(OR('full menu'!F12="FCMT",'full menu'!F12="FMT",'full menu'!F12="LMT",'full menu'!F12="LCMT"),"MTs",IF(OR('full menu'!F12="LCIT",'full menu'!F12="FCIT",'full menu'!F12="LIT",'full menu'!F12="FIT"),"ITs",IF(OR('full menu'!F12="MwERT",'full menu'!F12="ERwMT",'full menu'!F12="M&ERT",'full menu'!F12="MwIT",'full menu'!F12="IwMT",'full menu'!F12="M&IT",'full menu'!F12="IwERT",'full menu'!F12="ERwIT",'full menu'!F12="I&ERT",'full menu'!F12="ER&M&IT"),"MixedTs",IF('full menu'!F12="UD","UD",IF('full menu'!F12="LSD","LSD",IF('full menu'!F12="WSD","WSD",""))))))))))) | G12: =IF('full menu'!G12="MDC","MDC",IF('full menu'!G12="X","X",IF('full menu'!G12="UASC","UASC",IF(OR('full menu'!G12="PERF",'full menu'!G12="AERF",'full menu'!G12="PCB"),"ERfix",IF(OR('full menu'!G12="ACB",'full menu'!G12="LCERT",'full menu'!G12="LERT",'full menu'!G12="FCERT",'full menu'!G12="FERT"),"ERTs",IF(OR('full menu'!G12="FCMT",'full menu'!G12="FMT",'full menu'!G12="LMT",'full menu'!G12="LCMT"),"MTs",IF(OR('full menu'!G12="LCIT",'full menu'!G12="FCIT",'full menu'!G12="LIT",'full menu'!G12="FIT"),"ITs",IF(OR('full menu'!G12="MwERT",'full menu'!G12="ERwMT",'full menu'!G12="M&ERT",'full menu'!G12="MwIT",'full menu'!G12="IwMT",'full menu'!G12="M&IT",'full menu'!G12="IwERT",'full menu'!G12="ERwIT",'full menu'!G12="I&ERT",'full menu'!G12="ER&M&IT"),"MixedTs",IF('full menu'!G12="UD","UD",IF('full menu'!G12="LSD","LSD",IF('full menu'!G12="WSD","WSD",""))))))))))) | H12: =IF('full menu'!H12="MDC","MDC",IF('full menu'!H12="X","X",IF('full menu'!H12="UASC","UASC",IF(OR('full menu'!H12="PERF",'full menu'!H12="AERF",'full menu'!H12="PCB"),"ERfix",IF(OR('full menu'!H12="ACB",'full menu'!H12="LCERT",'full menu'!H12="LERT",'full menu'!H12="FCERT",'full menu'!H12="FERT"),"ERTs",IF(OR('full menu'!H12="FCMT",'full menu'!H12="FMT",'full menu'!H12="LMT",'full menu'!H12="LCMT"),"MTs",IF(OR('full menu'!H12="LCIT",'full menu'!H12="FCIT",'full menu'!H12="LIT",'full menu'!H12="FIT"),"ITs",IF(OR('full menu'!H12="MwERT",'full menu'!H12="ERwMT",'full menu'!H12="M&ERT",'full menu'!H12="MwIT",'full menu'!H12="IwMT",'full menu'!H12="M&IT",'full menu'!H12="IwERT",'full menu'!H12="ERwIT",'full menu'!H12="I&ERT",'full menu'!H12="ER&M&IT"),"MixedTs",IF('full menu'!H12="UD","UD",IF('full menu'!H12="LSD","LSD",IF('full menu'!H12="WSD","WSD",""))))))))))) | I12: =IF('full menu'!I12="MDC","MDC",IF('full menu'!I12="X","X",IF('full menu'!I12="UASC","UASC",IF(OR('full menu'!I12="PERF",'full menu'!I12="AERF",'full menu'!I12="PCB"),"ERfix",IF(OR('full menu'!I12="ACB",'full menu'!I12="LCERT",'full menu'!I12="LERT",'full menu'!I12="FCERT",'full menu'!I12="FERT"),"ERTs",IF(OR('full menu'!I12="FCMT",'full menu'!I12="FMT",'full menu'!I12="LMT",'full menu'!I12="LCMT"),"MTs",IF(OR('full menu'!I12="LCIT",'full menu'!I12="FCIT",'full menu'!I12="LIT",'full menu'!I12="FIT"),"ITs",IF(OR('full menu'!I12="MwERT",'full menu'!I12="ERwMT",'full menu'!I12="M&ERT",'full menu'!I12="MwIT",'full menu'!I12="IwMT",'full menu'!I12="M&IT",'full menu'!I12="IwERT",'full menu'!I12="ERwIT",'full menu'!I12="I&ERT",'full menu'!I12="ER&M&IT"),"MixedTs",IF('full menu'!I12="UD","UD",IF('full menu'!I12="LSD","LSD",IF('full menu'!I12="WSD","WSD",""))))))))))) | ... AS12: =IF('full menu'!AS12="MDC","MDC",IF('full menu'!AS12="X","X",IF('full menu'!AS12="UASC","UASC",IF(OR('full menu'!AS12="PERF",'full menu'!AS12="AERF",'full menu'!AS12="PCB"),"ERfix",IF(OR('full menu'!AS12="ACB",'full menu'!AS12="LCERT",'full menu'!AS12="LERT",'full menu'!AS12="FCERT",'full menu'!AS12="FERT"),"ERTs",IF(OR('full menu'!AS12="FCMT",'full menu'!AS12="FMT",'full menu'!AS12="LMT",'full menu'!AS12="LCMT"),"MTs",IF(OR('full menu'!AS12="LCIT",'full menu'!AS12="FCIT",'full menu'!AS12="LIT",'full menu'!AS12="FIT"),"ITs",IF(OR('full menu'!AS12="MwERT",'full menu'!AS12="ERwMT",'full menu'!AS12="M&ERT",'full menu'!AS12="MwIT",'full menu'!AS12="IwMT",'full menu'!AS12="M&IT",'full menu'!AS12="IwERT",'full menu'!AS12="ERwIT",'full menu'!AS12="I&ERT",'full menu'!AS12="ER&M&IT"),"MixedTs",IF('full menu'!AS12="UD","UD",IF('full menu'!AS12="LSD","LSD",IF('full menu'!AS12="WSD","WSD","")))))))))))
A13: China | B13: =IF('full menu'!B13="MDC","MDC",IF('full menu'!B13="X","X",IF('full menu'!B13="UASC","UASC",IF(OR('full menu'!B13="PERF",'full menu'!B13="AERF",'full menu'!B13="PCB"),"ERfix",IF(OR('full menu'!B13="ACB",'full menu'!B13="LCERT",'full menu'!B13="LERT",'full menu'!B13="FCERT",'full menu'!B13="FERT"),"ERTs",IF(OR('full menu'!B13="FCMT",'full menu'!B13="FMT",'full menu'!B13="LMT",'full menu'!B13="LCMT"),"MTs",IF(OR('full menu'!B13="LCIT",'full menu'!B13="FCIT",'full menu'!B13="LIT",'full menu'!B13="FIT"),"ITs",IF(OR('full menu'!B13="MwERT",'full menu'!B13="ERwMT",'full menu'!B13="M&ERT",'full menu'!B13="MwIT",'full menu'!B13="IwMT",'full menu'!B13="M&IT",'full menu'!B13="IwERT",'full menu'!B13="ERwIT",'full menu'!B13="I&ERT",'full menu'!B13="ER&M&IT"),"MixedTs",IF('full menu'!B13="UD","UD",IF('full menu'!B13="LSD","LSD",IF('full menu'!B13="WSD","WSD",""))))))))))) -> MDC | C13: =IF('full menu'!C13="MDC","MDC",IF('full menu'!C13="X","X",IF('full menu'!C13="UASC","UASC",IF(OR('full menu'!C13="PERF",'full menu'!C13="AERF",'full menu'!C13="PCB"),"ERfix",IF(OR('full menu'!C13="ACB",'full menu'!C13="LCERT",'full menu'!C13="LERT",'full menu'!C13="FCERT",'full menu'!C13="FERT"),"ERTs",IF(OR('full menu'!C13="FCMT",'full menu'!C13="FMT",'full menu'!C13="LMT",'full menu'!C13="LCMT"),"MTs",IF(OR('full menu'!C13="LCIT",'full menu'!C13="FCIT",'full menu'!C13="LIT",'full menu'!C13="FIT"),"ITs",IF(OR('full menu'!C13="MwERT",'full menu'!C13="ERwMT",'full menu'!C13="M&ERT",'full menu'!C13="MwIT",'full menu'!C13="IwMT",'full menu'!C13="M&IT",'full menu'!C13="IwERT",'full menu'!C13="ERwIT",'full menu'!C13="I&ERT",'full menu'!C13="ER&M&IT"),"MixedTs",IF('full menu'!C13="UD","UD",IF('full menu'!C13="LSD","LSD",IF('full menu'!C13="WSD","WSD",""))))))))))) -> MDC | D13: =IF('full menu'!D13="MDC","MDC",IF('full menu'!D13="X","X",IF('full menu'!D13="UASC","UASC",IF(OR('full menu'!D13="PERF",'full menu'!D13="AERF",'full menu'!D13="PCB"),"ERfix",IF(OR('full menu'!D13="ACB",'full menu'!D13="LCERT",'full menu'!D13="LERT",'full menu'!D13="FCERT",'full menu'!D13="FERT"),"ERTs",IF(OR('full menu'!D13="FCMT",'full menu'!D13="FMT",'full menu'!D13="LMT",'full menu'!D13="LCMT"),"MTs",IF(OR('full menu'!D13="LCIT",'full menu'!D13="FCIT",'full menu'!D13="LIT",'full menu'!D13="FIT"),"ITs",IF(OR('full menu'!D13="MwERT",'full menu'!D13="ERwMT",'full menu'!D13="M&ERT",'full menu'!D13="MwIT",'full menu'!D13="IwMT",'full menu'!D13="M&IT",'full menu'!D13="IwERT",'full menu'!D13="ERwIT",'full menu'!D13="I&ERT",'full menu'!D13="ER&M&IT"),"MixedTs",IF('full menu'!D13="UD","UD",IF('full menu'!D13="LSD","LSD",IF('full menu'!D13="WSD","WSD",""))))))))))) -> MDC | E13: =IF('full menu'!E13="MDC","MDC",IF('full menu'!E13="X","X",IF('full menu'!E13="UASC","UASC",IF(OR('full menu'!E13="PERF",'full menu'!E13="AERF",'full menu'!E13="PCB"),"ERfix",IF(OR('full menu'!E13="ACB",'full menu'!E13="LCERT",'full menu'!E13="LERT",'full menu'!E13="FCERT",'full menu'!E13="FERT"),"ERTs",IF(OR('full menu'!E13="FCMT",'full menu'!E13="FMT",'full menu'!E13="LMT",'full menu'!E13="LCMT"),"MTs",IF(OR('full menu'!E13="LCIT",'full menu'!E13="FCIT",'full menu'!E13="LIT",'full menu'!E13="FIT"),"ITs",IF(OR('full menu'!E13="MwERT",'full menu'!E13="ERwMT",'full menu'!E13="M&ERT",'full menu'!E13="MwIT",'full menu'!E13="IwMT",'full menu'!E13="M&IT",'full menu'!E13="IwERT",'full menu'!E13="ERwIT",'full menu'!E13="I&ERT",'full menu'!E13="ER&M&IT"),"MixedTs",IF('full menu'!E13="UD","UD",IF('full menu'!E13="LSD","LSD",IF('full menu'!E13="WSD","WSD",""))))))))))) -> MDC | F13: =IF('full menu'!F13="MDC","MDC",IF('full menu'!F13="X","X",IF('full menu'!F13="UASC","UASC",IF(OR('full menu'!F13="PERF",'full menu'!F13="AERF",'full menu'!F13="PCB"),"ERfix",IF(OR('full menu'!F13="ACB",'full menu'!F13="LCERT",'full menu'!F13="LERT",'full menu'!F13="FCERT",'full menu'!F13="FERT"),"ERTs",IF(OR('full menu'!F13="FCMT",'full menu'!F13="FMT",'full menu'!F13="LMT",'full menu'!F13="LCMT"),"MTs",IF(OR('full menu'!F13="LCIT",'full menu'!F13="FCIT",'full menu'!F13="LIT",'full menu'!F13="FIT"),"ITs",IF(OR('full menu'!F13="MwERT",'full menu'!F13="ERwMT",'full menu'!F13="M&ERT",'full menu'!F13="MwIT",'full menu'!F13="IwMT",'full menu'!F13="M&IT",'full menu'!F13="IwERT",'full menu'!F13="ERwIT",'full menu'!F13="I&ERT",'full menu'!F13="ER&M&IT"),"MixedTs",IF('full menu'!F13="UD","UD",IF('full menu'!F13="LSD","LSD",IF('full menu'!F13="WSD","WSD",""))))))))))) -> MDC | G13: =IF('full menu'!G13="MDC","MDC",IF('full menu'!G13="X","X",IF('full menu'!G13="UASC","UASC",IF(OR('full menu'!G13="PERF",'full menu'!G13="AERF",'full menu'!G13="PCB"),"ERfix",IF(OR('full menu'!G13="ACB",'full menu'!G13="LCERT",'full menu'!G13="LERT",'full menu'!G13="FCERT",'full menu'!G13="FERT"),"ERTs",IF(OR('full menu'!G13="FCMT",'full menu'!G13="FMT",'full menu'!G13="LMT",'full menu'!G13="LCMT"),"MTs",IF(OR('full menu'!G13="LCIT",'full menu'!G13="FCIT",'full menu'!G13="LIT",'full menu'!G13="FIT"),"ITs",IF(OR('full menu'!G13="MwERT",'full menu'!G13="ERwMT",'full menu'!G13="M&ERT",'full menu'!G13="MwIT",'full menu'!G13="IwMT",'full menu'!G13="M&IT",'full menu'!G13="IwERT",'full menu'!G13="ERwIT",'full menu'!G13="I&ERT",'full menu'!G13="ER&M&IT"),"MixedTs",IF('full menu'!G13="UD","UD",IF('full menu'!G13="LSD","LSD",IF('full menu'!G13="WSD","WSD",""))))))))))) -> MDC | H13: =IF('full menu'!H13="MDC","MDC",IF('full menu'!H13="X","X",IF('full menu'!H13="UASC","UASC",IF(OR('full menu'!H13="PERF",'full menu'!H13="AERF",'full menu'!H13="PCB"),"ERfix",IF(OR('full menu'!H13="ACB",'full menu'!H13="LCERT",'full menu'!H13="LERT",'full menu'!H13="FCERT",'full menu'!H13="FERT"),"ERTs",IF(OR('full menu'!H13="FCMT",'full menu'!H13="FMT",'full menu'!H13="LMT",'full menu'!H13="LCMT"),"MTs",IF(OR('full menu'!H13="LCIT",'full menu'!H13="FCIT",'full menu'!H13="LIT",'full menu'!H13="FIT"),"ITs",IF(OR('full menu'!H13="MwERT",'full menu'!H13="ERwMT",'full menu'!H13="M&ERT",'full menu'!H13="MwIT",'full menu'!H13="IwMT",'full menu'!H13="M&IT",'full menu'!H13="IwERT",'full menu'!H13="ERwIT",'full menu'!H13="I&ERT",'full menu'!H13="ER&M&IT"),"MixedTs",IF('full menu'!H13="UD","UD",IF('full menu'!H13="LSD","LSD",IF('full menu'!H13="WSD","WSD",""))))))))))) -> MDC | I13: =IF('full menu'!I13="MDC","MDC",IF('full menu'!I13="X","X",IF('full menu'!I13="UASC","UASC",IF(OR('full menu'!I13="PERF",'full menu'!I13="AERF",'full menu'!I13="PCB"),"ERfix",IF(OR('full menu'!I13="ACB",'full menu'!I13="LCERT",'full menu'!I13="LERT",'full menu'!I13="FCERT",'full menu'!I13="FERT"),"ERTs",IF(OR('full menu'!I13="FCMT",'full menu'!I13="FMT",'full menu'!I13="LMT",'full menu'!I13="LCMT"),"MTs",IF(OR('full menu'!I13="LCIT",'full menu'!I13="FCIT",'full menu'!I13="LIT",'full menu'!I13="FIT"),"ITs",IF(OR('full menu'!I13="MwERT",'full menu'!I13="ERwMT",'full menu'!I13="M&ERT",'full menu'!I13="MwIT",'full menu'!I13="IwMT",'full menu'!I13="M&IT",'full menu'!I13="IwERT",'full menu'!I13="ERwIT",'full menu'!I13="I&ERT",'full menu'!I13="ER&M&IT"),"MixedTs",IF('full menu'!I13="UD","UD",IF('full menu'!I13="LSD","LSD",IF('full menu'!I13="WSD","WSD",""))))))))))) -> MDC | ... AS13: =IF('full menu'!AS13="MDC","MDC",IF('full menu'!AS13="X","X",IF('full menu'!AS13="UASC","UASC",IF(OR('full menu'!AS13="PERF",'full menu'!AS13="AERF",'full menu'!AS13="PCB"),"ERfix",IF(OR('full menu'!AS13="ACB",'full menu'!AS13="LCERT",'full menu'!AS13="LERT",'full menu'!AS13="FCERT",'full menu'!AS13="FERT"),"ERTs",IF(OR('full menu'!AS13="FCMT",'full menu'!AS13="FMT",'full menu'!AS13="LMT",'full menu'!AS13="LCMT"),"MTs",IF(OR('full menu'!AS13="LCIT",'full menu'!AS13="FCIT",'full menu'!AS13="LIT",'full menu'!AS13="FIT"),"ITs",IF(OR('full menu'!AS13="MwERT",'full menu'!AS13="ERwMT",'full menu'!AS13="M&ERT",'full menu'!AS13="MwIT",'full menu'!AS13="IwMT",'full menu'!AS13="M&IT",'full menu'!AS13="IwERT",'full menu'!AS13="ERwIT",'full menu'!AS13="I&ERT",'full menu'!AS13="ER&M&IT"),"MixedTs",IF('full menu'!AS13="UD","UD",IF('full menu'!AS13="LSD","LSD",IF('full menu'!AS13="WSD","WSD",""))))))))))) -> LSD
... A55: Vanuatu | B55: =IF('full menu'!B55="MDC","MDC",IF('full menu'!B55="X","X",IF('full menu'!B55="UASC","UASC",IF(OR('full menu'!B55="PERF",'full menu'!B55="AERF",'full menu'!B55="PCB"),"ERfix",IF(OR('full menu'!B55="ACB",'full menu'!B55="LCERT",'full menu'!B55="LERT",'full menu'!B55="FCERT",'full menu'!B55="FERT"),"ERTs",IF(OR('full menu'!B55="FCMT",'full menu'!B55="FMT",'full menu'!B55="LMT",'full menu'!B55="LCMT"),"MTs",IF(OR('full menu'!B55="LCIT",'full menu'!B55="FCIT",'full menu'!B55="LIT",'full menu'!B55="FIT"),"ITs",IF(OR('full menu'!B55="MwERT",'full menu'!B55="ERwMT",'full menu'!B55="M&ERT",'full menu'!B55="MwIT",'full menu'!B55="IwMT",'full menu'!B55="M&IT",'full menu'!B55="IwERT",'full menu'!B55="ERwIT",'full menu'!B55="I&ERT",'full menu'!B55="ER&M&IT"),"MixedTs",IF('full menu'!B55="UD","UD",IF('full menu'!B55="LSD","LSD",IF('full menu'!B55="WSD","WSD",""))))))))))) -> X | C55: =IF('full menu'!C55="MDC","MDC",IF('full menu'!C55="X","X",IF('full menu'!C55="UASC","UASC",IF(OR('full menu'!C55="PERF",'full menu'!C55="AERF",'full menu'!C55="PCB"),"ERfix",IF(OR('full menu'!C55="ACB",'full menu'!C55="LCERT",'full menu'!C55="LERT",'full menu'!C55="FCERT",'full menu'!C55="FERT"),"ERTs",IF(OR('full menu'!C55="FCMT",'full menu'!C55="FMT",'full menu'!C55="LMT",'full menu'!C55="LCMT"),"MTs",IF(OR('full menu'!C55="LCIT",'full menu'!C55="FCIT",'full menu'!C55="LIT",'full menu'!C55="FIT"),"ITs",IF(OR('full menu'!C55="MwERT",'full menu'!C55="ERwMT",'full menu'!C55="M&ERT",'full menu'!C55="MwIT",'full menu'!C55="IwMT",'full menu'!C55="M&IT",'full menu'!C55="IwERT",'full menu'!C55="ERwIT",'full menu'!C55="I&ERT",'full menu'!C55="ER&M&IT"),"MixedTs",IF('full menu'!C55="UD","UD",IF('full menu'!C55="LSD","LSD",IF('full menu'!C55="WSD","WSD",""))))))))))) -> X | D55: =IF('full menu'!D55="MDC","MDC",IF('full menu'!D55="X","X",IF('full menu'!D55="UASC","UASC",IF(OR('full menu'!D55="PERF",'full menu'!D55="AERF",'full menu'!D55="PCB"),"ERfix",IF(OR('full menu'!D55="ACB",'full menu'!D55="LCERT",'full menu'!D55="LERT",'full menu'!D55="FCERT",'full menu'!D55="FERT"),"ERTs",IF(OR('full menu'!D55="FCMT",'full menu'!D55="FMT",'full menu'!D55="LMT",'full menu'!D55="LCMT"),"MTs",IF(OR('full menu'!D55="LCIT",'full menu'!D55="FCIT",'full menu'!D55="LIT",'full menu'!D55="FIT"),"ITs",IF(OR('full menu'!D55="MwERT",'full menu'!D55="ERwMT",'full menu'!D55="M&ERT",'full menu'!D55="MwIT",'full menu'!D55="IwMT",'full menu'!D55="M&IT",'full menu'!D55="IwERT",'full menu'!D55="ERwIT",'full menu'!D55="I&ERT",'full menu'!D55="ER&M&IT"),"MixedTs",IF('full menu'!D55="UD","UD",IF('full menu'!D55="LSD","LSD",IF('full menu'!D55="WSD","WSD",""))))))))))) -> X | E55: =IF('full menu'!E55="MDC","MDC",IF('full menu'!E55="X","X",IF('full menu'!E55="UASC","UASC",IF(OR('full menu'!E55="PERF",'full menu'!E55="AERF",'full menu'!E55="PCB"),"ERfix",IF(OR('full menu'!E55="ACB",'full menu'!E55="LCERT",'full menu'!E55="LERT",'full menu'!E55="FCERT",'full menu'!E55="FERT"),"ERTs",IF(OR('full menu'!E55="FCMT",'full menu'!E55="FMT",'full menu'!E55="LMT",'full menu'!E55="LCMT"),"MTs",IF(OR('full menu'!E55="LCIT",'full menu'!E55="FCIT",'full menu'!E55="LIT",'full menu'!E55="FIT"),"ITs",IF(OR('full menu'!E55="MwERT",'full menu'!E55="ERwMT",'full menu'!E55="M&ERT",'full menu'!E55="MwIT",'full menu'!E55="IwMT",'full menu'!E55="M&IT",'full menu'!E55="IwERT",'full menu'!E55="ERwIT",'full menu'!E55="I&ERT",'full menu'!E55="ER&M&IT"),"MixedTs",IF('full menu'!E55="UD","UD",IF('full menu'!E55="LSD","LSD",IF('full menu'!E55="WSD","WSD",""))))))))))) -> X | F55: =IF('full menu'!F55="MDC","MDC",IF('full menu'!F55="X","X",IF('full menu'!F55="UASC","UASC",IF(OR('full menu'!F55="PERF",'full menu'!F55="AERF",'full menu'!F55="PCB"),"ERfix",IF(OR('full menu'!F55="ACB",'full menu'!F55="LCERT",'full menu'!F55="LERT",'full menu'!F55="FCERT",'full menu'!F55="FERT"),"ERTs",IF(OR('full menu'!F55="FCMT",'full menu'!F55="FMT",'full menu'!F55="LMT",'full menu'!F55="LCMT"),"MTs",IF(OR('full menu'!F55="LCIT",'full menu'!F55="FCIT",'full menu'!F55="LIT",'full menu'!F55="FIT"),"ITs",IF(OR('full menu'!F55="MwERT",'full menu'!F55="ERwMT",'full menu'!F55="M&ERT",'full menu'!F55="MwIT",'full menu'!F55="IwMT",'full menu'!F55="M&IT",'full menu'!F55="IwERT",'full menu'!F55="ERwIT",'full menu'!F55="I&ERT",'full menu'!F55="ER&M&IT"),"MixedTs",IF('full menu'!F55="UD","UD",IF('full menu'!F55="LSD","LSD",IF('full menu'!F55="WSD","WSD",""))))))))))) -> X | G55: =IF('full menu'!G55="MDC","MDC",IF('full menu'!G55="X","X",IF('full menu'!G55="UASC","UASC",IF(OR('full menu'!G55="PERF",'full menu'!G55="AERF",'full menu'!G55="PCB"),"ERfix",IF(OR('full menu'!G55="ACB",'full menu'!G55="LCERT",'full menu'!G55="LERT",'full menu'!G55="FCERT",'full menu'!G55="FERT"),"ERTs",IF(OR('full menu'!G55="FCMT",'full menu'!G55="FMT",'full menu'!G55="LMT",'full menu'!G55="LCMT"),"MTs",IF(OR('full menu'!G55="LCIT",'full menu'!G55="FCIT",'full menu'!G55="LIT",'full menu'!G55="FIT"),"ITs",IF(OR('full menu'!G55="MwERT",'full menu'!G55="ERwMT",'full menu'!G55="M&ERT",'full menu'!G55="MwIT",'full menu'!G55="IwMT",'full menu'!G55="M&IT",'full menu'!G55="IwERT",'full menu'!G55="ERwIT",'full menu'!G55="I&ERT",'full menu'!G55="ER&M&IT"),"MixedTs",IF('full menu'!G55="UD","UD",IF('full menu'!G55="LSD","LSD",IF('full menu'!G55="WSD","WSD",""))))))))))) -> X | H55: =IF('full menu'!H55="MDC","MDC",IF('full menu'!H55="X","X",IF('full menu'!H55="UASC","UASC",IF(OR('full menu'!H55="PERF",'full menu'!H55="AERF",'full menu'!H55="PCB"),"ERfix",IF(OR('full menu'!H55="ACB",'full menu'!H55="LCERT",'full menu'!H55="LERT",'full menu'!H55="FCERT",'full menu'!H55="FERT"),"ERTs",IF(OR('full menu'!H55="FCMT",'full menu'!H55="FMT",'full menu'!H55="LMT",'full menu'!H55="LCMT"),"MTs",IF(OR('full menu'!H55="LCIT",'full menu'!H55="FCIT",'full menu'!H55="LIT",'full menu'!H55="FIT"),"ITs",IF(OR('full menu'!H55="MwERT",'full menu'!H55="ERwMT",'full menu'!H55="M&ERT",'full menu'!H55="MwIT",'full menu'!H55="IwMT",'full menu'!H55="M&IT",'full menu'!H55="IwERT",'full menu'!H55="ERwIT",'full menu'!H55="I&ERT",'full menu'!H55="ER&M&IT"),"MixedTs",IF('full menu'!H55="UD","UD",IF('full menu'!H55="LSD","LSD",IF('full menu'!H55="WSD","WSD",""))))))))))) -> X | I55: =IF('full menu'!I55="MDC","MDC",IF('full menu'!I55="X","X",IF('full menu'!I55="UASC","UASC",IF(OR('full menu'!I55="PERF",'full menu'!I55="AERF",'full menu'!I55="PCB"),"ERfix",IF(OR('full menu'!I55="ACB",'full menu'!I55="LCERT",'full menu'!I55="LERT",'full menu'!I55="FCERT",'full menu'!I55="FERT"),"ERTs",IF(OR('full menu'!I55="FCMT",'full menu'!I55="FMT",'full menu'!I55="LMT",'full menu'!I55="LCMT"),"MTs",IF(OR('full menu'!I55="LCIT",'full menu'!I55="FCIT",'full menu'!I55="LIT",'full menu'!I55="FIT"),"ITs",IF(OR('full menu'!I55="MwERT",'full menu'!I55="ERwMT",'full menu'!I55="M&ERT",'full menu'!I55="MwIT",'full menu'!I55="IwMT",'full menu'!I55="M&IT",'full menu'!I55="IwERT",'full menu'!I55="ERwIT",'full menu'!I55="I&ERT",'full menu'!I55="ER&M&IT"),"MixedTs",IF('full menu'!I55="UD","UD",IF('full menu'!I55="LSD","LSD",IF('full menu'!I55="WSD","WSD",""))))))))))) -> ERfix | ... AS55: =IF('full menu'!AS55="MDC","MDC",IF('full menu'!AS55="X","X",IF('full menu'!AS55="UASC","UASC",IF(OR('full menu'!AS55="PERF",'full menu'!AS55="AERF",'full menu'!AS55="PCB"),"ERfix",IF(OR('full menu'!AS55="ACB",'full menu'!AS55="LCERT",'full menu'!AS55="LERT",'full menu'!AS55="FCERT",'full menu'!AS55="FERT"),"ERTs",IF(OR('full menu'!AS55="FCMT",'full menu'!AS55="FMT",'full menu'!AS55="LMT",'full menu'!AS55="LCMT"),"MTs",IF(OR('full menu'!AS55="LCIT",'full menu'!AS55="FCIT",'full menu'!AS55="LIT",'full menu'!AS55="FIT"),"ITs",IF(OR('full menu'!AS55="MwERT",'full menu'!AS55="ERwMT",'full menu'!AS55="M&ERT",'full menu'!AS55="MwIT",'full menu'!AS55="IwMT",'full menu'!AS55="M&IT",'full menu'!AS55="IwERT",'full menu'!AS55="ERwIT",'full menu'!AS55="I&ERT",'full menu'!AS55="ER&M&IT"),"MixedTs",IF('full menu'!AS55="UD","UD",IF('full menu'!AS55="LSD","LSD",IF('full menu'!AS55="WSD","WSD",""))))))))))) -> ERfix
B60: 1974
A61: X or blank | B61: =COUNTIF(B2:B55,"X")+COUNTIF(B2:B55,"") -> 18 | C61: =COUNTIF(C2:C55,"X")+COUNTIF(C2:C55,"") -> 17 | D61: =COUNTIF(D2:D55,"X")+COUNTIF(D2:D55,"") -> 17 | E61: =COUNTIF(E2:E55,"X")+COUNTIF(E2:E55,"") -> 16 | F61: =COUNTIF(F2:F55,"X")+COUNTIF(F2:F55,"") -> 16 | G61: =COUNTIF(G2:G55,"X")+COUNTIF(G2:G55,"") -> 16 | H61: =COUNTIF(H2:H55,"X")+COUNTIF(H2:H55,"") -> 16 | I61: =COUNTIF(I2:I55,"X")+COUNTIF(I2:I55,"") -> 15 | ... AS61: =COUNTIF(AS2:AS55,"X")+COUNTIF(AS2:AS55,"") -> 3
A62: MDC | B62: =COUNTIF(B2:B55,"MDC") -> 9 | C62: =COUNTIF(C2:C55,"MDC") -> 9 | D62: =COUNTIF(D2:D55,"MDC") -> 9 | E62: =COUNTIF(E2:E55,"MDC") -> 8 | F62: =COUNTIF(F2:F55,"MDC") -> 8 | G62: =COUNTIF(G2:G55,"MDC") -> 8 | H62: =COUNTIF(H2:H55,"MDC") -> 8 | I62: =COUNTIF(I2:I55,"MDC") -> 8 | ... AS62: =COUNTIF(AS2:AS55,"MDC") -> 0
A63: ERFix | B63: =COUNTIF(B2:B55,"ERFix") -> 17 | C63: =COUNTIF(C2:C55,"ERFix") -> 18 | D63: =COUNTIF(D2:D55,"ERFix") -> 18 | E63: =COUNTIF(E2:E55,"ERFix") -> 18 | F63: =COUNTIF(F2:F55,"ERFix") -> 17 | G63: =COUNTIF(G2:G55,"ERFix") -> 17 | H63: =COUNTIF(H2:H55,"ERFix") -> 15 | I63: =COUNTIF(I2:I55,"ERFix") -> 15 | ... AS63: =COUNTIF(AS2:AS55,"ERFix") -> 10
A64: ERTs | B64: =COUNTIF(B2:B55,"ERTs") -> 0 | C64: =COUNTIF(C2:C55,"ERTs") -> 0 | D64: =COUNTIF(D2:D55,"ERTs") -> 0 | E64: =COUNTIF(E2:E55,"ERTs") -> 0 | F64: =COUNTIF(F2:F55,"ERTs") -> 0 | G64: =COUNTIF(G2:G55,"ERTs") -> 0 | H64: =COUNTIF(H2:H55,"ERTs") -> 0 | I64: =COUNTIF(I2:I55,"ERTs") -> 0 | ... AS64: =COUNTIF(AS2:AS55,"ERTs") -> 4
A65: MTs | B65: =COUNTIF(B2:B55,"MTs") -> 0 | C65: =COUNTIF(C2:C55,"MTs") -> 0 | D65: =COUNTIF(D2:D55,"MTs") -> 0 | E65: =COUNTIF(E2:E55,"MTs") -> 0 | F65: =COUNTIF(F2:F55,"MTs") -> 0 | G65: =COUNTIF(G2:G55,"MTs") -> 0 | H65: =COUNTIF(H2:H55,"MTs") -> 0 | I65: =COUNTIF(I2:I55,"MTs") -> 0 | ... AS65: =COUNTIF(AS2:AS55,"MTs") -> 0
A66: ITs | B66: =COUNTIF(B2:B55,"ITs") -> 0 | C66: =COUNTIF(C2:C55,"ITs") -> 0 | D66: =COUNTIF(D2:D55,"ITs") -> 0 | E66: =COUNTIF(E2:E55,"ITs") -> 0 | F66: =COUNTIF(F2:F55,"ITs") -> 0 | G66: =COUNTIF(G2:G55,"ITs") -> 0 | H66: =COUNTIF(H2:H55,"ITs") -> 0 | I66: =COUNTIF(I2:I55,"ITs") -> 0 | ... AS66: =COUNTIF(AS2:AS55,"ITs") -> 14
A67: MixedTs | B67: =COUNTIF(B2:B55,"MixedTs") -> 0 | C67: =COUNTIF(C2:C55,"MixedTs") -> 0 | D67: =COUNTIF(D2:D55,"MixedTs") -> 0 | E67: =COUNTIF(E2:E55,"MixedTs") -> 0 | F67: =COUNTIF(F2:F55,"MixedTs") -> 0 | G67: =COUNTIF(G2:G55,"MixedTs") -> 0 | H67: =COUNTIF(H2:H55,"MixedTs") -> 0 | I67: =COUNTIF(I2:I55,"MixedTs") -> 0 | ... AS67: =COUNTIF(AS2:AS55,"MixedTs") -> 0
A68: UD | B68: =COUNTIF(B2:B55,"UD") -> 4 | C68: =COUNTIF(C2:C55,"UD") -> 4 | D68: =COUNTIF(D2:D55,"UD") -> 4 | E68: =COUNTIF(E2:E55,"UD") -> 5 | F68: =COUNTIF(F2:F55,"UD") -> 5 | G68: =COUNTIF(G2:G55,"UD") -> 4 | H68: =COUNTIF(H2:H55,"UD") -> 7 | I68: =COUNTIF(I2:I55,"UD") -> 7 | ... AS68: =COUNTIF(AS2:AS55,"UD") -> 1
A69: LSD | B69: =COUNTIF(B2:B55,"LSD") -> 4 | C69: =COUNTIF(C2:C55,"LSD") -> 5 | D69: =COUNTIF(D2:D55,"LSD") -> 5 | E69: =COUNTIF(E2:E55,"LSD") -> 6 | F69: =COUNTIF(F2:F55,"LSD") -> 7 | G69: =COUNTIF(G2:G55,"LSD") -> 8 | H69: =COUNTIF(H2:H55,"LSD") -> 8 | I69: =COUNTIF(I2:I55,"LSD") -> 9 | ... AS69: =COUNTIF(AS2:AS55,"LSD") -> 19
A70: WSD | B70: =COUNTIF(B2:B55,"WSD") -> 0 | C70: =COUNTIF(C2:C55,"WSD") -> 0 | D70: =COUNTIF(D2:D55,"WSD") -> 0 | E70: =COUNTIF(E2:E55,"WSD") -> 0 | F70: =COUNTIF(F2:F55,"WSD") -> 0 | G70: =COUNTIF(G2:G55,"WSD") -> 0 | H70: =COUNTIF(H2:H55,"WSD") -> 0 | I70: =COUNTIF(I2:I55,"WSD") -> 0 | ... AS70: =COUNTIF(AS2:AS55,"WSD") -> 0
A71: UASC | B71: =COUNTIF(B2:B55,"UASC") -> 2 | C71: =COUNTIF(C2:C55,"UASC") -> 1 | D71: =COUNTIF(D2:D55,"UASC") -> 1 | E71: =COUNTIF(E2:E55,"UASC") -> 1 | F71: =COUNTIF(F2:F55,"UASC") -> 1 | G71: =COUNTIF(G2:G55,"UASC") -> 1 | H71: =COUNTIF(H2:H55,"UASC") -> 0 | I71: =COUNTIF(I2:I55,"UASC") -> 0 | ... AS71: =COUNTIF(AS2:AS55,"UASC") -> 3
B73: =SUM(B61:B71) -> 54 | C73: =SUM(C61:C71) -> 54 | D73: =SUM(D61:D71) -> 54 | E73: =SUM(E61:E71) -> 54 | F73: =SUM(F61:F71) -> 54 | G73: =SUM(G61:G71) -> 54 | H73: =SUM(H61:H71) -> 54 | I73: =SUM(I61:I71) -> 54 | ... AS73: =SUM(AS61:AS71) -> 54

Sheet Sheet3
A1: country | B1: 1974 | C1: 1975 | D1: 1976 | E1: 1977 | F1: 1978 | G1: 1979 | H1: 1980 | I1: 1981 | J1: 1982 | K1: 1983 | L1: 1984 | M1: 1985 | N1: 1986 | O1: 1987 | P1: 1988 | Q1: 1989 | R1: 1990 | S1: 1991 | T1: 1992 | U1: 1993 | V1: 1994 | W1: 1995 | X1: 1996 | Y1: 1997 | Z1: 1998 | AA1: 1999 | AB1: 2000 | AC1: 2001 | AD1: 2002 | AE1: 2003 | AF1: 2004 | AG1: 2005 | AH1: 2006 | AI1: 2007 | AJ1: 2008 | AK1: 2009 | AL1: 2010 | AM1: 2011 | AN1: 2012 | AO1: 2013 | AP1: 2014 | AQ1: 2015 | AR1: 2016 | AS1: 2017
A2: Albania | B2: =IF(OR('full menu'!B2="MDC",'full menu'!B2="PERF"),"rude",IF(OR('full menu'!B2="PCB",'full menu'!B2="AERF",'full menu'!B2="UD"),"inter",IF(OR('full menu'!B2="ACB",'full menu'!B2="LCERT",'full menu'!B2="LERT",'full menu'!B2="FCERT",'full menu'!B2="FCMT",'full menu'!B2="LCMT",'full menu'!B2="LMT",'full menu'!B2="LCIT",'full menu'!B2="FCIT",'full menu'!B2="LIT",'full menu'!B2="MwERT",'full menu'!B2="ERwMT",'full menu'!B2="M&ERT",'full menu'!B2="MwIT",'full menu'!B2="IwMT",'full menu'!B2="M&IT",'full menu'!B2="IwERT",'full menu'!B2="ERwIT",'full menu'!B2="I&ERT",'full menu'!B2="ER&M&IT",'full menu'!B2="LSD"),"subst",IF(OR('full menu'!B2="FERT",'full menu'!B2="FMT",'full menu'!B2="FIT",'full menu'!B2="WSD"),"intens",IF('full menu'!B2="UASC","UASC",""))))) -> rude | C2: =IF(OR('full menu'!C2="MDC",'full menu'!C2="PERF"),"rude",IF(OR('full menu'!C2="PCB",'full menu'!C2="AERF",'full menu'!C2="UD"),"inter",IF(OR('full menu'!C2="ACB",'full menu'!C2="LCERT",'full menu'!C2="LERT",'full menu'!C2="FCERT",'full menu'!C2="FCMT",'full menu'!C2="LCMT",'full menu'!C2="LMT",'full menu'!C2="LCIT",'full menu'!C2="FCIT",'full menu'!C2="LIT",'full menu'!C2="MwERT",'full menu'!C2="ERwMT",'full menu'!C2="M&ERT",'full menu'!C2="MwIT",'full menu'!C2="IwMT",'full menu'!C2="M&IT",'full menu'!C2="IwERT",'full menu'!C2="ERwIT",'full menu'!C2="I&ERT",'full menu'!C2="ER&M&IT",'full menu'!C2="LSD"),"subst",IF(OR('full menu'!C2="FERT",'full menu'!C2="FMT",'full menu'!C2="FIT",'full menu'!C2="WSD"),"intens",IF('full menu'!C2="UASC","UASC",""))))) -> rude | D2: =IF(OR('full menu'!D2="MDC",'full menu'!D2="PERF"),"rude",IF(OR('full menu'!D2="PCB",'full menu'!D2="AERF",'full menu'!D2="UD"),"inter",IF(OR('full menu'!D2="ACB",'full menu'!D2="LCERT",'full menu'!D2="LERT",'full menu'!D2="FCERT",'full menu'!D2="FCMT",'full menu'!D2="LCMT",'full menu'!D2="LMT",'full menu'!D2="LCIT",'full menu'!D2="FCIT",'full menu'!D2="LIT",'full menu'!D2="MwERT",'full menu'!D2="ERwMT",'full menu'!D2="M&ERT",'full menu'!D2="MwIT",'full menu'!D2="IwMT",'full menu'!D2="M&IT",'full menu'!D2="IwERT",'full menu'!D2="ERwIT",'full menu'!D2="I&ERT",'full menu'!D2="ER&M&IT",'full menu'!D2="LSD"),"subst",IF(OR('full menu'!D2="FERT",'full menu'!D2="FMT",'full menu'!D2="FIT",'full menu'!D2="WSD"),"intens",IF('full menu'!D2="UASC","UASC",""))))) -> rude | E2: =IF(OR('full menu'!E2="MDC",'full menu'!E2="PERF"),"rude",IF(OR('full menu'!E2="PCB",'full menu'!E2="AERF",'full menu'!E2="UD"),"inter",IF(OR('full menu'!E2="ACB",'full menu'!E2="LCERT",'full menu'!E2="LERT",'full menu'!E2="FCERT",'full menu'!E2="FCMT",'full menu'!E2="LCMT",'full menu'!E2="LMT",'full menu'!E2="LCIT",'full menu'!E2="FCIT",'full menu'!E2="LIT",'full menu'!E2="MwERT",'full menu'!E2="ERwMT",'full menu'!E2="M&ERT",'full menu'!E2="MwIT",'full menu'!E2="IwMT",'full menu'!E2="M&IT",'full menu'!E2="IwERT",'full menu'!E2="ERwIT",'full menu'!E2="I&ERT",'full menu'!E2="ER&M&IT",'full menu'!E2="LSD"),"subst",IF(OR('full menu'!E2="FERT",'full menu'!E2="FMT",'full menu'!E2="FIT",'full menu'!E2="WSD"),"intens",IF('full menu'!E2="UASC","UASC",""))))) -> rude | F2: =IF(OR('full menu'!F2="MDC",'full menu'!F2="PERF"),"rude",IF(OR('full menu'!F2="PCB",'full menu'!F2="AERF",'full menu'!F2="UD"),"inter",IF(OR('full menu'!F2="ACB",'full menu'!F2="LCERT",'full menu'!F2="LERT",'full menu'!F2="FCERT",'full menu'!F2="FCMT",'full menu'!F2="LCMT",'full menu'!F2="LMT",'full menu'!F2="LCIT",'full menu'!F2="FCIT",'full menu'!F2="LIT",'full menu'!F2="MwERT",'full menu'!F2="ERwMT",'full menu'!F2="M&ERT",'full menu'!F2="MwIT",'full menu'!F2="IwMT",'full menu'!F2="M&IT",'full menu'!F2="IwERT",'full menu'!F2="ERwIT",'full menu'!F2="I&ERT",'full menu'!F2="ER&M&IT",'full menu'!F2="LSD"),"subst",IF(OR('full menu'!F2="FERT",'full menu'!F2="FMT",'full menu'!F2="FIT",'full menu'!F2="WSD"),"intens",IF('full menu'!F2="UASC","UASC",""))))) -> rude | G2: =IF(OR('full menu'!G2="MDC",'full menu'!G2="PERF"),"rude",IF(OR('full menu'!G2="PCB",'full menu'!G2="AERF",'full menu'!G2="UD"),"inter",IF(OR('full menu'!G2="ACB",'full menu'!G2="LCERT",'full menu'!G2="LERT",'full menu'!G2="FCERT",'full menu'!G2="FCMT",'full menu'!G2="LCMT",'full menu'!G2="LMT",'full menu'!G2="LCIT",'full menu'!G2="FCIT",'full menu'!G2="LIT",'full menu'!G2="MwERT",'full menu'!G2="ERwMT",'full menu'!G2="M&ERT",'full menu'!G2="MwIT",'full menu'!G2="IwMT",'full menu'!G2="M&IT",'full menu'!G2="IwERT",'full menu'!G2="ERwIT",'full menu'!G2="I&ERT",'full menu'!G2="ER&M&IT",'full menu'!G2="LSD"),"subst",IF(OR('full menu'!G2="FERT",'full menu'!G2="FMT",'full menu'!G2="FIT",'full menu'!G2="WSD"),"intens",IF('full menu'!G2="UASC","UASC",""))))) -> rude | H2: =IF(OR('full menu'!H2="MDC",'full menu'!H2="PERF"),"rude",IF(OR('full menu'!H2="PCB",'full menu'!H2="AERF",'full menu'!H2="UD"),"inter",IF(OR('full menu'!H2="ACB",'full menu'!H2="LCERT",'full menu'!H2="LERT",'full menu'!H2="FCERT",'full menu'!H2="FCMT",'full menu'!H2="LCMT",'full menu'!H2="LMT",'full menu'!H2="LCIT",'full menu'!H2="FCIT",'full menu'!H2="LIT",'full menu'!H2="MwERT",'full menu'!H2="ERwMT",'full menu'!H2="M&ERT",'full menu'!H2="MwIT",'full menu'!H2="IwMT",'full menu'!H2="M&IT",'full menu'!H2="IwERT",'full menu'!H2="ERwIT",'full menu'!H2="I&ERT",'full menu'!H2="ER&M&IT",'full menu'!H2="LSD"),"subst",IF(OR('full menu'!H2="FERT",'full menu'!H2="FMT",'full menu'!H2="FIT",'full menu'!H2="WSD"),"intens",IF('full menu'!H2="UASC","UASC",""))))) -> rude | I2: =IF(OR('full menu'!I2="MDC",'full menu'!I2="PERF"),"rude",IF(OR('full menu'!I2="PCB",'full menu'!I2="AERF",'full menu'!I2="UD"),"inter",IF(OR('full menu'!I2="ACB",'full menu'!I2="LCERT",'full menu'!I2="LERT",'full menu'!I2="FCERT",'full menu'!I2="FCMT",'full menu'!I2="LCMT",'full menu'!I2="LMT",'full menu'!I2="LCIT",'full menu'!I2="FCIT",'full menu'!I2="LIT",'full menu'!I2="MwERT",'full menu'!I2="ERwMT",'full menu'!I2="M&ERT",'full menu'!I2="MwIT",'full menu'!I2="IwMT",'full menu'!I2="M&IT",'full menu'!I2="IwERT",'full menu'!I2="ERwIT",'full menu'!I2="I&ERT",'full menu'!I2="ER&M&IT",'full menu'!I2="LSD"),"subst",IF(OR('full menu'!I2="FERT",'full menu'!I2="FMT",'full menu'!I2="FIT",'full menu'!I2="WSD"),"intens",IF('full menu'!I2="UASC","UASC",""))))) -> rude | ... AS2: =IF(OR('full menu'!AS2="MDC",'full menu'!AS2="PERF"),"rude",IF(OR('full menu'!AS2="PCB",'full menu'!AS2="AERF",'full menu'!AS2="UD"),"inter",IF(OR('full menu'!AS2="ACB",'full menu'!AS2="LCERT",'full menu'!AS2="LERT",'full menu'!AS2="FCERT",'full menu'!AS2="FCMT",'full menu'!AS2="LCMT",'full menu'!AS2="LMT",'full menu'!AS2="LCIT",'full menu'!AS2="FCIT",'full menu'!AS2="LIT",'full menu'!AS2="MwERT",'full menu'!AS2="ERwMT",'full menu'!AS2="M&ERT",'full menu'!AS2="MwIT",'full menu'!AS2="IwMT",'full menu'!AS2="M&IT",'full menu'!AS2="IwERT",'full menu'!AS2="ERwIT",'full menu'!AS2="I&ERT",'full menu'!AS2="ER&M&IT",'full menu'!AS2="LSD"),"subst",IF(OR('full menu'!AS2="FERT",'full menu'!AS2="FMT",'full menu'!AS2="FIT",'full menu'!AS2="WSD"),"intens",IF('full menu'!AS2="UASC","UASC",""))))) -> subst
A3: Algeria | B3: =IF(OR('full menu'!B3="MDC",'full menu'!B3="PERF"),"rude",IF(OR('full menu'!B3="PCB",'full menu'!B3="AERF",'full menu'!B3="UD"),"inter",IF(OR('full menu'!B3="ACB",'full menu'!B3="LCERT",'full menu'!B3="LERT",'full menu'!B3="FCERT",'full menu'!B3="FCMT",'full menu'!B3="LCMT",'full menu'!B3="LMT",'full menu'!B3="LCIT",'full menu'!B3="FCIT",'full menu'!B3="LIT",'full menu'!B3="MwERT",'full menu'!B3="ERwMT",'full menu'!B3="M&ERT",'full menu'!B3="MwIT",'full menu'!B3="IwMT",'full menu'!B3="M&IT",'full menu'!B3="IwERT",'full menu'!B3="ERwIT",'full menu'!B3="I&ERT",'full menu'!B3="ER&M&IT",'full menu'!B3="LSD"),"subst",IF(OR('full menu'!B3="FERT",'full menu'!B3="FMT",'full menu'!B3="FIT",'full menu'!B3="WSD"),"intens",IF('full menu'!B3="UASC","UASC",""))))) -> rude | C3: =IF(OR('full menu'!C3="MDC",'full menu'!C3="PERF"),"rude",IF(OR('full menu'!C3="PCB",'full menu'!C3="AERF",'full menu'!C3="UD"),"inter",IF(OR('full menu'!C3="ACB",'full menu'!C3="LCERT",'full menu'!C3="LERT",'full menu'!C3="FCERT",'full menu'!C3="FCMT",'full menu'!C3="LCMT",'full menu'!C3="LMT",'full menu'!C3="LCIT",'full menu'!C3="FCIT",'full menu'!C3="LIT",'full menu'!C3="MwERT",'full menu'!C3="ERwMT",'full menu'!C3="M&ERT",'full menu'!C3="MwIT",'full menu'!C3="IwMT",'full menu'!C3="M&IT",'full menu'!C3="IwERT",'full menu'!C3="ERwIT",'full menu'!C3="I&ERT",'full menu'!C3="ER&M&IT",'full menu'!C3="LSD"),"subst",IF(OR('full menu'!C3="FERT",'full menu'!C3="FMT",'full menu'!C3="FIT",'full menu'!C3="WSD"),"intens",IF('full menu'!C3="UASC","UASC",""))))) -> rude | D3: =IF(OR('full menu'!D3="MDC",'full menu'!D3="PERF"),"rude",IF(OR('full menu'!D3="PCB",'full menu'!D3="AERF",'full menu'!D3="UD"),"inter",IF(OR('full menu'!D3="ACB",'full menu'!D3="LCERT",'full menu'!D3="LERT",'full menu'!D3="FCERT",'full menu'!D3="FCMT",'full menu'!D3="LCMT",'full menu'!D3="LMT",'full menu'!D3="LCIT",'full menu'!D3="FCIT",'full menu'!D3="LIT",'full menu'!D3="MwERT",'full menu'!D3="ERwMT",'full menu'!D3="M&ERT",'full menu'!D3="MwIT",'full menu'!D3="IwMT",'full menu'!D3="M&IT",'full menu'!D3="IwERT",'full menu'!D3="ERwIT",'full menu'!D3="I&ERT",'full menu'!D3="ER&M&IT",'full menu'!D3="LSD"),"subst",IF(OR('full menu'!D3="FERT",'full menu'!D3="FMT",'full menu'!D3="FIT",'full menu'!D3="WSD"),"intens",IF('full menu'!D3="UASC","UASC",""))))) -> rude | E3: =IF(OR('full menu'!E3="MDC",'full menu'!E3="PERF"),"rude",IF(OR('full menu'!E3="PCB",'full menu'!E3="AERF",'full menu'!E3="UD"),"inter",IF(OR('full menu'!E3="ACB",'full menu'!E3="LCERT",'full menu'!E3="LERT",'full menu'!E3="FCERT",'full menu'!E3="FCMT",'full menu'!E3="LCMT",'full menu'!E3="LMT",'full menu'!E3="LCIT",'full menu'!E3="FCIT",'full menu'!E3="LIT",'full menu'!E3="MwERT",'full menu'!E3="ERwMT",'full menu'!E3="M&ERT",'full menu'!E3="MwIT",'full menu'!E3="IwMT",'full menu'!E3="M&IT",'full menu'!E3="IwERT",'full menu'!E3="ERwIT",'full menu'!E3="I&ERT",'full menu'!E3="ER&M&IT",'full menu'!E3="LSD"),"subst",IF(OR('full menu'!E3="FERT",'full menu'!E3="FMT",'full menu'!E3="FIT",'full menu'!E3="WSD"),"intens",IF('full menu'!E3="UASC","UASC",""))))) -> rude | F3: =IF(OR('full menu'!F3="MDC",'full menu'!F3="PERF"),"rude",IF(OR('full menu'!F3="PCB",'full menu'!F3="AERF",'full menu'!F3="UD"),"inter",IF(OR('full menu'!F3="ACB",'full menu'!F3="LCERT",'full menu'!F3="LERT",'full menu'!F3="FCERT",'full menu'!F3="FCMT",'full menu'!F3="LCMT",'full menu'!F3="LMT",'full menu'!F3="LCIT",'full menu'!F3="FCIT",'full menu'!F3="LIT",'full menu'!F3="MwERT",'full menu'!F3="ERwMT",'full menu'!F3="M&ERT",'full menu'!F3="MwIT",'full menu'!F3="IwMT",'full menu'!F3="M&IT",'full menu'!F3="IwERT",'full menu'!F3="ERwIT",'full menu'!F3="I&ERT",'full menu'!F3="ER&M&IT",'full menu'!F3="LSD"),"subst",IF(OR('full menu'!F3="FERT",'full menu'!F3="FMT",'full menu'!F3="FIT",'full menu'!F3="WSD"),"intens",IF('full menu'!F3="UASC","UASC",""))))) -> rude | G3: =IF(OR('full menu'!G3="MDC",'full menu'!G3="PERF"),"rude",IF(OR('full menu'!G3="PCB",'full menu'!G3="AERF",'full menu'!G3="UD"),"inter",IF(OR('full menu'!G3="ACB",'full menu'!G3="LCERT",'full menu'!G3="LERT",'full menu'!G3="FCERT",'full menu'!G3="FCMT",'full menu'!G3="LCMT",'full menu'!G3="LMT",'full menu'!G3="LCIT",'full menu'!G3="FCIT",'full menu'!G3="LIT",'full menu'!G3="MwERT",'full menu'!G3="ERwMT",'full menu'!G3="M&ERT",'full menu'!G3="MwIT",'full menu'!G3="IwMT",'full menu'!G3="M&IT",'full menu'!G3="IwERT",'full menu'!G3="ERwIT",'full menu'!G3="I&ERT",'full menu'!G3="ER&M&IT",'full menu'!G3="LSD"),"subst",IF(OR('full menu'!G3="FERT",'full menu'!G3="FMT",'full menu'!G3="FIT",'full menu'!G3="WSD"),"intens",IF('full menu'!G3="UASC","UASC",""))))) -> rude | H3: =IF(OR('full menu'!H3="MDC",'full menu'!H3="PERF"),"rude",IF(OR('full menu'!H3="PCB",'full menu'!H3="AERF",'full menu'!H3="UD"),"inter",IF(OR('full menu'!H3="ACB",'full menu'!H3="LCERT",'full menu'!H3="LERT",'full menu'!H3="FCERT",'full menu'!H3="FCMT",'full menu'!H3="LCMT",'full menu'!H3="LMT",'full menu'!H3="LCIT",'full menu'!H3="FCIT",'full menu'!H3="LIT",'full menu'!H3="MwERT",'full menu'!H3="ERwMT",'full menu'!H3="M&ERT",'full menu'!H3="MwIT",'full menu'!H3="IwMT",'full menu'!H3="M&IT",'full menu'!H3="IwERT",'full menu'!H3="ERwIT",'full menu'!H3="I&ERT",'full menu'!H3="ER&M&IT",'full menu'!H3="LSD"),"subst",IF(OR('full menu'!H3="FERT",'full menu'!H3="FMT",'full menu'!H3="FIT",'full menu'!H3="WSD"),"intens",IF('full menu'!H3="UASC","UASC",""))))) -> rude | I3: =IF(OR('full menu'!I3="MDC",'full menu'!I3="PERF"),"rude",IF(OR('full menu'!I3="PCB",'full menu'!I3="AERF",'full menu'!I3="UD"),"inter",IF(OR('full menu'!I3="ACB",'full menu'!I3="LCERT",'full menu'!I3="LERT",'full menu'!I3="FCERT",'full menu'!I3="FCMT",'full menu'!I3="LCMT",'full menu'!I3="LMT",'full menu'!I3="LCIT",'full menu'!I3="FCIT",'full menu'!I3="LIT",'full menu'!I3="MwERT",'full menu'!I3="ERwMT",'full menu'!I3="M&ERT",'full menu'!I3="MwIT",'full menu'!I3="IwMT",'full menu'!I3="M&IT",'full menu'!I3="IwERT",'full menu'!I3="ERwIT",'full menu'!I3="I&ERT",'full menu'!I3="ER&M&IT",'full menu'!I3="LSD"),"subst",IF(OR('full menu'!I3="FERT",'full menu'!I3="FMT",'full menu'!I3="FIT",'full menu'!I3="WSD"),"intens",IF('full menu'!I3="UASC","UASC",""))))) -> rude | ... AS3: =IF(OR('full menu'!AS3="MDC",'full menu'!AS3="PERF"),"rude",IF(OR('full menu'!AS3="PCB",'full menu'!AS3="AERF",'full menu'!AS3="UD"),"inter",IF(OR('full menu'!AS3="ACB",'full menu'!AS3="LCERT",'full menu'!AS3="LERT",'full menu'!AS3="FCERT",'full menu'!AS3="FCMT",'full menu'!AS3="LCMT",'full menu'!AS3="LMT",'full menu'!AS3="LCIT",'full menu'!AS3="FCIT",'full menu'!AS3="LIT",'full menu'!AS3="MwERT",'full menu'!AS3="ERwMT",'full menu'!AS3="M&ERT",'full menu'!AS3="MwIT",'full menu'!AS3="IwMT",'full menu'!AS3="M&IT",'full menu'!AS3="IwERT",'full menu'!AS3="ERwIT",'full menu'!AS3="I&ERT",'full menu'!AS3="ER&M&IT",'full menu'!AS3="LSD"),"subst",IF(OR('full menu'!AS3="FERT",'full menu'!AS3="FMT",'full menu'!AS3="FIT",'full menu'!AS3="WSD"),"intens",IF('full menu'!AS3="UASC","UASC",""))))) -> subst
A4: Armenia | B4: =IF(OR('full menu'!B4="MDC",'full menu'!B4="PERF"),"rude",IF(OR('full menu'!B4="PCB",'full menu'!B4="AERF",'full menu'!B4="UD"),"inter",IF(OR('full menu'!B4="ACB",'full menu'!B4="LCERT",'full menu'!B4="LERT",'full menu'!B4="FCERT",'full menu'!B4="FCMT",'full menu'!B4="LCMT",'full menu'!B4="LMT",'full menu'!B4="LCIT",'full menu'!B4="FCIT",'full menu'!B4="LIT",'full menu'!B4="MwERT",'full menu'!B4="ERwMT",'full menu'!B4="M&ERT",'full menu'!B4="MwIT",'full menu'!B4="IwMT",'full menu'!B4="M&IT",'full menu'!B4="IwERT",'full menu'!B4="ERwIT",'full menu'!B4="I&ERT",'full menu'!B4="ER&M&IT",'full menu'!B4="LSD"),"subst",IF(OR('full menu'!B4="FERT",'full menu'!B4="FMT",'full menu'!B4="FIT",'full menu'!B4="WSD"),"intens",IF('full menu'!B4="UASC","UASC",""))))) | C4: =IF(OR('full menu'!C4="MDC",'full menu'!C4="PERF"),"rude",IF(OR('full menu'!C4="PCB",'full menu'!C4="AERF",'full menu'!C4="UD"),"inter",IF(OR('full menu'!C4="ACB",'full menu'!C4="LCERT",'full menu'!C4="LERT",'full menu'!C4="FCERT",'full menu'!C4="FCMT",'full menu'!C4="LCMT",'full menu'!C4="LMT",'full menu'!C4="LCIT",'full menu'!C4="FCIT",'full menu'!C4="LIT",'full menu'!C4="MwERT",'full menu'!C4="ERwMT",'full menu'!C4="M&ERT",'full menu'!C4="MwIT",'full menu'!C4="IwMT",'full menu'!C4="M&IT",'full menu'!C4="IwERT",'full menu'!C4="ERwIT",'full menu'!C4="I&ERT",'full menu'!C4="ER&M&IT",'full menu'!C4="LSD"),"subst",IF(OR('full menu'!C4="FERT",'full menu'!C4="FMT",'full menu'!C4="FIT",'full menu'!C4="WSD"),"intens",IF('full menu'!C4="UASC","UASC",""))))) | D4: =IF(OR('full menu'!D4="MDC",'full menu'!D4="PERF"),"rude",IF(OR('full menu'!D4="PCB",'full menu'!D4="AERF",'full menu'!D4="UD"),"inter",IF(OR('full menu'!D4="ACB",'full menu'!D4="LCERT",'full menu'!D4="LERT",'full menu'!D4="FCERT",'full menu'!D4="FCMT",'full menu'!D4="LCMT",'full menu'!D4="LMT",'full menu'!D4="LCIT",'full menu'!D4="FCIT",'full menu'!D4="LIT",'full menu'!D4="MwERT",'full menu'!D4="ERwMT",'full menu'!D4="M&ERT",'full menu'!D4="MwIT",'full menu'!D4="IwMT",'full menu'!D4="M&IT",'full menu'!D4="IwERT",'full menu'!D4="ERwIT",'full menu'!D4="I&ERT",'full menu'!D4="ER&M&IT",'full menu'!D4="LSD"),"subst",IF(OR('full menu'!D4="FERT",'full menu'!D4="FMT",'full menu'!D4="FIT",'full menu'!D4="WSD"),"intens",IF('full menu'!D4="UASC","UASC",""))))) | E4: =IF(OR('full menu'!E4="MDC",'full menu'!E4="PERF"),"rude",IF(OR('full menu'!E4="PCB",'full menu'!E4="AERF",'full menu'!E4="UD"),"inter",IF(OR('full menu'!E4="ACB",'full menu'!E4="LCERT",'full menu'!E4="LERT",'full menu'!E4="FCERT",'full menu'!E4="FCMT",'full menu'!E4="LCMT",'full menu'!E4="LMT",'full menu'!E4="LCIT",'full menu'!E4="FCIT",'full menu'!E4="LIT",'full menu'!E4="MwERT",'full menu'!E4="ERwMT",'full menu'!E4="M&ERT",'full menu'!E4="MwIT",'full menu'!E4="IwMT",'full menu'!E4="M&IT",'full menu'!E4="IwERT",'full menu'!E4="ERwIT",'full menu'!E4="I&ERT",'full menu'!E4="ER&M&IT",'full menu'!E4="LSD"),"subst",IF(OR('full menu'!E4="FERT",'full menu'!E4="FMT",'full menu'!E4="FIT",'full menu'!E4="WSD"),"intens",IF('full menu'!E4="UASC","UASC",""))))) | F4: =IF(OR('full menu'!F4="MDC",'full menu'!F4="PERF"),"rude",IF(OR('full menu'!F4="PCB",'full menu'!F4="AERF",'full menu'!F4="UD"),"inter",IF(OR('full menu'!F4="ACB",'full menu'!F4="LCERT",'full menu'!F4="LERT",'full menu'!F4="FCERT",'full menu'!F4="FCMT",'full menu'!F4="LCMT",'full menu'!F4="LMT",'full menu'!F4="LCIT",'full menu'!F4="FCIT",'full menu'!F4="LIT",'full menu'!F4="MwERT",'full menu'!F4="ERwMT",'full menu'!F4="M&ERT",'full menu'!F4="MwIT",'full menu'!F4="IwMT",'full menu'!F4="M&IT",'full menu'!F4="IwERT",'full menu'!F4="ERwIT",'full menu'!F4="I&ERT",'full menu'!F4="ER&M&IT",'full menu'!F4="LSD"),"subst",IF(OR('full menu'!F4="FERT",'full menu'!F4="FMT",'full menu'!F4="FIT",'full menu'!F4="WSD"),"intens",IF('full menu'!F4="UASC","UASC",""))))) | G4: =IF(OR('full menu'!G4="MDC",'full menu'!G4="PERF"),"rude",IF(OR('full menu'!G4="PCB",'full menu'!G4="AERF",'full menu'!G4="UD"),"inter",IF(OR('full menu'!G4="ACB",'full menu'!G4="LCERT",'full menu'!G4="LERT",'full menu'!G4="FCERT",'full menu'!G4="FCMT",'full menu'!G4="LCMT",'full menu'!G4="LMT",'full menu'!G4="LCIT",'full menu'!G4="FCIT",'full menu'!G4="LIT",'full menu'!G4="MwERT",'full menu'!G4="ERwMT",'full menu'!G4="M&ERT",'full menu'!G4="MwIT",'full menu'!G4="IwMT",'full menu'!G4="M&IT",'full menu'!G4="IwERT",'full menu'!G4="ERwIT",'full menu'!G4="I&ERT",'full menu'!G4="ER&M&IT",'full menu'!G4="LSD"),"subst",IF(OR('full menu'!G4="FERT",'full menu'!G4="FMT",'full menu'!G4="FIT",'full menu'!G4="WSD"),"intens",IF('full menu'!G4="UASC","UASC",""))))) | H4: =IF(OR('full menu'!H4="MDC",'full menu'!H4="PERF"),"rude",IF(OR('full menu'!H4="PCB",'full menu'!H4="AERF",'full menu'!H4="UD"),"inter",IF(OR('full menu'!H4="ACB",'full menu'!H4="LCERT",'full menu'!H4="LERT",'full menu'!H4="FCERT",'full menu'!H4="FCMT",'full menu'!H4="LCMT",'full menu'!H4="LMT",'full menu'!H4="LCIT",'full menu'!H4="FCIT",'full menu'!H4="LIT",'full menu'!H4="MwERT",'full menu'!H4="ERwMT",'full menu'!H4="M&ERT",'full menu'!H4="MwIT",'full menu'!H4="IwMT",'full menu'!H4="M&IT",'full menu'!H4="IwERT",'full menu'!H4="ERwIT",'full menu'!H4="I&ERT",'full menu'!H4="ER&M&IT",'full menu'!H4="LSD"),"subst",IF(OR('full menu'!H4="FERT",'full menu'!H4="FMT",'full menu'!H4="FIT",'full menu'!H4="WSD"),"intens",IF('full menu'!H4="UASC","UASC",""))))) | I4: =IF(OR('full menu'!I4="MDC",'full menu'!I4="PERF"),"rude",IF(OR('full menu'!I4="PCB",'full menu'!I4="AERF",'full menu'!I4="UD"),"inter",IF(OR('full menu'!I4="ACB",'full menu'!I4="LCERT",'full menu'!I4="LERT",'full menu'!I4="FCERT",'full menu'!I4="FCMT",'full menu'!I4="LCMT",'full menu'!I4="LMT",'full menu'!I4="LCIT",'full menu'!I4="FCIT",'full menu'!I4="LIT",'full menu'!I4="MwERT",'full menu'!I4="ERwMT",'full menu'!I4="M&ERT",'full menu'!I4="MwIT",'full menu'!I4="IwMT",'full menu'!I4="M&IT",'full menu'!I4="IwERT",'full menu'!I4="ERwIT",'full menu'!I4="I&ERT",'full menu'!I4="ER&M&IT",'full menu'!I4="LSD"),"subst",IF(OR('full menu'!I4="FERT",'full menu'!I4="FMT",'full menu'!I4="FIT",'full menu'!I4="WSD"),"intens",IF('full menu'!I4="UASC","UASC",""))))) | ... AS4: =IF(OR('full menu'!AS4="MDC",'full menu'!AS4="PERF"),"rude",IF(OR('full menu'!AS4="PCB",'full menu'!AS4="AERF",'full menu'!AS4="UD"),"inter",IF(OR('full menu'!AS4="ACB",'full menu'!AS4="LCERT",'full menu'!AS4="LERT",'full menu'!AS4="FCERT",'full menu'!AS4="FCMT",'full menu'!AS4="LCMT",'full menu'!AS4="LMT",'full menu'!AS4="LCIT",'full menu'!AS4="FCIT",'full menu'!AS4="LIT",'full menu'!AS4="MwERT",'full menu'!AS4="ERwMT",'full menu'!AS4="M&ERT",'full menu'!AS4="MwIT",'full menu'!AS4="IwMT",'full menu'!AS4="M&IT",'full menu'!AS4="IwERT",'full menu'!AS4="ERwIT",'full menu'!AS4="I&ERT",'full menu'!AS4="ER&M&IT",'full menu'!AS4="LSD"),"subst",IF(OR('full menu'!AS4="FERT",'full menu'!AS4="FMT",'full menu'!AS4="FIT",'full menu'!AS4="WSD"),"intens",IF('full menu'!AS4="UASC","UASC",""))))) -> subst
A5: Azerbaijan | B5: =IF(OR('full menu'!B5="MDC",'full menu'!B5="PERF"),"rude",IF(OR('full menu'!B5="PCB",'full menu'!B5="AERF",'full menu'!B5="UD"),"inter",IF(OR('full menu'!B5="ACB",'full menu'!B5="LCERT",'full menu'!B5="LERT",'full menu'!B5="FCERT",'full menu'!B5="FCMT",'full menu'!B5="LCMT",'full menu'!B5="LMT",'full menu'!B5="LCIT",'full menu'!B5="FCIT",'full menu'!B5="LIT",'full menu'!B5="MwERT",'full menu'!B5="ERwMT",'full menu'!B5="M&ERT",'full menu'!B5="MwIT",'full menu'!B5="IwMT",'full menu'!B5="M&IT",'full menu'!B5="IwERT",'full menu'!B5="ERwIT",'full menu'!B5="I&ERT",'full menu'!B5="ER&M&IT",'full menu'!B5="LSD"),"subst",IF(OR('full menu'!B5="FERT",'full menu'!B5="FMT",'full menu'!B5="FIT",'full menu'!B5="WSD"),"intens",IF('full menu'!B5="UASC","UASC",""))))) | C5: =IF(OR('full menu'!C5="MDC",'full menu'!C5="PERF"),"rude",IF(OR('full menu'!C5="PCB",'full menu'!C5="AERF",'full menu'!C5="UD"),"inter",IF(OR('full menu'!C5="ACB",'full menu'!C5="LCERT",'full menu'!C5="LERT",'full menu'!C5="FCERT",'full menu'!C5="FCMT",'full menu'!C5="LCMT",'full menu'!C5="LMT",'full menu'!C5="LCIT",'full menu'!C5="FCIT",'full menu'!C5="LIT",'full menu'!C5="MwERT",'full menu'!C5="ERwMT",'full menu'!C5="M&ERT",'full menu'!C5="MwIT",'full menu'!C5="IwMT",'full menu'!C5="M&IT",'full menu'!C5="IwERT",'full menu'!C5="ERwIT",'full menu'!C5="I&ERT",'full menu'!C5="ER&M&IT",'full menu'!C5="LSD"),"subst",IF(OR('full menu'!C5="FERT",'full menu'!C5="FMT",'full menu'!C5="FIT",'full menu'!C5="WSD"),"intens",IF('full menu'!C5="UASC","UASC",""))))) | D5: =IF(OR('full menu'!D5="MDC",'full menu'!D5="PERF"),"rude",IF(OR('full menu'!D5="PCB",'full menu'!D5="AERF",'full menu'!D5="UD"),"inter",IF(OR('full menu'!D5="ACB",'full menu'!D5="LCERT",'full menu'!D5="LERT",'full menu'!D5="FCERT",'full menu'!D5="FCMT",'full menu'!D5="LCMT",'full menu'!D5="LMT",'full menu'!D5="LCIT",'full menu'!D5="FCIT",'full menu'!D5="LIT",'full menu'!D5="MwERT",'full menu'!D5="ERwMT",'full menu'!D5="M&ERT",'full menu'!D5="MwIT",'full menu'!D5="IwMT",'full menu'!D5="M&IT",'full menu'!D5="IwERT",'full menu'!D5="ERwIT",'full menu'!D5="I&ERT",'full menu'!D5="ER&M&IT",'full menu'!D5="LSD"),"subst",IF(OR('full menu'!D5="FERT",'full menu'!D5="FMT",'full menu'!D5="FIT",'full menu'!D5="WSD"),"intens",IF('full menu'!D5="UASC","UASC",""))))) | E5: =IF(OR('full menu'!E5="MDC",'full menu'!E5="PERF"),"rude",IF(OR('full menu'!E5="PCB",'full menu'!E5="AERF",'full menu'!E5="UD"),"inter",IF(OR('full menu'!E5="ACB",'full menu'!E5="LCERT",'full menu'!E5="LERT",'full menu'!E5="FCERT",'full menu'!E5="FCMT",'full menu'!E5="LCMT",'full menu'!E5="LMT",'full menu'!E5="LCIT",'full menu'!E5="FCIT",'full menu'!E5="LIT",'full menu'!E5="MwERT",'full menu'!E5="ERwMT",'full menu'!E5="M&ERT",'full menu'!E5="MwIT",'full menu'!E5="IwMT",'full menu'!E5="M&IT",'full menu'!E5="IwERT",'full menu'!E5="ERwIT",'full menu'!E5="I&ERT",'full menu'!E5="ER&M&IT",'full menu'!E5="LSD"),"subst",IF(OR('full menu'!E5="FERT",'full menu'!E5="FMT",'full menu'!E5="FIT",'full menu'!E5="WSD"),"intens",IF('full menu'!E5="UASC","UASC",""))))) | F5: =IF(OR('full menu'!F5="MDC",'full menu'!F5="PERF"),"rude",IF(OR('full menu'!F5="PCB",'full menu'!F5="AERF",'full menu'!F5="UD"),"inter",IF(OR('full menu'!F5="ACB",'full menu'!F5="LCERT",'full menu'!F5="LERT",'full menu'!F5="FCERT",'full menu'!F5="FCMT",'full menu'!F5="LCMT",'full menu'!F5="LMT",'full menu'!F5="LCIT",'full menu'!F5="FCIT",'full menu'!F5="LIT",'full menu'!F5="MwERT",'full menu'!F5="ERwMT",'full menu'!F5="M&ERT",'full menu'!F5="MwIT",'full menu'!F5="IwMT",'full menu'!F5="M&IT",'full menu'!F5="IwERT",'full menu'!F5="ERwIT",'full menu'!F5="I&ERT",'full menu'!F5="ER&M&IT",'full menu'!F5="LSD"),"subst",IF(OR('full menu'!F5="FERT",'full menu'!F5="FMT",'full menu'!F5="FIT",'full menu'!F5="WSD"),"intens",IF('full menu'!F5="UASC","UASC",""))))) | G5: =IF(OR('full menu'!G5="MDC",'full menu'!G5="PERF"),"rude",IF(OR('full menu'!G5="PCB",'full menu'!G5="AERF",'full menu'!G5="UD"),"inter",IF(OR('full menu'!G5="ACB",'full menu'!G5="LCERT",'full menu'!G5="LERT",'full menu'!G5="FCERT",'full menu'!G5="FCMT",'full menu'!G5="LCMT",'full menu'!G5="LMT",'full menu'!G5="LCIT",'full menu'!G5="FCIT",'full menu'!G5="LIT",'full menu'!G5="MwERT",'full menu'!G5="ERwMT",'full menu'!G5="M&ERT",'full menu'!G5="MwIT",'full menu'!G5="IwMT",'full menu'!G5="M&IT",'full menu'!G5="IwERT",'full menu'!G5="ERwIT",'full menu'!G5="I&ERT",'full menu'!G5="ER&M&IT",'full menu'!G5="LSD"),"subst",IF(OR('full menu'!G5="FERT",'full menu'!G5="FMT",'full menu'!G5="FIT",'full menu'!G5="WSD"),"intens",IF('full menu'!G5="UASC","UASC",""))))) | H5: =IF(OR('full menu'!H5="MDC",'full menu'!H5="PERF"),"rude",IF(OR('full menu'!H5="PCB",'full menu'!H5="AERF",'full menu'!H5="UD"),"inter",IF(OR('full menu'!H5="ACB",'full menu'!H5="LCERT",'full menu'!H5="LERT",'full menu'!H5="FCERT",'full menu'!H5="FCMT",'full menu'!H5="LCMT",'full menu'!H5="LMT",'full menu'!H5="LCIT",'full menu'!H5="FCIT",'full menu'!H5="LIT",'full menu'!H5="MwERT",'full menu'!H5="ERwMT",'full menu'!H5="M&ERT",'full menu'!H5="MwIT",'full menu'!H5="IwMT",'full menu'!H5="M&IT",'full menu'!H5="IwERT",'full menu'!H5="ERwIT",'full menu'!H5="I&ERT",'full menu'!H5="ER&M&IT",'full menu'!H5="LSD"),"subst",IF(OR('full menu'!H5="FERT",'full menu'!H5="FMT",'full menu'!H5="FIT",'full menu'!H5="WSD"),"intens",IF('full menu'!H5="UASC","UASC",""))))) | I5: =IF(OR('full menu'!I5="MDC",'full menu'!I5="PERF"),"rude",IF(OR('full menu'!I5="PCB",'full menu'!I5="AERF",'full menu'!I5="UD"),"inter",IF(OR('full menu'!I5="ACB",'full menu'!I5="LCERT",'full menu'!I5="LERT",'full menu'!I5="FCERT",'full menu'!I5="FCMT",'full menu'!I5="LCMT",'full menu'!I5="LMT",'full menu'!I5="LCIT",'full menu'!I5="FCIT",'full menu'!I5="LIT",'full menu'!I5="MwERT",'full menu'!I5="ERwMT",'full menu'!I5="M&ERT",'full menu'!I5="MwIT",'full menu'!I5="IwMT",'full menu'!I5="M&IT",'full menu'!I5="IwERT",'full menu'!I5="ERwIT",'full menu'!I5="I&ERT",'full menu'!I5="ER&M&IT",'full menu'!I5="LSD"),"subst",IF(OR('full menu'!I5="FERT",'full menu'!I5="FMT",'full menu'!I5="FIT",'full menu'!I5="WSD"),"intens",IF('full menu'!I5="UASC","UASC",""))))) | ... AS5: =IF(OR('full menu'!AS5="MDC",'full menu'!AS5="PERF"),"rude",IF(OR('full menu'!AS5="PCB",'full menu'!AS5="AERF",'full menu'!AS5="UD"),"inter",IF(OR('full menu'!AS5="ACB",'full menu'!AS5="LCERT",'full menu'!AS5="LERT",'full menu'!AS5="FCERT",'full menu'!AS5="FCMT",'full menu'!AS5="LCMT",'full menu'!AS5="LMT",'full menu'!AS5="LCIT",'full menu'!AS5="FCIT",'full menu'!AS5="LIT",'full menu'!AS5="MwERT",'full menu'!AS5="ERwMT",'full menu'!AS5="M&ERT",'full menu'!AS5="MwIT",'full menu'!AS5="IwMT",'full menu'!AS5="M&IT",'full menu'!AS5="IwERT",'full menu'!AS5="ERwIT",'full menu'!AS5="I&ERT",'full menu'!AS5="ER&M&IT",'full menu'!AS5="LSD"),"subst",IF(OR('full menu'!AS5="FERT",'full menu'!AS5="FMT",'full menu'!AS5="FIT",'full menu'!AS5="WSD"),"intens",IF('full menu'!AS5="UASC","UASC",""))))) -> subst
A6: Belarus | B6: =IF(OR('full menu'!B6="MDC",'full menu'!B6="PERF"),"rude",IF(OR('full menu'!B6="PCB",'full menu'!B6="AERF",'full menu'!B6="UD"),"inter",IF(OR('full menu'!B6="ACB",'full menu'!B6="LCERT",'full menu'!B6="LERT",'full menu'!B6="FCERT",'full menu'!B6="FCMT",'full menu'!B6="LCMT",'full menu'!B6="LMT",'full menu'!B6="LCIT",'full menu'!B6="FCIT",'full menu'!B6="LIT",'full menu'!B6="MwERT",'full menu'!B6="ERwMT",'full menu'!B6="M&ERT",'full menu'!B6="MwIT",'full menu'!B6="IwMT",'full menu'!B6="M&IT",'full menu'!B6="IwERT",'full menu'!B6="ERwIT",'full menu'!B6="I&ERT",'full menu'!B6="ER&M&IT",'full menu'!B6="LSD"),"subst",IF(OR('full menu'!B6="FERT",'full menu'!B6="FMT",'full menu'!B6="FIT",'full menu'!B6="WSD"),"intens",IF('full menu'!B6="UASC","UASC",""))))) | C6: =IF(OR('full menu'!C6="MDC",'full menu'!C6="PERF"),"rude",IF(OR('full menu'!C6="PCB",'full menu'!C6="AERF",'full menu'!C6="UD"),"inter",IF(OR('full menu'!C6="ACB",'full menu'!C6="LCERT",'full menu'!C6="LERT",'full menu'!C6="FCERT",'full menu'!C6="FCMT",'full menu'!C6="LCMT",'full menu'!C6="LMT",'full menu'!C6="LCIT",'full menu'!C6="FCIT",'full menu'!C6="LIT",'full menu'!C6="MwERT",'full menu'!C6="ERwMT",'full menu'!C6="M&ERT",'full menu'!C6="MwIT",'full menu'!C6="IwMT",'full menu'!C6="M&IT",'full menu'!C6="IwERT",'full menu'!C6="ERwIT",'full menu'!C6="I&ERT",'full menu'!C6="ER&M&IT",'full menu'!C6="LSD"),"subst",IF(OR('full menu'!C6="FERT",'full menu'!C6="FMT",'full menu'!C6="FIT",'full menu'!C6="WSD"),"intens",IF('full menu'!C6="UASC","UASC",""))))) | D6: =IF(OR('full menu'!D6="MDC",'full menu'!D6="PERF"),"rude",IF(OR('full menu'!D6="PCB",'full menu'!D6="AERF",'full menu'!D6="UD"),"inter",IF(OR('full menu'!D6="ACB",'full menu'!D6="LCERT",'full menu'!D6="LERT",'full menu'!D6="FCERT",'full menu'!D6="FCMT",'full menu'!D6="LCMT",'full menu'!D6="LMT",'full menu'!D6="LCIT",'full menu'!D6="FCIT",'full menu'!D6="LIT",'full menu'!D6="MwERT",'full menu'!D6="ERwMT",'full menu'!D6="M&ERT",'full menu'!D6="MwIT",'full menu'!D6="IwMT",'full menu'!D6="M&IT",'full menu'!D6="IwERT",'full menu'!D6="ERwIT",'full menu'!D6="I&ERT",'full menu'!D6="ER&M&IT",'full menu'!D6="LSD"),"subst",IF(OR('full menu'!D6="FERT",'full menu'!D6="FMT",'full menu'!D6="FIT",'full menu'!D6="WSD"),"intens",IF('full menu'!D6="UASC","UASC",""))))) | E6: =IF(OR('full menu'!E6="MDC",'full menu'!E6="PERF"),"rude",IF(OR('full menu'!E6="PCB",'full menu'!E6="AERF",'full menu'!E6="UD"),"inter",IF(OR('full menu'!E6="ACB",'full menu'!E6="LCERT",'full menu'!E6="LERT",'full menu'!E6="FCERT",'full menu'!E6="FCMT",'full menu'!E6="LCMT",'full menu'!E6="LMT",'full menu'!E6="LCIT",'full menu'!E6="FCIT",'full menu'!E6="LIT",'full menu'!E6="MwERT",'full menu'!E6="ERwMT",'full menu'!E6="M&ERT",'full menu'!E6="MwIT",'full menu'!E6="IwMT",'full menu'!E6="M&IT",'full menu'!E6="IwERT",'full menu'!E6="ERwIT",'full menu'!E6="I&ERT",'full menu'!E6="ER&M&IT",'full menu'!E6="LSD"),"subst",IF(OR('full menu'!E6="FERT",'full menu'!E6="FMT",'full menu'!E6="FIT",'full menu'!E6="WSD"),"intens",IF('full menu'!E6="UASC","UASC",""))))) | F6: =IF(OR('full menu'!F6="MDC",'full menu'!F6="PERF"),"rude",IF(OR('full menu'!F6="PCB",'full menu'!F6="AERF",'full menu'!F6="UD"),"inter",IF(OR('full menu'!F6="ACB",'full menu'!F6="LCERT",'full menu'!F6="LERT",'full menu'!F6="FCERT",'full menu'!F6="FCMT",'full menu'!F6="LCMT",'full menu'!F6="LMT",'full menu'!F6="LCIT",'full menu'!F6="FCIT",'full menu'!F6="LIT",'full menu'!F6="MwERT",'full menu'!F6="ERwMT",'full menu'!F6="M&ERT",'full menu'!F6="MwIT",'full menu'!F6="IwMT",'full menu'!F6="M&IT",'full menu'!F6="IwERT",'full menu'!F6="ERwIT",'full menu'!F6="I&ERT",'full menu'!F6="ER&M&IT",'full menu'!F6="LSD"),"subst",IF(OR('full menu'!F6="FERT",'full menu'!F6="FMT",'full menu'!F6="FIT",'full menu'!F6="WSD"),"intens",IF('full menu'!F6="UASC","UASC",""))))) | G6: =IF(OR('full menu'!G6="MDC",'full menu'!G6="PERF"),"rude",IF(OR('full menu'!G6="PCB",'full menu'!G6="AERF",'full menu'!G6="UD"),"inter",IF(OR('full menu'!G6="ACB",'full menu'!G6="LCERT",'full menu'!G6="LERT",'full menu'!G6="FCERT",'full menu'!G6="FCMT",'full menu'!G6="LCMT",'full menu'!G6="LMT",'full menu'!G6="LCIT",'full menu'!G6="FCIT",'full menu'!G6="LIT",'full menu'!G6="MwERT",'full menu'!G6="ERwMT",'full menu'!G6="M&ERT",'full menu'!G6="MwIT",'full menu'!G6="IwMT",'full menu'!G6="M&IT",'full menu'!G6="IwERT",'full menu'!G6="ERwIT",'full menu'!G6="I&ERT",'full menu'!G6="ER&M&IT",'full menu'!G6="LSD"),"subst",IF(OR('full menu'!G6="FERT",'full menu'!G6="FMT",'full menu'!G6="FIT",'full menu'!G6="WSD"),"intens",IF('full menu'!G6="UASC","UASC",""))))) | H6: =IF(OR('full menu'!H6="MDC",'full menu'!H6="PERF"),"rude",IF(OR('full menu'!H6="PCB",'full menu'!H6="AERF",'full menu'!H6="UD"),"inter",IF(OR('full menu'!H6="ACB",'full menu'!H6="LCERT",'full menu'!H6="LERT",'full menu'!H6="FCERT",'full menu'!H6="FCMT",'full menu'!H6="LCMT",'full menu'!H6="LMT",'full menu'!H6="LCIT",'full menu'!H6="FCIT",'full menu'!H6="LIT",'full menu'!H6="MwERT",'full menu'!H6="ERwMT",'full menu'!H6="M&ERT",'full menu'!H6="MwIT",'full menu'!H6="IwMT",'full menu'!H6="M&IT",'full menu'!H6="IwERT",'full menu'!H6="ERwIT",'full menu'!H6="I&ERT",'full menu'!H6="ER&M&IT",'full menu'!H6="LSD"),"subst",IF(OR('full menu'!H6="FERT",'full menu'!H6="FMT",'full menu'!H6="FIT",'full menu'!H6="WSD"),"intens",IF('full menu'!H6="UASC","UASC",""))))) | I6: =IF(OR('full menu'!I6="MDC",'full menu'!I6="PERF"),"rude",IF(OR('full menu'!I6="PCB",'full menu'!I6="AERF",'full menu'!I6="UD"),"inter",IF(OR('full menu'!I6="ACB",'full menu'!I6="LCERT",'full menu'!I6="LERT",'full menu'!I6="FCERT",'full menu'!I6="FCMT",'full menu'!I6="LCMT",'full menu'!I6="LMT",'full menu'!I6="LCIT",'full menu'!I6="FCIT",'full menu'!I6="LIT",'full menu'!I6="MwERT",'full menu'!I6="ERwMT",'full menu'!I6="M&ERT",'full menu'!I6="MwIT",'full menu'!I6="IwMT",'full menu'!I6="M&IT",'full menu'!I6="IwERT",'full menu'!I6="ERwIT",'full menu'!I6="I&ERT",'full menu'!I6="ER&M&IT",'full menu'!I6="LSD"),"subst",IF(OR('full menu'!I6="FERT",'full menu'!I6="FMT",'full menu'!I6="FIT",'full menu'!I6="WSD"),"intens",IF('full menu'!I6="UASC","UASC",""))))) | ... AS6: =IF(OR('full menu'!AS6="MDC",'full menu'!AS6="PERF"),"rude",IF(OR('full menu'!AS6="PCB",'full menu'!AS6="AERF",'full menu'!AS6="UD"),"inter",IF(OR('full menu'!AS6="ACB",'full menu'!AS6="LCERT",'full menu'!AS6="LERT",'full menu'!AS6="FCERT",'full menu'!AS6="FCMT",'full menu'!AS6="LCMT",'full menu'!AS6="LMT",'full menu'!AS6="LCIT",'full menu'!AS6="FCIT",'full menu'!AS6="LIT",'full menu'!AS6="MwERT",'full menu'!AS6="ERwMT",'full menu'!AS6="M&ERT",'full menu'!AS6="MwIT",'full menu'!AS6="IwMT",'full menu'!AS6="M&IT",'full menu'!AS6="IwERT",'full menu'!AS6="ERwIT",'full menu'!AS6="I&ERT",'full menu'!AS6="ER&M&IT",'full menu'!AS6="LSD"),"subst",IF(OR('full menu'!AS6="FERT",'full menu'!AS6="FMT",'full menu'!AS6="FIT",'full menu'!AS6="WSD"),"intens",IF('full menu'!AS6="UASC","UASC",""))))) -> subst
A7: Bolivia | B7: =IF(OR('full menu'!B7="MDC",'full menu'!B7="PERF"),"rude",IF(OR('full menu'!B7="PCB",'full menu'!B7="AERF",'full menu'!B7="UD"),"inter",IF(OR('full menu'!B7="ACB",'full menu'!B7="LCERT",'full menu'!B7="LERT",'full menu'!B7="FCERT",'full menu'!B7="FCMT",'full menu'!B7="LCMT",'full menu'!B7="LMT",'full menu'!B7="LCIT",'full menu'!B7="FCIT",'full menu'!B7="LIT",'full menu'!B7="MwERT",'full menu'!B7="ERwMT",'full menu'!B7="M&ERT",'full menu'!B7="MwIT",'full menu'!B7="IwMT",'full menu'!B7="M&IT",'full menu'!B7="IwERT",'full menu'!B7="ERwIT",'full menu'!B7="I&ERT",'full menu'!B7="ER&M&IT",'full menu'!B7="LSD"),"subst",IF(OR('full menu'!B7="FERT",'full menu'!B7="FMT",'full menu'!B7="FIT",'full menu'!B7="WSD"),"intens",IF('full menu'!B7="UASC","UASC",""))))) -> inter | C7: =IF(OR('full menu'!C7="MDC",'full menu'!C7="PERF"),"rude",IF(OR('full menu'!C7="PCB",'full menu'!C7="AERF",'full menu'!C7="UD"),"inter",IF(OR('full menu'!C7="ACB",'full menu'!C7="LCERT",'full menu'!C7="LERT",'full menu'!C7="FCERT",'full menu'!C7="FCMT",'full menu'!C7="LCMT",'full menu'!C7="LMT",'full menu'!C7="LCIT",'full menu'!C7="FCIT",'full menu'!C7="LIT",'full menu'!C7="MwERT",'full menu'!C7="ERwMT",'full menu'!C7="M&ERT",'full menu'!C7="MwIT",'full menu'!C7="IwMT",'full menu'!C7="M&IT",'full menu'!C7="IwERT",'full menu'!C7="ERwIT",'full menu'!C7="I&ERT",'full menu'!C7="ER&M&IT",'full menu'!C7="LSD"),"subst",IF(OR('full menu'!C7="FERT",'full menu'!C7="FMT",'full menu'!C7="FIT",'full menu'!C7="WSD"),"intens",IF('full menu'!C7="UASC","UASC",""))))) -> inter | D7: =IF(OR('full menu'!D7="MDC",'full menu'!D7="PERF"),"rude",IF(OR('full menu'!D7="PCB",'full menu'!D7="AERF",'full menu'!D7="UD"),"inter",IF(OR('full menu'!D7="ACB",'full menu'!D7="LCERT",'full menu'!D7="LERT",'full menu'!D7="FCERT",'full menu'!D7="FCMT",'full menu'!D7="LCMT",'full menu'!D7="LMT",'full menu'!D7="LCIT",'full menu'!D7="FCIT",'full menu'!D7="LIT",'full menu'!D7="MwERT",'full menu'!D7="ERwMT",'full menu'!D7="M&ERT",'full menu'!D7="MwIT",'full menu'!D7="IwMT",'full menu'!D7="M&IT",'full menu'!D7="IwERT",'full menu'!D7="ERwIT",'full menu'!D7="I&ERT",'full menu'!D7="ER&M&IT",'full menu'!D7="LSD"),"subst",IF(OR('full menu'!D7="FERT",'full menu'!D7="FMT",'full menu'!D7="FIT",'full menu'!D7="WSD"),"intens",IF('full menu'!D7="UASC","UASC",""))))) -> inter | E7: =IF(OR('full menu'!E7="MDC",'full menu'!E7="PERF"),"rude",IF(OR('full menu'!E7="PCB",'full menu'!E7="AERF",'full menu'!E7="UD"),"inter",IF(OR('full menu'!E7="ACB",'full menu'!E7="LCERT",'full menu'!E7="LERT",'full menu'!E7="FCERT",'full menu'!E7="FCMT",'full menu'!E7="LCMT",'full menu'!E7="LMT",'full menu'!E7="LCIT",'full menu'!E7="FCIT",'full menu'!E7="LIT",'full menu'!E7="MwERT",'full menu'!E7="ERwMT",'full menu'!E7="M&ERT",'full menu'!E7="MwIT",'full menu'!E7="IwMT",'full menu'!E7="M&IT",'full menu'!E7="IwERT",'full menu'!E7="ERwIT",'full menu'!E7="I&ERT",'full menu'!E7="ER&M&IT",'full menu'!E7="LSD"),"subst",IF(OR('full menu'!E7="FERT",'full menu'!E7="FMT",'full menu'!E7="FIT",'full menu'!E7="WSD"),"intens",IF('full menu'!E7="UASC","UASC",""))))) -> inter | F7: =IF(OR('full menu'!F7="MDC",'full menu'!F7="PERF"),"rude",IF(OR('full menu'!F7="PCB",'full menu'!F7="AERF",'full menu'!F7="UD"),"inter",IF(OR('full menu'!F7="ACB",'full menu'!F7="LCERT",'full menu'!F7="LERT",'full menu'!F7="FCERT",'full menu'!F7="FCMT",'full menu'!F7="LCMT",'full menu'!F7="LMT",'full menu'!F7="LCIT",'full menu'!F7="FCIT",'full menu'!F7="LIT",'full menu'!F7="MwERT",'full menu'!F7="ERwMT",'full menu'!F7="M&ERT",'full menu'!F7="MwIT",'full menu'!F7="IwMT",'full menu'!F7="M&IT",'full menu'!F7="IwERT",'full menu'!F7="ERwIT",'full menu'!F7="I&ERT",'full menu'!F7="ER&M&IT",'full menu'!F7="LSD"),"subst",IF(OR('full menu'!F7="FERT",'full menu'!F7="FMT",'full menu'!F7="FIT",'full menu'!F7="WSD"),"intens",IF('full menu'!F7="UASC","UASC",""))))) -> inter | G7: =IF(OR('full menu'!G7="MDC",'full menu'!G7="PERF"),"rude",IF(OR('full menu'!G7="PCB",'full menu'!G7="AERF",'full menu'!G7="UD"),"inter",IF(OR('full menu'!G7="ACB",'full menu'!G7="LCERT",'full menu'!G7="LERT",'full menu'!G7="FCERT",'full menu'!G7="FCMT",'full menu'!G7="LCMT",'full menu'!G7="LMT",'full menu'!G7="LCIT",'full menu'!G7="FCIT",'full menu'!G7="LIT",'full menu'!G7="MwERT",'full menu'!G7="ERwMT",'full menu'!G7="M&ERT",'full menu'!G7="MwIT",'full menu'!G7="IwMT",'full menu'!G7="M&IT",'full menu'!G7="IwERT",'full menu'!G7="ERwIT",'full menu'!G7="I&ERT",'full menu'!G7="ER&M&IT",'full menu'!G7="LSD"),"subst",IF(OR('full menu'!G7="FERT",'full menu'!G7="FMT",'full menu'!G7="FIT",'full menu'!G7="WSD"),"intens",IF('full menu'!G7="UASC","UASC",""))))) -> inter | H7: =IF(OR('full menu'!H7="MDC",'full menu'!H7="PERF"),"rude",IF(OR('full menu'!H7="PCB",'full menu'!H7="AERF",'full menu'!H7="UD"),"inter",IF(OR('full menu'!H7="ACB",'full menu'!H7="LCERT",'full menu'!H7="LERT",'full menu'!H7="FCERT",'full menu'!H7="FCMT",'full menu'!H7="LCMT",'full menu'!H7="LMT",'full menu'!H7="LCIT",'full menu'!H7="FCIT",'full menu'!H7="LIT",'full menu'!H7="MwERT",'full menu'!H7="ERwMT",'full menu'!H7="M&ERT",'full menu'!H7="MwIT",'full menu'!H7="IwMT",'full menu'!H7="M&IT",'full menu'!H7="IwERT",'full menu'!H7="ERwIT",'full menu'!H7="I&ERT",'full menu'!H7="ER&M&IT",'full menu'!H7="LSD"),"subst",IF(OR('full menu'!H7="FERT",'full menu'!H7="FMT",'full menu'!H7="FIT",'full menu'!H7="WSD"),"intens",IF('full menu'!H7="UASC","UASC",""))))) -> inter | I7: =IF(OR('full menu'!I7="MDC",'full menu'!I7="PERF"),"rude",IF(OR('full menu'!I7="PCB",'full menu'!I7="AERF",'full menu'!I7="UD"),"inter",IF(OR('full menu'!I7="ACB",'full menu'!I7="LCERT",'full menu'!I7="LERT",'full menu'!I7="FCERT",'full menu'!I7="FCMT",'full menu'!I7="LCMT",'full menu'!I7="LMT",'full menu'!I7="LCIT",'full menu'!I7="FCIT",'full menu'!I7="LIT",'full menu'!I7="MwERT",'full menu'!I7="ERwMT",'full menu'!I7="M&ERT",'full menu'!I7="MwIT",'full menu'!I7="IwMT",'full menu'!I7="M&IT",'full menu'!I7="IwERT",'full menu'!I7="ERwIT",'full menu'!I7="I&ERT",'full menu'!I7="ER&M&IT",'full menu'!I7="LSD"),"subst",IF(OR('full menu'!I7="FERT",'full menu'!I7="FMT",'full menu'!I7="FIT",'full menu'!I7="WSD"),"intens",IF('full menu'!I7="UASC","UASC",""))))) -> inter | ... AS7: =IF(OR('full menu'!AS7="MDC",'full menu'!AS7="PERF"),"rude",IF(OR('full menu'!AS7="PCB",'full menu'!AS7="AERF",'full menu'!AS7="UD"),"inter",IF(OR('full menu'!AS7="ACB",'full menu'!AS7="LCERT",'full menu'!AS7="LERT",'full menu'!AS7="FCERT",'full menu'!AS7="FCMT",'full menu'!AS7="LCMT",'full menu'!AS7="LMT",'full menu'!AS7="LCIT",'full menu'!AS7="FCIT",'full menu'!AS7="LIT",'full menu'!AS7="MwERT",'full menu'!AS7="ERwMT",'full menu'!AS7="M&ERT",'full menu'!AS7="MwIT",'full menu'!AS7="IwMT",'full menu'!AS7="M&IT",'full menu'!AS7="IwERT",'full menu'!AS7="ERwIT",'full menu'!AS7="I&ERT",'full menu'!AS7="ER&M&IT",'full menu'!AS7="LSD"),"subst",IF(OR('full menu'!AS7="FERT",'full menu'!AS7="FMT",'full menu'!AS7="FIT",'full menu'!AS7="WSD"),"intens",IF('full menu'!AS7="UASC","UASC",""))))) -> subst
A8: Bosnia & Herzegovina | B8: =IF(OR('full menu'!B8="MDC",'full menu'!B8="PERF"),"rude",IF(OR('full menu'!B8="PCB",'full menu'!B8="AERF",'full menu'!B8="UD"),"inter",IF(OR('full menu'!B8="ACB",'full menu'!B8="LCERT",'full menu'!B8="LERT",'full menu'!B8="FCERT",'full menu'!B8="FCMT",'full menu'!B8="LCMT",'full menu'!B8="LMT",'full menu'!B8="LCIT",'full menu'!B8="FCIT",'full menu'!B8="LIT",'full menu'!B8="MwERT",'full menu'!B8="ERwMT",'full menu'!B8="M&ERT",'full menu'!B8="MwIT",'full menu'!B8="IwMT",'full menu'!B8="M&IT",'full menu'!B8="IwERT",'full menu'!B8="ERwIT",'full menu'!B8="I&ERT",'full menu'!B8="ER&M&IT",'full menu'!B8="LSD"),"subst",IF(OR('full menu'!B8="FERT",'full menu'!B8="FMT",'full menu'!B8="FIT",'full menu'!B8="WSD"),"intens",IF('full menu'!B8="UASC","UASC",""))))) | C8: =IF(OR('full menu'!C8="MDC",'full menu'!C8="PERF"),"rude",IF(OR('full menu'!C8="PCB",'full menu'!C8="AERF",'full menu'!C8="UD"),"inter",IF(OR('full menu'!C8="ACB",'full menu'!C8="LCERT",'full menu'!C8="LERT",'full menu'!C8="FCERT",'full menu'!C8="FCMT",'full menu'!C8="LCMT",'full menu'!C8="LMT",'full menu'!C8="LCIT",'full menu'!C8="FCIT",'full menu'!C8="LIT",'full menu'!C8="MwERT",'full menu'!C8="ERwMT",'full menu'!C8="M&ERT",'full menu'!C8="MwIT",'full menu'!C8="IwMT",'full menu'!C8="M&IT",'full menu'!C8="IwERT",'full menu'!C8="ERwIT",'full menu'!C8="I&ERT",'full menu'!C8="ER&M&IT",'full menu'!C8="LSD"),"subst",IF(OR('full menu'!C8="FERT",'full menu'!C8="FMT",'full menu'!C8="FIT",'full menu'!C8="WSD"),"intens",IF('full menu'!C8="UASC","UASC",""))))) | D8: =IF(OR('full menu'!D8="MDC",'full menu'!D8="PERF"),"rude",IF(OR('full menu'!D8="PCB",'full menu'!D8="AERF",'full menu'!D8="UD"),"inter",IF(OR('full menu'!D8="ACB",'full menu'!D8="LCERT",'full menu'!D8="LERT",'full menu'!D8="FCERT",'full menu'!D8="FCMT",'full menu'!D8="LCMT",'full menu'!D8="LMT",'full menu'!D8="LCIT",'full menu'!D8="FCIT",'full menu'!D8="LIT",'full menu'!D8="MwERT",'full menu'!D8="ERwMT",'full menu'!D8="M&ERT",'full menu'!D8="MwIT",'full menu'!D8="IwMT",'full menu'!D8="M&IT",'full menu'!D8="IwERT",'full menu'!D8="ERwIT",'full menu'!D8="I&ERT",'full menu'!D8="ER&M&IT",'full menu'!D8="LSD"),"subst",IF(OR('full menu'!D8="FERT",'full menu'!D8="FMT",'full menu'!D8="FIT",'full menu'!D8="WSD"),"intens",IF('full menu'!D8="UASC","UASC",""))))) | E8: =IF(OR('full menu'!E8="MDC",'full menu'!E8="PERF"),"rude",IF(OR('full menu'!E8="PCB",'full menu'!E8="AERF",'full menu'!E8="UD"),"inter",IF(OR('full menu'!E8="ACB",'full menu'!E8="LCERT",'full menu'!E8="LERT",'full menu'!E8="FCERT",'full menu'!E8="FCMT",'full menu'!E8="LCMT",'full menu'!E8="LMT",'full menu'!E8="LCIT",'full menu'!E8="FCIT",'full menu'!E8="LIT",'full menu'!E8="MwERT",'full menu'!E8="ERwMT",'full menu'!E8="M&ERT",'full menu'!E8="MwIT",'full menu'!E8="IwMT",'full menu'!E8="M&IT",'full menu'!E8="IwERT",'full menu'!E8="ERwIT",'full menu'!E8="I&ERT",'full menu'!E8="ER&M&IT",'full menu'!E8="LSD"),"subst",IF(OR('full menu'!E8="FERT",'full menu'!E8="FMT",'full menu'!E8="FIT",'full menu'!E8="WSD"),"intens",IF('full menu'!E8="UASC","UASC",""))))) | F8: =IF(OR('full menu'!F8="MDC",'full menu'!F8="PERF"),"rude",IF(OR('full menu'!F8="PCB",'full menu'!F8="AERF",'full menu'!F8="UD"),"inter",IF(OR('full menu'!F8="ACB",'full menu'!F8="LCERT",'full menu'!F8="LERT",'full menu'!F8="FCERT",'full menu'!F8="FCMT",'full menu'!F8="LCMT",'full menu'!F8="LMT",'full menu'!F8="LCIT",'full menu'!F8="FCIT",'full menu'!F8="LIT",'full menu'!F8="MwERT",'full menu'!F8="ERwMT",'full menu'!F8="M&ERT",'full menu'!F8="MwIT",'full menu'!F8="IwMT",'full menu'!F8="M&IT",'full menu'!F8="IwERT",'full menu'!F8="ERwIT",'full menu'!F8="I&ERT",'full menu'!F8="ER&M&IT",'full menu'!F8="LSD"),"subst",IF(OR('full menu'!F8="FERT",'full menu'!F8="FMT",'full menu'!F8="FIT",'full menu'!F8="WSD"),"intens",IF('full menu'!F8="UASC","UASC",""))))) | G8: =IF(OR('full menu'!G8="MDC",'full menu'!G8="PERF"),"rude",IF(OR('full menu'!G8="PCB",'full menu'!G8="AERF",'full menu'!G8="UD"),"inter",IF(OR('full menu'!G8="ACB",'full menu'!G8="LCERT",'full menu'!G8="LERT",'full menu'!G8="FCERT",'full menu'!G8="FCMT",'full menu'!G8="LCMT",'full menu'!G8="LMT",'full menu'!G8="LCIT",'full menu'!G8="FCIT",'full menu'!G8="LIT",'full menu'!G8="MwERT",'full menu'!G8="ERwMT",'full menu'!G8="M&ERT",'full menu'!G8="MwIT",'full menu'!G8="IwMT",'full menu'!G8="M&IT",'full menu'!G8="IwERT",'full menu'!G8="ERwIT",'full menu'!G8="I&ERT",'full menu'!G8="ER&M&IT",'full menu'!G8="LSD"),"subst",IF(OR('full menu'!G8="FERT",'full menu'!G8="FMT",'full menu'!G8="FIT",'full menu'!G8="WSD"),"intens",IF('full menu'!G8="UASC","UASC",""))))) | H8: =IF(OR('full menu'!H8="MDC",'full menu'!H8="PERF"),"rude",IF(OR('full menu'!H8="PCB",'full menu'!H8="AERF",'full menu'!H8="UD"),"inter",IF(OR('full menu'!H8="ACB",'full menu'!H8="LCERT",'full menu'!H8="LERT",'full menu'!H8="FCERT",'full menu'!H8="FCMT",'full menu'!H8="LCMT",'full menu'!H8="LMT",'full menu'!H8="LCIT",'full menu'!H8="FCIT",'full menu'!H8="LIT",'full menu'!H8="MwERT",'full menu'!H8="ERwMT",'full menu'!H8="M&ERT",'full menu'!H8="MwIT",'full menu'!H8="IwMT",'full menu'!H8="M&IT",'full menu'!H8="IwERT",'full menu'!H8="ERwIT",'full menu'!H8="I&ERT",'full menu'!H8="ER&M&IT",'full menu'!H8="LSD"),"subst",IF(OR('full menu'!H8="FERT",'full menu'!H8="FMT",'full menu'!H8="FIT",'full menu'!H8="WSD"),"intens",IF('full menu'!H8="UASC","UASC",""))))) | I8: =IF(OR('full menu'!I8="MDC",'full menu'!I8="PERF"),"rude",IF(OR('full menu'!I8="PCB",'full menu'!I8="AERF",'full menu'!I8="UD"),"inter",IF(OR('full menu'!I8="ACB",'full menu'!I8="LCERT",'full menu'!I8="LERT",'full menu'!I8="FCERT",'full menu'!I8="FCMT",'full menu'!I8="LCMT",'full menu'!I8="LMT",'full menu'!I8="LCIT",'full menu'!I8="FCIT",'full menu'!I8="LIT",'full menu'!I8="MwERT",'full menu'!I8="ERwMT",'full menu'!I8="M&ERT",'full menu'!I8="MwIT",'full menu'!I8="IwMT",'full menu'!I8="M&IT",'full menu'!I8="IwERT",'full menu'!I8="ERwIT",'full menu'!I8="I&ERT",'full menu'!I8="ER&M&IT",'full menu'!I8="LSD"),"subst",IF(OR('full menu'!I8="FERT",'full menu'!I8="FMT",'full menu'!I8="FIT",'full menu'!I8="WSD"),"intens",IF('full menu'!I8="UASC","UASC",""))))) | ... AS8: =IF(OR('full menu'!AS8="MDC",'full menu'!AS8="PERF"),"rude",IF(OR('full menu'!AS8="PCB",'full menu'!AS8="AERF",'full menu'!AS8="UD"),"inter",IF(OR('full menu'!AS8="ACB",'full menu'!AS8="LCERT",'full menu'!AS8="LERT",'full menu'!AS8="FCERT",'full menu'!AS8="FCMT",'full menu'!AS8="LCMT",'full menu'!AS8="LMT",'full menu'!AS8="LCIT",'full menu'!AS8="FCIT",'full menu'!AS8="LIT",'full menu'!AS8="MwERT",'full menu'!AS8="ERwMT",'full menu'!AS8="M&ERT",'full menu'!AS8="MwIT",'full menu'!AS8="IwMT",'full menu'!AS8="M&IT",'full menu'!AS8="IwERT",'full menu'!AS8="ERwIT",'full menu'!AS8="I&ERT",'full menu'!AS8="ER&M&IT",'full menu'!AS8="LSD"),"subst",IF(OR('full menu'!AS8="FERT",'full menu'!AS8="FMT",'full menu'!AS8="FIT",'full menu'!AS8="WSD"),"intens",IF('full menu'!AS8="UASC","UASC",""))))) -> inter
A9: Brazil | B9: =IF(OR('full menu'!B9="MDC",'full menu'!B9="PERF"),"rude",IF(OR('full menu'!B9="PCB",'full menu'!B9="AERF",'full menu'!B9="UD"),"inter",IF(OR('full menu'!B9="ACB",'full menu'!B9="LCERT",'full menu'!B9="LERT",'full menu'!B9="FCERT",'full menu'!B9="FCMT",'full menu'!B9="LCMT",'full menu'!B9="LMT",'full menu'!B9="LCIT",'full menu'!B9="FCIT",'full menu'!B9="LIT",'full menu'!B9="MwERT",'full menu'!B9="ERwMT",'full menu'!B9="M&ERT",'full menu'!B9="MwIT",'full menu'!B9="IwMT",'full menu'!B9="M&IT",'full menu'!B9="IwERT",'full menu'!B9="ERwIT",'full menu'!B9="I&ERT",'full menu'!B9="ER&M&IT",'full menu'!B9="LSD"),"subst",IF(OR('full menu'!B9="FERT",'full menu'!B9="FMT",'full menu'!B9="FIT",'full menu'!B9="WSD"),"intens",IF('full menu'!B9="UASC","UASC",""))))) -> inter | C9: =IF(OR('full menu'!C9="MDC",'full menu'!C9="PERF"),"rude",IF(OR('full menu'!C9="PCB",'full menu'!C9="AERF",'full menu'!C9="UD"),"inter",IF(OR('full menu'!C9="ACB",'full menu'!C9="LCERT",'full menu'!C9="LERT",'full menu'!C9="FCERT",'full menu'!C9="FCMT",'full menu'!C9="LCMT",'full menu'!C9="LMT",'full menu'!C9="LCIT",'full menu'!C9="FCIT",'full menu'!C9="LIT",'full menu'!C9="MwERT",'full menu'!C9="ERwMT",'full menu'!C9="M&ERT",'full menu'!C9="MwIT",'full menu'!C9="IwMT",'full menu'!C9="M&IT",'full menu'!C9="IwERT",'full menu'!C9="ERwIT",'full menu'!C9="I&ERT",'full menu'!C9="ER&M&IT",'full menu'!C9="LSD"),"subst",IF(OR('full menu'!C9="FERT",'full menu'!C9="FMT",'full menu'!C9="FIT",'full menu'!C9="WSD"),"intens",IF('full menu'!C9="UASC","UASC",""))))) -> inter | D9: =IF(OR('full menu'!D9="MDC",'full menu'!D9="PERF"),"rude",IF(OR('full menu'!D9="PCB",'full menu'!D9="AERF",'full menu'!D9="UD"),"inter",IF(OR('full menu'!D9="ACB",'full menu'!D9="LCERT",'full menu'!D9="LERT",'full menu'!D9="FCERT",'full menu'!D9="FCMT",'full menu'!D9="LCMT",'full menu'!D9="LMT",'full menu'!D9="LCIT",'full menu'!D9="FCIT",'full menu'!D9="LIT",'full menu'!D9="MwERT",'full menu'!D9="ERwMT",'full menu'!D9="M&ERT",'full menu'!D9="MwIT",'full menu'!D9="IwMT",'full menu'!D9="M&IT",'full menu'!D9="IwERT",'full menu'!D9="ERwIT",'full menu'!D9="I&ERT",'full menu'!D9="ER&M&IT",'full menu'!D9="LSD"),"subst",IF(OR('full menu'!D9="FERT",'full menu'!D9="FMT",'full menu'!D9="FIT",'full menu'!D9="WSD"),"intens",IF('full menu'!D9="UASC","UASC",""))))) -> inter | E9: =IF(OR('full menu'!E9="MDC",'full menu'!E9="PERF"),"rude",IF(OR('full menu'!E9="PCB",'full menu'!E9="AERF",'full menu'!E9="UD"),"inter",IF(OR('full menu'!E9="ACB",'full menu'!E9="LCERT",'full menu'!E9="LERT",'full menu'!E9="FCERT",'full menu'!E9="FCMT",'full menu'!E9="LCMT",'full menu'!E9="LMT",'full menu'!E9="LCIT",'full menu'!E9="FCIT",'full menu'!E9="LIT",'full menu'!E9="MwERT",'full menu'!E9="ERwMT",'full menu'!E9="M&ERT",'full menu'!E9="MwIT",'full menu'!E9="IwMT",'full menu'!E9="M&IT",'full menu'!E9="IwERT",'full menu'!E9="ERwIT",'full menu'!E9="I&ERT",'full menu'!E9="ER&M&IT",'full menu'!E9="LSD"),"subst",IF(OR('full menu'!E9="FERT",'full menu'!E9="FMT",'full menu'!E9="FIT",'full menu'!E9="WSD"),"intens",IF('full menu'!E9="UASC","UASC",""))))) -> inter | F9: =IF(OR('full menu'!F9="MDC",'full menu'!F9="PERF"),"rude",IF(OR('full menu'!F9="PCB",'full menu'!F9="AERF",'full menu'!F9="UD"),"inter",IF(OR('full menu'!F9="ACB",'full menu'!F9="LCERT",'full menu'!F9="LERT",'full menu'!F9="FCERT",'full menu'!F9="FCMT",'full menu'!F9="LCMT",'full menu'!F9="LMT",'full menu'!F9="LCIT",'full menu'!F9="FCIT",'full menu'!F9="LIT",'full menu'!F9="MwERT",'full menu'!F9="ERwMT",'full menu'!F9="M&ERT",'full menu'!F9="MwIT",'full menu'!F9="IwMT",'full menu'!F9="M&IT",'full menu'!F9="IwERT",'full menu'!F9="ERwIT",'full menu'!F9="I&ERT",'full menu'!F9="ER&M&IT",'full menu'!F9="LSD"),"subst",IF(OR('full menu'!F9="FERT",'full menu'!F9="FMT",'full menu'!F9="FIT",'full menu'!F9="WSD"),"intens",IF('full menu'!F9="UASC","UASC",""))))) -> inter | G9: =IF(OR('full menu'!G9="MDC",'full menu'!G9="PERF"),"rude",IF(OR('full menu'!G9="PCB",'full menu'!G9="AERF",'full menu'!G9="UD"),"inter",IF(OR('full menu'!G9="ACB",'full menu'!G9="LCERT",'full menu'!G9="LERT",'full menu'!G9="FCERT",'full menu'!G9="FCMT",'full menu'!G9="LCMT",'full menu'!G9="LMT",'full menu'!G9="LCIT",'full menu'!G9="FCIT",'full menu'!G9="LIT",'full menu'!G9="MwERT",'full menu'!G9="ERwMT",'full menu'!G9="M&ERT",'full menu'!G9="MwIT",'full menu'!G9="IwMT",'full menu'!G9="M&IT",'full menu'!G9="IwERT",'full menu'!G9="ERwIT",'full menu'!G9="I&ERT",'full menu'!G9="ER&M&IT",'full menu'!G9="LSD"),"subst",IF(OR('full menu'!G9="FERT",'full menu'!G9="FMT",'full menu'!G9="FIT",'full menu'!G9="WSD"),"intens",IF('full menu'!G9="UASC","UASC",""))))) -> inter | H9: =IF(OR('full menu'!H9="MDC",'full menu'!H9="PERF"),"rude",IF(OR('full menu'!H9="PCB",'full menu'!H9="AERF",'full menu'!H9="UD"),"inter",IF(OR('full menu'!H9="ACB",'full menu'!H9="LCERT",'full menu'!H9="LERT",'full menu'!H9="FCERT",'full menu'!H9="FCMT",'full menu'!H9="LCMT",'full menu'!H9="LMT",'full menu'!H9="LCIT",'full menu'!H9="FCIT",'full menu'!H9="LIT",'full menu'!H9="MwERT",'full menu'!H9="ERwMT",'full menu'!H9="M&ERT",'full menu'!H9="MwIT",'full menu'!H9="IwMT",'full menu'!H9="M&IT",'full menu'!H9="IwERT",'full menu'!H9="ERwIT",'full menu'!H9="I&ERT",'full menu'!H9="ER&M&IT",'full menu'!H9="LSD"),"subst",IF(OR('full menu'!H9="FERT",'full menu'!H9="FMT",'full menu'!H9="FIT",'full menu'!H9="WSD"),"intens",IF('full menu'!H9="UASC","UASC",""))))) -> inter | I9: =IF(OR('full menu'!I9="MDC",'full menu'!I9="PERF"),"rude",IF(OR('full menu'!I9="PCB",'full menu'!I9="AERF",'full menu'!I9="UD"),"inter",IF(OR('full menu'!I9="ACB",'full menu'!I9="LCERT",'full menu'!I9="LERT",'full menu'!I9="FCERT",'full menu'!I9="FCMT",'full menu'!I9="LCMT",'full menu'!I9="LMT",'full menu'!I9="LCIT",'full menu'!I9="FCIT",'full menu'!I9="LIT",'full menu'!I9="MwERT",'full menu'!I9="ERwMT",'full menu'!I9="M&ERT",'full menu'!I9="MwIT",'full menu'!I9="IwMT",'full menu'!I9="M&IT",'full menu'!I9="IwERT",'full menu'!I9="ERwIT",'full menu'!I9="I&ERT",'full menu'!I9="ER&M&IT",'full menu'!I9="LSD"),"subst",IF(OR('full menu'!I9="FERT",'full menu'!I9="FMT",'full menu'!I9="FIT",'full menu'!I9="WSD"),"intens",IF('full menu'!I9="UASC","UASC",""))))) -> inter | ... AS9: =IF(OR('full menu'!AS9="MDC",'full menu'!AS9="PERF"),"rude",IF(OR('full menu'!AS9="PCB",'full menu'!AS9="AERF",'full menu'!AS9="UD"),"inter",IF(OR('full menu'!AS9="ACB",'full menu'!AS9="LCERT",'full menu'!AS9="LERT",'full menu'!AS9="FCERT",'full menu'!AS9="FCMT",'full menu'!AS9="LCMT",'full menu'!AS9="LMT",'full menu'!AS9="LCIT",'full menu'!AS9="FCIT",'full menu'!AS9="LIT",'full menu'!AS9="MwERT",'full menu'!AS9="ERwMT",'full menu'!AS9="M&ERT",'full menu'!AS9="MwIT",'full menu'!AS9="IwMT",'full menu'!AS9="M&IT",'full menu'!AS9="IwERT",'full menu'!AS9="ERwIT",'full menu'!AS9="I&ERT",'full menu'!AS9="ER&M&IT",'full menu'!AS9="LSD"),"subst",IF(OR('full menu'!AS9="FERT",'full menu'!AS9="FMT",'full menu'!AS9="FIT",'full menu'!AS9="WSD"),"intens",IF('full menu'!AS9="UASC","UASC",""))))) -> subst
A10: Bulgaria | B10: =IF(OR('full menu'!B10="MDC",'full menu'!B10="PERF"),"rude",IF(OR('full menu'!B10="PCB",'full menu'!B10="AERF",'full menu'!B10="UD"),"inter",IF(OR('full menu'!B10="ACB",'full menu'!B10="LCERT",'full menu'!B10="LERT",'full menu'!B10="FCERT",'full menu'!B10="FCMT",'full menu'!B10="LCMT",'full menu'!B10="LMT",'full menu'!B10="LCIT",'full menu'!B10="FCIT",'full menu'!B10="LIT",'full menu'!B10="MwERT",'full menu'!B10="ERwMT",'full menu'!B10="M&ERT",'full menu'!B10="MwIT",'full menu'!B10="IwMT",'full menu'!B10="M&IT",'full menu'!B10="IwERT",'full menu'!B10="ERwIT",'full menu'!B10="I&ERT",'full menu'!B10="ER&M&IT",'full menu'!B10="LSD"),"subst",IF(OR('full menu'!B10="FERT",'full menu'!B10="FMT",'full menu'!B10="FIT",'full menu'!B10="WSD"),"intens",IF('full menu'!B10="UASC","UASC",""))))) -> rude | C10: =IF(OR('full menu'!C10="MDC",'full menu'!C10="PERF"),"rude",IF(OR('full menu'!C10="PCB",'full menu'!C10="AERF",'full menu'!C10="UD"),"inter",IF(OR('full menu'!C10="ACB",'full menu'!C10="LCERT",'full menu'!C10="LERT",'full menu'!C10="FCERT",'full menu'!C10="FCMT",'full menu'!C10="LCMT",'full menu'!C10="LMT",'full menu'!C10="LCIT",'full menu'!C10="FCIT",'full menu'!C10="LIT",'full menu'!C10="MwERT",'full menu'!C10="ERwMT",'full menu'!C10="M&ERT",'full menu'!C10="MwIT",'full menu'!C10="IwMT",'full menu'!C10="M&IT",'full menu'!C10="IwERT",'full menu'!C10="ERwIT",'full menu'!C10="I&ERT",'full menu'!C10="ER&M&IT",'full menu'!C10="LSD"),"subst",IF(OR('full menu'!C10="FERT",'full menu'!C10="FMT",'full menu'!C10="FIT",'full menu'!C10="WSD"),"intens",IF('full menu'!C10="UASC","UASC",""))))) -> rude | D10: =IF(OR('full menu'!D10="MDC",'full menu'!D10="PERF"),"rude",IF(OR('full menu'!D10="PCB",'full menu'!D10="AERF",'full menu'!D10="UD"),"inter",IF(OR('full menu'!D10="ACB",'full menu'!D10="LCERT",'full menu'!D10="LERT",'full menu'!D10="FCERT",'full menu'!D10="FCMT",'full menu'!D10="LCMT",'full menu'!D10="LMT",'full menu'!D10="LCIT",'full menu'!D10="FCIT",'full menu'!D10="LIT",'full menu'!D10="MwERT",'full menu'!D10="ERwMT",'full menu'!D10="M&ERT",'full menu'!D10="MwIT",'full menu'!D10="IwMT",'full menu'!D10="M&IT",'full menu'!D10="IwERT",'full menu'!D10="ERwIT",'full menu'!D10="I&ERT",'full menu'!D10="ER&M&IT",'full menu'!D10="LSD"),"subst",IF(OR('full menu'!D10="FERT",'full menu'!D10="FMT",'full menu'!D10="FIT",'full menu'!D10="WSD"),"intens",IF('full menu'!D10="UASC","UASC",""))))) -> rude | E10: =IF(OR('full menu'!E10="MDC",'full menu'!E10="PERF"),"rude",IF(OR('full menu'!E10="PCB",'full menu'!E10="AERF",'full menu'!E10="UD"),"inter",IF(OR('full menu'!E10="ACB",'full menu'!E10="LCERT",'full menu'!E10="LERT",'full menu'!E10="FCERT",'full menu'!E10="FCMT",'full menu'!E10="LCMT",'full menu'!E10="LMT",'full menu'!E10="LCIT",'full menu'!E10="FCIT",'full menu'!E10="LIT",'full menu'!E10="MwERT",'full menu'!E10="ERwMT",'full menu'!E10="M&ERT",'full menu'!E10="MwIT",'full menu'!E10="IwMT",'full menu'!E10="M&IT",'full menu'!E10="IwERT",'full menu'!E10="ERwIT",'full menu'!E10="I&ERT",'full menu'!E10="ER&M&IT",'full menu'!E10="LSD"),"subst",IF(OR('full menu'!E10="FERT",'full menu'!E10="FMT",'full menu'!E10="FIT",'full menu'!E10="WSD"),"intens",IF('full menu'!E10="UASC","UASC",""))))) -> rude | F10: =IF(OR('full menu'!F10="MDC",'full menu'!F10="PERF"),"rude",IF(OR('full menu'!F10="PCB",'full menu'!F10="AERF",'full menu'!F10="UD"),"inter",IF(OR('full menu'!F10="ACB",'full menu'!F10="LCERT",'full menu'!F10="LERT",'full menu'!F10="FCERT",'full menu'!F10="FCMT",'full menu'!F10="LCMT",'full menu'!F10="LMT",'full menu'!F10="LCIT",'full menu'!F10="FCIT",'full menu'!F10="LIT",'full menu'!F10="MwERT",'full menu'!F10="ERwMT",'full menu'!F10="M&ERT",'full menu'!F10="MwIT",'full menu'!F10="IwMT",'full menu'!F10="M&IT",'full menu'!F10="IwERT",'full menu'!F10="ERwIT",'full menu'!F10="I&ERT",'full menu'!F10="ER&M&IT",'full menu'!F10="LSD"),"subst",IF(OR('full menu'!F10="FERT",'full menu'!F10="FMT",'full menu'!F10="FIT",'full menu'!F10="WSD"),"intens",IF('full menu'!F10="UASC","UASC",""))))) -> rude | G10: =IF(OR('full menu'!G10="MDC",'full menu'!G10="PERF"),"rude",IF(OR('full menu'!G10="PCB",'full menu'!G10="AERF",'full menu'!G10="UD"),"inter",IF(OR('full menu'!G10="ACB",'full menu'!G10="LCERT",'full menu'!G10="LERT",'full menu'!G10="FCERT",'full menu'!G10="FCMT",'full menu'!G10="LCMT",'full menu'!G10="LMT",'full menu'!G10="LCIT",'full menu'!G10="FCIT",'full menu'!G10="LIT",'full menu'!G10="MwERT",'full menu'!G10="ERwMT",'full menu'!G10="M&ERT",'full menu'!G10="MwIT",'full menu'!G10="IwMT",'full menu'!G10="M&IT",'full menu'!G10="IwERT",'full menu'!G10="ERwIT",'full menu'!G10="I&ERT",'full menu'!G10="ER&M&IT",'full menu'!G10="LSD"),"subst",IF(OR('full menu'!G10="FERT",'full menu'!G10="FMT",'full menu'!G10="FIT",'full menu'!G10="WSD"),"intens",IF('full menu'!G10="UASC","UASC",""))))) -> rude | H10: =IF(OR('full menu'!H10="MDC",'full menu'!H10="PERF"),"rude",IF(OR('full menu'!H10="PCB",'full menu'!H10="AERF",'full menu'!H10="UD"),"inter",IF(OR('full menu'!H10="ACB",'full menu'!H10="LCERT",'full menu'!H10="LERT",'full menu'!H10="FCERT",'full menu'!H10="FCMT",'full menu'!H10="LCMT",'full menu'!H10="LMT",'full menu'!H10="LCIT",'full menu'!H10="FCIT",'full menu'!H10="LIT",'full menu'!H10="MwERT",'full menu'!H10="ERwMT",'full menu'!H10="M&ERT",'full menu'!H10="MwIT",'full menu'!H10="IwMT",'full menu'!H10="M&IT",'full menu'!H10="IwERT",'full menu'!H10="ERwIT",'full menu'!H10="I&ERT",'full menu'!H10="ER&M&IT",'full menu'!H10="LSD"),"subst",IF(OR('full menu'!H10="FERT",'full menu'!H10="FMT",'full menu'!H10="FIT",'full menu'!H10="WSD"),"intens",IF('full menu'!H10="UASC","UASC",""))))) -> rude | I10: =IF(OR('full menu'!I10="MDC",'full menu'!I10="PERF"),"rude",IF(OR('full menu'!I10="PCB",'full menu'!I10="AERF",'full menu'!I10="UD"),"inter",IF(OR('full menu'!I10="ACB",'full menu'!I10="LCERT",'full menu'!I10="LERT",'full menu'!I10="FCERT",'full menu'!I10="FCMT",'full menu'!I10="LCMT",'full menu'!I10="LMT",'full menu'!I10="LCIT",'full menu'!I10="FCIT",'full menu'!I10="LIT",'full menu'!I10="MwERT",'full menu'!I10="ERwMT",'full menu'!I10="M&ERT",'full menu'!I10="MwIT",'full menu'!I10="IwMT",'full menu'!I10="M&IT",'full menu'!I10="IwERT",'full menu'!I10="ERwIT",'full menu'!I10="I&ERT",'full menu'!I10="ER&M&IT",'full menu'!I10="LSD"),"subst",IF(OR('full menu'!I10="FERT",'full menu'!I10="FMT",'full menu'!I10="FIT",'full menu'!I10="WSD"),"intens",IF('full menu'!I10="UASC","UASC",""))))) -> rude | ... AS10: =IF(OR('full menu'!AS10="MDC",'full menu'!AS10="PERF"),"rude",IF(OR('full menu'!AS10="PCB",'full menu'!AS10="AERF",'full menu'!AS10="UD"),"inter",IF(OR('full menu'!AS10="ACB",'full menu'!AS10="LCERT",'full menu'!AS10="LERT",'full menu'!AS10="FCERT",'full menu'!AS10="FCMT",'full menu'!AS10="LCMT",'full menu'!AS10="LMT",'full menu'!AS10="LCIT",'full menu'!AS10="FCIT",'full menu'!AS10="LIT",'full menu'!AS10="MwERT",'full menu'!AS10="ERwMT",'full menu'!AS10="M&ERT",'full menu'!AS10="MwIT",'full menu'!AS10="IwMT",'full menu'!AS10="M&IT",'full menu'!AS10="IwERT",'full menu'!AS10="ERwIT",'full menu'!AS10="I&ERT",'full menu'!AS10="ER&M&IT",'full menu'!AS10="LSD"),"subst",IF(OR('full menu'!AS10="FERT",'full menu'!AS10="FMT",'full menu'!AS10="FIT",'full menu'!AS10="WSD"),"intens",IF('full menu'!AS10="UASC","UASC",""))))) -> subst
A11: Cabo Verde | B11: =IF(OR('full menu'!B11="MDC",'full menu'!B11="PERF"),"rude",IF(OR('full menu'!B11="PCB",'full menu'!B11="AERF",'full menu'!B11="UD"),"inter",IF(OR('full menu'!B11="ACB",'full menu'!B11="LCERT",'full menu'!B11="LERT",'full menu'!B11="FCERT",'full menu'!B11="FCMT",'full menu'!B11="LCMT",'full menu'!B11="LMT",'full menu'!B11="LCIT",'full menu'!B11="FCIT",'full menu'!B11="LIT",'full menu'!B11="MwERT",'full menu'!B11="ERwMT",'full menu'!B11="M&ERT",'full menu'!B11="MwIT",'full menu'!B11="IwMT",'full menu'!B11="M&IT",'full menu'!B11="IwERT",'full menu'!B11="ERwIT",'full menu'!B11="I&ERT",'full menu'!B11="ER&M&IT",'full menu'!B11="LSD"),"subst",IF(OR('full menu'!B11="FERT",'full menu'!B11="FMT",'full menu'!B11="FIT",'full menu'!B11="WSD"),"intens",IF('full menu'!B11="UASC","UASC",""))))) | C11: =IF(OR('full menu'!C11="MDC",'full menu'!C11="PERF"),"rude",IF(OR('full menu'!C11="PCB",'full menu'!C11="AERF",'full menu'!C11="UD"),"inter",IF(OR('full menu'!C11="ACB",'full menu'!C11="LCERT",'full menu'!C11="LERT",'full menu'!C11="FCERT",'full menu'!C11="FCMT",'full menu'!C11="LCMT",'full menu'!C11="LMT",'full menu'!C11="LCIT",'full menu'!C11="FCIT",'full menu'!C11="LIT",'full menu'!C11="MwERT",'full menu'!C11="ERwMT",'full menu'!C11="M&ERT",'full menu'!C11="MwIT",'full menu'!C11="IwMT",'full menu'!C11="M&IT",'full menu'!C11="IwERT",'full menu'!C11="ERwIT",'full menu'!C11="I&ERT",'full menu'!C11="ER&M&IT",'full menu'!C11="LSD"),"subst",IF(OR('full menu'!C11="FERT",'full menu'!C11="FMT",'full menu'!C11="FIT",'full menu'!C11="WSD"),"intens",IF('full menu'!C11="UASC","UASC",""))))) -> inter | D11: =IF(OR('full menu'!D11="MDC",'full menu'!D11="PERF"),"rude",IF(OR('full menu'!D11="PCB",'full menu'!D11="AERF",'full menu'!D11="UD"),"inter",IF(OR('full menu'!D11="ACB",'full menu'!D11="LCERT",'full menu'!D11="LERT",'full menu'!D11="FCERT",'full menu'!D11="FCMT",'full menu'!D11="LCMT",'full menu'!D11="LMT",'full menu'!D11="LCIT",'full menu'!D11="FCIT",'full menu'!D11="LIT",'full menu'!D11="MwERT",'full menu'!D11="ERwMT",'full menu'!D11="M&ERT",'full menu'!D11="MwIT",'full menu'!D11="IwMT",'full menu'!D11="M&IT",'full menu'!D11="IwERT",'full menu'!D11="ERwIT",'full menu'!D11="I&ERT",'full menu'!D11="ER&M&IT",'full menu'!D11="LSD"),"subst",IF(OR('full menu'!D11="FERT",'full menu'!D11="FMT",'full menu'!D11="FIT",'full menu'!D11="WSD"),"intens",IF('full menu'!D11="UASC","UASC",""))))) -> inter | E11: =IF(OR('full menu'!E11="MDC",'full menu'!E11="PERF"),"rude",IF(OR('full menu'!E11="PCB",'full menu'!E11="AERF",'full menu'!E11="UD"),"inter",IF(OR('full menu'!E11="ACB",'full menu'!E11="LCERT",'full menu'!E11="LERT",'full menu'!E11="FCERT",'full menu'!E11="FCMT",'full menu'!E11="LCMT",'full menu'!E11="LMT",'full menu'!E11="LCIT",'full menu'!E11="FCIT",'full menu'!E11="LIT",'full menu'!E11="MwERT",'full menu'!E11="ERwMT",'full menu'!E11="M&ERT",'full menu'!E11="MwIT",'full menu'!E11="IwMT",'full menu'!E11="M&IT",'full menu'!E11="IwERT",'full menu'!E11="ERwIT",'full menu'!E11="I&ERT",'full menu'!E11="ER&M&IT",'full menu'!E11="LSD"),"subst",IF(OR('full menu'!E11="FERT",'full menu'!E11="FMT",'full menu'!E11="FIT",'full menu'!E11="WSD"),"intens",IF('full menu'!E11="UASC","UASC",""))))) -> inter | F11: =IF(OR('full menu'!F11="MDC",'full menu'!F11="PERF"),"rude",IF(OR('full menu'!F11="PCB",'full menu'!F11="AERF",'full menu'!F11="UD"),"inter",IF(OR('full menu'!F11="ACB",'full menu'!F11="LCERT",'full menu'!F11="LERT",'full menu'!F11="FCERT",'full menu'!F11="FCMT",'full menu'!F11="LCMT",'full menu'!F11="LMT",'full menu'!F11="LCIT",'full menu'!F11="FCIT",'full menu'!F11="LIT",'full menu'!F11="MwERT",'full menu'!F11="ERwMT",'full menu'!F11="M&ERT",'full menu'!F11="MwIT",'full menu'!F11="IwMT",'full menu'!F11="M&IT",'full menu'!F11="IwERT",'full menu'!F11="ERwIT",'full menu'!F11="I&ERT",'full menu'!F11="ER&M&IT",'full menu'!F11="LSD"),"subst",IF(OR('full menu'!F11="FERT",'full menu'!F11="FMT",'full menu'!F11="FIT",'full menu'!F11="WSD"),"intens",IF('full menu'!F11="UASC","UASC",""))))) -> inter | G11: =IF(OR('full menu'!G11="MDC",'full menu'!G11="PERF"),"rude",IF(OR('full menu'!G11="PCB",'full menu'!G11="AERF",'full menu'!G11="UD"),"inter",IF(OR('full menu'!G11="ACB",'full menu'!G11="LCERT",'full menu'!G11="LERT",'full menu'!G11="FCERT",'full menu'!G11="FCMT",'full menu'!G11="LCMT",'full menu'!G11="LMT",'full menu'!G11="LCIT",'full menu'!G11="FCIT",'full menu'!G11="LIT",'full menu'!G11="MwERT",'full menu'!G11="ERwMT",'full menu'!G11="M&ERT",'full menu'!G11="MwIT",'full menu'!G11="IwMT",'full menu'!G11="M&IT",'full menu'!G11="IwERT",'full menu'!G11="ERwIT",'full menu'!G11="I&ERT",'full menu'!G11="ER&M&IT",'full menu'!G11="LSD"),"subst",IF(OR('full menu'!G11="FERT",'full menu'!G11="FMT",'full menu'!G11="FIT",'full menu'!G11="WSD"),"intens",IF('full menu'!G11="UASC","UASC",""))))) -> inter | H11: =IF(OR('full menu'!H11="MDC",'full menu'!H11="PERF"),"rude",IF(OR('full menu'!H11="PCB",'full menu'!H11="AERF",'full menu'!H11="UD"),"inter",IF(OR('full menu'!H11="ACB",'full menu'!H11="LCERT",'full menu'!H11="LERT",'full menu'!H11="FCERT",'full menu'!H11="FCMT",'full menu'!H11="LCMT",'full menu'!H11="LMT",'full menu'!H11="LCIT",'full menu'!H11="FCIT",'full menu'!H11="LIT",'full menu'!H11="MwERT",'full menu'!H11="ERwMT",'full menu'!H11="M&ERT",'full menu'!H11="MwIT",'full menu'!H11="IwMT",'full menu'!H11="M&IT",'full menu'!H11="IwERT",'full menu'!H11="ERwIT",'full menu'!H11="I&ERT",'full menu'!H11="ER&M&IT",'full menu'!H11="LSD"),"subst",IF(OR('full menu'!H11="FERT",'full menu'!H11="FMT",'full menu'!H11="FIT",'full menu'!H11="WSD"),"intens",IF('full menu'!H11="UASC","UASC",""))))) -> inter | I11: =IF(OR('full menu'!I11="MDC",'full menu'!I11="PERF"),"rude",IF(OR('full menu'!I11="PCB",'full menu'!I11="AERF",'full menu'!I11="UD"),"inter",IF(OR('full menu'!I11="ACB",'full menu'!I11="LCERT",'full menu'!I11="LERT",'full menu'!I11="FCERT",'full menu'!I11="FCMT",'full menu'!I11="LCMT",'full menu'!I11="LMT",'full menu'!I11="LCIT",'full menu'!I11="FCIT",'full menu'!I11="LIT",'full menu'!I11="MwERT",'full menu'!I11="ERwMT",'full menu'!I11="M&ERT",'full menu'!I11="MwIT",'full menu'!I11="IwMT",'full menu'!I11="M&IT",'full menu'!I11="IwERT",'full menu'!I11="ERwIT",'full menu'!I11="I&ERT",'full menu'!I11="ER&M&IT",'full menu'!I11="LSD"),"subst",IF(OR('full menu'!I11="FERT",'full menu'!I11="FMT",'full menu'!I11="FIT",'full menu'!I11="WSD"),"intens",IF('full menu'!I11="UASC","UASC",""))))) -> inter | ... AS11: =IF(OR('full menu'!AS11="MDC",'full menu'!AS11="PERF"),"rude",IF(OR('full menu'!AS11="PCB",'full menu'!AS11="AERF",'full menu'!AS11="UD"),"inter",IF(OR('full menu'!AS11="ACB",'full menu'!AS11="LCERT",'full menu'!AS11="LERT",'full menu'!AS11="FCERT",'full menu'!AS11="FCMT",'full menu'!AS11="LCMT",'full menu'!AS11="LMT",'full menu'!AS11="LCIT",'full menu'!AS11="FCIT",'full menu'!AS11="LIT",'full menu'!AS11="MwERT",'full menu'!AS11="ERwMT",'full menu'!AS11="M&ERT",'full menu'!AS11="MwIT",'full menu'!AS11="IwMT",'full menu'!AS11="M&IT",'full menu'!AS11="IwERT",'full menu'!AS11="ERwIT",'full menu'!AS11="I&ERT",'full menu'!AS11="ER&M&IT",'full menu'!AS11="LSD"),"subst",IF(OR('full menu'!AS11="FERT",'full menu'!AS11="FMT",'full menu'!AS11="FIT",'full menu'!AS11="WSD"),"intens",IF('full menu'!AS11="UASC","UASC",""))))) -> inter
