Workbook

Sheet full menu
A1: country | B1: 1974 | C1: 1975 | D1: 1976 | E1: 1977 | F1: 1978 | G1: 1979 | H1: 1980 | I1: 1981 | J1: 1982 | K1: 1983 | L1: 1984 | M1: 1985 | N1: 1986 | O1: 1987 | P1: 1988 | Q1: 1989 | R1: 1990 | S1: 1991 | T1: 1992 | U1: 1993 | V1: 1994 | W1: 1995 | X1: 1996 | Y1: 1997 | Z1: 1998 | AA1: 1999 | AB1: 2000 | AC1: 2001 | AD1: 2002 | AE1: 2003 | AF1: 2004 | AG1: 2005 | AH1: 2006 | AI1: 2007 | AJ1: 2008 | AK1: 2009 | AL1: 2010 | AM1: 2011 | AN1: 2012 | AO1: 2013 | AP1: 2014 | AQ1: 2015 | AR1: 2016 | AS1: 2017
A2: Albania | B2: MDC | C2: MDC | D2: MDC | E2: MDC | F2: MDC | G2: MDC | H2: MDC | I2: MDC | J2: MDC | K2: MDC | L2: MDC | M2: MDC | N2: MDC | O2: MDC | P2: MDC | Q2: MDC | R2: UD | S2: UD | T2: UD | U2: LSD | V2: LSD | W2: LSD | X2: LSD | Y2: LSD | Z2: LSD | AA2: LSD | AB2: LIT | AC2: LIT | AD2: LIT | AE2: LIT | AF2: LIT | AG2: LIT | AH2: LIT | AI2: LIT | AJ2: LIT | AK2: LIT | AL2: LIT | AM2: LIT | AN2: LIT | AO2: LIT | AP2: LIT | AQ2: LIT | AR2: LIT | AS2: LIT
A3: Algeria | B3: MDC | C3: MDC | D3: MDC | E3: MDC | F3: MDC | G3: MDC | H3: MDC | I3: MDC | J3: MDC | K3: MDC | L3: MDC | M3: MDC | N3: MDC | O3: UD | P3: UD | Q3: UD | R3: LSD | S3: LSD | T3: LSD | U3: LSD | V3: LSD | W3: LSD | X3: LSD | Y3: LSD | Z3: LSD | AA3: LSD | AB3: LSD | AC3: LSD | AD3: LSD | AE3: LSD | AF3: LSD | AG3: LSD | AH3: LSD | AI3: LSD | AJ3: LSD | AK3: LSD | AL3: LSD | AM3: LSD | AN3: LSD | AO3: LSD | AP3: LSD | AQ3: LSD | AR3: LSD | AS3: LSD
A4: Armenia | B4: X | C4: X | D4: X | E4: X | F4: X | G4: X | H4: X | I4: X | J4: X | K4: X | L4: X | M4: X | N4: X | O4: X | P4: X | Q4: X | R4: X | S4: X | T4: UD | U4: UD | V4: UD | W4: LSD | X4: LSD | Y4: LSD | Z4: LSD | AA4: LSD | AB4: LSD | AC4: LSD | AD4: LSD | AE4: LSD | AF4: LSD | AG4: LSD | AH4: LSD | AI4: LSD | AJ4: LSD | AK4: LSD | AL4: LSD | AM4: LIT | AN4: LIT | AO4: LIT | AP4: LIT | AQ4: LIT | AR4: LIT | AS4: LIT
A5: Azerbaijan | B5: X | C5: X | D5: X | E5: X | F5: X | G5: X | H5: X | I5: X | J5: X | K5: X | L5: X | M5: X | N5: X | O5: X | P5: X | Q5: X | R5: X | S5: X | T5: UD | U5: UD | V5: UD | W5: LSD | X5: LSD | Y5: LSD | Z5: LSD | AA5: LSD | AB5: LSD | AC5: LSD | AD5: LSD | AE5: LSD | AF5: LSD | AG5: LSD | AH5: LSD | AI5: LSD | AJ5: LSD | AK5: LSD | AL5: LSD | AM5: LSD | AN5: LSD | AO5: LSD | AP5: LSD | AQ5: LSD | AR5: LSD | AS5: LSD
A6: Belarus | B6: X | C6: X | D6: X | E6: X | F6: X | G6: X | H6: X | I6: X | J6: X | K6: X | L6: X | M6: X | N6: X | O6: X | P6: X | Q6: X | R6: X | S6: X | T6: UD | U6: UD | V6: UD | W6: UD | X6: UD | Y6: UD | Z6: UD | AA6: UD | AB6: LSD | AC6: LSD | AD6: LSD | AE6: LSD | AF6: LSD | AG6: LSD | AH6: LSD | AI6: LSD | AJ6: LSD | AK6: LSD | AL6: LSD | AM6: LSD | AN6: LSD | AO6: LSD | AP6: LSD | AQ6: LSD | AR6: LSD | AS6: LSD
A7: Bolivia | B7: AERF | C7: AERF | D7: AERF | E7: AERF | F7: AERF | G7: AERF | H7: UD | I7: UD | J7: UD | K7: UD | L7: UD | M7: UD | N7: UD | O7: UD | P7: UD | Q7: LSD | R7: LSD | S7: LSD | T7: LSD | U7: LSD | V7: LSD | W7: LSD | X7: LSD | Y7: LSD | Z7: LSD | AA7: LSD | AB7: LSD | AC7: LSD | AD7: LSD | AE7: LSD | AF7: LSD | AG7: LSD | AH7: LSD | AI7: LSD | AJ7: LSD | AK7: LSD | AL7: LSD | AM7: LSD | AN7: LSD | AO7: LSD | AP7: LSD | AQ7: LSD | AR7: LSD | AS7: LSD
A8: Bosnia & Herzegovina | B8: X | C8: X | D8: X | E8: X | F8: X | G8: X | H8: X | I8: X | J8: X | K8: X | L8: X | M8: X | N8: X | O8: X | P8: X | Q8: X | R8: X | S8: X | T8: UD | U8: UD | V8: UD | W8: UD | X8: LSD | Y8: LSD | Z8: PCB | AA8: PCB | AB8: PCB | AC8: PCB | AD8: PCB | AE8: PCB | AF8: PCB | AG8: PCB | AH8: PCB | AI8: PCB | AJ8: PCB | AK8: PCB | AL8: PCB | AM8: PCB | AN8: PCB | AO8: PCB | AP8: PCB | AQ8: PCB | AR8: PCB | AS8: PCB
A9: Brazil | B9: UD | C9: UD | D9: UD | E9: UD | F9: UD | G9: UD | H9: UD | I9: UD | J9: UD | K9: UD | L9: UD | M9: UD | N9: LSD | O9: LSD | P9: LSD | Q9: LSD | R9: LSD | S9: LSD | T9: LSD | U9: LSD | V9: LSD | W9: LSD | X9: LSD | Y9: LSD | Z9: LSD | AA9: LCIT | AB9: LCIT | AC9: LSD | AD9: LSD | AE9: LSD | AF9: LIT | AG9: LIT | AH9: LIT | AI9: LIT | AJ9: LIT | AK9: LIT | AL9: LIT | AM9: LIT | AN9: LIT | AO9: LIT | AP9: LIT | AQ9: LIT | AR9: LIT | AS9: LIT
A10: Bulgaria | B10: MDC | C10: MDC | D10: MDC | E10: MDC | F10: MDC | G10: MDC | H10: MDC | I10: MDC | J10: MDC | K10: MDC | L10: MDC | M10: MDC | N10: MDC | O10: MDC | P10: MDC | Q10: MDC | R10: UD | S10: UD | T10: UD | U10: UD | V10: UD | W10: UD | X10: UD | Y10: UD | Z10: ACB | AA10: ACB | AB10: ACB | AC10: ACB | AD10: ACB | AE10: ACB | AF10: ACB | AG10: ACB | AH10: ACB | AI10: ACB | AJ10: ACB | AK10: ACB | AL10: ACB | AM10: ACB | AN10: ACB | AO10: ACB | AP10: ACB | AQ10: ACB | AR10: ACB | AS10: ACB
A11: Cabo Verde | B11: X | C11: AERF | D11: AERF | E11: AERF | F11: AERF | G11: AERF | H11: AERF | I11: AERF | J11: AERF | K11: AERF | L11: AERF | M11: AERF | N11: AERF | O11: AERF | P11: AERF | Q11: AERF | R11: AERF | S11: AERF | T11: AERF | U11: AERF | V11: AERF | W11: AERF | X11: AERF | Y11: AERF | Z11: AERF | AA11: AERF | AB11: AERF | AC11: AERF | AD11: AERF | AE11: AERF | AF11: AERF | AG11: AERF | AH11: AERF | AI11: AERF | AJ11: AERF | AK11: AERF | AL11: AERF | AM11: AERF | AN11: AERF | AO11: AERF | AP11: AERF | AQ11: AERF | AR11: AERF | AS11: AERF
A12: Cameroon | B12: CU | C12: CU | D12: CU | E12: CU | F12: CU | G12: CU | H12: CU | I12: CU | J12: CU | K12: CU | L12: CU | M12: CU | N12: CU | O12: CU | P12: CU | Q12: CU | R12: CU | S12: CU | T12: CU | U12: CU | V12: CU | W12: CU | X12: CU | Y12: CU | Z12: CU | AA12: CU | AB12: CU | AC12: CU | AD12: CU | AE12: CU | AF12: CU | AG12: CU | AH12: CU | AI12: CU | AJ12: CU | AK12: CU | AL12: CU | AM12: CU | AN12: CU | AO12: CU | AP12: CU | AQ12: CU | AR12: CU | AS12: CU
A13: China | B13: MDC | C13: MDC | D13: MDC | E13: MDC | F13: MDC | G13: MDC | H13: MDC | I13: MDC | J13: MDC | K13: MDC | L13: UD | M13: UD | N13: UD | O13: UD | P13: UD | Q13: UD | R13: UD | S13: UD | T13: UD | U13: UD | V13: LSD | W13: LSD | X13: LSD | Y13: LSD | Z13: LSD | AA13: LSD | AB13: LSD | AC13: LSD | AD13: LSD | AE13: LSD | AF13: LSD | AG13: LSD | AH13: LSD | AI13: LSD | AJ13: LSD | AK13: LSD | AL13: LSD | AM13: LSD | AN13: LSD | AO13: LSD | AP13: LSD | AQ13: LSD | AR13: LSD | AS13: LSD
... A55: Vanuatu | B55: X | C55: X | D55: X | E55: X | F55: X | G55: X | H55: X | I55: AERF | J55: AERF | K55: AERF | L55: AERF | M55: AERF | N55: AERF | O55: AERF | P55: AERF | Q55: AERF | R55: AERF | S55: AERF | T55: AERF | U55: AERF | V55: AERF | W55: AERF | X55: AERF | Y55: AERF | Z55: AERF | AA55: AERF | AB55: AERF | AC55: AERF | AD55: AERF | AE55: AERF | AF55: AERF | AG55: AERF | AH55: AERF | AI55: AERF | AJ55: AERF | AK55: AERF | AL55: AERF | AM55: AERF | AN55: AERF | AO55: AERF | AP55: AERF | AQ55: AERF | AR55: AERF | AS55: AERF
B59: 1974
A60: X | B60: =COUNTIF(B2:B55,"X") -> 16 | C60: =COUNTIF(C2:C55,"X") -> 15 | D60: =COUNTIF(D2:D55,"X") -> 15 | E60: =COUNTIF(E2:E55,"X") -> 14 | F60: =COUNTIF(F2:F55,"X") -> 14 | G60: =COUNTIF(G2:G55,"X") -> 14 | H60: =COUNTIF(H2:H55,"X") -> 14 | I60: =COUNTIF(I2:I55,"X") -> 13 | ... AS60: =COUNTIF(AS2:AS55,"X") -> 1
A61: MDC | B61: =COUNTIF(B2:B55,"MDC") -> 9 | C61: =COUNTIF(C2:C55,"MDC") -> 9 | D61: =COUNTIF(D2:D55,"MDC") -> 9 | E61: =COUNTIF(E2:E55,"MDC") -> 8 | F61: =COUNTIF(F2:F55,"MDC") -> 8 | G61: =COUNTIF(G2:G55,"MDC") -> 8 | H61: =COUNTIF(H2:H55,"MDC") -> 8 | I61: =COUNTIF(I2:I55,"MDC") -> 8 | ... AS61: =COUNTIF(AS2:AS55,"MDC") -> 0
A62: PERF | B62: =COUNTIF(B2:B55,"PERF") -> 0 | C62: =COUNTIF(C2:C55,"PERF") -> 0 | D62: =COUNTIF(D2:D55,"PERF") -> 0 | E62: =COUNTIF(E2:E55,"PERF") -> 0 | F62: =COUNTIF(F2:F55,"PERF") -> 0 | G62: =COUNTIF(G2:G55,"PERF") -> 1 | H62: =COUNTIF(H2:H55,"PERF") -> 1 | I62: =COUNTIF(I2:I55,"PERF") -> 1 | ... AS62: =COUNTIF(AS2:AS55,"PERF") -> 0
A63: AERF | B63: =COUNTIF(B2:B55,"AERF") -> 17 | C63: =COUNTIF(C2:C55,"AERF") -> 18 | D63: =COUNTIF(D2:D55,"AERF") -> 18 | E63: =COUNTIF(E2:E55,"AERF") -> 17 | F63: =COUNTIF(F2:F55,"AERF") -> 16 | G63: =COUNTIF(G2:G55,"AERF") -> 15 | H63: =COUNTIF(H2:H55,"AERF") -> 13 | I63: =COUNTIF(I2:I55,"AERF") -> 13 | ... AS63: =COUNTIF(AS2:AS55,"AERF") -> 8
A64: PCB | B64: =COUNTIF(B2:B55,"PCB") -> 0 | C64: =COUNTIF(C2:C55,"PCB") -> 0 | D64: =COUNTIF(D2:D55,"PCB") -> 0 | E64: =COUNTIF(E2:E55,"PCB") -> 1 | F64: =COUNTIF(F2:F55,"PCB") -> 1 | G64: =COUNTIF(G2:G55,"PCB") -> 1 | H64: =COUNTIF(H2:H55,"PCB") -> 1 | I64: =COUNTIF(I2:I55,"PCB") -> 1 | ... AS64: =COUNTIF(AS2:AS55,"PCB") -> 2
A65: ACB | B65: =COUNTIF(B2:B55,"ACB") -> 0 | C65: =COUNTIF(C2:C55,"ACB") -> 0 | D65: =COUNTIF(D2:D55,"ACB") -> 0 | E65: =COUNTIF(E2:E55,"ACB") -> 0 | F65: =COUNTIF(F2:F55,"ACB") -> 0 | G65: =COUNTIF(G2:G55,"ACB") -> 0 | H65: =COUNTIF(H2:H55,"ACB") -> 0 | I65: =COUNTIF(I2:I55,"ACB") -> 0 | ... AS65: =COUNTIF(AS2:AS55,"ACB") -> 1
A66: UD | B66: =COUNTIF(B2:B55,"UD") -> 4 | C66: =COUNTIF(C2:C55,"UD") -> 4 | D66: =COUNTIF(D2:D55,"UD") -> 4 | E66: =COUNTIF(E2:E55,"UD") -> 5 | F66: =COUNTIF(F2:F55,"UD") -> 5 | G66: =COUNTIF(G2:G55,"UD") -> 4 | H66: =COUNTIF(H2:H55,"UD") -> 7 | I66: =COUNTIF(I2:I55,"UD") -> 7 | ... AS66: =COUNTIF(AS2:AS55,"UD") -> 1
A67: LERT | B67: =COUNTIF(B2:B55,"LERT") -> 0 | C67: =COUNTIF(C2:C55,"LERT") -> 0 | D67: =COUNTIF(D2:D55,"LERT") -> 0 | E67: =COUNTIF(E2:E55,"LERT") -> 0 | F67: =COUNTIF(F2:F55,"LERT") -> 0 | G67: =COUNTIF(G2:G55,"LERT") -> 0 | H67: =COUNTIF(H2:H55,"LERT") -> 0 | I67: =COUNTIF(I2:I55,"LERT") -> 0 | ... AS67: =COUNTIF(AS2:AS55,"LERT") -> 1
A68: LCERT | B68: =COUNTIF(B2:B55,"LCERT") -> 0 | C68: =COUNTIF(C2:C55,"LCERT") -> 0 | D68: =COUNTIF(D2:D55,"LCERT") -> 0 | E68: =COUNTIF(E2:E55,"LCERT") -> 0 | F68: =COUNTIF(F2:F55,"LCERT") -> 0 | G68: =COUNTIF(G2:G55,"LCERT") -> 0 | H68: =COUNTIF(H2:H55,"LCERT") -> 0 | I68: =COUNTIF(I2:I55,"LCERT") -> 0 | ... AS68: =COUNTIF(AS2:AS55,"LCERT") -> 0
A69: LMT | B69: =COUNTIF(B2:B55,"LMT") -> 0 | C69: =COUNTIF(C2:C55,"LMT") -> 0 | D69: =COUNTIF(D2:D55,"LMT") -> 0 | E69: =COUNTIF(E2:E55,"LMT") -> 0 | F69: =COUNTIF(F2:F55,"LMT") -> 0 | G69: =COUNTIF(G2:G55,"LMT") -> 0 | H69: =COUNTIF(H2:H55,"LMT") -> 0 | I69: =COUNTIF(I2:I55,"LMT") -> 0 | ... AS69: =COUNTIF(AS2:AS55,"LMT") -> 0
A70: LCMT | B70: =COUNTIF(B2:B55,"LCMT") -> 0 | C70: =COUNTIF(C2:C55,"LCMT") -> 0 | D70: =COUNTIF(D2:D55,"LCMT") -> 0 | E70: =COUNTIF(E2:E55,"LCMT") -> 0 | F70: =COUNTIF(F2:F55,"LCMT") -> 0 | G70: =COUNTIF(G2:G55,"LCMT") -> 0 | H70: =COUNTIF(H2:H55,"LCMT") -> 0 | I70: =COUNTIF(I2:I55,"LCMT") -> 0 | ... AS70: =COUNTIF(AS2:AS55,"LCMT") -> 0
A71: LIT | B71: =COUNTIF(B2:B55,"LIT") -> 0 | C71: =COUNTIF(C2:C55,"LIT") -> 0 | D71: =COUNTIF(D2:D55,"LIT") -> 0 | E71: =COUNTIF(E2:E55,"LIT") -> 0 | F71: =COUNTIF(F2:F55,"LIT") -> 0 | G71: =COUNTIF(G2:G55,"LIT") -> 0 | H71: =COUNTIF(H2:H55,"LIT") -> 0 | I71: =COUNTIF(I2:I55,"LIT") -> 0 | ... AS71: =COUNTIF(AS2:AS55,"LIT") -> 9
A72: LCIT | B72: =COUNTIF(B2:B55,"LCIT") -> 0 | C72: =COUNTIF(C2:C55,"LCIT") -> 0 | D72: =COUNTIF(D2:D55,"LCIT") -> 0 | E72: =COUNTIF(E2:E55,"LCIT") -> 0 | F72: =COUNTIF(F2:F55,"LCIT") -> 0 | G72: =COUNTIF(G2:G55,"LCIT") -> 0 | H72: =COUNTIF(H2:H55,"LCIT") -> 0 | I72: =COUNTIF(I2:I55,"LCIT") -> 0 | ... AS72: =COUNTIF(AS2:AS55,"LCIT") -> 2
A73: MwERT | B73: =COUNTIF(B2:B55,"MwERT") -> 0 | C73: =COUNTIF(C2:C55,"MwERT") -> 0 | D73: =COUNTIF(D2:D55,"MwERT") -> 0 | E73: =COUNTIF(E2:E55,"MwERT") -> 0 | F73: =COUNTIF(F2:F55,"MwERT") -> 0 | G73: =COUNTIF(G2:G55,"MwERT") -> 0 | H73: =COUNTIF(H2:H55,"MwERT") -> 0 | I73: =COUNTIF(I2:I55,"MwERT") -> 0 | ... AS73: =COUNTIF(AS2:AS55,"MwERT") -> 0
A74: ERwMT | B74: =COUNTIF(B2:B55,"ERwMT") -> 0 | C74: =COUNTIF(C2:C55,"ERwMT") -> 0 | D74: =COUNTIF(D2:D55,"ERwMT") -> 0 | E74: =COUNTIF(E2:E55,"ERwMT") -> 0 | F74: =COUNTIF(F2:F55,"ERwMT") -> 0 | G74: =COUNTIF(G2:G55,"ERwMT") -> 0 | H74: =COUNTIF(H2:H55,"ERwMT") -> 0 | I74: =COUNTIF(I2:I55,"ERwMT") -> 0 | ... AS74: =COUNTIF(AS2:AS55,"ERwMT") -> 0
A75: M&ERT | B75: =COUNTIF(B2:B55,"M&ERT") -> 0 | C75: =COUNTIF(C2:C55,"M&ERT") -> 0 | D75: =COUNTIF(D2:D55,"M&ERT") -> 0 | E75: =COUNTIF(E2:E55,"M&ERT") -> 0 | F75: =COUNTIF(F2:F55,"M&ERT") -> 0 | G75: =COUNTIF(G2:G55,"M&ERT") -> 0 | H75: =COUNTIF(H2:H55,"M&ERT") -> 0 | I75: =COUNTIF(I2:I55,"M&ERT") -> 0 | ... AS75: =COUNTIF(AS2:AS55,"M&ERT") -> 0
A76: MwIT | B76: =COUNTIF(B2:B55,"MwIT") -> 0 | C76: =COUNTIF(C2:C55,"MwIT") -> 0 | D76: =COUNTIF(D2:D55,"MwIT") -> 0 | E76: =COUNTIF(E2:E55,"MwIT") -> 0 | F76: =COUNTIF(F2:F55,"MwIT") -> 0 | G76: =COUNTIF(G2:G55,"MwIT") -> 0 | H76: =COUNTIF(H2:H55,"MwIT") -> 0 | I76: =COUNTIF(I2:I55,"MwIT") -> 0 | ... AS76: =COUNTIF(AS2:AS55,"MwIT") -> 0
A77: IwMT | B77: =COUNTIF(B2:B55,"IwMT") -> 0 | C77: =COUNTIF(C2:C55,"IwMT") -> 0 | D77: =COUNTIF(D2:D55,"IwMT") -> 0 | E77: =COUNTIF(E2:E55,"IwMT") -> 0 | F77: =COUNTIF(F2:F55,"IwMT") -> 0 | G77: =COUNTIF(G2:G55,"IwMT") -> 0 | H77: =COUNTIF(H2:H55,"IwMT") -> 0 | I77: =COUNTIF(I2:I55,"IwMT") -> 0 | ... AS77: =COUNTIF(AS2:AS55,"IwMT") -> 0
A78: M&IT | B78: =COUNTIF(B2:B55,"M&IT") -> 0 | C78: =COUNTIF(C2:C55,"M&IT") -> 0 | D78: =COUNTIF(D2:D55,"M&IT") -> 0 | E78: =COUNTIF(E2:E55,"M&IT") -> 0 | F78: =COUNTIF(F2:F55,"M&IT") -> 0 | G78: =COUNTIF(G2:G55,"M&IT") -> 0 | H78: =COUNTIF(H2:H55,"M&IT") -> 0 | I78: =COUNTIF(I2:I55,"M&IT") -> 0 | ... AS78: =COUNTIF(AS2:AS55,"M&IT") -> 0
A79: IwERT | B79: =COUNTIF(B2:B55,"IwERT") -> 0 | C79: =COUNTIF(C2:C55,"IwERT") -> 0 | D79: =COUNTIF(D2:D55,"IwERT") -> 0 | E79: =COUNTIF(E2:E55,"IwERT") -> 0 | F79: =COUNTIF(F2:F55,"IwERT") -> 0 | G79: =COUNTIF(G2:G55,"IwERT") -> 0 | H79: =COUNTIF(H2:H55,"IwERT") -> 0 | I79: =COUNTIF(I2:I55,"IwERT") -> 0 | ... AS79: =COUNTIF(AS2:AS55,"IwERT") -> 0
A80: ERwIT | B80: =COUNTIF(B2:B55,"ERwIT") -> 0 | C80: =COUNTIF(C2:C55,"ERwIT") -> 0 | D80: =COUNTIF(D2:D55,"ERwIT") -> 0 | E80: =COUNTIF(E2:E55,"ERwIT") -> 0 | F80: =COUNTIF(F2:F55,"ERwIT") -> 0 | G80: =COUNTIF(G2:G55,"ERwIT") -> 0 | H80: =COUNTIF(H2:H55,"ERwIT") -> 0 | I80: =COUNTIF(I2:I55,"ERwIT") -> 0 | ... AS80: =COUNTIF(AS2:AS55,"ERwIT") -> 0
A81: I&ERT | B81: =COUNTIF(B2:B55,"I&ERT") -> 0 | C81: =COUNTIF(C2:C55,"I&ERT") -> 0 | D81: =COUNTIF(D2:D55,"I&ERT") -> 0 | E81: =COUNTIF(E2:E55,"I&ERT") -> 0 | F81: =COUNTIF(F2:F55,"I&ERT") -> 0 | G81: =COUNTIF(G2:G55,"I&ERT") -> 0 | H81: =COUNTIF(H2:H55,"I&ERT") -> 0 | I81: =COUNTIF(I2:I55,"I&ERT") -> 0 | ... AS81: =COUNTIF(AS2:AS55,"I&ERT") -> 0
A82: ER&M&IT | B82: =COUNTIF(B2:B55,"ER&M&IT") -> 0 | C82: =COUNTIF(C2:C55,"ER&M&IT") -> 0 | D82: =COUNTIF(D2:D55,"ER&M&IT") -> 0 | E82: =COUNTIF(E2:E55,"ER&M&IT") -> 0 | F82: =COUNTIF(F2:F55,"ER&M&IT") -> 0 | G82: =COUNTIF(G2:G55,"ER&M&IT") -> 0 | H82: =COUNTIF(H2:H55,"ER&M&IT") -> 0 | I82: =COUNTIF(I2:I55,"ER&M&IT") -> 0 | ... AS82: =COUNTIF(AS2:AS55,"ER&M&IT") -> 0
A83: LSD | B83: =COUNTIF(B2:B55,"LSD") -> 4 | C83: =COUNTIF(C2:C55,"LSD") -> 5 | D83: =COUNTIF(D2:D55,"LSD") -> 5 | E83: =COUNTIF(E2:E55,"LSD") -> 6 | F83: =COUNTIF(F2:F55,"LSD") -> 7 | G83: =COUNTIF(G2:G55,"LSD") -> 8 | H83: =COUNTIF(H2:H55,"LSD") -> 8 | I83: =COUNTIF(I2:I55,"LSD") -> 9 | ... AS83: =COUNTIF(AS2:AS55,"LSD") -> 19
A84: UASC | B84: =COUNTIF(B2:B55,"UASC") -> 2 | C84: =COUNTIF(C2:C55,"UASC") -> 1 | D84: =COUNTIF(D2:D55,"UASC") -> 1 | E84: =COUNTIF(E2:E55,"UASC") -> 1 | F84: =COUNTIF(F2:F55,"UASC") -> 1 | G84: =COUNTIF(G2:G55,"UASC") -> 1 | H84: =COUNTIF(H2:H55,"UASC") -> 0 | I84: =COUNTIF(I2:I55,"UASC") -> 0 | ... AS84: =COUNTIF(AS2:AS55,"UASC") -> 3
...

Sheet targvar
A1: country | B1: 1974 | C1: 1975 | D1: 1976 | E1: 1977 | F1: 1978 | G1: 1979 | H1: 1980 | I1: 1981 | J1: 1982 | K1: 1983 | L1: 1984 | M1: 1985 | N1: 1986 | O1: 1987 | P1: 1988 | Q1: 1989 | R1: 1990 | S1: 1991 | T1: 1992 | U1: 1993 | V1: 1994 | W1: 1995 | X1: 1996 | Y1: 1997 | Z1: 1998 | AA1: 1999 | AB1: 2000 | AC1: 2001 | AD1: 2002 | AE1: 2003 | AF1: 2004 | AG1: 2005 | AH1: 2006 | AI1: 2007 | AJ1: 2008 | AK1: 2009 | AL1: 2010 | AM1: 2011 | AN1: 2012 | AO1: 2013 | AP1: 2014 | AQ1: 2015 | AR1: 2016 | AS1: 2017
A2: Albania | B2: =IF('full menu'!B2="MDC","MDC",IF('full menu'!B2="X","X",IF('full menu'!B2="UASC","UASC",IF(OR('full menu'!B2="PERF",'full menu'!B2="AERF",'full menu'!B2="PCB"),"ERfix",IF(OR('full menu'!B2="ACB",'full menu'!B2="LCERT",'full menu'!B2="LERT",'full menu'!B2="FCERT",'full menu'!B2="FERT"),"ERTs",IF(OR('full menu'!B2="FCMT",'full menu'!B2="FMT",'full menu'!B2="LMT",'full menu'!B2="LCMT"),"MTs",IF(OR('full menu'!B2="LCIT",'full menu'!B2="FCIT",'full menu'!B2="LIT",'full menu'!B2="FIT"),"ITs",IF(OR('full menu'!B2="MwERT",'full menu'!B2="ERwMT",'full menu'!B2="M&ERT",'full menu'!B2="MwIT",'full menu'!B2="IwMT",'full menu'!B2="M&IT",'full menu'!B2="IwERT",'full menu'!B2="ERwIT",'full menu'!B2="I&ERT",'full menu'!B2="ER&M&IT"),"MixedTs",IF('full menu'!B2="UD","UD",IF('full menu'!B2="LSD","LSD",IF('full menu'!B2="WSD","WSD",""))))))))))) -> MDC | C2: =IF('full menu'!C2="MDC","MDC",IF('full menu'!C2="X","X",IF('full menu'!C2="UASC","UASC",IF(OR('full menu'!C2="PERF",'full menu'!C2="AERF",'full menu'!C2="PCB"),"ERfix",IF(OR('full menu'!C2="ACB",'full menu'!C2="LCERT",'full menu'!C2="LERT",'full menu'!C2="FCERT",'full menu'!C2="FERT"),"ERTs",IF(OR('full menu'!C2="FCMT",'full menu'!C2="FMT",'full menu'!C2="LMT",'full menu'!C2="LCMT"),"MTs",IF(OR('full menu'!C2="LCIT",'full menu'!C2="FCIT",'full menu'!C2="LIT",'full menu'!C2="FIT"),"ITs",IF(OR('full menu'!C2="MwERT",'full menu'!C2="ERwMT",'full menu'!C2="M&ERT",'full menu'!C2="MwIT",'full menu'!C2="IwMT",'full menu'!C2="M&IT",'full menu'!C2="IwERT",'full menu'!C2="ERwIT",'full menu'!C2="I&ERT",'full menu'!C2="ER&M&IT"),"MixedTs",IF('full menu'!C2="UD","UD",IF('full menu'!C2="LSD","LSD",IF('full menu'!C2="WSD","WSD",""))))))))))) -> MDC | D2: =IF('full menu'!D2="MDC","MDC",IF('full menu'!D2="X","X",IF('full menu'!D2="UASC","UASC",IF(OR('full menu'!D2="PERF",'full menu'!D2="AERF",'full menu'!D2="PCB"),"ERfix",IF(OR('full menu'!D2="ACB",'full menu'!D2="LCERT",'full menu'!D2="LERT",'full menu'!D2="FCERT",'full menu'!D2="FERT"),"ERTs",IF(OR('full menu'!D2="FCMT",'full menu'!D2="FMT",'full menu'!D2="LMT",'full menu'!D2="LCMT"),"MTs",IF(OR('full menu'!D2="LCIT",'full menu'!D2="FCIT",'full menu'!D2="LIT",'full menu'!D2="FIT"),"ITs",IF(OR('full menu'!D2="MwERT",'full menu'!D2="ERwMT",'full menu'!D2="M&ERT",'full menu'!D2="MwIT",'full menu'!D2="IwMT",'full menu'!D2="M&IT",'full menu'!D2="IwERT",'full menu'!D2="ERwIT",'full menu'!D2="I&ERT",'full menu'!D2="ER&M&IT"),"MixedTs",IF('full menu'!D2="UD","UD",IF('full menu'!D2="LSD","LSD",IF('full menu'!D2="WSD","WSD",""))))))))))) -> MDC | E2: =IF('full menu'!E2="MDC","MDC",IF('full menu'!E2="X","X",IF('full menu'!E2="UASC","UASC",IF(OR('full menu'!E2="PERF",'full menu'!E2="AERF",'full menu'!E2="PCB"),"ERfix",IF(OR('full menu'!E2="ACB",'full menu'!E2="LCERT",'full menu'!E2="LERT",'full menu'!E2="FCERT",'full menu'!E2="FERT"),"ERTs",IF(OR('full menu'!E2="FCMT",'full menu'!E2="FMT",'full menu'!E2="LMT",'full menu'!E2="LCMT"),"MTs",IF(OR('full menu'!E2="LCIT",'full menu'!E2="FCIT",'full menu'!E2="LIT",'full menu'!E2="FIT"),"ITs",IF(OR('full menu'!E2="MwERT",'full menu'!E2="ERwMT",'full menu'!E2="M&ERT",'full menu'!E2="MwIT",'full menu'!E2="IwMT",'full menu'!E2="M&IT",'full menu'!E2="IwERT",'full menu'!E2="ERwIT",'full menu'!E2="I&ERT",'full menu'!E2="ER&M&IT"),"MixedTs",IF('full menu'!E2="UD","UD",IF('full menu'!E2="LSD","LSD",IF('full menu'!E2="WSD","WSD",""))))))))))) -> MDC | F2: =IF('full menu'!F2="MDC","MDC",IF('full menu'!F2="X","X",IF('full menu'!F2="UASC","UASC",IF(OR('full menu'!F2="PERF",'full menu'!F2="AERF",'full menu'!F2="PCB"),"ERfix",IF(OR('full menu'!F2="ACB",'full menu'!F2="LCERT",'full menu'!F2="LERT",'full menu'!F2="FCERT",'full menu'!F2="FERT"),"ERTs",IF(OR('full menu'!F2="FCMT",'full menu'!F2="FMT",'full menu'!F2="LMT",'full menu'!F2="LCMT"),"MTs",IF(OR('full menu'!F2="LCIT",'full menu'!F2="FCIT",'full menu'!F2="LIT",'full menu'!F2="FIT"),"ITs",IF(OR('full menu'!F2="MwERT",'full menu'!F2="ERwMT",'full menu'!F2="M&ERT",'full menu'!F2="MwIT",'full menu'!F2="IwMT",'full menu'!F2="M&IT",'full menu'!F2="IwERT",'full menu'!F2="ERwIT",'full menu'!F2="I&ERT",'full menu'!F2="ER&M&IT"),"MixedTs",IF('full menu'!F2="UD","UD",IF('full menu'!F2="LSD","LSD",IF('full menu'!F2="WSD","WSD",""))))))))))) -> MDC | G2: =IF('full menu'!G2="MDC","MDC",IF('full menu'!G2="X","X",IF('full menu'!G2="UASC","UASC",IF(OR('full menu'!G2="PERF",'full menu'!G2="AERF",'full menu'!G2="PCB"),"ERfix",IF(OR('full menu'!G2="ACB",'full menu'!G2="LCERT",'full menu'!G2="LERT",'full menu'!G2="FCERT",'full menu'!G2="FERT"),"ERTs",IF(OR('full menu'!G2="FCMT",'full menu'!G2="FMT",'full menu'!G2="LMT",'full menu'!G2="LCMT"),"MTs",IF(OR('full menu'!G2="LCIT",'full menu'!G2="FCIT",'full menu'!G2="LIT",'full menu'!G2="FIT"),"ITs",IF(OR('full menu'!G2="MwERT",'full menu'!G2="ERwMT",'full menu'!G2="M&ERT",'full menu'!G2="MwIT",'full menu'!G2="IwMT",'full menu'!G2="M&IT",'full menu'!G2="IwERT",'full menu'!G2="ERwIT",'full menu'!G2="I&ERT",'full menu'!G2="ER&M&IT"),"MixedTs",IF('full menu'!G2="UD","UD",IF('full menu'!G2="LSD","LSD",IF('full menu'!G2="WSD","WSD",""))))))))))) -> MDC | H2: =IF('full menu'!H2="MDC","MDC",IF('full menu'!H2="X","X",IF('full menu'!H2="UASC","UASC",IF(OR('full menu'!H2="PERF",'full menu'!H2="AERF",'full menu'!H2="PCB"),"ERfix",IF(OR('full menu'!H2="ACB",'full menu'!H2="LCERT",'full menu'!H2="LERT",'full menu'!H2="FCERT",'full menu'!H2="FERT"),"ERTs",IF(OR('full menu'!H2="FCMT",'full menu'!H2="FMT",'full menu'!H2="LMT",'full menu'!H2="LCMT"),"MTs",IF(OR('full menu'!H2="LCIT",'full menu'!H2="FCIT",'full menu'!H2="LIT",'full menu'!H2="FIT"),"ITs",IF(OR('full menu'!H2="MwERT",'full menu'!H2="ERwMT",'full menu'!H2="M&ERT",'full menu'!H2="MwIT",'full menu'!H2="IwMT",'full menu'!H2="M&IT",'full menu'!H2="IwERT",'full menu'!H2="ERwIT",'full menu'!H2="I&ERT",'full menu'!H2="ER&M&IT"),"MixedTs",IF('full menu'!H2="UD","UD",IF('full menu'!H2="LSD","LSD",IF('full menu'!H2="WSD","WSD",""))))))))))) -> MDC | I2: =IF('full menu'!I2="MDC","MDC",IF('full menu'!I2="X","X",IF('full menu'!I2="UASC","UASC",IF(OR('full menu'!I2="PERF",'full menu'!I2="AERF",'full menu'!I2="PCB"),"ERfix",IF(OR('full menu'!I2="ACB",'full menu'!I2="LCERT",'full menu'!I2="LERT",'full menu'!I2="FCERT",'full menu'!I2="FERT"),"ERTs",IF(OR('full menu'!I2="FCMT",'full menu'!I2="FMT",'full menu'!I2="LMT",'full menu'!I2="LCMT"),"MTs",IF(OR('full menu'!I2="LCIT",'full menu'!I2="FCIT",'full menu'!I2="LIT",'full menu'!I2="FIT"),"ITs",IF(OR('full menu'!I2="MwERT",'full menu'!I2="ERwMT",'full menu'!I2="M&ERT",'full menu'!I2="MwIT",'full menu'!I2="IwMT",'full menu'!I2="M&IT",'full menu'!I2="IwERT",'full menu'!I2="ERwIT",'full menu'!I2="I&ERT",'full menu'!I2="ER&M&IT"),"MixedTs",IF('full menu'!I2="UD","UD",IF('full menu'!I2="LSD","LSD",IF('full menu'!I2="WSD","WSD",""))))))))))) -> MDC | ... AS2: =IF('full menu'!AS2="MDC","MDC",IF('full menu'!AS2="X","X",IF('full menu'!AS2="UASC","UASC",IF(OR('full menu'!AS2="PERF",'full menu'!AS2="AERF",'full menu'!AS2="PCB"),"ERfix",IF(OR('full menu'!AS2="ACB",'full menu'!AS2="LCERT",'full menu'!AS2="LERT",'full menu'!AS2="FCERT",'full menu'!AS2="FERT"),"ERTs",IF(OR('full menu'!AS2="FCMT",'full menu'!AS2="FMT",'full menu'!AS2="LMT",'full menu'!AS2="LCMT"),"MTs",IF(OR('full menu'!AS2="LCIT",'full menu'!AS2="FCIT",'full menu'!AS2="LIT",'full menu'!AS2="FIT"),"ITs",IF(OR('full menu'!AS2="MwERT",'full menu'!AS2="ERwMT",'full menu'!AS2="M&ERT",'full menu'!AS2="MwIT",'full menu'!AS2="IwMT",'full menu'!AS2="M&IT",'full menu'!AS2="IwERT",'full menu'!AS2="ERwIT",'full menu'!AS2="I&ERT",'full menu'!AS2="ER&M&IT"),"MixedTs",IF('full menu'!AS2="UD","UD",IF('full menu'!AS2="LSD","LSD",IF('full menu'!AS2="WSD","WSD",""))))))))))) -> ITs
A3: Algeria | B3: =IF('full menu'!B3="MDC","MDC",IF('full menu'!B3="X","X",IF('full menu'!B3="UASC","UASC",IF(OR('full menu'!B3="PERF",'full menu'!B3="AERF",'full menu'!B3="PCB"),"ERfix",IF(OR('full menu'!B3="ACB",'full menu'!B3="LCERT",'full menu'!B3="LERT",'full menu'!B3="FCERT",'full menu'!B3="FERT"),"ERTs",IF(OR('full menu'!B3="FCMT",'full menu'!B3="FMT",'full menu'!B3="LMT",'full menu'!B3="LCMT"),"MTs",IF(OR('full menu'!B3="LCIT",'full menu'!B3="FCIT",'full menu'!B3="LIT",'full menu'!B3="FIT"),"ITs",IF(OR('full menu'!B3="MwERT",'full menu'!B3="ERwMT",'full menu'!B3="M&ERT",'full menu'!B3="MwIT",'full menu'!B3="IwMT",'full menu'!B3="M&IT",'full menu'!B3="IwERT",'full menu'!B3="ERwIT",'full menu'!B3="I&ERT",'full menu'!B3="ER&M&IT"),"MixedTs",IF('full menu'!B3="UD","UD",IF('full menu'!B3="LSD","LSD",IF('full menu'!B3="WSD","WSD",""))))))))))) -> MDC | C3: =IF('full menu'!C3="MDC","MDC",IF('full menu'!C3="X","X",IF('full menu'!C3="UASC","UASC",IF(OR('full menu'!C3="PERF",'full menu'!C3="AERF",'full menu'!C3="PCB"),"ERfix",IF(OR('full menu'!C3="ACB",'full menu'!C3="LCERT",'full menu'!C3="LERT",'full menu'!C3="FCERT",'full menu'!C3="FERT"),"ERTs",IF(OR('full menu'!C3="FCMT",'full menu'!C3="FMT",'full menu'!C3="LMT",'full menu'!C3="LCMT"),"MTs",IF(OR('full menu'!C3="LCIT",'full menu'!C3="FCIT",'full menu'!C3="LIT",'full menu'!C3="FIT"),"ITs",IF(OR('full menu'!C3="MwERT",'full menu'!C3="ERwMT",'full menu'!C3="M&ERT",'full menu'!C3="MwIT",'full menu'!C3="IwMT",'full menu'!C3="M&IT",'full menu'!C3="IwERT",'full menu'!C3="ERwIT",'full menu'!C3="I&ERT",'full menu'!C3="ER&M&IT"),"MixedTs",IF('full menu'!C3="UD","UD",IF('full menu'!C3="LSD","LSD",IF('full menu'!C3="WSD","WSD",""))))))))))) -> MDC | D3: =IF('full menu'!D3="MDC","MDC",IF('full menu'!D3="X","X",IF('full menu'!D3="UASC","UASC",IF(OR('full menu'!D3="PERF",'full menu'!D3="AERF",'full menu'!D3="PCB"),"ERfix",IF(OR('full menu'!D3="ACB",'full menu'!D3="LCERT",'full menu'!D3="LERT",'full menu'!D3="FCERT",'full menu'!D3="FERT"),"ERTs",IF(OR('full menu'!D3="FCMT",'full menu'!D3="FMT",'full menu'!D3="LMT",'full menu'!D3="LCMT"),"MTs",IF(OR('full menu'!D3="LCIT",'full menu'!D3="FCIT",'full menu'!D3="LIT",'full menu'!D3="FIT"),"ITs",IF(OR('full menu'!D3="MwERT",'full menu'!D3="ERwMT",'full menu'!D3="M&ERT",'full menu'!D3="MwIT",'full menu'!D3="IwMT",'full menu'!D3="M&IT",'full menu'!D3="IwERT",'full menu'!D3="ERwIT",'full menu'!D3="I&ERT",'full menu'!D3="ER&M&IT"),"MixedTs",IF('full menu'!D3="UD","UD",IF('full menu'!D3="LSD","LSD",IF('full menu'!D3="WSD","WSD",""))))))))))) -> MDC | E3: =IF('full menu'!E3="MDC","MDC",IF('full menu'!E3="X","X",IF('full menu'!E3="UASC","UASC",IF(OR('full menu'!E3="PERF",'full menu'!E3="AERF",'full menu'!E3="PCB"),"ERfix",IF(OR('full menu'!E3="ACB",'full menu'!E3="LCERT",'full menu'!E3="LERT",'full menu'!E3="FCERT",'full menu'!E3="FERT"),"ERTs",IF(OR('full menu'!E3="FCMT",'full menu'!E3="FMT",'full menu'!E3="LMT",'full menu'!E3="LCMT"),"MTs",IF(OR('full menu'!E3="LCIT",'full menu'!E3="FCIT",'full menu'!E3="LIT",'full menu'!E3="FIT"),"ITs",IF(OR('full menu'!E3="MwERT",'full menu'!E3="ERwMT",'full menu'!E3="M&ERT",'full menu'!E3="MwIT",'full menu'!E3="IwMT",'full menu'!E3="M&IT",'full menu'!E3="IwERT",'full menu'!E3="ERwIT",'full menu'!E3="I&ERT",'full menu'!E3="ER&M&IT"),"MixedTs",IF('full menu'!E3="UD","UD",IF('full menu'!E3="LSD","LSD",IF('full menu'!E3="WSD","WSD",""))))))))))) -> MDC | F3: =IF('full menu'!F3="MDC","MDC",IF('full menu'!F3="X","X",IF('full menu'!F3="UASC","UASC",IF(OR('full menu'!F3="PERF",'full menu'!F3="AERF",'full menu'!F3="PCB"),"ERfix",IF(OR('full menu'!F3="ACB",'full menu'!F3="LCERT",'full menu'!F3="LERT",'full menu'!F3="FCERT",'full menu'!F3="FERT"),"ERTs",IF(OR('full menu'!F3="FCMT",'full menu'!F3="FMT",'full menu'!F3="LMT",'full menu'!F3="LCMT"),"MTs",IF(OR('full menu'!F3="LCIT",'full menu'!F3="FCIT",'full menu'!F3="LIT",'full menu'!F3="FIT"),"ITs",IF(OR('full menu'!F3="MwERT",'full menu'!F3="ERwMT",'full menu'!F3="M&ERT",'full menu'!F3="MwIT",'full menu'!F3="IwMT",'full menu'!F3="M&IT",'full menu'!F3="IwERT",'full menu'!F3="ERwIT",'full menu'!F3="I&ERT",'full menu'!F3="ER&M&IT"),"MixedTs",IF('full menu'!F3="UD","UD",IF('full menu'!F3="LSD","LSD",IF('full menu'!F3="WSD","WSD",""))))))))))) -> MDC | G3: =IF('full menu'!G3="MDC","MDC",IF('full menu'!G3="X","X",IF('full menu'!G3="UASC","UASC",IF(OR('full menu'!G3="PERF",'full menu'!G3="AERF",'full menu'!G3="PCB"),"ERfix",IF(OR('full menu'!G3="ACB",'full menu'!G3="LCERT",'full menu'!G3="LERT",'full menu'!G3="FCERT",'full menu'!G3="FERT"),"ERTs",IF(OR('full menu'!G3="FCMT",'full menu'!G3="FMT",'full menu'!G3="LMT",'full menu'!G3="LCMT"),"MTs",IF(OR('full menu'!G3="LCIT",'full menu'!G3="FCIT",'full menu'!G3="LIT",'full menu'!G3="FIT"),"ITs",IF(OR('full menu'!G3="MwERT",'full menu'!G3="ERwMT",'full menu'!G3="M&ERT",'full menu'!G3="MwIT",'full menu'!G3="IwMT",'full menu'!G3="M&IT",'full menu'!G3="IwERT",'full menu'!G3="ERwIT",'full menu'!G3="I&ERT",'full menu'!G3="ER&M&IT"),"MixedTs",IF('full menu'!G3="UD","UD",IF('full menu'!G3="LSD","LSD",IF('full menu'!G3="WSD","WSD",""))))))))))) -> MDC | H3: =IF('full menu'!H3="MDC","MDC",IF('full menu'!H3="X","X",IF('full menu'!H3="UASC","UASC",IF(OR('full menu'!H3="PERF",'full menu'!H3="AERF",'full menu'!H3="PCB"),"ERfix",IF(OR('full menu'!H3="ACB",'full menu'!H3="LCERT",'full menu'!H3="LERT",'full menu'!H3="FCERT",'full menu'!H3="FERT"),"ERTs",IF(OR('full menu'!H3="FCMT",'full menu'!H3="FMT",'full menu'!H3="LMT",'full menu'!H3="LCMT"),"MTs",IF(OR('full menu'!H3="LCIT",'full menu'!H3="FCIT",'full menu'!H3="LIT",'full menu'!H3="FIT"),"ITs",IF(OR('full menu'!H3="MwERT",'full menu'!H3="ERwMT",'full menu'!H3="M&ERT",'full menu'!H3="MwIT",'full menu'!H3="IwMT",'full menu'!H3="M&IT",'full menu'!H3="IwERT",'full menu'!H3="ERwIT",'full menu'!H3="I&ERT",'full menu'!H3="ER&M&IT"),"MixedTs",IF('full menu'!H3="UD","UD",IF('full menu'!H3="LSD","LSD",IF('full menu'!H3="WSD","WSD",""))))))))))) -> MDC | I3: =IF('full menu'!I3="MDC","MDC",IF('full menu'!I3="X","X",IF('full menu'!I3="UASC","UASC",IF(OR('full menu'!I3="PERF",'full menu'!I3="AERF",'full menu'!I3="PCB"),"ERfix",IF(OR('full menu'!I3="ACB",'full menu'!I3="LCERT",'full menu'!I3="LERT",'full menu'!I3="FCERT",'full menu'!I3="FERT"),"ERTs",IF(OR('full menu'!I3="FCMT",'full menu'!I3="FMT",'full menu'!I3="LMT",'full menu'!I3="LCMT"),"MTs",IF(OR('full menu'!I3="LCIT",'full menu'!I3="FCIT",'full menu'!I3="LIT",'full menu'!I3="FIT"),"ITs",IF(OR('full menu'!I3="MwERT",'full menu'!I3="ERwMT",'full menu'!I3="M&ERT",'full menu'!I3="MwIT",'full menu'!I3="IwMT",'full menu'!I3="M&IT",'full menu'!I3="IwERT",'full menu'!I3="ERwIT",'full menu'!I3="I&ERT",'full menu'!I3="ER&M&IT"),"MixedTs",IF('full menu'!I3="UD","UD",IF('full menu'!I3="LSD","LSD",IF('full menu'!I3="WSD","WSD",""))))))))))) -> MDC | ... AS3: =IF('full menu'!AS3="MDC","MDC",IF('full menu'!AS3="X","X",IF('full menu'!AS3="UASC","UASC",IF(OR('full menu'!AS3="PERF",'full menu'!AS3="AERF",'full menu'!AS3="PCB"),"ERfix",IF(OR('full menu'!AS3="ACB",'full menu'!AS3="LCERT",'full menu'!AS3="LERT",'full menu'!AS3="FCERT",'full menu'!AS3="FERT"),"ERTs",IF(OR('full menu'!AS3="FCMT",'full menu'!AS3="FMT",'full menu'!AS3="LMT",'full menu'!AS3="LCMT"),"MTs",IF(OR('full menu'!AS3="LCIT",'full menu'!AS3="FCIT",'full menu'!AS3="LIT",'full menu'!AS3="FIT"),"ITs",IF(OR('full menu'!AS3="MwERT",'full menu'!AS3="ERwMT",'full menu'!AS3="M&ERT",'full menu'!AS3="MwIT",'full menu'!AS3="IwMT",'full menu'!AS3="M&IT",'full menu'!AS3="IwERT",'full menu'!AS3="ERwIT",'full menu'!AS3="I&ERT",'full menu'!AS3="ER&M&IT"),"MixedTs",IF('full menu'!AS3="UD","UD",IF('full menu'!AS3="LSD","LSD",IF('full menu'!AS3="WSD","WSD",""))))))))))) -> LSD
A4: Armenia | B4: =IF('full menu'!B4="MDC","MDC",IF('full menu'!B4="X","X",IF('full menu'!B4="UASC","UASC",IF(OR('full menu'!B4="PERF",'full menu'!B4="AERF",'full menu'!B4="PCB"),"ERfix",IF(OR('full menu'!B4="ACB",'full menu'!B4="LCERT",'full menu'!B4="LERT",'full menu'!B4="FCERT",'full menu'!B4="FERT"),"ERTs",IF(OR('full menu'!B4="FCMT",'full menu'!B4="FMT",'full menu'!B4="LMT",'full menu'!B4="LCMT"),"MTs",IF(OR('full menu'!B4="LCIT",'full menu'!B4="FCIT",'full menu'!B4="LIT",'full menu'!B4="FIT"),"ITs",IF(OR('full menu'!B4="MwERT",'full menu'!B4="ERwMT",'full menu'!B4="M&ERT",'full menu'!B4="MwIT",'full menu'!B4="IwMT",'full menu'!B4="M&IT",'full menu'!B4="IwERT",'full menu'!B4="ERwIT",'full menu'!B4="I&ERT",'full menu'!B4="ER&M&IT"),"MixedTs",IF('full menu'!B4="UD","UD",IF('full menu'!B4="LSD","LSD",IF('full menu'!B4="WSD","WSD",""))))))))))) -> X | C4: =IF('full menu'!C4="MDC","MDC",IF('full menu'!C4="X","X",IF('full menu'!C4="UASC","UASC",IF(OR('full menu'!C4="PERF",'full menu'!C4="AERF",'full menu'!C4="PCB"),"ERfix",IF(OR('full menu'!C4="ACB",'full menu'!C4="LCERT",'full menu'!C4="LERT",'full menu'!C4="FCERT",'full menu'!C4="FERT"),"ERTs",IF(OR('full menu'!C4="FCMT",'full menu'!C4="FMT",'full menu'!C4="LMT",'full menu'!C4="LCMT"),"MTs",IF(OR('full menu'!C4="LCIT",'full menu'!C4="FCIT",'full menu'!C4="LIT",'full menu'!C4="FIT"),"ITs",IF(OR('full menu'!C4="MwERT",'full menu'!C4="ERwMT",'full menu'!C4="M&ERT",'full menu'!C4="MwIT",'full menu'!C4="IwMT",'full menu'!C4="M&IT",'full menu'!C4="IwERT",'full menu'!C4="ERwIT",'full menu'!C4="I&ERT",'full menu'!C4="ER&M&IT"),"MixedTs",IF('full menu'!C4="UD","UD",IF('full menu'!C4="LSD","LSD",IF('full menu'!C4="WSD","WSD",""))))))))))) -> X | D4: =IF('full menu'!D4="MDC","MDC",IF('full menu'!D4="X","X",IF('full menu'!D4="UASC","UASC",IF(OR('full menu'!D4="PERF",'full menu'!D4="AERF",'full menu'!D4="PCB"),"ERfix",IF(OR('full menu'!D4="ACB",'full menu'!D4="LCERT",'full menu'!D4="LERT",'full menu'!D4="FCERT",'full menu'!D4="FERT"),"ERTs",IF(OR('full menu'!D4="FCMT",'full menu'!D4="FMT",'full menu'!D4="LMT",'full menu'!D4="LCMT"),"MTs",IF(OR('full menu'!D4="LCIT",'full menu'!D4="FCIT",'full menu'!D4="LIT",'full menu'!D4="FIT"),"ITs",IF(OR('full menu'!D4="MwERT",'full menu'!D4="ERwMT",'full menu'!D4="M&ERT",'full menu'!D4="MwIT",'full menu'!D4="IwMT",'full menu'!D4="M&IT",'full menu'!D4="IwERT",'full menu'!D4="ERwIT",'full menu'!D4="I&ERT",'full menu'!D4="ER&M&IT"),"MixedTs",IF('full menu'!D4="UD","UD",IF('full menu'!D4="LSD","LSD",IF('full menu'!D4="WSD","WSD",""))))))))))) -> X | E4: =IF('full menu'!E4="MDC","MDC",IF('full menu'!E4="X","X",IF('full menu'!E4="UASC","UASC",IF(OR('full menu'!E4="PERF",'full menu'!E4="AERF",'full menu'!E4="PCB"),"ERfix",IF(OR('full menu'!E4="ACB",'full menu'!E4="LCERT",'full menu'!E4="LERT",'full menu'!E4="FCERT",'full menu'!E4="FERT"),"ERTs",IF(OR('full menu'!E4="FCMT",'full menu'!E4="FMT",'full menu'!E4="LMT",'full menu'!E4="LCMT"),"MTs",IF(OR('full menu'!E4="LCIT",'full menu'!E4="FCIT",'full menu'!E4="LIT",'full menu'!E4="FIT"),"ITs",IF(OR('full menu'!E4="MwERT",'full menu'!E4="ERwMT",'full menu'!E4="M&ERT",'full menu'!E4="MwIT",'full menu'!E4="IwMT",'full menu'!E4="M&IT",'full menu'!E4="IwERT",'full menu'!E4="ERwIT",'full menu'!E4="I&ERT",'full menu'!E4="ER&M&IT"),"MixedTs",IF('full menu'!E4="UD","UD",IF('full menu'!E4="LSD","LSD",IF('full menu'!E4="WSD","WSD",""))))))))))) -> X | F4: =IF('full menu'!F4="MDC","MDC",IF('full menu'!F4="X","X",IF('full menu'!F4="UASC","UASC",IF(OR('full menu'!F4="PERF",'full menu'!F4="AERF",'full menu'!F4="PCB"),"ERfix",IF(OR('full menu'!F4="ACB",'full menu'!F4="LCERT",'full menu'!F4="LERT",'full menu'!F4="FCERT",'full menu'!F4="FERT"),"ERTs",IF(OR('full menu'!F4="FCMT",'full menu'!F4="FMT",'full menu'!F4="LMT",'full menu'!F4="LCMT"),"MTs",IF(OR('full menu'!F4="LCIT",'full menu'!F4="FCIT",'full menu'!F4="LIT",'full menu'!F4="FIT"),"ITs",IF(OR('full menu'!F4="MwERT",'full menu'!F4="ERwMT",'full menu'!F4="M&ERT",'full menu'!F4="MwIT",'full menu'!F4="IwMT",'full menu'!F4="M&IT",'full menu'!F4="IwERT",'full menu'!F4="ERwIT",'full menu'!F4="I&ERT",'full menu'!F4="ER&M&IT"),"MixedTs",IF('full menu'!F4="UD","UD",IF('full menu'!F4="LSD","LSD",IF('full menu'!F4="WSD","WSD",""))))))))))) -> X | G4: =IF('full menu'!G4="MDC","MDC",IF('full menu'!G4="X","X",IF('full menu'!G4="UASC","UASC",IF(OR('full menu'!G4="PERF",'full menu'!G4="AERF",'full menu'!G4="PCB"),"ERfix",IF(OR('full menu'!G4="ACB",'full menu'!G4="LCERT",'full menu'!G4="LERT",'full menu'!G4="FCERT",'full menu'!G4="FERT"),"ERTs",IF(OR('full menu'!G4="FCMT",'full menu'!G4="FMT",'full menu'!G4="LMT",'full menu'!G4="LCMT"),"MTs",IF(OR('full menu'!G4="LCIT",'full menu'!G4="FCIT",'full menu'!G4="LIT",'full menu'!G4="FIT"),"ITs",IF(OR('full menu'!G4="MwERT",'full menu'!G4="ERwMT",'full menu'!G4="M&ERT",'full menu'!G4="MwIT",'full menu'!G4="IwMT",'full menu'!G4="M&IT",'full menu'!G4="IwERT",'full menu'!G4="ERwIT",'full menu'!G4="I&ERT",'full menu'!G4="ER&M&IT"),"MixedTs",IF('full menu'!G4="UD","UD",IF('full menu'!G4="LSD","LSD",IF('full menu'!G4="WSD","WSD",""))))))))))) -> X | H4: =IF('full menu'!H4="MDC","MDC",IF('full menu'!H4="X","X",IF('full menu'!H4="UASC","UASC",IF(OR('full menu'!H4="PERF",'full menu'!H4="AERF",'full menu'!H4="PCB"),"ERfix",IF(OR('full menu'!H4="ACB",'full menu'!H4="LCERT",'full menu'!H4="LERT",'full menu'!H4="FCERT",'full menu'!H4="FERT"),"ERTs",IF(OR('full menu'!H4="FCMT",'full menu'!H4="FMT",'full menu'!H4="LMT",'full menu'!H4="LCMT"),"MTs",IF(OR('full menu'!H4="LCIT",'full menu'!H4="FCIT",'full menu'!H4="LIT",'full menu'!H4="FIT"),"ITs",IF(OR('full menu'!H4="MwERT",'full menu'!H4="ERwMT",'full menu'!H4="M&ERT",'full menu'!H4="MwIT",'full menu'!H4="IwMT",'full menu'!H4="M&IT",'full menu'!H4="IwERT",'full menu'!H4="ERwIT",'full menu'!H4="I&ERT",'full menu'!H4="ER&M&IT"),"MixedTs",IF('full menu'!H4="UD","UD",IF('full menu'!H4="LSD","LSD",IF('full menu'!H4="WSD","WSD",""))))))))))) -> X | I4: =IF('full menu'!I4="MDC","MDC",IF('full menu'!I4="X","X",IF('full menu'!I4="UASC","UASC",IF(OR('full menu'!I4="PERF",'full menu'!I4="AERF",'full menu'!I4="PCB"),"ERfix",IF(OR('full menu'!I4="ACB",'full menu'!I4="LCERT",'full menu'!I4="LERT",'full menu'!I4="FCERT",'full menu'!I4="FERT"),"ERTs",IF(OR('full menu'!I4="FCMT",'full menu'!I4="FMT",'full menu'!I4="LMT",'full menu'!I4="LCMT"),"MTs",IF(OR('full menu'!I4="LCIT",'full menu'!I4="FCIT",'full menu'!I4="LIT",'full menu'!I4="FIT"),"ITs",IF(OR('full menu'!I4="MwERT",'full menu'!I4="ERwMT",'full menu'!I4="M&ERT",'full menu'!I4="MwIT",'full menu'!I4="IwMT",'full menu'!I4="M&IT",'full menu'!I4="IwERT",'full menu'!I4="ERwIT",'full menu'!I4="I&ERT",'full menu'!I4="ER&M&IT"),"MixedTs",IF('full menu'!I4="UD","UD",IF('full menu'!I4="LSD","LSD",IF('full menu'!I4="WSD","WSD",""))))))))))) -> X | ... AS4: =IF('full menu'!AS4="MDC","MDC",IF('full menu'!AS4="X","X",IF('full menu'!AS4="UASC","UASC",IF(OR('full menu'!AS4="PERF",'full menu'!AS4="AERF",'full menu'!AS4="PCB"),"ERfix",IF(OR('full menu'!AS4="ACB",'full menu'!AS4="LCERT",'full menu'!AS4="LERT",'full menu'!AS4="FCERT",'full menu'!AS4="FERT"),"ERTs",IF(OR('full menu'!AS4="FCMT",'full menu'!AS4="FMT",'full menu'!AS4="LMT",'full menu'!AS4="LCMT"),"MTs",IF(OR('full menu'!AS4="LCIT",'full menu'!AS4="FCIT",'full menu'!AS4="LIT",'full menu'!AS4="FIT"),"ITs",IF(OR('full menu'!AS4="MwERT",'full menu'!AS4="ERwMT",'full menu'!AS4="M&ERT",'full menu'!AS4="MwIT",'full menu'!AS4="IwMT",'full menu'!AS4="M&IT",'full menu'!AS4="IwERT",'full menu'!AS4="ERwIT",'full menu'!AS4="I&ERT",'full menu'!AS4="ER&M&IT"),"MixedTs",IF('full menu'!AS4="UD","UD",IF('full menu'!AS4="LSD","LSD",IF('full menu'!AS4="WSD","WSD",""))))))))))) -> ITs
A5: Azerbaijan | B5: =IF('full menu'!B5="MDC","MDC",IF('full menu'!B5="X","X",IF('full menu'!B5="UASC","UASC",IF(OR('full menu'!B5="PERF",'full menu'!B5="AERF",'full menu'!B5="PCB"),"ERfix",IF(OR('full menu'!B5="ACB",'full menu'!B5="LCERT",'full menu'!B5="LERT",'full menu'!B5="FCERT",'full menu'!B5="FERT"),"ERTs",IF(OR('full menu'!B5="FCMT",'full menu'!B5="FMT",'full menu'!B5="LMT",'full menu'!B5="LCMT"),"MTs",IF(OR('full menu'!B5="LCIT",'full menu'!B5="FCIT",'full menu'!B5="LIT",'full menu'!B5="FIT"),"ITs",IF(OR('full menu'!B5="MwERT",'full menu'!B5="ERwMT",'full menu'!B5="M&ERT",'full menu'!B5="MwIT",'full menu'!B5="IwMT",'full menu'!B5="M&IT",'full menu'!B5="IwERT",'full menu'!B5="ERwIT",'full menu'!B5="I&ERT",'full menu'!B5="ER&M&IT"),"MixedTs",IF('full menu'!B5="UD","UD",IF('full menu'!B5="LSD","LSD",IF('full menu'!B5="WSD","WSD",""))))))))))) -> X | C5: =IF('full menu'!C5="MDC","MDC",IF('full menu'!C5="X","X",IF('full menu'!C5="UASC","UASC",IF(OR('full menu'!C5="PERF",'full menu'!C5="AERF",'full menu'!C5="PCB"),"ERfix",IF(OR('full menu'!C5="ACB",'full menu'!C5="LCERT",'full menu'!C5="LERT",'full menu'!C5="FCERT",'full menu'!C5="FERT"),"ERTs",IF(OR('full menu'!C5="FCMT",'full menu'!C5="FMT",'full menu'!C5="LMT",'full menu'!C5="LCMT"),"MTs",IF(OR('full menu'!C5="LCIT",'full menu'!C5="FCIT",'full menu'!C5="LIT",'full menu'!C5="FIT"),"ITs",IF(OR('full menu'!C5="MwERT",'full menu'!C5="ERwMT",'full menu'!C5="M&ERT",'full menu'!C5="MwIT",'full menu'!C5="IwMT",'full menu'!C5="M&IT",'full menu'!C5="IwERT",'full menu'!C5="ERwIT",'full menu'!C5="I&ERT",'full menu'!C5="ER&M&IT"),"MixedTs",IF('full menu'!C5="UD","UD",IF('full menu'!C5="LSD","LSD",IF('full menu'!C5="WSD","WSD",""))))))))))) -> X | D5: =IF('full menu'!D5="MDC","MDC",IF('full menu'!D5="X","X",IF('full menu'!D5="UASC","UASC",IF(OR('full menu'!D5="PERF",'full menu'!D5="AERF",'full menu'!D5="PCB"),"ERfix",IF(OR('full menu'!D5="ACB",'full menu'!D5="LCERT",'full menu'!D5="LERT",'full menu'!D5="FCERT",'full menu'!D5="FERT"),"ERTs",IF(OR('full menu'!D5="FCMT",'full menu'!D5="FMT",'full menu'!D5="LMT",'full menu'!D5="LCMT"),"MTs",IF(OR('full menu'!D5="LCIT",'full menu'!D5="FCIT",'full menu'!D5="LIT",'full menu'!D5="FIT"),"ITs",IF(OR('full menu'!D5="MwERT",'full menu'!D5="ERwMT",'full menu'!D5="M&ERT",'full menu'!D5="MwIT",'full menu'!D5="IwMT",'full menu'!D5="M&IT",'full menu'!D5="IwERT",'full menu'!D5="ERwIT",'full menu'!D5="I&ERT",'full menu'!D5="ER&M&IT"),"MixedTs",IF('full menu'!D5="UD","UD",IF('full menu'!D5="LSD","LSD",IF('full menu'!D5="WSD","WSD",""))))))))))) -> X | E5: =IF('full menu'!E5="MDC","MDC",IF('full menu'!E5="X","X",IF('full menu'!E5="UASC","UASC",IF(OR('full menu'!E5="PERF",'full menu'!E5="AERF",'full menu'!E5="PCB"),"ERfix",IF(OR('full menu'!E5="ACB",'full menu'!E5="LCERT",'full menu'!E5="LERT",'full menu'!E5="FCERT",'full menu'!E5="FERT"),"ERTs",IF(OR('full menu'!E5="FCMT",'full menu'!E5="FMT",'full menu'!E5="LMT",'full menu'!E5="LCMT"),"MTs",IF(OR('full menu'!E5="LCIT",'full menu'!E5="FCIT",'full menu'!E5="LIT",'full menu'!E5="FIT"),"ITs",IF(OR('full menu'!E5="MwERT",'full menu'!E5="ERwMT",'full menu'!E5="M&ERT",'full menu'!E5="MwIT",'full menu'!E5="IwMT",'full menu'!E5="M&IT",'full menu'!E5="IwERT",'full menu'!E5="ERwIT",'full menu'!E5="I&ERT",'full menu'!E5="ER&M&IT"),"MixedTs",IF('full menu'!E5="UD","UD",IF('full menu'!E5="LSD","LSD",IF('full menu'!E5="WSD","WSD",""))))))))))) -> X | F5: =IF('full menu'!F5="MDC","MDC",IF('full menu'!F5="X","X",IF('full menu'!F5="UASC","UASC",IF(OR('full menu'!F5="PERF",'full menu'!F5="AERF",'full menu'!F5="PCB"),"ERfix",IF(OR('full menu'!F5="ACB",'full menu'!F5="LCERT",'full menu'!F5="LERT",'full menu'!F5="FCERT",'full menu'!F5="FERT"),"ERTs",IF(OR('full menu'!F5="FCMT",'full menu'!F5="FMT",'full menu'!F5="LMT",'full menu'!F5="LCMT"),"MTs",IF(OR('full menu'!F5="LCIT",'full menu'!F5="FCIT",'full menu'!F5="LIT",'full menu'!F5="FIT"),"ITs",IF(OR('full menu'!F5="MwERT",'full menu'!F5="ERwMT",'full menu'!F5="M&ERT",'full menu'!F5="MwIT",'full menu'!F5="IwMT",'full menu'!F5="M&IT",'full menu'!F5="IwERT",'full menu'!F5="ERwIT",'full menu'!F5="I&ERT",'full menu'!F5="ER&M&IT"),"MixedTs",IF('full menu'!F5="UD","UD",IF('full menu'!F5="LSD","LSD",IF('full menu'!F5="WSD","WSD",""))))))))))) -> X | G5: =IF('full menu'!G5="MDC","MDC",IF('full menu'!G5="X","X",IF('full menu'!G5="UASC","UASC",IF(OR('full menu'!G5="PERF",'full menu'!G5="AERF",'full menu'!G5="PCB"),"ERfix",IF(OR('full menu'!G5="ACB",'full menu'!G5="LCERT",'full menu'!G5="LERT",'full menu'!G5="FCERT",'full menu'!G5="FERT"),"ERTs",IF(OR('full menu'!G5="FCMT",'full menu'!G5="FMT",'full menu'!G5="LMT",'full menu'!G5="LCMT"),"MTs",IF(OR('full menu'!G5="LCIT",'full menu'!G5="FCIT",'full menu'!G5="LIT",'full menu'!G5="FIT"),"ITs",IF(OR('full menu'!G5="MwERT",'full menu'!G5="ERwMT",'full menu'!G5="M&ERT",'full menu'!G5="MwIT",'full menu'!G5="IwMT",'full menu'!G5="M&IT",'full menu'!G5="IwERT",'full menu'!G5="ERwIT",'full menu'!G5="I&ERT",'full menu'!G5="ER&M&IT"),"MixedTs",IF('full menu'!G5="UD","UD",IF('full menu'!G5="LSD","LSD",IF('full menu'!G5="WSD","WSD",""))))))))))) -> X | H5: =IF('full menu'!H5="MDC","MDC",IF('full menu'!H5="X","X",IF('full menu'!H5="UASC","UASC",IF(OR('full menu'!H5="PERF",'full menu'!H5="AERF",'full menu'!H5="PCB"),"ERfix",IF(OR('full menu'!H5="ACB",'full menu'!H5="LCERT",'full menu'!H5="LERT",'full menu'!H5="FCERT",'full menu'!H5="FERT"),"ERTs",IF(OR('full menu'!H5="FCMT",'full menu'!H5="FMT",'full menu'!H5="LMT",'full menu'!H5="LCMT"),"MTs",IF(OR('full menu'!H5="LCIT",'full menu'!H5="FCIT",'full menu'!H5="LIT",'full menu'!H5="FIT"),"ITs",IF(OR('full menu'!H5="MwERT",'full menu'!H5="ERwMT",'full menu'!H5="M&ERT",'full menu'!H5="MwIT",'full menu'!H5="IwMT",'full menu'!H5="M&IT",'full menu'!H5="IwERT",'full menu'!H5="ERwIT",'full menu'!H5="I&ERT",'full menu'!H5="ER&M&IT"),"MixedTs",IF('full menu'!H5="UD","UD",IF('full menu'!H5="LSD","LSD",IF('full menu'!H5="WSD","WSD",""))))))))))) -> X | I5: =IF('full menu'!I5="MDC","MDC",IF('full menu'!I5="X","X",IF('full menu'!I5="UASC","UASC",IF(OR('full menu'!I5="PERF",'full menu'!I5="AERF",'full menu'!I5="PCB"),"ERfix",IF(OR('full menu'!I5="ACB",'full menu'!I5="LCERT",'full menu'!I5="LERT",'full menu'!I5="FCERT",'full menu'!I5="FERT"),"ERTs",IF(OR('full menu'!I5="FCMT",'full menu'!I5="FMT",'full menu'!I5="LMT",'full menu'!I5="LCMT"),"MTs",IF(OR('full menu'!I5="LCIT",'full menu'!I5="FCIT",'full menu'!I5="LIT",'full menu'!I5="FIT"),"ITs",IF(OR('full menu'!I5="MwERT",'full menu'!I5="ERwMT",'full menu'!I5="M&ERT",'full menu'!I5="MwIT",'full menu'!I5="IwMT",'full menu'!I5="M&IT",'full menu'!I5="IwERT",'full menu'!I5="ERwIT",'full menu'!I5="I&ERT",'full menu'!I5="ER&M&IT"),"MixedTs",IF('full menu'!I5="UD","UD",IF('full menu'!I5="LSD","LSD",IF('full menu'!I5="WSD","WSD",""))))))))))) -> X | ... AS5: =IF('full menu'!AS5="MDC","MDC",IF('full menu'!AS5="X","X",IF('full menu'!AS5="UASC","UASC",IF(OR('full menu'!AS5="PERF",'full menu'!AS5="AERF",'full menu'!AS5="PCB"),"ERfix",IF(OR('full menu'!AS5="ACB",'full menu'!AS5="LCERT",'full menu'!AS5="LERT",'full menu'!AS5="FCERT",'full menu'!AS5="FERT"),"ERTs",IF(OR('full menu'!AS5="FCMT",'full menu'!AS5="FMT",'full menu'!AS5="LMT",'full menu'!AS5="LCMT"),"MTs",IF(OR('full menu'!AS5="LCIT",'full menu'!AS5="FCIT",'full menu'!AS5="LIT",'full menu'!AS5="FIT"),"ITs",IF(OR('full menu'!AS5="MwERT",'full menu'!AS5="ERwMT",'full menu'!AS5="M&ERT",'full menu'!AS5="MwIT",'full menu'!AS5="IwMT",'full menu'!AS5="M&IT",'full menu'!AS5="IwERT",'full menu'!AS5="ERwIT",'full menu'!AS5="I&ERT",'full menu'!AS5="ER&M&IT"),"MixedTs",IF('full menu'!AS5="UD","UD",IF('full menu'!AS5="LSD","LSD",IF('full menu'!AS5="WSD","WSD",""))))))))))) -> LSD
A6: Belarus | B6: =IF('full menu'!B6="MDC","MDC",IF('full menu'!B6="X","X",IF('full menu'!B6="UASC","UASC",IF(OR('full menu'!B6="PERF",'full menu'!B6="AERF",'full menu'!B6="PCB"),"ERfix",IF(OR('full menu'!B6="ACB",'full menu'!B6="LCERT",'full menu'!B6="LERT",'full menu'!B6="FCERT",'full menu'!B6="FERT"),"ERTs",IF(OR('full menu'!B6="FCMT",'full menu'!B6="FMT",'full menu'!B6="LMT",'full menu'!B6="LCMT"),"MTs",IF(OR('full menu'!B6="LCIT",'full menu'!B6="FCIT",'full menu'!B6="LIT",'full menu'!B6="FIT"),"ITs",IF(OR('full menu'!B6="MwERT",'full menu'!B6="ERwMT",'full menu'!B6="M&ERT",'full menu'!B6="MwIT",'full menu'!B6="IwMT",'full menu'!B6="M&IT",'full menu'!B6="IwERT",'full menu'!B6="ERwIT",'full menu'!B6="I&ERT",'full menu'!B6="ER&M&IT"),"MixedTs",IF('full menu'!B6="UD","UD",IF('full menu'!B6="LSD","LSD",IF('full menu'!B6="WSD","WSD",""))))))))))) -> X | C6: =IF('full menu'!C6="MDC","MDC",IF('full menu'!C6="X","X",IF('full menu'!C6="UASC","UASC",IF(OR('full menu'!C6="PERF",'full menu'!C6="AERF",'full menu'!C6="PCB"),"ERfix",IF(OR('full menu'!C6="ACB",'full menu'!C6="LCERT",'full menu'!C6="LERT",'full menu'!C6="FCERT",'full menu'!C6="FERT"),"ERTs",IF(OR('full menu'!C6="FCMT",'full menu'!C6="FMT",'full menu'!C6="LMT",'full menu'!C6="LCMT"),"MTs",IF(OR('full menu'!C6="LCIT",'full menu'!C6="FCIT",'full menu'!C6="LIT",'full menu'!C6="FIT"),"ITs",IF(OR('full menu'!C6="MwERT",'full menu'!C6="ERwMT",'full menu'!C6="M&ERT",'full menu'!C6="MwIT",'full menu'!C6="IwMT",'full menu'!C6="M&IT",'full menu'!C6="IwERT",'full menu'!C6="ERwIT",'full menu'!C6="I&ERT",'full menu'!C6="ER&M&IT"),"MixedTs",IF('full menu'!C6="UD","UD",IF('full menu'!C6="LSD","LSD",IF('full menu'!C6="WSD","WSD",""))))))))))) -> X | D6: =IF('full menu'!D6="MDC","MDC",IF('full menu'!D6="X","X",IF('full menu'!D6="UASC","UASC",IF(OR('full menu'!D6="PERF",'full menu'!D6="AERF",'full menu'!D6="PCB"),"ERfix",IF(OR('full menu'!D6="ACB",'full menu'!D6="LCERT",'full menu'!D6="LERT",'full menu'!D6="FCERT",'full menu'!D6="FERT"),"ERTs",IF(OR('full menu'!D6="FCMT",'full menu'!D6="FMT",'full menu'!D6="LMT",'full menu'!D6="LCMT"),"MTs",IF(OR('full menu'!D6="LCIT",'full menu'!D6="FCIT",'full menu'!D6="LIT",'full menu'!D6="FIT"),"ITs",IF(OR('full menu'!D6="MwERT",'full menu'!D6="ERwMT",'full menu'!D6="M&ERT",'full menu'!D6="MwIT",'full menu'!D6="IwMT",'full menu'!D6="M&IT",'full menu'!D6="IwERT",'full menu'!D6="ERwIT",'full menu'!D6="I&ERT",'full menu'!D6="ER&M&IT"),"MixedTs",IF('full menu'!D6="UD","UD",IF('full menu'!D6="LSD","LSD",IF('full menu'!D6="WSD","WSD",""))))))))))) -> X | E6: =IF('full menu'!E6="MDC","MDC",IF('full menu'!E6="X","X",IF('full menu'!E6="UASC","UASC",IF(OR('full menu'!E6="PERF",'full menu'!E6="AERF",'full menu'!E6="PCB"),"ERfix",IF(OR('full menu'!E6="ACB",'full menu'!E6="LCERT",'full menu'!E6="LERT",'full menu'!E6="FCERT",'full menu'!E6="FERT"),"ERTs",IF(OR('full menu'!E6="FCMT",'full menu'!E6="FMT",'full menu'!E6="LMT",'full menu'!E6="LCMT"),"MTs",IF(OR('full menu'!E6="LCIT",'full menu'!E6="FCIT",'full menu'!E6="LIT",'full menu'!E6="FIT"),"ITs",IF(OR('full menu'!E6="MwERT",'full menu'!E6="ERwMT",'full menu'!E6="M&ERT",'full menu'!E6="MwIT",'full menu'!E6="IwMT",'full menu'!E6="M&IT",'full menu'!E6="IwERT",'full menu'!E6="ERwIT",'full menu'!E6="I&ERT",'full menu'!E6="ER&M&IT"),"MixedTs",IF('full menu'!E6="UD","UD",IF('full menu'!E6="LSD","LSD",IF('full menu'!E6="WSD","WSD",""))))))))))) -> X | F6: =IF('full menu'!F6="MDC","MDC",IF('full menu'!F6="X","X",IF('full menu'!F6="UASC","UASC",IF(OR('full menu'!F6="PERF",'full menu'!F6="AERF",'full menu'!F6="PCB"),"ERfix",IF(OR('full menu'!F6="ACB",'full menu'!F6="LCERT",'full menu'!F6="LERT",'full menu'!F6="FCERT",'full menu'!F6="FERT"),"ERTs",IF(OR('full menu'!F6="FCMT",'full menu'!F6="FMT",'full menu'!F6="LMT",'full menu'!F6="LCMT"),"MTs",IF(OR('full menu'!F6="LCIT",'full menu'!F6="FCIT",'full menu'!F6="LIT",'full menu'!F6="FIT"),"ITs",IF(OR('full menu'!F6="MwERT",'full menu'!F6="ERwMT",'full menu'!F6="M&ERT",'full menu'!F6="MwIT",'full menu'!F6="IwMT",'full menu'!F6="M&IT",'full menu'!F6="IwERT",'full menu'!F6="ERwIT",'full menu'!F6="I&ERT",'full menu'!F6="ER&M&IT"),"MixedTs",IF('full menu'!F6="UD","UD",IF('full menu'!F6="LSD","LSD",IF('full menu'!F6="WSD","WSD",""))))))))))) -> X | G6: =IF('full menu'!G6="MDC","MDC",IF('full menu'!G6="X","X",IF('full menu'!G6="UASC","UASC",IF(OR('full menu'!G6="PERF",'full menu'!G6="AERF",'full menu'!G6="PCB"),"ERfix",IF(OR('full menu'!G6="ACB",'full menu'!G6="LCERT",'full menu'!G6="LERT",'full menu'!G6="FCERT",'full menu'!G6="FERT"),"ERTs",IF(OR('full menu'!G6="FCMT",'full menu'!G6="FMT",'full menu'!G6="LMT",'full menu'!G6="LCMT"),"MTs",IF(OR('full menu'!G6="LCIT",'full menu'!G6="FCIT",'full menu'!G6="LIT",'full menu'!G6="FIT"),"ITs",IF(OR('full menu'!G6="MwERT",'full menu'!G6="ERwMT",'full menu'!G6="M&ERT",'full menu'!G6="MwIT",'full menu'!G6="IwMT",'full menu'!G6="M&IT",'full menu'!G6="IwERT",'full menu'!G6="ERwIT",'full menu'!G6="I&ERT",'full menu'!G6="ER&M&IT"),"MixedTs",IF('full menu'!G6="UD","UD",IF('full menu'!G6="LSD","LSD",IF('full menu'!G6="WSD","WSD",""))))))))))) -> X | H6: =IF('full menu'!H6="MDC","MDC",IF('full menu'!H6="X","X",IF('full menu'!H6="UASC","UASC",IF(OR('full menu'!H6="PERF",'full menu'!H6="AERF",'full menu'!H6="PCB"),"ERfix",IF(OR('full menu'!H6="ACB",'full menu'!H6="LCERT",'full menu'!H6="LERT",'full menu'!H6="FCERT",'full menu'!H6="FERT"),"ERTs",IF(OR('full menu'!H6="FCMT",'full menu'!H6="FMT",'full menu'!H6="LMT",'full menu'!H6="LCMT"),"MTs",IF(OR('full menu'!H6="LCIT",'full menu'!H6="FCIT",'full menu'!H6="LIT",'full menu'!H6="FIT"),"ITs",IF(OR('full menu'!H6="MwERT",'full menu'!H6="ERwMT",'full menu'!H6="M&ERT",'full menu'!H6="MwIT",'full menu'!H6="IwMT",'full menu'!H6="M&IT",'full menu'!H6="IwERT",'full menu'!H6="ERwIT",'full menu'!H6="I&ERT",'full menu'!H6="ER&M&IT"),"MixedTs",IF('full menu'!H6="UD","UD",IF('full menu'!H6="LSD","LSD",IF('full menu'!H6="WSD","WSD",""))))))))))) -> X | I6: =IF('full menu'!I6="MDC","MDC",IF('full menu'!I6="X","X",IF('full menu'!I6="UASC","UASC",IF(OR('full menu'!I6="PERF",'full menu'!I6="AERF",'full menu'!I6="PCB"),"ERfix",IF(OR('full menu'!I6="ACB",'full menu'!I6="LCERT",'full menu'!I6="LERT",'full menu'!I6="FCERT",'full menu'!I6="FERT"),"ERTs",IF(OR('full menu'!I6="FCMT",'full menu'!I6="FMT",'full menu'!I6="LMT",'full menu'!I6="LCMT"),"MTs",IF(OR('full menu'!I6="LCIT",'full menu'!I6="FCIT",'full menu'!I6="LIT",'full menu'!I6="FIT"),"ITs",IF(OR('full menu'!I6="MwERT",'full menu'!I6="ERwMT",'full menu'!I6="M&ERT",'full menu'!I6="MwIT",'full menu'!I6="IwMT",'full menu'!I6="M&IT",'full menu'!I6="IwERT",'full menu'!I6="ERwIT",'full menu'!I6="I&ERT",'full menu'!I6="ER&M&IT"),"MixedTs",IF('full menu'!I6="UD","UD",IF('full menu'!I6="LSD","LSD",IF('full menu'!I6="WSD","WSD",""))))))))))) -> X | ... AS6: =IF('full menu'!AS6="MDC","MDC",IF('full menu'!AS6="X","X",IF('full menu'!AS6="UASC","UASC",IF(OR('full menu'!AS6="PERF",'full menu'!AS6="AERF",'full menu'!AS6="PCB"),"ERfix",IF(OR('full menu'!AS6="ACB",'full menu'!AS6="LCERT",'full menu'!AS6="LERT",'full menu'!AS6="FCERT",'full menu'!AS6="FERT"),"ERTs",IF(OR('full menu'!AS6="FCMT",'full menu'!AS6="FMT",'full menu'!AS6="LMT",'full menu'!AS6="LCMT"),"MTs",IF(OR('full menu'!AS6="LCIT",'full menu'!AS6="FCIT",'full menu'!AS6="LIT",'full menu'!AS6="FIT"),"ITs",IF(OR('full menu'!AS6="MwERT",'full menu'!AS6="ERwMT",'full menu'!AS6="M&ERT",'full menu'!AS6="MwIT",'full menu'!AS6="IwMT",'full menu'!AS6="M&IT",'full menu'!AS6="IwERT",'full menu'!AS6="ERwIT",'full menu'!AS6="I&ERT",'full menu'!AS6="ER&M&IT"),"MixedTs",IF('full menu'!AS6="UD","UD",IF('full menu'!AS6="LSD","LSD",IF('full menu'!AS6="WSD","WSD",""))))))))))) -> LSD
