Workbook

Sheet full menu
A1: country | B1: 1974 | C1: 1975 | D1: 1976 | E1: 1977 | F1: 1978 | G1: 1979 | H1: 1980 | I1: 1981 | J1: 1982 | K1: 1983 | L1: 1984 | M1: 1985 | N1: 1986 | O1: 1987 | P1: 1988 | Q1: 1989 | R1: 1990 | S1: 1991 | T1: 1992 | U1: 1993 | V1: 1994 | W1: 1995 | X1: 1996 | Y1: 1997 | Z1: 1998 | AA1: 1999 | AB1: 2000 | AC1: 2001 | AD1: 2002 | AE1: 2003 | AF1: 2004 | AG1: 2005 | AH1: 2006 | AI1: 2007 | AJ1: 2008 | AK1: 2009 | AL1: 2010 | AM1: 2011 | AN1: 2012 | AO1: 2013 | AP1: 2014 | AQ1: 2015 | AR1: 2016 | AS1: 2017
A2: Afghanistan | B2: UD | C2: UD | D2: UD | E2: UD | F2: UD | G2: UD | H2: UD | I2: UD | J2: UD | K2: UD | L2: UD | M2: UD | N2: UD | O2: UD | P2: UD | Q2: UD | R2: UD | S2: UD | T2: UD | U2: UD | V2: UD | W2: UD | X2: UD | Y2: UD | Z2: UD | AA2: UD | AB2: UD | AC2: UD | AD2: UD | AE2: LSD | AF2: LSD | AG2: LSD | AH2: LSD | AI2: LSD | AJ2: LSD | AK2: LSD | AL2: LSD | AM2: LSD | AN2: LSD | AO2: LSD | AP2: LSD | AQ2: LSD | AR2: LSD | AS2: LSD
A3: Angola | B3: X | C3: X | D3: UD | E3: UD | F3: UD | G3: UD | H3: UD | I3: UD | J3: UD | K3: UD | L3: UD | M3: UD | N3: UD | O3: UD | P3: UD | Q3: UD | R3: UD | S3: UD | T3: UD | U3: UD | V3: UD | W3: UD | X3: UD | Y3: UD | Z3: UD | AA3: LSD | AB3: LSD | AC3: LSD | AD3: LSD | AE3: LSD | AF3: LSD | AG3: LSD | AH3: LSD | AI3: LSD | AJ3: LSD | AK3: LSD | AL3: LSD | AM3: LSD | AN3: LSD | AO3: LSD | AP3: LSD | AQ3: LSD | AR3: LSD | AS3: LSD
A4: Bangladesh | B4: AERF | C4: LSD | D4: LSD | E4: LSD | F4: LSD | G4: LSD | H4: LSD | I4: LSD | J4: LSD | K4: LSD | L4: LSD | M4: LSD | N4: LSD | O4: LSD | P4: LSD | Q4: LSD | R4: LSD | S4: LSD | T4: LSD | U4: LSD | V4: LSD | W4: LSD | X4: LSD | Y4: LSD | Z4: LSD | AA4: LSD | AB4: LSD | AC4: LSD | AD4: LSD | AE4: LSD | AF4: LSD | AG4: LSD | AH4: LSD | AI4: LSD | AJ4: LSD | AK4: LSD | AL4: LSD | AM4: LSD | AN4: LSD | AO4: LSD | AP4: LSD | AQ4: LSD | AR4: LSD | AS4: LSD
A5: Benin | B5: CU | C5: CU | D5: CU | E5: CU | F5: CU | G5: CU | H5: CU | I5: CU | J5: CU | K5: CU | L5: CU | M5: CU | N5: CU | O5: CU | P5: CU | Q5: CU | R5: CU | S5: CU | T5: CU | U5: CU | V5: CU | W5: CU | X5: CU | Y5: CU | Z5: CU | AA5: CU | AB5: CU | AC5: CU | AD5: CU | AE5: CU | AF5: CU | AG5: CU | AH5: CU | AI5: CU | AJ5: CU | AK5: CU | AL5: CU | AM5: CU | AN5: CU | AO5: CU | AP5: CU | AQ5: CU | AR5: CU | AS5: CU
A6: Bhutan | B6: UASC | C6: UASC | D6: UASC | E6: UASC | F6: UASC | G6: UASC | H6: UASC | I6: UASC | J6: UASC | K6: UASC | L6: UASC | M6: UASC | N6: UASC | O6: UASC | P6: UASC | Q6: AERF | R6: AERF | S6: AERF | T6: AERF | U6: AERF | V6: AERF | W6: AERF | X6: AERF | Y6: AERF | Z6: AERF | AA6: AERF | AB6: AERF | AC6: AERF | AD6: AERF | AE6: AERF | AF6: AERF | AG6: AERF | AH6: AERF | AI6: AERF | AJ6: AERF | AK6: AERF | AL6: AERF | AM6: AERF | AN6: AERF | AO6: AERF | AP6: AERF | AQ6: AERF | AR6: AERF | AS6: AERF
A7: Burkina Faso | B7: CU | C7: CU | D7: CU | E7: CU | F7: CU | G7: CU | H7: CU | I7: CU | J7: CU | K7: CU | L7: CU | M7: CU | N7: CU | O7: CU | P7: CU | Q7: CU | R7: CU | S7: CU | T7: CU | U7: CU | V7: CU | W7: CU | X7: CU | Y7: CU | Z7: CU | AA7: CU | AB7: CU | AC7: CU | AD7: CU | AE7: CU | AF7: CU | AG7: CU | AH7: CU | AI7: CU | AJ7: CU | AK7: CU | AL7: CU | AM7: CU | AN7: CU | AO7: CU | AP7: CU | AQ7: CU | AR7: CU | AS7: CU
A8: Burundi | B8: AERF | C8: AERF | D8: AERF | E8: AERF | F8: AERF | G8: AERF | H8: AERF | I8: AERF | J8: AERF | K8: AERF | L8: AERF | M8: AERF | N8: AERF | O8: LSD | P8: LSD | Q8: LSD | R8: LSD | S8: LSD | T8: LSD | U8: LSD | V8: LSD | W8: LSD | X8: LSD | Y8: LSD | Z8: LSD | AA8: LSD | AB8: LSD | AC8: LSD | AD8: LSD | AE8: LSD | AF8: LSD | AG8: LSD | AH8: LSD | AI8: LSD | AJ8: LSD | AK8: LSD | AL8: LSD | AM8: LSD | AN8: LSD | AO8: LSD | AP8: LSD | AQ8: LSD | AR8: LSD | AS8: LSD
A9: CAEMC | B9: AERF | C9: AERF | D9: AERF | E9: AERF | F9: AERF | G9: AERF | H9: AERF | I9: AERF | J9: AERF | K9: AERF | L9: AERF | M9: AERF | N9: AERF | O9: AERF | P9: AERF | Q9: AERF | R9: AERF | S9: AERF | T9: AERF | U9: AERF | V9: AERF | W9: AERF | X9: AERF | Y9: AERF | Z9: AERF | AA9: AERF | AB9: AERF | AC9: AERF | AD9: AERF | AE9: AERF | AF9: AERF | AG9: AERF | AH9: AERF | AI9: AERF | AJ9: AERF | AK9: AERF | AL9: AERF | AM9: AERF | AN9: AERF | AO9: AERF | AP9: AERF | AQ9: AERF | AR9: AERF | AS9: AERF
A10: Cambodia | B10: UD | C10: UD | D10: UD | E10: UD | F10: UD | G10: UD | H10: UD | I10: UD | J10: UD | K10: UD | L10: UD | M10: UD | N10: UD | O10: UD | P10: UD | Q10: UD | R10: UD | S10: UD | T10: UD | U10: LSD | V10: LSD | W10: LSD | X10: LSD | Y10: LSD | Z10: LSD | AA10: LSD | AB10: LSD | AC10: LSD | AD10: LSD | AE10: LSD | AF10: LSD | AG10: LSD | AH10: LSD | AI10: LSD | AJ10: LSD | AK10: LSD | AL10: LSD | AM10: LSD | AN10: LSD | AO10: LSD | AP10: LSD | AQ10: LSD | AR10: LSD | AS10: LSD
A11: Central African Republic | B11: CU | C11: CU | D11: CU | E11: CU | F11: CU | G11: CU | H11: CU | I11: CU | J11: CU | K11: CU | L11: CU | M11: CU | N11: CU | O11: CU | P11: CU | Q11: CU | R11: CU | S11: CU | T11: CU | U11: CU | V11: CU | W11: CU | X11: CU | Y11: CU | Z11: CU | AA11: CU | AB11: CU | AC11: CU | AD11: CU | AE11: CU | AF11: CU | AG11: CU | AH11: CU | AI11: CU | AJ11: CU | AK11: CU | AL11: CU | AM11: CU | AN11: CU | AO11: CU | AP11: CU | AQ11: CU | AR11: CU | AS11: CU
A12: Chad | B12: CU | C12: CU | D12: CU | E12: CU | F12: CU | G12: CU | H12: CU | I12: CU | J12: CU | K12: CU | L12: CU | M12: CU | N12: CU | O12: CU | P12: CU | Q12: CU | R12: CU | S12: CU | T12: CU | U12: CU | V12: CU | W12: CU | X12: CU | Y12: CU | Z12: CU | AA12: CU | AB12: CU | AC12: CU | AD12: CU | AE12: CU | AF12: CU | AG12: CU | AH12: CU | AI12: CU | AJ12: CU | AK12: CU | AL12: CU | AM12: CU | AN12: CU | AO12: CU | AP12: CU | AQ12: CU | AR12: CU | AS12: CU
A13: Comoros | B13: X | C13: X | D13: AERF | E13: AERF | F13: AERF | G13: AERF | H13: AERF | I13: AERF | J13: AERF | K13: AERF | L13: AERF | M13: AERF | N13: AERF | O13: AERF | P13: AERF | Q13: AERF | R13: AERF | S13: AERF | T13: AERF | U13: AERF | V13: AERF | W13: AERF | X13: AERF | Y13: AERF | Z13: AERF | AA13: AERF | AB13: AERF | AC13: AERF | AD13: AERF | AE13: AERF | AF13: AERF | AG13: AERF | AH13: AERF | AI13: AERF | AJ13: AERF | AK13: AERF | AL13: AERF | AM13: AERF | AN13: AERF | AO13: AERF | AP13: AERF | AQ13: AERF | AR13: AERF | AS13: AERF
... A60: Zimbabwe | B60: X | C60: X | D60: X | E60: X | F60: X | G60: X | H60: AERF | I60: AERF | J60: AERF | K60: LSD | L60: LSD | M60: LSD | N60: LSD | O60: LSD | P60: LSD | Q60: LSD | R60: LSD | S60: LSD | T60: LSD | U60: LSD | V60: LSD | W60: LSD | X60: LSD | Y60: LSD | Z60: LSD | AA60: LSD | AB60: UD | AC60: UD | AD60: UD | AE60: UD | AF60: UD | AG60: UD | AH60: UD | AI60: UD | AJ60: UD | AK60: UASC | AL60: UASC | AM60: UASC | AN60: UASC | AO60: UASC | AP60: UASC | AQ60: UD | AR60: UD | AS60: UD
B63: 1974 | C63: 1975 | D63: 1976 | E63: 1977 | F63: 1978 | G63: 1979 | H63: 1980 | I63: 1981 | J63: 1982 | K63: 1983 | L63: 1984 | M63: 1985 | N63: 1986 | O63: 1987 | P63: 1988 | Q63: 1989 | R63: 1990 | S63: 1991 | T63: 1992 | U63: 1993 | V63: 1994 | W63: 1995 | X63: 1996 | Y63: 1997 | Z63: 1998 | AA63: 1999 | AB63: 2000 | AC63: 2001 | AD63: 2002 | AE63: 2003 | AF63: 2004 | AG63: 2005 | AH63: 2006 | AI63: 2007 | AJ63: 2008 | AK63: 2009 | AL63: 2010 | AM63: 2011 | AN63: 2012 | AO63: 2013 | AP63: 2014 | AQ63: 2015 | AR63: 2016 | AS63: 2017
A64: X | B64: =COUNTIF(B2:B60,"X") -> 14 | C64: =COUNTIF(C2:C60,"X") -> 12 | D64: =COUNTIF(D2:D60,"X") -> 9 | E64: =COUNTIF(E2:E60,"X") -> 9 | F64: =COUNTIF(F2:F60,"X") -> 8 | G64: =COUNTIF(G2:G60,"X") -> 8 | H64: =COUNTIF(H2:H60,"X") -> 7 | I64: =COUNTIF(I2:I60,"X") -> 7 | ... AS64: =COUNTIF(AS2:AS60,"X") -> 2
A65: MDC | B65: =COUNTIF(B2:B60,"MDC") -> 4 | C65: =COUNTIF(C2:C60,"MDC") -> 6 | D65: =COUNTIF(D2:D60,"MDC") -> 6 | E65: =COUNTIF(E2:E60,"MDC") -> 6 | F65: =COUNTIF(F2:F60,"MDC") -> 6 | G65: =COUNTIF(G2:G60,"MDC") -> 7 | H65: =COUNTIF(H2:H60,"MDC") -> 7 | I65: =COUNTIF(I2:I60,"MDC") -> 7 | ... AS65: =COUNTIF(AS2:AS60,"MDC") -> 1
A66: PERF | B66: =COUNTIF(B2:B60,"PERF") -> 0 | C66: =COUNTIF(C2:C60,"PERF") -> 1 | D66: =COUNTIF(D2:D60,"PERF") -> 1 | E66: =COUNTIF(E2:E60,"PERF") -> 0 | F66: =COUNTIF(F2:F60,"PERF") -> 0 | G66: =COUNTIF(G2:G60,"PERF") -> 0 | H66: =COUNTIF(H2:H60,"PERF") -> 0 | I66: =COUNTIF(I2:I60,"PERF") -> 0 | ... AS66: =COUNTIF(AS2:AS60,"PERF") -> 0
A67: AERF | B67: =COUNTIF(B2:B60,"AERF") -> 23 | C67: =COUNTIF(C2:C60,"AERF") -> 21 | D67: =COUNTIF(D2:D60,"AERF") -> 22 | E67: =COUNTIF(E2:E60,"AERF") -> 22 | F67: =COUNTIF(F2:F60,"AERF") -> 22 | G67: =COUNTIF(G2:G60,"AERF") -> 21 | H67: =COUNTIF(H2:H60,"AERF") -> 22 | I67: =COUNTIF(I2:I60,"AERF") -> 20 | ... AS67: =COUNTIF(AS2:AS60,"AERF") -> 5
A68: PCB | B68: =COUNTIF(B2:B60,"PCB") -> 0 | C68: =COUNTIF(C2:C60,"PCB") -> 0 | D68: =COUNTIF(D2:D60,"PCB") -> 0 | E68: =COUNTIF(E2:E60,"PCB") -> 0 | F68: =COUNTIF(F2:F60,"PCB") -> 0 | G68: =COUNTIF(G2:G60,"PCB") -> 0 | H68: =COUNTIF(H2:H60,"PCB") -> 0 | I68: =COUNTIF(I2:I60,"PCB") -> 0 | ... AS68: =COUNTIF(AS2:AS60,"PCB") -> 0
A69: ACB | B69: =COUNTIF(B2:B60,"ACB") -> 0 | C69: =COUNTIF(C2:C60,"ACB") -> 0 | D69: =COUNTIF(D2:D60,"ACB") -> 0 | E69: =COUNTIF(E2:E60,"ACB") -> 0 | F69: =COUNTIF(F2:F60,"ACB") -> 0 | G69: =COUNTIF(G2:G60,"ACB") -> 0 | H69: =COUNTIF(H2:H60,"ACB") -> 0 | I69: =COUNTIF(I2:I60,"ACB") -> 0 | ... AS69: =COUNTIF(AS2:AS60,"ACB") -> 0
A70: UD | B70: =COUNTIF(B2:B60,"UD") -> 4 | C70: =COUNTIF(C2:C60,"UD") -> 4 | D70: =COUNTIF(D2:D60,"UD") -> 6 | E70: =COUNTIF(E2:E60,"UD") -> 7 | F70: =COUNTIF(F2:F60,"UD") -> 7 | G70: =COUNTIF(G2:G60,"UD") -> 6 | H70: =COUNTIF(H2:H60,"UD") -> 6 | I70: =COUNTIF(I2:I60,"UD") -> 6 | ... AS70: =COUNTIF(AS2:AS60,"UD") -> 3
A71: LERT | B71: =COUNTIF(B2:B60,"LERT") -> 0 | C71: =COUNTIF(C2:C60,"LERT") -> 0 | D71: =COUNTIF(D2:D60,"LERT") -> 0 | E71: =COUNTIF(E2:E60,"LERT") -> 0 | F71: =COUNTIF(F2:F60,"LERT") -> 0 | G71: =COUNTIF(G2:G60,"LERT") -> 0 | H71: =COUNTIF(H2:H60,"LERT") -> 0 | I71: =COUNTIF(I2:I60,"LERT") -> 0 | ... AS71: =COUNTIF(AS2:AS60,"LERT") -> 1
A72: LCERT | B72: =COUNTIF(B2:B60,"LCERT") -> 0 | C72: =COUNTIF(C2:C60,"LCERT") -> 0 | D72: =COUNTIF(D2:D60,"LCERT") -> 0 | E72: =COUNTIF(E2:E60,"LCERT") -> 0 | F72: =COUNTIF(F2:F60,"LCERT") -> 0 | G72: =COUNTIF(G2:G60,"LCERT") -> 0 | H72: =COUNTIF(H2:H60,"LCERT") -> 0 | I72: =COUNTIF(I2:I60,"LCERT") -> 0 | ... AS72: =COUNTIF(AS2:AS60,"LCERT") -> 0
A73: LMT | B73: =COUNTIF(B2:B60,"LMT") -> 0 | C73: =COUNTIF(C2:C60,"LMT") -> 0 | D73: =COUNTIF(D2:D60,"LMT") -> 0 | E73: =COUNTIF(E2:E60,"LMT") -> 0 | F73: =COUNTIF(F2:F60,"LMT") -> 0 | G73: =COUNTIF(G2:G60,"LMT") -> 0 | H73: =COUNTIF(H2:H60,"LMT") -> 0 | I73: =COUNTIF(I2:I60,"LMT") -> 0 | ... AS73: =COUNTIF(AS2:AS60,"LMT") -> 0
A74: LCMT | B74: =COUNTIF(B2:B60,"LCMT") -> 0 | C74: =COUNTIF(C2:C60,"LCMT") -> 0 | D74: =COUNTIF(D2:D60,"LCMT") -> 0 | E74: =COUNTIF(E2:E60,"LCMT") -> 0 | F74: =COUNTIF(F2:F60,"LCMT") -> 0 | G74: =COUNTIF(G2:G60,"LCMT") -> 0 | H74: =COUNTIF(H2:H60,"LCMT") -> 0 | I74: =COUNTIF(I2:I60,"LCMT") -> 0 | ... AS74: =COUNTIF(AS2:AS60,"LCMT") -> 0
A75: LIT | B75: =COUNTIF(B2:B60,"LIT") -> 0 | C75: =COUNTIF(C2:C60,"LIT") -> 0 | D75: =COUNTIF(D2:D60,"LIT") -> 0 | E75: =COUNTIF(E2:E60,"LIT") -> 0 | F75: =COUNTIF(F2:F60,"LIT") -> 0 | G75: =COUNTIF(G2:G60,"LIT") -> 0 | H75: =COUNTIF(H2:H60,"LIT") -> 0 | I75: =COUNTIF(I2:I60,"LIT") -> 0 | ... AS75: =COUNTIF(AS2:AS60,"LIT") -> 1
A76: LCIT | B76: =COUNTIF(B2:B60,"LCIT") -> 0 | C76: =COUNTIF(C2:C60,"LCIT") -> 0 | D76: =COUNTIF(D2:D60,"LCIT") -> 0 | E76: =COUNTIF(E2:E60,"LCIT") -> 0 | F76: =COUNTIF(F2:F60,"LCIT") -> 0 | G76: =COUNTIF(G2:G60,"LCIT") -> 0 | H76: =COUNTIF(H2:H60,"LCIT") -> 0 | I76: =COUNTIF(I2:I60,"LCIT") -> 0 | ... AS76: =COUNTIF(AS2:AS60,"LCIT") -> 0
A77: MwERT | B77: =COUNTIF(B2:B60,"MwERT") -> 0 | C77: =COUNTIF(C2:C60,"MwERT") -> 0 | D77: =COUNTIF(D2:D60,"MwERT") -> 0 | E77: =COUNTIF(E2:E60,"MwERT") -> 0 | F77: =COUNTIF(F2:F60,"MwERT") -> 0 | G77: =COUNTIF(G2:G60,"MwERT") -> 0 | H77: =COUNTIF(H2:H60,"MwERT") -> 0 | I77: =COUNTIF(I2:I60,"MwERT") -> 0 | ... AS77: =COUNTIF(AS2:AS60,"MwERT") -> 0
A78: ERwMT | B78: =COUNTIF(B2:B60,"ERwMT") -> 0 | C78: =COUNTIF(C2:C60,"ERwMT") -> 0 | D78: =COUNTIF(D2:D60,"ERwMT") -> 0 | E78: =COUNTIF(E2:E60,"ERwMT") -> 0 | F78: =COUNTIF(F2:F60,"ERwMT") -> 0 | G78: =COUNTIF(G2:G60,"ERwMT") -> 0 | H78: =COUNTIF(H2:H60,"ERwMT") -> 0 | I78: =COUNTIF(I2:I60,"ERwMT") -> 0 | ... AS78: =COUNTIF(AS2:AS60,"ERwMT") -> 0
A79: M&ERT | B79: =COUNTIF(B2:B60,"M&ERT") -> 0 | C79: =COUNTIF(C2:C60,"M&ERT") -> 0 | D79: =COUNTIF(D2:D60,"M&ERT") -> 0 | E79: =COUNTIF(E2:E60,"M&ERT") -> 0 | F79: =COUNTIF(F2:F60,"M&ERT") -> 0 | G79: =COUNTIF(G2:G60,"M&ERT") -> 0 | H79: =COUNTIF(H2:H60,"M&ERT") -> 0 | I79: =COUNTIF(I2:I60,"M&ERT") -> 0 | ... AS79: =COUNTIF(AS2:AS60,"M&ERT") -> 0
A80: MwIT | B80: =COUNTIF(B2:B60,"MwIT") -> 0 | C80: =COUNTIF(C2:C60,"MwIT") -> 0 | D80: =COUNTIF(D2:D60,"MwIT") -> 0 | E80: =COUNTIF(E2:E60,"MwIT") -> 0 | F80: =COUNTIF(F2:F60,"MwIT") -> 0 | G80: =COUNTIF(G2:G60,"MwIT") -> 0 | H80: =COUNTIF(H2:H60,"MwIT") -> 0 | I80: =COUNTIF(I2:I60,"MwIT") -> 0 | ... AS80: =COUNTIF(AS2:AS60,"MwIT") -> 0
A81: IwMT | B81: =COUNTIF(B2:B60,"IwMT") -> 0 | C81: =COUNTIF(C2:C60,"IwMT") -> 0 | D81: =COUNTIF(D2:D60,"IwMT") -> 0 | E81: =COUNTIF(E2:E60,"IwMT") -> 0 | F81: =COUNTIF(F2:F60,"IwMT") -> 0 | G81: =COUNTIF(G2:G60,"IwMT") -> 0 | H81: =COUNTIF(H2:H60,"IwMT") -> 0 | I81: =COUNTIF(I2:I60,"IwMT") -> 0 | ... AS81: =COUNTIF(AS2:AS60,"IwMT") -> 0
A82: M&IT | B82: =COUNTIF(B2:B60,"M&IT") -> 0 | C82: =COUNTIF(C2:C60,"M&IT") -> 0 | D82: =COUNTIF(D2:D60,"M&IT") -> 0 | E82: =COUNTIF(E2:E60,"M&IT") -> 0 | F82: =COUNTIF(F2:F60,"M&IT") -> 0 | G82: =COUNTIF(G2:G60,"M&IT") -> 0 | H82: =COUNTIF(H2:H60,"M&IT") -> 0 | I82: =COUNTIF(I2:I60,"M&IT") -> 0 | ... AS82: =COUNTIF(AS2:AS60,"M&IT") -> 0
A83: IwERT | B83: =COUNTIF(B2:B60,"IwERT") -> 0 | C83: =COUNTIF(C2:C60,"IwERT") -> 0 | D83: =COUNTIF(D2:D60,"IwERT") -> 0 | E83: =COUNTIF(E2:E60,"IwERT") -> 0 | F83: =COUNTIF(F2:F60,"IwERT") -> 0 | G83: =COUNTIF(G2:G60,"IwERT") -> 0 | H83: =COUNTIF(H2:H60,"IwERT") -> 0 | I83: =COUNTIF(I2:I60,"IwERT") -> 0 | ... AS83: =COUNTIF(AS2:AS60,"IwERT") -> 0
A84: ERwIT | B84: =COUNTIF(B2:B60,"ERwIT") -> 0 | C84: =COUNTIF(C2:C60,"ERwIT") -> 0 | D84: =COUNTIF(D2:D60,"ERwIT") -> 0 | E84: =COUNTIF(E2:E60,"ERwIT") -> 0 | F84: =COUNTIF(F2:F60,"ERwIT") -> 0 | G84: =COUNTIF(G2:G60,"ERwIT") -> 0 | H84: =COUNTIF(H2:H60,"ERwIT") -> 0 | I84: =COUNTIF(I2:I60,"ERwIT") -> 0 | ... AS84: =COUNTIF(AS2:AS60,"ERwIT") -> 0
A85: I&ERT | B85: =COUNTIF(B2:B60,"I&ERT") -> 0 | C85: =COUNTIF(C2:C60,"I&ERT") -> 0 | D85: =COUNTIF(D2:D60,"I&ERT") -> 0 | E85: =COUNTIF(E2:E60,"I&ERT") -> 0 | F85: =COUNTIF(F2:F60,"I&ERT") -> 0 | G85: =COUNTIF(G2:G60,"I&ERT") -> 0 | H85: =COUNTIF(H2:H60,"I&ERT") -> 0 | I85: =COUNTIF(I2:I60,"I&ERT") -> 0 | ... AS85: =COUNTIF(AS2:AS60,"I&ERT") -> 0
A86: ER&M&IT | B86: =COUNTIF(B2:B60,"ER&M&IT") -> 0 | C86: =COUNTIF(C2:C60,"ER&M&IT") -> 0 | D86: =COUNTIF(D2:D60,"ER&M&IT") -> 0 | E86: =COUNTIF(E2:E60,"ER&M&IT") -> 0 | F86: =COUNTIF(F2:F60,"ER&M&IT") -> 0 | G86: =COUNTIF(G2:G60,"ER&M&IT") -> 0 | H86: =COUNTIF(H2:H60,"ER&M&IT") -> 0 | I86: =COUNTIF(I2:I60,"ER&M&IT") -> 0 | ... AS86: =COUNTIF(AS2:AS60,"ER&M&IT") -> 0
A87: LSD | B87: =COUNTIF(B2:B60,"LSD") -> 3 | C87: =COUNTIF(C2:C60,"LSD") -> 4 | D87: =COUNTIF(D2:D60,"LSD") -> 5 | E87: =COUNTIF(E2:E60,"LSD") -> 5 | F87: =COUNTIF(F2:F60,"LSD") -> 6 | G87: =COUNTIF(G2:G60,"LSD") -> 7 | H87: =COUNTIF(H2:H60,"LSD") -> 7 | I87: =COUNTIF(I2:I60,"LSD") -> 9 | ... AS87: =COUNTIF(AS2:AS60,"LSD") -> 34
A88: UASC | B88: =COUNTIF(B2:B60,"UASC") -> 3 | C88: =COUNTIF(C2:C60,"UASC") -> 3 | D88: =COUNTIF(D2:D60,"UASC") -> 2 | E88: =COUNTIF(E2:E60,"UASC") -> 2 | F88: =COUNTIF(F2:F60,"UASC") -> 2 | G88: =COUNTIF(G2:G60,"UASC") -> 2 | H88: =COUNTIF(H2:H60,"UASC") -> 2 | I88: =COUNTIF(I2:I60,"UASC") -> 2 | ... AS88: =COUNTIF(AS2:AS60,"UASC") -> 1
...

Sheet targvar
A1: country | B1: 1974 | C1: 1975 | D1: 1976 | E1: 1977 | F1: 1978 | G1: 1979 | H1: 1980 | I1: 1981 | J1: 1982 | K1: 1983 | L1: 1984 | M1: 1985 | N1: 1986 | O1: 1987 | P1: 1988 | Q1: 1989 | R1: 1990 | S1: 1991 | T1: 1992 | U1: 1993 | V1: 1994 | W1: 1995 | X1: 1996 | Y1: 1997 | Z1: 1998 | AA1: 1999 | AB1: 2000 | AC1: 2001 | AD1: 2002 | AE1: 2003 | AF1: 2004 | AG1: 2005 | AH1: 2006 | AI1: 2007 | AJ1: 2008 | AK1: 2009 | AL1: 2010 | AM1: 2011 | AN1: 2012 | AO1: 2013 | AP1: 2014 | AQ1: 2015 | AR1: 2016 | AS1: 2017
A2: Afghanistan | B2: =IF('full menu'!B2="MDC","MDC",IF('full menu'!B2="X","X",IF('full menu'!B2="UASC","UASC",IF(OR('full menu'!B2="PERF",'full menu'!B2="AERF",'full menu'!B2="PCB"),"ERfix",IF(OR('full menu'!B2="ACB",'full menu'!B2="LCERT",'full menu'!B2="LERT",'full menu'!B2="FCERT",'full menu'!B2="FERT"),"ERTs",IF(OR('full menu'!B2="FCMT",'full menu'!B2="FMT",'full menu'!B2="LMT",'full menu'!B2="LCMT"),"MTs",IF(OR('full menu'!B2="LCIT",'full menu'!B2="FCIT",'full menu'!B2="LIT",'full menu'!B2="FIT"),"ITs",IF(OR('full menu'!B2="MwERT",'full menu'!B2="ERwMT",'full menu'!B2="M&ERT",'full menu'!B2="MwIT",'full menu'!B2="IwMT",'full menu'!B2="M&IT",'full menu'!B2="IwERT",'full menu'!B2="ERwIT",'full menu'!B2="I&ERT",'full menu'!B2="ER&M&IT"),"MixedTs",IF('full menu'!B2="UD","UD",IF('full menu'!B2="LSD","LSD",IF('full menu'!B2="WSD","WSD",""))))))))))) -> UD | C2: =IF('full menu'!C2="MDC","MDC",IF('full menu'!C2="X","X",IF('full menu'!C2="UASC","UASC",IF(OR('full menu'!C2="PERF",'full menu'!C2="AERF",'full menu'!C2="PCB"),"ERfix",IF(OR('full menu'!C2="ACB",'full menu'!C2="LCERT",'full menu'!C2="LERT",'full menu'!C2="FCERT",'full menu'!C2="FERT"),"ERTs",IF(OR('full menu'!C2="FCMT",'full menu'!C2="FMT",'full menu'!C2="LMT",'full menu'!C2="LCMT"),"MTs",IF(OR('full menu'!C2="LCIT",'full menu'!C2="FCIT",'full menu'!C2="LIT",'full menu'!C2="FIT"),"ITs",IF(OR('full menu'!C2="MwERT",'full menu'!C2="ERwMT",'full menu'!C2="M&ERT",'full menu'!C2="MwIT",'full menu'!C2="IwMT",'full menu'!C2="M&IT",'full menu'!C2="IwERT",'full menu'!C2="ERwIT",'full menu'!C2="I&ERT",'full menu'!C2="ER&M&IT"),"MixedTs",IF('full menu'!C2="UD","UD",IF('full menu'!C2="LSD","LSD",IF('full menu'!C2="WSD","WSD",""))))))))))) -> UD | D2: =IF('full menu'!D2="MDC","MDC",IF('full menu'!D2="X","X",IF('full menu'!D2="UASC","UASC",IF(OR('full menu'!D2="PERF",'full menu'!D2="AERF",'full menu'!D2="PCB"),"ERfix",IF(OR('full menu'!D2="ACB",'full menu'!D2="LCERT",'full menu'!D2="LERT",'full menu'!D2="FCERT",'full menu'!D2="FERT"),"ERTs",IF(OR('full menu'!D2="FCMT",'full menu'!D2="FMT",'full menu'!D2="LMT",'full menu'!D2="LCMT"),"MTs",IF(OR('full menu'!D2="LCIT",'full menu'!D2="FCIT",'full menu'!D2="LIT",'full menu'!D2="FIT"),"ITs",IF(OR('full menu'!D2="MwERT",'full menu'!D2="ERwMT",'full menu'!D2="M&ERT",'full menu'!D2="MwIT",'full menu'!D2="IwMT",'full menu'!D2="M&IT",'full menu'!D2="IwERT",'full menu'!D2="ERwIT",'full menu'!D2="I&ERT",'full menu'!D2="ER&M&IT"),"MixedTs",IF('full menu'!D2="UD","UD",IF('full menu'!D2="LSD","LSD",IF('full menu'!D2="WSD","WSD",""))))))))))) -> UD | E2: =IF('full menu'!E2="MDC","MDC",IF('full menu'!E2="X","X",IF('full menu'!E2="UASC","UASC",IF(OR('full menu'!E2="PERF",'full menu'!E2="AERF",'full menu'!E2="PCB"),"ERfix",IF(OR('full menu'!E2="ACB",'full menu'!E2="LCERT",'full menu'!E2="LERT",'full menu'!E2="FCERT",'full menu'!E2="FERT"),"ERTs",IF(OR('full menu'!E2="FCMT",'full menu'!E2="FMT",'full menu'!E2="LMT",'full menu'!E2="LCMT"),"MTs",IF(OR('full menu'!E2="LCIT",'full menu'!E2="FCIT",'full menu'!E2="LIT",'full menu'!E2="FIT"),"ITs",IF(OR('full menu'!E2="MwERT",'full menu'!E2="ERwMT",'full menu'!E2="M&ERT",'full menu'!E2="MwIT",'full menu'!E2="IwMT",'full menu'!E2="M&IT",'full menu'!E2="IwERT",'full menu'!E2="ERwIT",'full menu'!E2="I&ERT",'full menu'!E2="ER&M&IT"),"MixedTs",IF('full menu'!E2="UD","UD",IF('full menu'!E2="LSD","LSD",IF('full menu'!E2="WSD","WSD",""))))))))))) -> UD | F2: =IF('full menu'!F2="MDC","MDC",IF('full menu'!F2="X","X",IF('full menu'!F2="UASC","UASC",IF(OR('full menu'!F2="PERF",'full menu'!F2="AERF",'full menu'!F2="PCB"),"ERfix",IF(OR('full menu'!F2="ACB",'full menu'!F2="LCERT",'full menu'!F2="LERT",'full menu'!F2="FCERT",'full menu'!F2="FERT"),"ERTs",IF(OR('full menu'!F2="FCMT",'full menu'!F2="FMT",'full menu'!F2="LMT",'full menu'!F2="LCMT"),"MTs",IF(OR('full menu'!F2="LCIT",'full menu'!F2="FCIT",'full menu'!F2="LIT",'full menu'!F2="FIT"),"ITs",IF(OR('full menu'!F2="MwERT",'full menu'!F2="ERwMT",'full menu'!F2="M&ERT",'full menu'!F2="MwIT",'full menu'!F2="IwMT",'full menu'!F2="M&IT",'full menu'!F2="IwERT",'full menu'!F2="ERwIT",'full menu'!F2="I&ERT",'full menu'!F2="ER&M&IT"),"MixedTs",IF('full menu'!F2="UD","UD",IF('full menu'!F2="LSD","LSD",IF('full menu'!F2="WSD","WSD",""))))))))))) -> UD | G2: =IF('full menu'!G2="MDC","MDC",IF('full menu'!G2="X","X",IF('full menu'!G2="UASC","UASC",IF(OR('full menu'!G2="PERF",'full menu'!G2="AERF",'full menu'!G2="PCB"),"ERfix",IF(OR('full menu'!G2="ACB",'full menu'!G2="LCERT",'full menu'!G2="LERT",'full menu'!G2="FCERT",'full menu'!G2="FERT"),"ERTs",IF(OR('full menu'!G2="FCMT",'full menu'!G2="FMT",'full menu'!G2="LMT",'full menu'!G2="LCMT"),"MTs",IF(OR('full menu'!G2="LCIT",'full menu'!G2="FCIT",'full menu'!G2="LIT",'full menu'!G2="FIT"),"ITs",IF(OR('full menu'!G2="MwERT",'full menu'!G2="ERwMT",'full menu'!G2="M&ERT",'full menu'!G2="MwIT",'full menu'!G2="IwMT",'full menu'!G2="M&IT",'full menu'!G2="IwERT",'full menu'!G2="ERwIT",'full menu'!G2="I&ERT",'full menu'!G2="ER&M&IT"),"MixedTs",IF('full menu'!G2="UD","UD",IF('full menu'!G2="LSD","LSD",IF('full menu'!G2="WSD","WSD",""))))))))))) -> UD | H2: =IF('full menu'!H2="MDC","MDC",IF('full menu'!H2="X","X",IF('full menu'!H2="UASC","UASC",IF(OR('full menu'!H2="PERF",'full menu'!H2="AERF",'full menu'!H2="PCB"),"ERfix",IF(OR('full menu'!H2="ACB",'full menu'!H2="LCERT",'full menu'!H2="LERT",'full menu'!H2="FCERT",'full menu'!H2="FERT"),"ERTs",IF(OR('full menu'!H2="FCMT",'full menu'!H2="FMT",'full menu'!H2="LMT",'full menu'!H2="LCMT"),"MTs",IF(OR('full menu'!H2="LCIT",'full menu'!H2="FCIT",'full menu'!H2="LIT",'full menu'!H2="FIT"),"ITs",IF(OR('full menu'!H2="MwERT",'full menu'!H2="ERwMT",'full menu'!H2="M&ERT",'full menu'!H2="MwIT",'full menu'!H2="IwMT",'full menu'!H2="M&IT",'full menu'!H2="IwERT",'full menu'!H2="ERwIT",'full menu'!H2="I&ERT",'full menu'!H2="ER&M&IT"),"MixedTs",IF('full menu'!H2="UD","UD",IF('full menu'!H2="LSD","LSD",IF('full menu'!H2="WSD","WSD",""))))))))))) -> UD | I2: =IF('full menu'!I2="MDC","MDC",IF('full menu'!I2="X","X",IF('full menu'!I2="UASC","UASC",IF(OR('full menu'!I2="PERF",'full menu'!I2="AERF",'full menu'!I2="PCB"),"ERfix",IF(OR('full menu'!I2="ACB",'full menu'!I2="LCERT",'full menu'!I2="LERT",'full menu'!I2="FCERT",'full menu'!I2="FERT"),"ERTs",IF(OR('full menu'!I2="FCMT",'full menu'!I2="FMT",'full menu'!I2="LMT",'full menu'!I2="LCMT"),"MTs",IF(OR('full menu'!I2="LCIT",'full menu'!I2="FCIT",'full menu'!I2="LIT",'full menu'!I2="FIT"),"ITs",IF(OR('full menu'!I2="MwERT",'full menu'!I2="ERwMT",'full menu'!I2="M&ERT",'full menu'!I2="MwIT",'full menu'!I2="IwMT",'full menu'!I2="M&IT",'full menu'!I2="IwERT",'full menu'!I2="ERwIT",'full menu'!I2="I&ERT",'full menu'!I2="ER&M&IT"),"MixedTs",IF('full menu'!I2="UD","UD",IF('full menu'!I2="LSD","LSD",IF('full menu'!I2="WSD","WSD",""))))))))))) -> UD | ... AS2: =IF('full menu'!AS2="MDC","MDC",IF('full menu'!AS2="X","X",IF('full menu'!AS2="UASC","UASC",IF(OR('full menu'!AS2="PERF",'full menu'!AS2="AERF",'full menu'!AS2="PCB"),"ERfix",IF(OR('full menu'!AS2="ACB",'full menu'!AS2="LCERT",'full menu'!AS2="LERT",'full menu'!AS2="FCERT",'full menu'!AS2="FERT"),"ERTs",IF(OR('full menu'!AS2="FCMT",'full menu'!AS2="FMT",'full menu'!AS2="LMT",'full menu'!AS2="LCMT"),"MTs",IF(OR('full menu'!AS2="LCIT",'full menu'!AS2="FCIT",'full menu'!AS2="LIT",'full menu'!AS2="FIT"),"ITs",IF(OR('full menu'!AS2="MwERT",'full menu'!AS2="ERwMT",'full menu'!AS2="M&ERT",'full menu'!AS2="MwIT",'full menu'!AS2="IwMT",'full menu'!AS2="M&IT",'full menu'!AS2="IwERT",'full menu'!AS2="ERwIT",'full menu'!AS2="I&ERT",'full menu'!AS2="ER&M&IT"),"MixedTs",IF('full menu'!AS2="UD","UD",IF('full menu'!AS2="LSD","LSD",IF('full menu'!AS2="WSD","WSD",""))))))))))) -> LSD
A3: Angola | B3: =IF('full menu'!B3="MDC","MDC",IF('full menu'!B3="X","X",IF('full menu'!B3="UASC","UASC",IF(OR('full menu'!B3="PERF",'full menu'!B3="AERF",'full menu'!B3="PCB"),"ERfix",IF(OR('full menu'!B3="ACB",'full menu'!B3="LCERT",'full menu'!B3="LERT",'full menu'!B3="FCERT",'full menu'!B3="FERT"),"ERTs",IF(OR('full menu'!B3="FCMT",'full menu'!B3="FMT",'full menu'!B3="LMT",'full menu'!B3="LCMT"),"MTs",IF(OR('full menu'!B3="LCIT",'full menu'!B3="FCIT",'full menu'!B3="LIT",'full menu'!B3="FIT"),"ITs",IF(OR('full menu'!B3="MwERT",'full menu'!B3="ERwMT",'full menu'!B3="M&ERT",'full menu'!B3="MwIT",'full menu'!B3="IwMT",'full menu'!B3="M&IT",'full menu'!B3="IwERT",'full menu'!B3="ERwIT",'full menu'!B3="I&ERT",'full menu'!B3="ER&M&IT"),"MixedTs",IF('full menu'!B3="UD","UD",IF('full menu'!B3="LSD","LSD",IF('full menu'!B3="WSD","WSD",""))))))))))) -> X | C3: =IF('full menu'!C3="MDC","MDC",IF('full menu'!C3="X","X",IF('full menu'!C3="UASC","UASC",IF(OR('full menu'!C3="PERF",'full menu'!C3="AERF",'full menu'!C3="PCB"),"ERfix",IF(OR('full menu'!C3="ACB",'full menu'!C3="LCERT",'full menu'!C3="LERT",'full menu'!C3="FCERT",'full menu'!C3="FERT"),"ERTs",IF(OR('full menu'!C3="FCMT",'full menu'!C3="FMT",'full menu'!C3="LMT",'full menu'!C3="LCMT"),"MTs",IF(OR('full menu'!C3="LCIT",'full menu'!C3="FCIT",'full menu'!C3="LIT",'full menu'!C3="FIT"),"ITs",IF(OR('full menu'!C3="MwERT",'full menu'!C3="ERwMT",'full menu'!C3="M&ERT",'full menu'!C3="MwIT",'full menu'!C3="IwMT",'full menu'!C3="M&IT",'full menu'!C3="IwERT",'full menu'!C3="ERwIT",'full menu'!C3="I&ERT",'full menu'!C3="ER&M&IT"),"MixedTs",IF('full menu'!C3="UD","UD",IF('full menu'!C3="LSD","LSD",IF('full menu'!C3="WSD","WSD",""))))))))))) -> X | D3: =IF('full menu'!D3="MDC","MDC",IF('full menu'!D3="X","X",IF('full menu'!D3="UASC","UASC",IF(OR('full menu'!D3="PERF",'full menu'!D3="AERF",'full menu'!D3="PCB"),"ERfix",IF(OR('full menu'!D3="ACB",'full menu'!D3="LCERT",'full menu'!D3="LERT",'full menu'!D3="FCERT",'full menu'!D3="FERT"),"ERTs",IF(OR('full menu'!D3="FCMT",'full menu'!D3="FMT",'full menu'!D3="LMT",'full menu'!D3="LCMT"),"MTs",IF(OR('full menu'!D3="LCIT",'full menu'!D3="FCIT",'full menu'!D3="LIT",'full menu'!D3="FIT"),"ITs",IF(OR('full menu'!D3="MwERT",'full menu'!D3="ERwMT",'full menu'!D3="M&ERT",'full menu'!D3="MwIT",'full menu'!D3="IwMT",'full menu'!D3="M&IT",'full menu'!D3="IwERT",'full menu'!D3="ERwIT",'full menu'!D3="I&ERT",'full menu'!D3="ER&M&IT"),"MixedTs",IF('full menu'!D3="UD","UD",IF('full menu'!D3="LSD","LSD",IF('full menu'!D3="WSD","WSD",""))))))))))) -> UD | E3: =IF('full menu'!E3="MDC","MDC",IF('full menu'!E3="X","X",IF('full menu'!E3="UASC","UASC",IF(OR('full menu'!E3="PERF",'full menu'!E3="AERF",'full menu'!E3="PCB"),"ERfix",IF(OR('full menu'!E3="ACB",'full menu'!E3="LCERT",'full menu'!E3="LERT",'full menu'!E3="FCERT",'full menu'!E3="FERT"),"ERTs",IF(OR('full menu'!E3="FCMT",'full menu'!E3="FMT",'full menu'!E3="LMT",'full menu'!E3="LCMT"),"MTs",IF(OR('full menu'!E3="LCIT",'full menu'!E3="FCIT",'full menu'!E3="LIT",'full menu'!E3="FIT"),"ITs",IF(OR('full menu'!E3="MwERT",'full menu'!E3="ERwMT",'full menu'!E3="M&ERT",'full menu'!E3="MwIT",'full menu'!E3="IwMT",'full menu'!E3="M&IT",'full menu'!E3="IwERT",'full menu'!E3="ERwIT",'full menu'!E3="I&ERT",'full menu'!E3="ER&M&IT"),"MixedTs",IF('full menu'!E3="UD","UD",IF('full menu'!E3="LSD","LSD",IF('full menu'!E3="WSD","WSD",""))))))))))) -> UD | F3: =IF('full menu'!F3="MDC","MDC",IF('full menu'!F3="X","X",IF('full menu'!F3="UASC","UASC",IF(OR('full menu'!F3="PERF",'full menu'!F3="AERF",'full menu'!F3="PCB"),"ERfix",IF(OR('full menu'!F3="ACB",'full menu'!F3="LCERT",'full menu'!F3="LERT",'full menu'!F3="FCERT",'full menu'!F3="FERT"),"ERTs",IF(OR('full menu'!F3="FCMT",'full menu'!F3="FMT",'full menu'!F3="LMT",'full menu'!F3="LCMT"),"MTs",IF(OR('full menu'!F3="LCIT",'full menu'!F3="FCIT",'full menu'!F3="LIT",'full menu'!F3="FIT"),"ITs",IF(OR('full menu'!F3="MwERT",'full menu'!F3="ERwMT",'full menu'!F3="M&ERT",'full menu'!F3="MwIT",'full menu'!F3="IwMT",'full menu'!F3="M&IT",'full menu'!F3="IwERT",'full menu'!F3="ERwIT",'full menu'!F3="I&ERT",'full menu'!F3="ER&M&IT"),"MixedTs",IF('full menu'!F3="UD","UD",IF('full menu'!F3="LSD","LSD",IF('full menu'!F3="WSD","WSD",""))))))))))) -> UD | G3: =IF('full menu'!G3="MDC","MDC",IF('full menu'!G3="X","X",IF('full menu'!G3="UASC","UASC",IF(OR('full menu'!G3="PERF",'full menu'!G3="AERF",'full menu'!G3="PCB"),"ERfix",IF(OR('full menu'!G3="ACB",'full menu'!G3="LCERT",'full menu'!G3="LERT",'full menu'!G3="FCERT",'full menu'!G3="FERT"),"ERTs",IF(OR('full menu'!G3="FCMT",'full menu'!G3="FMT",'full menu'!G3="LMT",'full menu'!G3="LCMT"),"MTs",IF(OR('full menu'!G3="LCIT",'full menu'!G3="FCIT",'full menu'!G3="LIT",'full menu'!G3="FIT"),"ITs",IF(OR('full menu'!G3="MwERT",'full menu'!G3="ERwMT",'full menu'!G3="M&ERT",'full menu'!G3="MwIT",'full menu'!G3="IwMT",'full menu'!G3="M&IT",'full menu'!G3="IwERT",'full menu'!G3="ERwIT",'full menu'!G3="I&ERT",'full menu'!G3="ER&M&IT"),"MixedTs",IF('full menu'!G3="UD","UD",IF('full menu'!G3="LSD","LSD",IF('full menu'!G3="WSD","WSD",""))))))))))) -> UD | H3: =IF('full menu'!H3="MDC","MDC",IF('full menu'!H3="X","X",IF('full menu'!H3="UASC","UASC",IF(OR('full menu'!H3="PERF",'full menu'!H3="AERF",'full menu'!H3="PCB"),"ERfix",IF(OR('full menu'!H3="ACB",'full menu'!H3="LCERT",'full menu'!H3="LERT",'full menu'!H3="FCERT",'full menu'!H3="FERT"),"ERTs",IF(OR('full menu'!H3="FCMT",'full menu'!H3="FMT",'full menu'!H3="LMT",'full menu'!H3="LCMT"),"MTs",IF(OR('full menu'!H3="LCIT",'full menu'!H3="FCIT",'full menu'!H3="LIT",'full menu'!H3="FIT"),"ITs",IF(OR('full menu'!H3="MwERT",'full menu'!H3="ERwMT",'full menu'!H3="M&ERT",'full menu'!H3="MwIT",'full menu'!H3="IwMT",'full menu'!H3="M&IT",'full menu'!H3="IwERT",'full menu'!H3="ERwIT",'full menu'!H3="I&ERT",'full menu'!H3="ER&M&IT"),"MixedTs",IF('full menu'!H3="UD","UD",IF('full menu'!H3="LSD","LSD",IF('full menu'!H3="WSD","WSD",""))))))))))) -> UD | I3: =IF('full menu'!I3="MDC","MDC",IF('full menu'!I3="X","X",IF('full menu'!I3="UASC","UASC",IF(OR('full menu'!I3="PERF",'full menu'!I3="AERF",'full menu'!I3="PCB"),"ERfix",IF(OR('full menu'!I3="ACB",'full menu'!I3="LCERT",'full menu'!I3="LERT",'full menu'!I3="FCERT",'full menu'!I3="FERT"),"ERTs",IF(OR('full menu'!I3="FCMT",'full menu'!I3="FMT",'full menu'!I3="LMT",'full menu'!I3="LCMT"),"MTs",IF(OR('full menu'!I3="LCIT",'full menu'!I3="FCIT",'full menu'!I3="LIT",'full menu'!I3="FIT"),"ITs",IF(OR('full menu'!I3="MwERT",'full menu'!I3="ERwMT",'full menu'!I3="M&ERT",'full menu'!I3="MwIT",'full menu'!I3="IwMT",'full menu'!I3="M&IT",'full menu'!I3="IwERT",'full menu'!I3="ERwIT",'full menu'!I3="I&ERT",'full menu'!I3="ER&M&IT"),"MixedTs",IF('full menu'!I3="UD","UD",IF('full menu'!I3="LSD","LSD",IF('full menu'!I3="WSD","WSD",""))))))))))) -> UD | ... AS3: =IF('full menu'!AS3="MDC","MDC",IF('full menu'!AS3="X","X",IF('full menu'!AS3="UASC","UASC",IF(OR('full menu'!AS3="PERF",'full menu'!AS3="AERF",'full menu'!AS3="PCB"),"ERfix",IF(OR('full menu'!AS3="ACB",'full menu'!AS3="LCERT",'full menu'!AS3="LERT",'full menu'!AS3="FCERT",'full menu'!AS3="FERT"),"ERTs",IF(OR('full menu'!AS3="FCMT",'full menu'!AS3="FMT",'full menu'!AS3="LMT",'full menu'!AS3="LCMT"),"MTs",IF(OR('full menu'!AS3="LCIT",'full menu'!AS3="FCIT",'full menu'!AS3="LIT",'full menu'!AS3="FIT"),"ITs",IF(OR('full menu'!AS3="MwERT",'full menu'!AS3="ERwMT",'full menu'!AS3="M&ERT",'full menu'!AS3="MwIT",'full menu'!AS3="IwMT",'full menu'!AS3="M&IT",'full menu'!AS3="IwERT",'full menu'!AS3="ERwIT",'full menu'!AS3="I&ERT",'full menu'!AS3="ER&M&IT"),"MixedTs",IF('full menu'!AS3="UD","UD",IF('full menu'!AS3="LSD","LSD",IF('full menu'!AS3="WSD","WSD",""))))))))))) -> LSD
A4: Bangladesh | B4: =IF('full menu'!B4="MDC","MDC",IF('full menu'!B4="X","X",IF('full menu'!B4="UASC","UASC",IF(OR('full menu'!B4="PERF",'full menu'!B4="AERF",'full menu'!B4="PCB"),"ERfix",IF(OR('full menu'!B4="ACB",'full menu'!B4="LCERT",'full menu'!B4="LERT",'full menu'!B4="FCERT",'full menu'!B4="FERT"),"ERTs",IF(OR('full menu'!B4="FCMT",'full menu'!B4="FMT",'full menu'!B4="LMT",'full menu'!B4="LCMT"),"MTs",IF(OR('full menu'!B4="LCIT",'full menu'!B4="FCIT",'full menu'!B4="LIT",'full menu'!B4="FIT"),"ITs",IF(OR('full menu'!B4="MwERT",'full menu'!B4="ERwMT",'full menu'!B4="M&ERT",'full menu'!B4="MwIT",'full menu'!B4="IwMT",'full menu'!B4="M&IT",'full menu'!B4="IwERT",'full menu'!B4="ERwIT",'full menu'!B4="I&ERT",'full menu'!B4="ER&M&IT"),"MixedTs",IF('full menu'!B4="UD","UD",IF('full menu'!B4="LSD","LSD",IF('full menu'!B4="WSD","WSD",""))))))))))) -> ERfix | C4: =IF('full menu'!C4="MDC","MDC",IF('full menu'!C4="X","X",IF('full menu'!C4="UASC","UASC",IF(OR('full menu'!C4="PERF",'full menu'!C4="AERF",'full menu'!C4="PCB"),"ERfix",IF(OR('full menu'!C4="ACB",'full menu'!C4="LCERT",'full menu'!C4="LERT",'full menu'!C4="FCERT",'full menu'!C4="FERT"),"ERTs",IF(OR('full menu'!C4="FCMT",'full menu'!C4="FMT",'full menu'!C4="LMT",'full menu'!C4="LCMT"),"MTs",IF(OR('full menu'!C4="LCIT",'full menu'!C4="FCIT",'full menu'!C4="LIT",'full menu'!C4="FIT"),"ITs",IF(OR('full menu'!C4="MwERT",'full menu'!C4="ERwMT",'full menu'!C4="M&ERT",'full menu'!C4="MwIT",'full menu'!C4="IwMT",'full menu'!C4="M&IT",'full menu'!C4="IwERT",'full menu'!C4="ERwIT",'full menu'!C4="I&ERT",'full menu'!C4="ER&M&IT"),"MixedTs",IF('full menu'!C4="UD","UD",IF('full menu'!C4="LSD","LSD",IF('full menu'!C4="WSD","WSD",""))))))))))) -> LSD | D4: =IF('full menu'!D4="MDC","MDC",IF('full menu'!D4="X","X",IF('full menu'!D4="UASC","UASC",IF(OR('full menu'!D4="PERF",'full menu'!D4="AERF",'full menu'!D4="PCB"),"ERfix",IF(OR('full menu'!D4="ACB",'full menu'!D4="LCERT",'full menu'!D4="LERT",'full menu'!D4="FCERT",'full menu'!D4="FERT"),"ERTs",IF(OR('full menu'!D4="FCMT",'full menu'!D4="FMT",'full menu'!D4="LMT",'full menu'!D4="LCMT"),"MTs",IF(OR('full menu'!D4="LCIT",'full menu'!D4="FCIT",'full menu'!D4="LIT",'full menu'!D4="FIT"),"ITs",IF(OR('full menu'!D4="MwERT",'full menu'!D4="ERwMT",'full menu'!D4="M&ERT",'full menu'!D4="MwIT",'full menu'!D4="IwMT",'full menu'!D4="M&IT",'full menu'!D4="IwERT",'full menu'!D4="ERwIT",'full menu'!D4="I&ERT",'full menu'!D4="ER&M&IT"),"MixedTs",IF('full menu'!D4="UD","UD",IF('full menu'!D4="LSD","LSD",IF('full menu'!D4="WSD","WSD",""))))))))))) -> LSD | E4: =IF('full menu'!E4="MDC","MDC",IF('full menu'!E4="X","X",IF('full menu'!E4="UASC","UASC",IF(OR('full menu'!E4="PERF",'full menu'!E4="AERF",'full menu'!E4="PCB"),"ERfix",IF(OR('full menu'!E4="ACB",'full menu'!E4="LCERT",'full menu'!E4="LERT",'full menu'!E4="FCERT",'full menu'!E4="FERT"),"ERTs",IF(OR('full menu'!E4="FCMT",'full menu'!E4="FMT",'full menu'!E4="LMT",'full menu'!E4="LCMT"),"MTs",IF(OR('full menu'!E4="LCIT",'full menu'!E4="FCIT",'full menu'!E4="LIT",'full menu'!E4="FIT"),"ITs",IF(OR('full menu'!E4="MwERT",'full menu'!E4="ERwMT",'full menu'!E4="M&ERT",'full menu'!E4="MwIT",'full menu'!E4="IwMT",'full menu'!E4="M&IT",'full menu'!E4="IwERT",'full menu'!E4="ERwIT",'full menu'!E4="I&ERT",'full menu'!E4="ER&M&IT"),"MixedTs",IF('full menu'!E4="UD","UD",IF('full menu'!E4="LSD","LSD",IF('full menu'!E4="WSD","WSD",""))))))))))) -> LSD | F4: =IF('full menu'!F4="MDC","MDC",IF('full menu'!F4="X","X",IF('full menu'!F4="UASC","UASC",IF(OR('full menu'!F4="PERF",'full menu'!F4="AERF",'full menu'!F4="PCB"),"ERfix",IF(OR('full menu'!F4="ACB",'full menu'!F4="LCERT",'full menu'!F4="LERT",'full menu'!F4="FCERT",'full menu'!F4="FERT"),"ERTs",IF(OR('full menu'!F4="FCMT",'full menu'!F4="FMT",'full menu'!F4="LMT",'full menu'!F4="LCMT"),"MTs",IF(OR('full menu'!F4="LCIT",'full menu'!F4="FCIT",'full menu'!F4="LIT",'full menu'!F4="FIT"),"ITs",IF(OR('full menu'!F4="MwERT",'full menu'!F4="ERwMT",'full menu'!F4="M&ERT",'full menu'!F4="MwIT",'full menu'!F4="IwMT",'full menu'!F4="M&IT",'full menu'!F4="IwERT",'full menu'!F4="ERwIT",'full menu'!F4="I&ERT",'full menu'!F4="ER&M&IT"),"MixedTs",IF('full menu'!F4="UD","UD",IF('full menu'!F4="LSD","LSD",IF('full menu'!F4="WSD","WSD",""))))))))))) -> LSD | G4: =IF('full menu'!G4="MDC","MDC",IF('full menu'!G4="X","X",IF('full menu'!G4="UASC","UASC",IF(OR('full menu'!G4="PERF",'full menu'!G4="AERF",'full menu'!G4="PCB"),"ERfix",IF(OR('full menu'!G4="ACB",'full menu'!G4="LCERT",'full menu'!G4="LERT",'full menu'!G4="FCERT",'full menu'!G4="FERT"),"ERTs",IF(OR('full menu'!G4="FCMT",'full menu'!G4="FMT",'full menu'!G4="LMT",'full menu'!G4="LCMT"),"MTs",IF(OR('full menu'!G4="LCIT",'full menu'!G4="FCIT",'full menu'!G4="LIT",'full menu'!G4="FIT"),"ITs",IF(OR('full menu'!G4="MwERT",'full menu'!G4="ERwMT",'full menu'!G4="M&ERT",'full menu'!G4="MwIT",'full menu'!G4="IwMT",'full menu'!G4="M&IT",'full menu'!G4="IwERT",'full menu'!G4="ERwIT",'full menu'!G4="I&ERT",'full menu'!G4="ER&M&IT"),"MixedTs",IF('full menu'!G4="UD","UD",IF('full menu'!G4="LSD","LSD",IF('full menu'!G4="WSD","WSD",""))))))))))) -> LSD | H4: =IF('full menu'!H4="MDC","MDC",IF('full menu'!H4="X","X",IF('full menu'!H4="UASC","UASC",IF(OR('full menu'!H4="PERF",'full menu'!H4="AERF",'full menu'!H4="PCB"),"ERfix",IF(OR('full menu'!H4="ACB",'full menu'!H4="LCERT",'full menu'!H4="LERT",'full menu'!H4="FCERT",'full menu'!H4="FERT"),"ERTs",IF(OR('full menu'!H4="FCMT",'full menu'!H4="FMT",'full menu'!H4="LMT",'full menu'!H4="LCMT"),"MTs",IF(OR('full menu'!H4="LCIT",'full menu'!H4="FCIT",'full menu'!H4="LIT",'full menu'!H4="FIT"),"ITs",IF(OR('full menu'!H4="MwERT",'full menu'!H4="ERwMT",'full menu'!H4="M&ERT",'full menu'!H4="MwIT",'full menu'!H4="IwMT",'full menu'!H4="M&IT",'full menu'!H4="IwERT",'full menu'!H4="ERwIT",'full menu'!H4="I&ERT",'full menu'!H4="ER&M&IT"),"MixedTs",IF('full menu'!H4="UD","UD",IF('full menu'!H4="LSD","LSD",IF('full menu'!H4="WSD","WSD",""))))))))))) -> LSD | I4: =IF('full menu'!I4="MDC","MDC",IF('full menu'!I4="X","X",IF('full menu'!I4="UASC","UASC",IF(OR('full menu'!I4="PERF",'full menu'!I4="AERF",'full menu'!I4="PCB"),"ERfix",IF(OR('full menu'!I4="ACB",'full menu'!I4="LCERT",'full menu'!I4="LERT",'full menu'!I4="FCERT",'full menu'!I4="FERT"),"ERTs",IF(OR('full menu'!I4="FCMT",'full menu'!I4="FMT",'full menu'!I4="LMT",'full menu'!I4="LCMT"),"MTs",IF(OR('full menu'!I4="LCIT",'full menu'!I4="FCIT",'full menu'!I4="LIT",'full menu'!I4="FIT"),"ITs",IF(OR('full menu'!I4="MwERT",'full menu'!I4="ERwMT",'full menu'!I4="M&ERT",'full menu'!I4="MwIT",'full menu'!I4="IwMT",'full menu'!I4="M&IT",'full menu'!I4="IwERT",'full menu'!I4="ERwIT",'full menu'!I4="I&ERT",'full menu'!I4="ER&M&IT"),"MixedTs",IF('full menu'!I4="UD","UD",IF('full menu'!I4="LSD","LSD",IF('full menu'!I4="WSD","WSD",""))))))))))) -> LSD | ... AS4: =IF('full menu'!AS4="MDC","MDC",IF('full menu'!AS4="X","X",IF('full menu'!AS4="UASC","UASC",IF(OR('full menu'!AS4="PERF",'full menu'!AS4="AERF",'full menu'!AS4="PCB"),"ERfix",IF(OR('full menu'!AS4="ACB",'full menu'!AS4="LCERT",'full menu'!AS4="LERT",'full menu'!AS4="FCERT",'full menu'!AS4="FERT"),"ERTs",IF(OR('full menu'!AS4="FCMT",'full menu'!AS4="FMT",'full menu'!AS4="LMT",'full menu'!AS4="LCMT"),"MTs",IF(OR('full menu'!AS4="LCIT",'full menu'!AS4="FCIT",'full menu'!AS4="LIT",'full menu'!AS4="FIT"),"ITs",IF(OR('full menu'!AS4="MwERT",'full menu'!AS4="ERwMT",'full menu'!AS4="M&ERT",'full menu'!AS4="MwIT",'full menu'!AS4="IwMT",'full menu'!AS4="M&IT",'full menu'!AS4="IwERT",'full menu'!AS4="ERwIT",'full menu'!AS4="I&ERT",'full menu'!AS4="ER&M&IT"),"MixedTs",IF('full menu'!AS4="UD","UD",IF('full menu'!AS4="LSD","LSD",IF('full menu'!AS4="WSD","WSD",""))))))))))) -> LSD
A5: Benin | B5: =IF('full menu'!B5="MDC","MDC",IF('full menu'!B5="X","X",IF('full menu'!B5="UASC","UASC",IF(OR('full menu'!B5="PERF",'full menu'!B5="AERF",'full menu'!B5="PCB"),"ERfix",IF(OR('full menu'!B5="ACB",'full menu'!B5="LCERT",'full menu'!B5="LERT",'full menu'!B5="FCERT",'full menu'!B5="FERT"),"ERTs",IF(OR('full menu'!B5="FCMT",'full menu'!B5="FMT",'full menu'!B5="LMT",'full menu'!B5="LCMT"),"MTs",IF(OR('full menu'!B5="LCIT",'full menu'!B5="FCIT",'full menu'!B5="LIT",'full menu'!B5="FIT"),"ITs",IF(OR('full menu'!B5="MwERT",'full menu'!B5="ERwMT",'full menu'!B5="M&ERT",'full menu'!B5="MwIT",'full menu'!B5="IwMT",'full menu'!B5="M&IT",'full menu'!B5="IwERT",'full menu'!B5="ERwIT",'full menu'!B5="I&ERT",'full menu'!B5="ER&M&IT"),"MixedTs",IF('full menu'!B5="UD","UD",IF('full menu'!B5="LSD","LSD",IF('full menu'!B5="WSD","WSD",""))))))))))) | C5: =IF('full menu'!C5="MDC","MDC",IF('full menu'!C5="X","X",IF('full menu'!C5="UASC","UASC",IF(OR('full menu'!C5="PERF",'full menu'!C5="AERF",'full menu'!C5="PCB"),"ERfix",IF(OR('full menu'!C5="ACB",'full menu'!C5="LCERT",'full menu'!C5="LERT",'full menu'!C5="FCERT",'full menu'!C5="FERT"),"ERTs",IF(OR('full menu'!C5="FCMT",'full menu'!C5="FMT",'full menu'!C5="LMT",'full menu'!C5="LCMT"),"MTs",IF(OR('full menu'!C5="LCIT",'full menu'!C5="FCIT",'full menu'!C5="LIT",'full menu'!C5="FIT"),"ITs",IF(OR('full menu'!C5="MwERT",'full menu'!C5="ERwMT",'full menu'!C5="M&ERT",'full menu'!C5="MwIT",'full menu'!C5="IwMT",'full menu'!C5="M&IT",'full menu'!C5="IwERT",'full menu'!C5="ERwIT",'full menu'!C5="I&ERT",'full menu'!C5="ER&M&IT"),"MixedTs",IF('full menu'!C5="UD","UD",IF('full menu'!C5="LSD","LSD",IF('full menu'!C5="WSD","WSD",""))))))))))) | D5: =IF('full menu'!D5="MDC","MDC",IF('full menu'!D5="X","X",IF('full menu'!D5="UASC","UASC",IF(OR('full menu'!D5="PERF",'full menu'!D5="AERF",'full menu'!D5="PCB"),"ERfix",IF(OR('full menu'!D5="ACB",'full menu'!D5="LCERT",'full menu'!D5="LERT",'full menu'!D5="FCERT",'full menu'!D5="FERT"),"ERTs",IF(OR('full menu'!D5="FCMT",'full menu'!D5="FMT",'full menu'!D5="LMT",'full menu'!D5="LCMT"),"MTs",IF(OR('full menu'!D5="LCIT",'full menu'!D5="FCIT",'full menu'!D5="LIT",'full menu'!D5="FIT"),"ITs",IF(OR('full menu'!D5="MwERT",'full menu'!D5="ERwMT",'full menu'!D5="M&ERT",'full menu'!D5="MwIT",'full menu'!D5="IwMT",'full menu'!D5="M&IT",'full menu'!D5="IwERT",'full menu'!D5="ERwIT",'full menu'!D5="I&ERT",'full menu'!D5="ER&M&IT"),"MixedTs",IF('full menu'!D5="UD","UD",IF('full menu'!D5="LSD","LSD",IF('full menu'!D5="WSD","WSD",""))))))))))) | E5: =IF('full menu'!E5="MDC","MDC",IF('full menu'!E5="X","X",IF('full menu'!E5="UASC","UASC",IF(OR('full menu'!E5="PERF",'full menu'!E5="AERF",'full menu'!E5="PCB"),"ERfix",IF(OR('full menu'!E5="ACB",'full menu'!E5="LCERT",'full menu'!E5="LERT",'full menu'!E5="FCERT",'full menu'!E5="FERT"),"ERTs",IF(OR('full menu'!E5="FCMT",'full menu'!E5="FMT",'full menu'!E5="LMT",'full menu'!E5="LCMT"),"MTs",IF(OR('full menu'!E5="LCIT",'full menu'!E5="FCIT",'full menu'!E5="LIT",'full menu'!E5="FIT"),"ITs",IF(OR('full menu'!E5="MwERT",'full menu'!E5="ERwMT",'full menu'!E5="M&ERT",'full menu'!E5="MwIT",'full menu'!E5="IwMT",'full menu'!E5="M&IT",'full menu'!E5="IwERT",'full menu'!E5="ERwIT",'full menu'!E5="I&ERT",'full menu'!E5="ER&M&IT"),"MixedTs",IF('full menu'!E5="UD","UD",IF('full menu'!E5="LSD","LSD",IF('full menu'!E5="WSD","WSD",""))))))))))) | F5: =IF('full menu'!F5="MDC","MDC",IF('full menu'!F5="X","X",IF('full menu'!F5="UASC","UASC",IF(OR('full menu'!F5="PERF",'full menu'!F5="AERF",'full menu'!F5="PCB"),"ERfix",IF(OR('full menu'!F5="ACB",'full menu'!F5="LCERT",'full menu'!F5="LERT",'full menu'!F5="FCERT",'full menu'!F5="FERT"),"ERTs",IF(OR('full menu'!F5="FCMT",'full menu'!F5="FMT",'full menu'!F5="LMT",'full menu'!F5="LCMT"),"MTs",IF(OR('full menu'!F5="LCIT",'full menu'!F5="FCIT",'full menu'!F5="LIT",'full menu'!F5="FIT"),"ITs",IF(OR('full menu'!F5="MwERT",'full menu'!F5="ERwMT",'full menu'!F5="M&ERT",'full menu'!F5="MwIT",'full menu'!F5="IwMT",'full menu'!F5="M&IT",'full menu'!F5="IwERT",'full menu'!F5="ERwIT",'full menu'!F5="I&ERT",'full menu'!F5="ER&M&IT"),"MixedTs",IF('full menu'!F5="UD","UD",IF('full menu'!F5="LSD","LSD",IF('full menu'!F5="WSD","WSD",""))))))))))) | G5: =IF('full menu'!G5="MDC","MDC",IF('full menu'!G5="X","X",IF('full menu'!G5="UASC","UASC",IF(OR('full menu'!G5="PERF",'full menu'!G5="AERF",'full menu'!G5="PCB"),"ERfix",IF(OR('full menu'!G5="ACB",'full menu'!G5="LCERT",'full menu'!G5="LERT",'full menu'!G5="FCERT",'full menu'!G5="FERT"),"ERTs",IF(OR('full menu'!G5="FCMT",'full menu'!G5="FMT",'full menu'!G5="LMT",'full menu'!G5="LCMT"),"MTs",IF(OR('full menu'!G5="LCIT",'full menu'!G5="FCIT",'full menu'!G5="LIT",'full menu'!G5="FIT"),"ITs",IF(OR('full menu'!G5="MwERT",'full menu'!G5="ERwMT",'full menu'!G5="M&ERT",'full menu'!G5="MwIT",'full menu'!G5="IwMT",'full menu'!G5="M&IT",'full menu'!G5="IwERT",'full menu'!G5="ERwIT",'full menu'!G5="I&ERT",'full menu'!G5="ER&M&IT"),"MixedTs",IF('full menu'!G5="UD","UD",IF('full menu'!G5="LSD","LSD",IF('full menu'!G5="WSD","WSD",""))))))))))) | H5: =IF('full menu'!H5="MDC","MDC",IF('full menu'!H5="X","X",IF('full menu'!H5="UASC","UASC",IF(OR('full menu'!H5="PERF",'full menu'!H5="AERF",'full menu'!H5="PCB"),"ERfix",IF(OR('full menu'!H5="ACB",'full menu'!H5="LCERT",'full menu'!H5="LERT",'full menu'!H5="FCERT",'full menu'!H5="FERT"),"ERTs",IF(OR('full menu'!H5="FCMT",'full menu'!H5="FMT",'full menu'!H5="LMT",'full menu'!H5="LCMT"),"MTs",IF(OR('full menu'!H5="LCIT",'full menu'!H5="FCIT",'full menu'!H5="LIT",'full menu'!H5="FIT"),"ITs",IF(OR('full menu'!H5="MwERT",'full menu'!H5="ERwMT",'full menu'!H5="M&ERT",'full menu'!H5="MwIT",'full menu'!H5="IwMT",'full menu'!H5="M&IT",'full menu'!H5="IwERT",'full menu'!H5="ERwIT",'full menu'!H5="I&ERT",'full menu'!H5="ER&M&IT"),"MixedTs",IF('full menu'!H5="UD","UD",IF('full menu'!H5="LSD","LSD",IF('full menu'!H5="WSD","WSD",""))))))))))) | I5: =IF('full menu'!I5="MDC","MDC",IF('full menu'!I5="X","X",IF('full menu'!I5="UASC","UASC",IF(OR('full menu'!I5="PERF",'full menu'!I5="AERF",'full menu'!I5="PCB"),"ERfix",IF(OR('full menu'!I5="ACB",'full menu'!I5="LCERT",'full menu'!I5="LERT",'full menu'!I5="FCERT",'full menu'!I5="FERT"),"ERTs",IF(OR('full menu'!I5="FCMT",'full menu'!I5="FMT",'full menu'!I5="LMT",'full menu'!I5="LCMT"),"MTs",IF(OR('full menu'!I5="LCIT",'full menu'!I5="FCIT",'full menu'!I5="LIT",'full menu'!I5="FIT"),"ITs",IF(OR('full menu'!I5="MwERT",'full menu'!I5="ERwMT",'full menu'!I5="M&ERT",'full menu'!I5="MwIT",'full menu'!I5="IwMT",'full menu'!I5="M&IT",'full menu'!I5="IwERT",'full menu'!I5="ERwIT",'full menu'!I5="I&ERT",'full menu'!I5="ER&M&IT"),"MixedTs",IF('full menu'!I5="UD","UD",IF('full menu'!I5="LSD","LSD",IF('full menu'!I5="WSD","WSD",""))))))))))) | ... AS5: =IF('full menu'!AS5="MDC","MDC",IF('full menu'!AS5="X","X",IF('full menu'!AS5="UASC","UASC",IF(OR('full menu'!AS5="PERF",'full menu'!AS5="AERF",'full menu'!AS5="PCB"),"ERfix",IF(OR('full menu'!AS5="ACB",'full menu'!AS5="LCERT",'full menu'!AS5="LERT",'full menu'!AS5="FCERT",'full menu'!AS5="FERT"),"ERTs",IF(OR('full menu'!AS5="FCMT",'full menu'!AS5="FMT",'full menu'!AS5="LMT",'full menu'!AS5="LCMT"),"MTs",IF(OR('full menu'!AS5="LCIT",'full menu'!AS5="FCIT",'full menu'!AS5="LIT",'full menu'!AS5="FIT"),"ITs",IF(OR('full menu'!AS5="MwERT",'full menu'!AS5="ERwMT",'full menu'!AS5="M&ERT",'full menu'!AS5="MwIT",'full menu'!AS5="IwMT",'full menu'!AS5="M&IT",'full menu'!AS5="IwERT",'full menu'!AS5="ERwIT",'full menu'!AS5="I&ERT",'full menu'!AS5="ER&M&IT"),"MixedTs",IF('full menu'!AS5="UD","UD",IF('full menu'!AS5="LSD","LSD",IF('full menu'!AS5="WSD","WSD","")))))))))))
A6: Bhutan | B6: =IF('full menu'!B6="MDC","MDC",IF('full menu'!B6="X","X",IF('full menu'!B6="UASC","UASC",IF(OR('full menu'!B6="PERF",'full menu'!B6="AERF",'full menu'!B6="PCB"),"ERfix",IF(OR('full menu'!B6="ACB",'full menu'!B6="LCERT",'full menu'!B6="LERT",'full menu'!B6="FCERT",'full menu'!B6="FERT"),"ERTs",IF(OR('full menu'!B6="FCMT",'full menu'!B6="FMT",'full menu'!B6="LMT",'full menu'!B6="LCMT"),"MTs",IF(OR('full menu'!B6="LCIT",'full menu'!B6="FCIT",'full menu'!B6="LIT",'full menu'!B6="FIT"),"ITs",IF(OR('full menu'!B6="MwERT",'full menu'!B6="ERwMT",'full menu'!B6="M&ERT",'full menu'!B6="MwIT",'full menu'!B6="IwMT",'full menu'!B6="M&IT",'full menu'!B6="IwERT",'full menu'!B6="ERwIT",'full menu'!B6="I&ERT",'full menu'!B6="ER&M&IT"),"MixedTs",IF('full menu'!B6="UD","UD",IF('full menu'!B6="LSD","LSD",IF('full menu'!B6="WSD","WSD",""))))))))))) -> UASC | C6: =IF('full menu'!C6="MDC","MDC",IF('full menu'!C6="X","X",IF('full menu'!C6="UASC","UASC",IF(OR('full menu'!C6="PERF",'full menu'!C6="AERF",'full menu'!C6="PCB"),"ERfix",IF(OR('full menu'!C6="ACB",'full menu'!C6="LCERT",'full menu'!C6="LERT",'full menu'!C6="FCERT",'full menu'!C6="FERT"),"ERTs",IF(OR('full menu'!C6="FCMT",'full menu'!C6="FMT",'full menu'!C6="LMT",'full menu'!C6="LCMT"),"MTs",IF(OR('full menu'!C6="LCIT",'full menu'!C6="FCIT",'full menu'!C6="LIT",'full menu'!C6="FIT"),"ITs",IF(OR('full menu'!C6="MwERT",'full menu'!C6="ERwMT",'full menu'!C6="M&ERT",'full menu'!C6="MwIT",'full menu'!C6="IwMT",'full menu'!C6="M&IT",'full menu'!C6="IwERT",'full menu'!C6="ERwIT",'full menu'!C6="I&ERT",'full menu'!C6="ER&M&IT"),"MixedTs",IF('full menu'!C6="UD","UD",IF('full menu'!C6="LSD","LSD",IF('full menu'!C6="WSD","WSD",""))))))))))) -> UASC | D6: =IF('full menu'!D6="MDC","MDC",IF('full menu'!D6="X","X",IF('full menu'!D6="UASC","UASC",IF(OR('full menu'!D6="PERF",'full menu'!D6="AERF",'full menu'!D6="PCB"),"ERfix",IF(OR('full menu'!D6="ACB",'full menu'!D6="LCERT",'full menu'!D6="LERT",'full menu'!D6="FCERT",'full menu'!D6="FERT"),"ERTs",IF(OR('full menu'!D6="FCMT",'full menu'!D6="FMT",'full menu'!D6="LMT",'full menu'!D6="LCMT"),"MTs",IF(OR('full menu'!D6="LCIT",'full menu'!D6="FCIT",'full menu'!D6="LIT",'full menu'!D6="FIT"),"ITs",IF(OR('full menu'!D6="MwERT",'full menu'!D6="ERwMT",'full menu'!D6="M&ERT",'full menu'!D6="MwIT",'full menu'!D6="IwMT",'full menu'!D6="M&IT",'full menu'!D6="IwERT",'full menu'!D6="ERwIT",'full menu'!D6="I&ERT",'full menu'!D6="ER&M&IT"),"MixedTs",IF('full menu'!D6="UD","UD",IF('full menu'!D6="LSD","LSD",IF('full menu'!D6="WSD","WSD",""))))))))))) -> UASC | E6: =IF('full menu'!E6="MDC","MDC",IF('full menu'!E6="X","X",IF('full menu'!E6="UASC","UASC",IF(OR('full menu'!E6="PERF",'full menu'!E6="AERF",'full menu'!E6="PCB"),"ERfix",IF(OR('full menu'!E6="ACB",'full menu'!E6="LCERT",'full menu'!E6="LERT",'full menu'!E6="FCERT",'full menu'!E6="FERT"),"ERTs",IF(OR('full menu'!E6="FCMT",'full menu'!E6="FMT",'full menu'!E6="LMT",'full menu'!E6="LCMT"),"MTs",IF(OR('full menu'!E6="LCIT",'full menu'!E6="FCIT",'full menu'!E6="LIT",'full menu'!E6="FIT"),"ITs",IF(OR('full menu'!E6="MwERT",'full menu'!E6="ERwMT",'full menu'!E6="M&ERT",'full menu'!E6="MwIT",'full menu'!E6="IwMT",'full menu'!E6="M&IT",'full menu'!E6="IwERT",'full menu'!E6="ERwIT",'full menu'!E6="I&ERT",'full menu'!E6="ER&M&IT"),"MixedTs",IF('full menu'!E6="UD","UD",IF('full menu'!E6="LSD","LSD",IF('full menu'!E6="WSD","WSD",""))))))))))) -> UASC | F6: =IF('full menu'!F6="MDC","MDC",IF('full menu'!F6="X","X",IF('full menu'!F6="UASC","UASC",IF(OR('full menu'!F6="PERF",'full menu'!F6="AERF",'full menu'!F6="PCB"),"ERfix",IF(OR('full menu'!F6="ACB",'full menu'!F6="LCERT",'full menu'!F6="LERT",'full menu'!F6="FCERT",'full menu'!F6="FERT"),"ERTs",IF(OR('full menu'!F6="FCMT",'full menu'!F6="FMT",'full menu'!F6="LMT",'full menu'!F6="LCMT"),"MTs",IF(OR('full menu'!F6="LCIT",'full menu'!F6="FCIT",'full menu'!F6="LIT",'full menu'!F6="FIT"),"ITs",IF(OR('full menu'!F6="MwERT",'full menu'!F6="ERwMT",'full menu'!F6="M&ERT",'full menu'!F6="MwIT",'full menu'!F6="IwMT",'full menu'!F6="M&IT",'full menu'!F6="IwERT",'full menu'!F6="ERwIT",'full menu'!F6="I&ERT",'full menu'!F6="ER&M&IT"),"MixedTs",IF('full menu'!F6="UD","UD",IF('full menu'!F6="LSD","LSD",IF('full menu'!F6="WSD","WSD",""))))))))))) -> UASC | G6: =IF('full menu'!G6="MDC","MDC",IF('full menu'!G6="X","X",IF('full menu'!G6="UASC","UASC",IF(OR('full menu'!G6="PERF",'full menu'!G6="AERF",'full menu'!G6="PCB"),"ERfix",IF(OR('full menu'!G6="ACB",'full menu'!G6="LCERT",'full menu'!G6="LERT",'full menu'!G6="FCERT",'full menu'!G6="FERT"),"ERTs",IF(OR('full menu'!G6="FCMT",'full menu'!G6="FMT",'full menu'!G6="LMT",'full menu'!G6="LCMT"),"MTs",IF(OR('full menu'!G6="LCIT",'full menu'!G6="FCIT",'full menu'!G6="LIT",'full menu'!G6="FIT"),"ITs",IF(OR('full menu'!G6="MwERT",'full menu'!G6="ERwMT",'full menu'!G6="M&ERT",'full menu'!G6="MwIT",'full menu'!G6="IwMT",'full menu'!G6="M&IT",'full menu'!G6="IwERT",'full menu'!G6="ERwIT",'full menu'!G6="I&ERT",'full menu'!G6="ER&M&IT"),"MixedTs",IF('full menu'!G6="UD","UD",IF('full menu'!G6="LSD","LSD",IF('full menu'!G6="WSD","WSD",""))))))))))) -> UASC | H6: =IF('full menu'!H6="MDC","MDC",IF('full menu'!H6="X","X",IF('full menu'!H6="UASC","UASC",IF(OR('full menu'!H6="PERF",'full menu'!H6="AERF",'full menu'!H6="PCB"),"ERfix",IF(OR('full menu'!H6="ACB",'full menu'!H6="LCERT",'full menu'!H6="LERT",'full menu'!H6="FCERT",'full menu'!H6="FERT"),"ERTs",IF(OR('full menu'!H6="FCMT",'full menu'!H6="FMT",'full menu'!H6="LMT",'full menu'!H6="LCMT"),"MTs",IF(OR('full menu'!H6="LCIT",'full menu'!H6="FCIT",'full menu'!H6="LIT",'full menu'!H6="FIT"),"ITs",IF(OR('full menu'!H6="MwERT",'full menu'!H6="ERwMT",'full menu'!H6="M&ERT",'full menu'!H6="MwIT",'full menu'!H6="IwMT",'full menu'!H6="M&IT",'full menu'!H6="IwERT",'full menu'!H6="ERwIT",'full menu'!H6="I&ERT",'full menu'!H6="ER&M&IT"),"MixedTs",IF('full menu'!H6="UD","UD",IF('full menu'!H6="LSD","LSD",IF('full menu'!H6="WSD","WSD",""))))))))))) -> UASC | I6: =IF('full menu'!I6="MDC","MDC",IF('full menu'!I6="X","X",IF('full menu'!I6="UASC","UASC",IF(OR('full menu'!I6="PERF",'full menu'!I6="AERF",'full menu'!I6="PCB"),"ERfix",IF(OR('full menu'!I6="ACB",'full menu'!I6="LCERT",'full menu'!I6="LERT",'full menu'!I6="FCERT",'full menu'!I6="FERT"),"ERTs",IF(OR('full menu'!I6="FCMT",'full menu'!I6="FMT",'full menu'!I6="LMT",'full menu'!I6="LCMT"),"MTs",IF(OR('full menu'!I6="LCIT",'full menu'!I6="FCIT",'full menu'!I6="LIT",'full menu'!I6="FIT"),"ITs",IF(OR('full menu'!I6="MwERT",'full menu'!I6="ERwMT",'full menu'!I6="M&ERT",'full menu'!I6="MwIT",'full menu'!I6="IwMT",'full menu'!I6="M&IT",'full menu'!I6="IwERT",'full menu'!I6="ERwIT",'full menu'!I6="I&ERT",'full menu'!I6="ER&M&IT"),"MixedTs",IF('full menu'!I6="UD","UD",IF('full menu'!I6="LSD","LSD",IF('full menu'!I6="WSD","WSD",""))))))))))) -> UASC | ... AS6: =IF('full menu'!AS6="MDC","MDC",IF('full menu'!AS6="X","X",IF('full menu'!AS6="UASC","UASC",IF(OR('full menu'!AS6="PERF",'full menu'!AS6="AERF",'full menu'!AS6="PCB"),"ERfix",IF(OR('full menu'!AS6="ACB",'full menu'!AS6="LCERT",'full menu'!AS6="LERT",'full menu'!AS6="FCERT",'full menu'!AS6="FERT"),"ERTs",IF(OR('full menu'!AS6="FCMT",'full menu'!AS6="FMT",'full menu'!AS6="LMT",'full menu'!AS6="LCMT"),"MTs",IF(OR('full menu'!AS6="LCIT",'full menu'!AS6="FCIT",'full menu'!AS6="LIT",'full menu'!AS6="FIT"),"ITs",IF(OR('full menu'!AS6="MwERT",'full menu'!AS6="ERwMT",'full menu'!AS6="M&ERT",'full menu'!AS6="MwIT",'full menu'!AS6="IwMT",'full menu'!AS6="M&IT",'full menu'!AS6="IwERT",'full menu'!AS6="ERwIT",'full menu'!AS6="I&ERT",'full menu'!AS6="ER&M&IT"),"MixedTs",IF('full menu'!AS6="UD","UD",IF('full menu'!AS6="LSD","LSD",IF('full menu'!AS6="WSD","WSD",""))))))))))) -> ERfix
