Workbook

Sheet full menu
A1: country | B1: 1974 | C1: 1975 | D1: 1976 | E1: 1977 | F1: 1978 | G1: 1979 | H1: 1980 | I1: 1981 | J1: 1982 | K1: 1983 | L1: 1984 | M1: 1985 | N1: 1986 | O1: 1987 | P1: 1988 | Q1: 1989 | R1: 1990 | S1: 1991 | T1: 1992 | U1: 1993 | V1: 1994 | W1: 1995 | X1: 1996 | Y1: 1997 | Z1: 1998 | AA1: 1999 | AB1: 2000 | AC1: 2001 | AD1: 2002 | AE1: 2003 | AF1: 2004 | AG1: 2005 | AH1: 2006 | AI1: 2007 | AJ1: 2008 | AK1: 2009 | AL1: 2010 | AM1: 2011 | AN1: 2012 | AO1: 2013 | AP1: 2014 | AQ1: 2015 | AR1: 2016 | AS1: 2017 | AT1: 2018 | AU1: 2019 | AV1: 2020 | AW1: 2021 | AX1: 2022 | AY1: 2023
A2: Australia | B2: AERF | C2: AERF | D2: AERF | E2: LMT | F2: LMT | G2: LMT | H2: LMT | I2: LMT | J2: LMT | K2: LMT | L2: LSD | M2: LSD | N2: LSD | O2: LSD | P2: LSD | Q2: LSD | R2: LSD | S2: LSD | T2: LSD | U2: LIT | V2: LIT | W2: LIT | X2: LIT | Y2: FIT | Z2: FIT | AA2: FIT | AB2: FIT | AC2: FIT | AD2: FIT | AE2: FIT | AF2: FIT | AG2: FIT | AH2: FIT | AI2: FIT | AJ2: FIT | AK2: FIT | AL2: FIT | AM2: FIT | AN2: FIT | AO2: FIT | AP2: FIT | AQ2: FIT | AR2: FIT | AS2: FIT | AT2: FIT | AU2: FIT | AV2: FIT | AW2: FIT | AX2: FIT | AY2: FIT
A3: Austria | B3: LERT | C3: LERT | D3: LERT | E3: LERT | F3: LERT | G3: LERT | H3: FERT | I3: FERT | J3: FERT | K3: FERT | L3: FERT | M3: FERT | N3: FERT | O3: FERT | P3: FERT | Q3: FERT | R3: FERT | S3: FERT | T3: FERT | U3: FERT | V3: FERT | W3: FERT | X3: FERT | Y3: FERT | Z3: FERT | AA3: CU | AB3: CU | AC3: CU | AD3: CU | AE3: CU | AF3: CU | AG3: CU | AH3: CU | AI3: CU | AJ3: CU | AK3: CU | AL3: CU | AM3: CU | AN3: CU | AO3: CU | AP3: CU | AQ3: CU | AR3: CU | AS3: CU | AT3: CU | AU3: CU | AV3: CU | AW3: CU | AX3: CU | AY3: CU
A4: Bahamas | B4: AERF | C4: AERF | D4: AERF | E4: AERF | F4: AERF | G4: AERF | H4: AERF | I4: AERF | J4: AERF | K4: AERF | L4: AERF | M4: AERF | N4: AERF | O4: AERF | P4: AERF | Q4: AERF | R4: AERF | S4: AERF | T4: AERF | U4: AERF | V4: AERF | W4: AERF | X4: AERF | Y4: AERF | Z4: AERF | AA4: AERF | AB4: AERF | AC4: AERF | AD4: AERF | AE4: AERF | AF4: AERF | AG4: AERF | AH4: AERF | AI4: AERF | AJ4: AERF | AK4: AERF | AL4: AERF | AM4: AERF | AN4: AERF | AO4: AERF | AP4: AERF | AQ4: AERF | AR4: AERF | AS4: AERF | AT4: AERF | AU4: AERF | AV4: AERF | AW4: AERF | AX4: AERF | AY4: AERF
A5: Bahrain | B5: ACB | C5: AERF | D5: AERF | E5: AERF | F5: AERF | G5: AERF | H5: AERF | I5: AERF | J5: AERF | K5: AERF | L5: AERF | M5: AERF | N5: AERF | O5: AERF | P5: AERF | Q5: AERF | R5: AERF | S5: AERF | T5: AERF | U5: AERF | V5: AERF | W5: FERT | X5: FERT | Y5: FERT | Z5: FERT | AA5: FERT | AB5: FERT | AC5: FERT | AD5: FERT | AE5: FERT | AF5: FERT | AG5: FERT | AH5: FERT | AI5: FERT | AJ5: FERT | AK5: FERT | AL5: FERT | AM5: FERT | AN5: FERT | AO5: FERT | AP5: FERT | AQ5: FERT | AR5: FERT | AS5: FERT | AT5: FERT | AU5: FERT | AV5: FERT | AW5: FERT | AX5: FERT | AY5: FERT
A6: Belgium | B6: LERT | C6: LERT | D6: LERT | E6: LERT | F6: LERT | G6: LERT | H6: LERT | I6: LERT | J6: LERT | K6: FERT | L6: FERT | M6: FERT | N6: FERT | O6: FERT | P6: FERT | Q6: FERT | R6: FERT | S6: FERT | T6: FERT | U6: FERT | V6: FERT | W6: FERT | X6: FERT | Y6: FERT | Z6: FERT | AA6: CU | AB6: CU | AC6: CU | AD6: CU | AE6: CU | AF6: CU | AG6: CU | AH6: CU | AI6: CU | AJ6: CU | AK6: CU | AL6: CU | AM6: CU | AN6: CU | AO6: CU | AP6: CU | AQ6: CU | AR6: CU | AS6: CU | AT6: CU | AU6: CU | AV6: CU | AW6: CU | AX6: CU | AY6: CU
A7: Brunei | B7: PCB | C7: PCB | D7: PCB | E7: PCB | F7: PCB | G7: PCB | H7: PCB | I7: PCB | J7: PCB | K7: PCB | L7: PCB | M7: PCB | N7: PCB | O7: PCB | P7: PCB | Q7: PCB | R7: PCB | S7: PCB | T7: PCB | U7: PCB | V7: PCB | W7: PCB | X7: PCB | Y7: PCB | Z7: PCB | AA7: PCB | AB7: PCB | AC7: PCB | AD7: PCB | AE7: PCB | AF7: PCB | AG7: PCB | AH7: PCB | AI7: PCB | AJ7: PCB | AK7: PCB | AL7: PCB | AM7: PCB | AN7: PCB | AO7: ACB | AP7: ACB | AQ7: ACB | AR7: ACB | AS7: ACB | AT7: ACB | AU7: ACB | AV7: ACB | AW7: ACB | AX7: ACB | AY7: ACB
A8: Canada | B8: LSD | C8: LSD | D8: LCMT | E8: LCMT | F8: LCMT | G8: LCMT | H8: LCMT | I8: LSD | J8: LSD | K8: LSD | L8: LSD | M8: LSD | N8: LSD | O8: LSD | P8: LSD | Q8: LSD | R8: LSD | S8: LSD | T8: FIT | U8: FIT | V8: FIT | W8: FIT | X8: FIT | Y8: FIT | Z8: FIT | AA8: FIT | AB8: FIT | AC8: FIT | AD8: FIT | AE8: FIT | AF8: FIT | AG8: FIT | AH8: FIT | AI8: FIT | AJ8: FIT | AK8: FIT | AL8: FIT | AM8: FIT | AN8: FIT | AO8: FIT | AP8: FIT | AQ8: FIT | AR8: FIT | AS8: FIT | AT8: FIT | AU8: FIT | AV8: FIT | AW8: FIT | AX8: FIT | AY8: FIT
A9: Cyprus | B9: AERF | C9: AERF | D9: AERF | E9: AERF | F9: AERF | G9: AERF | H9: AERF | I9: AERF | J9: AERF | K9: AERF | L9: AERF | M9: AERF | N9: AERF | O9: AERF | P9: AERF | Q9: AERF | R9: LERT | S9: LERT | T9: FERT | U9: FERT | V9: FERT | W9: FERT | X9: FERT | Y9: FERT | Z9: FERT | AA9: FERT | AB9: FERT | AC9: FERT | AD9: FERT | AE9: FERT | AF9: FERT | AG9: FERT | AH9: FERT | AI9: FERT | AJ9: CU | AK9: CU | AL9: CU | AM9: CU | AN9: CU | AO9: CU | AP9: CU | AQ9: CU | AR9: CU | AS9: CU | AT9: CU | AU9: CU | AV9: CU | AW9: CU | AX9: CU | AY9: CU
A10: Denmark | B10: LERT | C10: LERT | D10: LERT | E10: LERT | F10: LERT | G10: LERT | H10: LERT | I10: LERT | J10: LERT | K10: FERT | L10: FERT | M10: FERT | N10: FERT | O10: FERT | P10: FERT | Q10: FERT | R10: FERT | S10: FERT | T10: FERT | U10: FERT | V10: FERT | W10: FERT | X10: FERT | Y10: FERT | Z10: FERT | AA10: FERT | AB10: FERT | AC10: FERT | AD10: FERT | AE10: FERT | AF10: FERT | AG10: FERT | AH10: FERT | AI10: FERT | AJ10: FERT | AK10: FERT | AL10: FERT | AM10: FERT | AN10: FERT | AO10: FERT | AP10: FERT | AQ10: FERT | AR10: FERT | AS10: FERT | AT10: FERT | AU10: FERT | AV10: FERT | AW10: FERT | AX10: FERT | AY10: FERT
A11: Euro area | B11: X | C11: X | D11: X | E11: X | F11: X | G11: X | H11: X | I11: X | J11: X | K11: X | L11: X | M11: X | N11: X | O11: X | P11: X | Q11: X | R11: X | S11: X | T11: X | U11: X | V11: X | W11: X | X11: X | Y11: X | Z11: X | AA11: LIT | AB11: LIT | AC11: LIT | AD11: LIT | AE11: LIT | AF11: LIT | AG11: LIT | AH11: LIT | AI11: LIT | AJ11: LIT | AK11: LIT | AL11: LIT | AM11: LIT | AN11: LIT | AO11: LIT | AP11: LIT | AQ11: LIT | AR11: LIT | AS11: LIT | AT11: LIT | AU11: LIT | AV11: LIT | AW11: LIT | AX11: LIT | AY11: LIT
A12: Finland | B12: LERT | C12: LERT | D12: LERT | E12: LERT | F12: LERT | G12: LERT | H12: LERT | I12: LERT | J12: LERT | K12: FERT | L12: FERT | M12: FERT | N12: FERT | O12: FERT | P12: FERT | Q12: FERT | R12: FERT | S12: FERT | T12: FERT | U12: FIT | V12: FIT | W12: FIT | X12: FIT | Y12: IwERT | Z12: IwERT | AA12: CU | AB12: CU | AC12: CU | AD12: CU | AE12: CU | AF12: CU | AG12: CU | AH12: CU | AI12: CU | AJ12: CU | AK12: CU | AL12: CU | AM12: CU | AN12: CU | AO12: CU | AP12: CU | AQ12: CU | AR12: CU | AS12: CU | AT12: CU | AU12: CU | AV12: CU | AW12: CU | AX12: CU | AY12: CU
A13: France | B13: LSD | C13: LSD | D13: LSD | E13: MwERT | F13: MwERT | G13: MwERT | H13: MwERT | I13: MwERT | J13: MwERT | K13: M&ERT | L13: M&ERT | M13: M&ERT | N13: M&ERT | O13: ERwMT | P13: ERwMT | Q13: ERwMT | R13: ERwMT | S13: ERwMT | T13: ERwMT | U13: FERT | V13: FERT | W13: FERT | X13: FERT | Y13: FERT | Z13: FERT | AA13: CU | AB13: CU | AC13: CU | AD13: CU | AE13: CU | AF13: CU | AG13: CU | AH13: CU | AI13: CU | AJ13: CU | AK13: CU | AL13: CU | AM13: CU | AN13: CU | AO13: CU | AP13: CU | AQ13: CU | AR13: CU | AS13: CU | AT13: CU | AU13: CU | AV13: CU | AW13: CU | AX13: CU | AY13: CU
... A41: USA | B41: LSD | C41: FCMT | D41: FCMT | E41: FCMT | F41: FCMT | G41: FCMT | H41: FCMT | I41: LMT | J41: LMT | K41: LMT | L41: LMT | M41: LMT | N41: LMT | O41: LMT | P41: LMT | Q41: LMT | R41: LSD | S41: LSD | T41: LSD | U41: LSD | V41: LSD | W41: LSD | X41: LIT | Y41: LIT | Z41: LIT | AA41: LIT | AB41: LIT | AC41: LIT | AD41: LIT | AE41: LIT | AF41: LIT | AG41: LIT | AH41: LIT | AI41: LIT | AJ41: LIT | AK41: LIT | AL41: LIT | AM41: LIT | AN41: FIT | AO41: FIT | AP41: FIT | AQ41: FIT | AR41: FIT | AS41: FIT | AT41: FIT | AU41: FIT | AV41: FIT | AW41: FIT | AX41: FIT | AY41: FIT
B65: 1974 | C65: 1975 | D65: 1976 | E65: 1977 | F65: 1978 | G65: 1979 | H65: 1980 | I65: 1981 | J65: 1982 | K65: 1983 | L65: 1984 | M65: 1985 | N65: 1986 | O65: 1987 | P65: 1988 | Q65: 1989 | R65: 1990 | S65: 1991 | T65: 1992 | U65: 1993 | V65: 1994 | W65: 1995 | X65: 1996 | Y65: 1997 | Z65: 1998 | AA65: 1999 | AB65: 2000 | AC65: 2001 | AD65: 2002 | AE65: 2003 | AF65: 2004 | AG65: 2005 | AH65: 2006 | AI65: 2007 | AJ65: 2008 | AK65: 2009 | AL65: 2010 | AM65: 2011 | AN65: 2012 | AO65: 2013 | AP65: 2014 | AQ65: 2015 | AR65: 2016 | AS65: 2017 | AT65: 2017 | AU65: 2017 | AV65: 2017 | AW65: 2017 | AX65: 2017 | AY65: 2017
A66: X | B66: =COUNTIF(B2:B41,"X") -> 2 | C66: =COUNTIF(C2:C41,"X") -> 2 | D66: =COUNTIF(D2:D41,"X") -> 2 | E66: =COUNTIF(E2:E41,"X") -> 2 | F66: =COUNTIF(F2:F41,"X") -> 2 | G66: =COUNTIF(G2:G41,"X") -> 2 | H66: =COUNTIF(H2:H41,"X") -> 2 | I66: =COUNTIF(I2:I41,"X") -> 2 | ... AY66: =COUNTIF(AY2:AY41,"X") -> 0
A67: MDC | B67: =COUNTIF(B2:B41,"MDC") -> 0 | C67: =COUNTIF(C2:C41,"MDC") -> 0 | D67: =COUNTIF(D2:D41,"MDC") -> 0 | E67: =COUNTIF(E2:E41,"MDC") -> 0 | F67: =COUNTIF(F2:F41,"MDC") -> 0 | G67: =COUNTIF(G2:G41,"MDC") -> 0 | H67: =COUNTIF(H2:H41,"MDC") -> 0 | I67: =COUNTIF(I2:I41,"MDC") -> 0 | ... AY67: =COUNTIF(AY2:AY41,"MDC") -> 0
A68: PERF | B68: =COUNTIF(B2:B41,"PERF") -> 1 | C68: =COUNTIF(C2:C41,"PERF") -> 1 | D68: =COUNTIF(D2:D41,"PERF") -> 1 | E68: =COUNTIF(E2:E41,"PERF") -> 0 | F68: =COUNTIF(F2:F41,"PERF") -> 0 | G68: =COUNTIF(G2:G41,"PERF") -> 0 | H68: =COUNTIF(H2:H41,"PERF") -> 0 | I68: =COUNTIF(I2:I41,"PERF") -> 0 | ... AY68: =COUNTIF(AY2:AY41,"PERF") -> 0
A69: AERF | B69: =COUNTIF(B2:B41,"AERF") -> 7 | C69: =COUNTIF(C2:C41,"AERF") -> 8 | D69: =COUNTIF(D2:D41,"AERF") -> 8 | E69: =COUNTIF(E2:E41,"AERF") -> 7 | F69: =COUNTIF(F2:F41,"AERF") -> 7 | G69: =COUNTIF(G2:G41,"AERF") -> 5 | H69: =COUNTIF(H2:H41,"AERF") -> 5 | I69: =COUNTIF(I2:I41,"AERF") -> 5 | ... AY69: =COUNTIF(AY2:AY41,"AERF") -> 1
A70: PCB | B70: =COUNTIF(B2:B41,"PCB") -> 2 | C70: =COUNTIF(C2:C41,"PCB") -> 2 | D70: =COUNTIF(D2:D41,"PCB") -> 2 | E70: =COUNTIF(E2:E41,"PCB") -> 3 | F70: =COUNTIF(F2:F41,"PCB") -> 3 | G70: =COUNTIF(G2:G41,"PCB") -> 2 | H70: =COUNTIF(H2:H41,"PCB") -> 2 | I70: =COUNTIF(I2:I41,"PCB") -> 2 | ... AY70: =COUNTIF(AY2:AY41,"PCB") -> 1
A71: ACB | B71: =COUNTIF(B2:B41,"ACB") -> 3 | C71: =COUNTIF(C2:C41,"ACB") -> 2 | D71: =COUNTIF(D2:D41,"ACB") -> 2 | E71: =COUNTIF(E2:E41,"ACB") -> 2 | F71: =COUNTIF(F2:F41,"ACB") -> 2 | G71: =COUNTIF(G2:G41,"ACB") -> 2 | H71: =COUNTIF(H2:H41,"ACB") -> 2 | I71: =COUNTIF(I2:I41,"ACB") -> 1 | ... AY71: =COUNTIF(AY2:AY41,"ACB") -> 2
A72: UD | B72: =COUNTIF(B2:B41,"UD") -> 6 | C72: =COUNTIF(C2:C41,"UD") -> 7 | D72: =COUNTIF(D2:D41,"UD") -> 7 | E72: =COUNTIF(E2:E41,"UD") -> 7 | F72: =COUNTIF(F2:F41,"UD") -> 6 | G72: =COUNTIF(G2:G41,"UD") -> 5 | H72: =COUNTIF(H2:H41,"UD") -> 5 | I72: =COUNTIF(I2:I41,"UD") -> 5 | ... AY72: =COUNTIF(AY2:AY41,"UD") -> 0
A73: LERT | B73: =COUNTIF(B2:B41,"LERT") -> 7 | C73: =COUNTIF(C2:C41,"LERT") -> 7 | D73: =COUNTIF(D2:D41,"LERT") -> 8 | E73: =COUNTIF(E2:E41,"LERT") -> 8 | F73: =COUNTIF(F2:F41,"LERT") -> 8 | G73: =COUNTIF(G2:G41,"LERT") -> 9 | H73: =COUNTIF(H2:H41,"LERT") -> 8 | I73: =COUNTIF(I2:I41,"LERT") -> 8 | ... AY73: =COUNTIF(AY2:AY41,"LERT") -> 1
A74: LCERT | B74: =COUNTIF(B2:B41,"LCERT") -> 0 | C74: =COUNTIF(C2:C41,"LCERT") -> 0 | D74: =COUNTIF(D2:D41,"LCERT") -> 0 | E74: =COUNTIF(E2:E41,"LCERT") -> 0 | F74: =COUNTIF(F2:F41,"LCERT") -> 1 | G74: =COUNTIF(G2:G41,"LCERT") -> 1 | H74: =COUNTIF(H2:H41,"LCERT") -> 1 | I74: =COUNTIF(I2:I41,"LCERT") -> 1 | ... AY74: =COUNTIF(AY2:AY41,"LCERT") -> 0
A75: LMT | B75: =COUNTIF(B2:B41,"LMT") -> 1 | C75: =COUNTIF(C2:C41,"LMT") -> 2 | D75: =COUNTIF(D2:D41,"LMT") -> 2 | E75: =COUNTIF(E2:E41,"LMT") -> 3 | F75: =COUNTIF(F2:F41,"LMT") -> 1 | G75: =COUNTIF(G2:G41,"LMT") -> 1 | H75: =COUNTIF(H2:H41,"LMT") -> 1 | I75: =COUNTIF(I2:I41,"LMT") -> 2 | ... AY75: =COUNTIF(AY2:AY41,"LMT") -> 0
A76: LCMT | B76: =COUNTIF(B2:B41,"LCMT") -> 0 | C76: =COUNTIF(C2:C41,"LCMT") -> 0 | D76: =COUNTIF(D2:D41,"LCMT") -> 1 | E76: =COUNTIF(E2:E41,"LCMT") -> 1 | F76: =COUNTIF(F2:F41,"LCMT") -> 1 | G76: =COUNTIF(G2:G41,"LCMT") -> 2 | H76: =COUNTIF(H2:H41,"LCMT") -> 2 | I76: =COUNTIF(I2:I41,"LCMT") -> 1 | ... AY76: =COUNTIF(AY2:AY41,"LCMT") -> 0
A77: LIT | B77: =COUNTIF(B2:B41,"LIT") -> 0 | C77: =COUNTIF(C2:C41,"LIT") -> 0 | D77: =COUNTIF(D2:D41,"LIT") -> 0 | E77: =COUNTIF(E2:E41,"LIT") -> 0 | F77: =COUNTIF(F2:F41,"LIT") -> 0 | G77: =COUNTIF(G2:G41,"LIT") -> 0 | H77: =COUNTIF(H2:H41,"LIT") -> 0 | I77: =COUNTIF(I2:I41,"LIT") -> 0 | ... AY77: =COUNTIF(AY2:AY41,"LIT") -> 3
A78: LCIT | B78: =COUNTIF(B2:B41,"LCIT") -> 0 | C78: =COUNTIF(C2:C41,"LCIT") -> 0 | D78: =COUNTIF(D2:D41,"LCIT") -> 0 | E78: =COUNTIF(E2:E41,"LCIT") -> 0 | F78: =COUNTIF(F2:F41,"LCIT") -> 0 | G78: =COUNTIF(G2:G41,"LCIT") -> 0 | H78: =COUNTIF(H2:H41,"LCIT") -> 0 | I78: =COUNTIF(I2:I41,"LCIT") -> 0 | ... AY78: =COUNTIF(AY2:AY41,"LCIT") -> 0
A79: MwERT | B79: =COUNTIF(B2:B41,"MwERT") -> 0 | C79: =COUNTIF(C2:C41,"MwERT") -> 1 | D79: =COUNTIF(D2:D41,"MwERT") -> 1 | E79: =COUNTIF(E2:E41,"MwERT") -> 2 | F79: =COUNTIF(F2:F41,"MwERT") -> 2 | G79: =COUNTIF(G2:G41,"MwERT") -> 3 | H79: =COUNTIF(H2:H41,"MwERT") -> 3 | I79: =COUNTIF(I2:I41,"MwERT") -> 3 | ... AY79: =COUNTIF(AY2:AY41,"MwERT") -> 0
A80: ERwMT | B80: =COUNTIF(B2:B41,"ERwMT") -> 0 | C80: =COUNTIF(C2:C41,"ERwMT") -> 0 | D80: =COUNTIF(D2:D41,"ERwMT") -> 0 | E80: =COUNTIF(E2:E41,"ERwMT") -> 0 | F80: =COUNTIF(F2:F41,"ERwMT") -> 0 | G80: =COUNTIF(G2:G41,"ERwMT") -> 0 | H80: =COUNTIF(H2:H41,"ERwMT") -> 0 | I80: =COUNTIF(I2:I41,"ERwMT") -> 0 | ... AY80: =COUNTIF(AY2:AY41,"ERwMT") -> 0
A81: M&ERT | B81: =COUNTIF(B2:B41,"M&ERT") -> 0 | C81: =COUNTIF(C2:C41,"M&ERT") -> 0 | D81: =COUNTIF(D2:D41,"M&ERT") -> 0 | E81: =COUNTIF(E2:E41,"M&ERT") -> 0 | F81: =COUNTIF(F2:F41,"M&ERT") -> 0 | G81: =COUNTIF(G2:G41,"M&ERT") -> 0 | H81: =COUNTIF(H2:H41,"M&ERT") -> 0 | I81: =COUNTIF(I2:I41,"M&ERT") -> 0 | ... AY81: =COUNTIF(AY2:AY41,"M&ERT") -> 0
A82: MwIT | B82: =COUNTIF(B2:B41,"MwIT") -> 0 | C82: =COUNTIF(C2:C41,"MwIT") -> 0 | D82: =COUNTIF(D2:D41,"MwIT") -> 0 | E82: =COUNTIF(E2:E41,"MwIT") -> 0 | F82: =COUNTIF(F2:F41,"MwIT") -> 0 | G82: =COUNTIF(G2:G41,"MwIT") -> 0 | H82: =COUNTIF(H2:H41,"MwIT") -> 0 | I82: =COUNTIF(I2:I41,"MwIT") -> 0 | ... AY82: =COUNTIF(AY2:AY41,"MwIT") -> 0
A83: IwMT | B83: =COUNTIF(B2:B41,"IwMT") -> 0 | C83: =COUNTIF(C2:C41,"IwMT") -> 0 | D83: =COUNTIF(D2:D41,"IwMT") -> 0 | E83: =COUNTIF(E2:E41,"IwMT") -> 0 | F83: =COUNTIF(F2:F41,"IwMT") -> 0 | G83: =COUNTIF(G2:G41,"IwMT") -> 0 | H83: =COUNTIF(H2:H41,"IwMT") -> 0 | I83: =COUNTIF(I2:I41,"IwMT") -> 0 | ... AY83: =COUNTIF(AY2:AY41,"IwMT") -> 0
A84: M&IT | B84: =COUNTIF(B2:B41,"M&IT") -> 0 | C84: =COUNTIF(C2:C41,"M&IT") -> 0 | D84: =COUNTIF(D2:D41,"M&IT") -> 0 | E84: =COUNTIF(E2:E41,"M&IT") -> 0 | F84: =COUNTIF(F2:F41,"M&IT") -> 0 | G84: =COUNTIF(G2:G41,"M&IT") -> 0 | H84: =COUNTIF(H2:H41,"M&IT") -> 0 | I84: =COUNTIF(I2:I41,"M&IT") -> 0 | ... AY84: =COUNTIF(AY2:AY41,"M&IT") -> 0
A85: IwERT | B85: =COUNTIF(B2:B41,"IwERT") -> 0 | C85: =COUNTIF(C2:C41,"IwERT") -> 0 | D85: =COUNTIF(D2:D41,"IwERT") -> 0 | E85: =COUNTIF(E2:E41,"IwERT") -> 0 | F85: =COUNTIF(F2:F41,"IwERT") -> 0 | G85: =COUNTIF(G2:G41,"IwERT") -> 0 | H85: =COUNTIF(H2:H41,"IwERT") -> 0 | I85: =COUNTIF(I2:I41,"IwERT") -> 0 | ... AY85: =COUNTIF(AY2:AY41,"IwERT") -> 0
A86: ERwIT | B86: =COUNTIF(B2:B41,"ERwIT") -> 0 | C86: =COUNTIF(C2:C41,"ERwIT") -> 0 | D86: =COUNTIF(D2:D41,"ERwIT") -> 0 | E86: =COUNTIF(E2:E41,"ERwIT") -> 0 | F86: =COUNTIF(F2:F41,"ERwIT") -> 0 | G86: =COUNTIF(G2:G41,"ERwIT") -> 0 | H86: =COUNTIF(H2:H41,"ERwIT") -> 0 | I86: =COUNTIF(I2:I41,"ERwIT") -> 0 | ... AY86: =COUNTIF(AY2:AY41,"ERwIT") -> 0
A87: I&ERT | B87: =COUNTIF(B2:B41,"I&ERT") -> 0 | C87: =COUNTIF(C2:C41,"I&ERT") -> 0 | D87: =COUNTIF(D2:D41,"I&ERT") -> 0 | E87: =COUNTIF(E2:E41,"I&ERT") -> 0 | F87: =COUNTIF(F2:F41,"I&ERT") -> 0 | G87: =COUNTIF(G2:G41,"I&ERT") -> 0 | H87: =COUNTIF(H2:H41,"I&ERT") -> 0 | I87: =COUNTIF(I2:I41,"I&ERT") -> 0 | ... AY87: =COUNTIF(AY2:AY41,"I&ERT") -> 0
A88: ER&M&IT | B88: =COUNTIF(B2:B41,"ER&M&IT") -> 0 | C88: =COUNTIF(C2:C41,"ER&M&IT") -> 0 | D88: =COUNTIF(D2:D41,"ER&M&IT") -> 0 | E88: =COUNTIF(E2:E41,"ER&M&IT") -> 0 | F88: =COUNTIF(F2:F41,"ER&M&IT") -> 0 | G88: =COUNTIF(G2:G41,"ER&M&IT") -> 0 | H88: =COUNTIF(H2:H41,"ER&M&IT") -> 0 | I88: =COUNTIF(I2:I41,"ER&M&IT") -> 0 | ... AY88: =COUNTIF(AY2:AY41,"ER&M&IT") -> 0
A89: LSD | B89: =COUNTIF(B2:B41,"LSD") -> 8 | C89: =COUNTIF(C2:C41,"LSD") -> 5 | D89: =COUNTIF(D2:D41,"LSD") -> 3 | E89: =COUNTIF(E2:E41,"LSD") -> 2 | F89: =COUNTIF(F2:F41,"LSD") -> 3 | G89: =COUNTIF(G2:G41,"LSD") -> 4 | H89: =COUNTIF(H2:H41,"LSD") -> 4 | I89: =COUNTIF(I2:I41,"LSD") -> 6 | ... AY89: =COUNTIF(AY2:AY41,"LSD") -> 2
A90: UASC | B90: =COUNTIF(B2:B41,"UASC") -> 1 | C90: =COUNTIF(C2:C41,"UASC") -> 1 | D90: =COUNTIF(D2:D41,"UASC") -> 1 | E90: =COUNTIF(E2:E41,"UASC") -> 1 | F90: =COUNTIF(F2:F41,"UASC") -> 1 | G90: =COUNTIF(G2:G41,"UASC") -> 1 | H90: =COUNTIF(H2:H41,"UASC") -> 1 | I90: =COUNTIF(I2:I41,"UASC") -> 1 | ... AY90: =COUNTIF(AY2:AY41,"UASC") -> 0
A91: CU | B91: =COUNTIF(B2:B41,"CU") -> 0 | C91: =COUNTIF(C2:C41,"CU") -> 0 | D91: =COUNTIF(D2:D41,"CU") -> 0 | E91: =COUNTIF(E2:E41,"CU") -> 0 | F91: =COUNTIF(F2:F41,"CU") -> 0 | G91: =COUNTIF(G2:G41,"CU") -> 0 | H91: =COUNTIF(H2:H41,"CU") -> 0 | I91: =COUNTIF(I2:I41,"CU") -> 0 | ... AY91: =COUNTIF(AY2:AY41,"CU") -> 15
A92: FERT | B92: =COUNTIF(B2:B41,"FERT") -> 2 | C92: =COUNTIF(C2:C41,"FERT") -> 1 | D92: =COUNTIF(D2:D41,"FERT") -> 1 | E92: =COUNTIF(E2:E41,"FERT") -> 1 | F92: =COUNTIF(F2:F41,"FERT") -> 1 | G92: =COUNTIF(G2:G41,"FERT") -> 1 | H92: =COUNTIF(H2:H41,"FERT") -> 2 | I92: =COUNTIF(I2:I41,"FERT") -> 2 | ... AY92: =COUNTIF(AY2:AY41,"FERT") -> 5
A93: FCERT | B93: =COUNTIF(B2:B41,"FCERT") -> 0 | C93: =COUNTIF(C2:C41,"FCERT") -> 0 | D93: =COUNTIF(D2:D41,"FCERT") -> 0 | E93: =COUNTIF(E2:E41,"FCERT") -> 0 | F93: =COUNTIF(F2:F41,"FCERT") -> 0 | G93: =COUNTIF(G2:G41,"FCERT") -> 0 | H93: =COUNTIF(H2:H41,"FCERT") -> 0 | I93: =COUNTIF(I2:I41,"FCERT") -> 0 | ... AY93: =COUNTIF(AY2:AY41,"FCERT") -> 0
A94: FMT | B94: =COUNTIF(B2:B41,"FMT") -> 0 | C94: =COUNTIF(C2:C41,"FMT") -> 0 | D94: =COUNTIF(D2:D41,"FMT") -> 0 | E94: =COUNTIF(E2:E41,"FMT") -> 0 | F94: =COUNTIF(F2:F41,"FMT") -> 1 | G94: =COUNTIF(G2:G41,"FMT") -> 1 | H94: =COUNTIF(H2:H41,"FMT") -> 1 | I94: =COUNTIF(I2:I41,"FMT") -> 0 | ... AY94: =COUNTIF(AY2:AY41,"FMT") -> 0
A95: FCMT | B95: =COUNTIF(B2:B41,"FCMT") -> 0 | C95: =COUNTIF(C2:C41,"FCMT") -> 1 | D95: =COUNTIF(D2:D41,"FCMT") -> 1 | E95: =COUNTIF(E2:E41,"FCMT") -> 1 | F95: =COUNTIF(F2:F41,"FCMT") -> 1 | G95: =COUNTIF(G2:G41,"FCMT") -> 1 | H95: =COUNTIF(H2:H41,"FCMT") -> 1 | I95: =COUNTIF(I2:I41,"FCMT") -> 1 | ... AY95: =COUNTIF(AY2:AY41,"FCMT") -> 0
A96: FIT | B96: =COUNTIF(B2:B41,"FIT") -> 0 | C96: =COUNTIF(C2:C41,"FIT") -> 0 | D96: =COUNTIF(D2:D41,"FIT") -> 0 | E96: =COUNTIF(E2:E41,"FIT") -> 0 | F96: =COUNTIF(F2:F41,"FIT") -> 0 | G96: =COUNTIF(G2:G41,"FIT") -> 0 | H96: =COUNTIF(H2:H41,"FIT") -> 0 | I96: =COUNTIF(I2:I41,"FIT") -> 0 | ... AY96: =COUNTIF(AY2:AY41,"FIT") -> 10
A97: FCIT | B97: =COUNTIF(B2:B41,"FCIT") -> 0 | C97: =COUNTIF(C2:C41,"FCIT") -> 0 | D97: =COUNTIF(D2:D41,"FCIT") -> 0 | E97: =COUNTIF(E2:E41,"FCIT") -> 0 | F97: =COUNTIF(F2:F41,"FCIT") -> 0 | G97: =COUNTIF(G2:G41,"FCIT") -> 0 | H97: =COUNTIF(H2:H41,"FCIT") -> 0 | I97: =COUNTIF(I2:I41,"FCIT") -> 0 | ... AY97: =COUNTIF(AY2:AY41,"FCIT") -> 0
A98: WSD | B98: =COUNTIF(B2:B41,"WSD") -> 0 | C98: =COUNTIF(C2:C41,"WSD") -> 0 | D98: =COUNTIF(D2:D41,"WSD") -> 0 | E98: =COUNTIF(E2:E41,"WSD") -> 0 | F98: =COUNTIF(F2:F41,"WSD") -> 0 | G98: =COUNTIF(G2:G41,"WSD") -> 0 | H98: =COUNTIF(H2:H41,"WSD") -> 0 | I98: =COUNTIF(I2:I41,"WSD") -> 0 | ... AY98: =COUNTIF(AY2:AY41,"WSD") -> 0
A100: total | B100: =SUM(B66:B98) -> 40 | C100: =SUM(C66:C98) -> 40 | D100: =SUM(D66:D98) -> 40 | E100: =SUM(E66:E98) -> 40 | F100: =SUM(F66:F98) -> 40 | G100: =SUM(G66:G98) -> 40 | H100: =SUM(H66:H98) -> 40 | I100: =SUM(I66:I98) -> 40 | ... AY100: =SUM(AY66:AY98) -> 40

Sheet targvar
A1: country | B1: 1974 | C1: 1975 | D1: 1976 | E1: 1977 | F1: 1978 | G1: 1979 | H1: 1980 | I1: 1981 | J1: 1982 | K1: 1983 | L1: 1984 | M1: 1985 | N1: 1986 | O1: 1987 | P1: 1988 | Q1: 1989 | R1: 1990 | S1: 1991 | T1: 1992 | U1: 1993 | V1: 1994 | W1: 1995 | X1: 1996 | Y1: 1997 | Z1: 1998 | AA1: 1999 | AB1: 2000 | AC1: 2001 | AD1: 2002 | AE1: 2003 | AF1: 2004 | AG1: 2005 | AH1: 2006 | AI1: 2007 | AJ1: 2008 | AK1: 2009 | AL1: 2010 | AM1: 2011 | AN1: 2012 | AO1: 2013 | AP1: 2014 | AQ1: 2015 | AR1: 2016 | AS1: 2017 | AT1: 2018 | AU1: 2019 | AV1: 2020 | AW1: 2021 | AX1: 2022 | AY1: 2023
A2: Australia | B2: =IF('full menu'!B2="MDC","MDC",IF('full menu'!B2="X","X",IF('full menu'!B2="UASC","UASC",IF(OR('full menu'!B2="PERF",'full menu'!B2="AERF",'full menu'!B2="PCB"),"ERfix",IF(OR('full menu'!B2="ACB",'full menu'!B2="LCERT",'full menu'!B2="LERT",'full menu'!B2="FCERT",'full menu'!B2="FERT"),"ERTs",IF(OR('full menu'!B2="FCMT",'full menu'!B2="FMT",'full menu'!B2="LMT",'full menu'!B2="LCMT"),"MTs",IF(OR('full menu'!B2="LCIT",'full menu'!B2="FCIT",'full menu'!B2="LIT",'full menu'!B2="FIT"),"ITs",IF(OR('full menu'!B2="MwERT",'full menu'!B2="ERwMT",'full menu'!B2="M&ERT",'full menu'!B2="MwIT",'full menu'!B2="IwMT",'full menu'!B2="M&IT",'full menu'!B2="IwERT",'full menu'!B2="ERwIT",'full menu'!B2="I&ERT",'full menu'!B2="ER&M&IT"),"MixedTs",IF('full menu'!B2="UD","UD",IF('full menu'!B2="LSD","LSD",IF('full menu'!B2="WSD","WSD",""))))))))))) -> ERfix | C2: =IF('full menu'!C2="MDC","MDC",IF('full menu'!C2="X","X",IF('full menu'!C2="UASC","UASC",IF(OR('full menu'!C2="PERF",'full menu'!C2="AERF",'full menu'!C2="PCB"),"ERfix",IF(OR('full menu'!C2="ACB",'full menu'!C2="LCERT",'full menu'!C2="LERT",'full menu'!C2="FCERT",'full menu'!C2="FERT"),"ERTs",IF(OR('full menu'!C2="FCMT",'full menu'!C2="FMT",'full menu'!C2="LMT",'full menu'!C2="LCMT"),"MTs",IF(OR('full menu'!C2="LCIT",'full menu'!C2="FCIT",'full menu'!C2="LIT",'full menu'!C2="FIT"),"ITs",IF(OR('full menu'!C2="MwERT",'full menu'!C2="ERwMT",'full menu'!C2="M&ERT",'full menu'!C2="MwIT",'full menu'!C2="IwMT",'full menu'!C2="M&IT",'full menu'!C2="IwERT",'full menu'!C2="ERwIT",'full menu'!C2="I&ERT",'full menu'!C2="ER&M&IT"),"MixedTs",IF('full menu'!C2="UD","UD",IF('full menu'!C2="LSD","LSD",IF('full menu'!C2="WSD","WSD",""))))))))))) -> ERfix | D2: =IF('full menu'!D2="MDC","MDC",IF('full menu'!D2="X","X",IF('full menu'!D2="UASC","UASC",IF(OR('full menu'!D2="PERF",'full menu'!D2="AERF",'full menu'!D2="PCB"),"ERfix",IF(OR('full menu'!D2="ACB",'full menu'!D2="LCERT",'full menu'!D2="LERT",'full menu'!D2="FCERT",'full menu'!D2="FERT"),"ERTs",IF(OR('full menu'!D2="FCMT",'full menu'!D2="FMT",'full menu'!D2="LMT",'full menu'!D2="LCMT"),"MTs",IF(OR('full menu'!D2="LCIT",'full menu'!D2="FCIT",'full menu'!D2="LIT",'full menu'!D2="FIT"),"ITs",IF(OR('full menu'!D2="MwERT",'full menu'!D2="ERwMT",'full menu'!D2="M&ERT",'full menu'!D2="MwIT",'full menu'!D2="IwMT",'full menu'!D2="M&IT",'full menu'!D2="IwERT",'full menu'!D2="ERwIT",'full menu'!D2="I&ERT",'full menu'!D2="ER&M&IT"),"MixedTs",IF('full menu'!D2="UD","UD",IF('full menu'!D2="LSD","LSD",IF('full menu'!D2="WSD","WSD",""))))))))))) -> ERfix | E2: =IF('full menu'!E2="MDC","MDC",IF('full menu'!E2="X","X",IF('full menu'!E2="UASC","UASC",IF(OR('full menu'!E2="PERF",'full menu'!E2="AERF",'full menu'!E2="PCB"),"ERfix",IF(OR('full menu'!E2="ACB",'full menu'!E2="LCERT",'full menu'!E2="LERT",'full menu'!E2="FCERT",'full menu'!E2="FERT"),"ERTs",IF(OR('full menu'!E2="FCMT",'full menu'!E2="FMT",'full menu'!E2="LMT",'full menu'!E2="LCMT"),"MTs",IF(OR('full menu'!E2="LCIT",'full menu'!E2="FCIT",'full menu'!E2="LIT",'full menu'!E2="FIT"),"ITs",IF(OR('full menu'!E2="MwERT",'full menu'!E2="ERwMT",'full menu'!E2="M&ERT",'full menu'!E2="MwIT",'full menu'!E2="IwMT",'full menu'!E2="M&IT",'full menu'!E2="IwERT",'full menu'!E2="ERwIT",'full menu'!E2="I&ERT",'full menu'!E2="ER&M&IT"),"MixedTs",IF('full menu'!E2="UD","UD",IF('full menu'!E2="LSD","LSD",IF('full menu'!E2="WSD","WSD",""))))))))))) -> MTs | F2: =IF('full menu'!F2="MDC","MDC",IF('full menu'!F2="X","X",IF('full menu'!F2="UASC","UASC",IF(OR('full menu'!F2="PERF",'full menu'!F2="AERF",'full menu'!F2="PCB"),"ERfix",IF(OR('full menu'!F2="ACB",'full menu'!F2="LCERT",'full menu'!F2="LERT",'full menu'!F2="FCERT",'full menu'!F2="FERT"),"ERTs",IF(OR('full menu'!F2="FCMT",'full menu'!F2="FMT",'full menu'!F2="LMT",'full menu'!F2="LCMT"),"MTs",IF(OR('full menu'!F2="LCIT",'full menu'!F2="FCIT",'full menu'!F2="LIT",'full menu'!F2="FIT"),"ITs",IF(OR('full menu'!F2="MwERT",'full menu'!F2="ERwMT",'full menu'!F2="M&ERT",'full menu'!F2="MwIT",'full menu'!F2="IwMT",'full menu'!F2="M&IT",'full menu'!F2="IwERT",'full menu'!F2="ERwIT",'full menu'!F2="I&ERT",'full menu'!F2="ER&M&IT"),"MixedTs",IF('full menu'!F2="UD","UD",IF('full menu'!F2="LSD","LSD",IF('full menu'!F2="WSD","WSD",""))))))))))) -> MTs | G2: =IF('full menu'!G2="MDC","MDC",IF('full menu'!G2="X","X",IF('full menu'!G2="UASC","UASC",IF(OR('full menu'!G2="PERF",'full menu'!G2="AERF",'full menu'!G2="PCB"),"ERfix",IF(OR('full menu'!G2="ACB",'full menu'!G2="LCERT",'full menu'!G2="LERT",'full menu'!G2="FCERT",'full menu'!G2="FERT"),"ERTs",IF(OR('full menu'!G2="FCMT",'full menu'!G2="FMT",'full menu'!G2="LMT",'full menu'!G2="LCMT"),"MTs",IF(OR('full menu'!G2="LCIT",'full menu'!G2="FCIT",'full menu'!G2="LIT",'full menu'!G2="FIT"),"ITs",IF(OR('full menu'!G2="MwERT",'full menu'!G2="ERwMT",'full menu'!G2="M&ERT",'full menu'!G2="MwIT",'full menu'!G2="IwMT",'full menu'!G2="M&IT",'full menu'!G2="IwERT",'full menu'!G2="ERwIT",'full menu'!G2="I&ERT",'full menu'!G2="ER&M&IT"),"MixedTs",IF('full menu'!G2="UD","UD",IF('full menu'!G2="LSD","LSD",IF('full menu'!G2="WSD","WSD",""))))))))))) -> MTs | H2: =IF('full menu'!H2="MDC","MDC",IF('full menu'!H2="X","X",IF('full menu'!H2="UASC","UASC",IF(OR('full menu'!H2="PERF",'full menu'!H2="AERF",'full menu'!H2="PCB"),"ERfix",IF(OR('full menu'!H2="ACB",'full menu'!H2="LCERT",'full menu'!H2="LERT",'full menu'!H2="FCERT",'full menu'!H2="FERT"),"ERTs",IF(OR('full menu'!H2="FCMT",'full menu'!H2="FMT",'full menu'!H2="LMT",'full menu'!H2="LCMT"),"MTs",IF(OR('full menu'!H2="LCIT",'full menu'!H2="FCIT",'full menu'!H2="LIT",'full menu'!H2="FIT"),"ITs",IF(OR('full menu'!H2="MwERT",'full menu'!H2="ERwMT",'full menu'!H2="M&ERT",'full menu'!H2="MwIT",'full menu'!H2="IwMT",'full menu'!H2="M&IT",'full menu'!H2="IwERT",'full menu'!H2="ERwIT",'full menu'!H2="I&ERT",'full menu'!H2="ER&M&IT"),"MixedTs",IF('full menu'!H2="UD","UD",IF('full menu'!H2="LSD","LSD",IF('full menu'!H2="WSD","WSD",""))))))))))) -> MTs | I2: =IF('full menu'!I2="MDC","MDC",IF('full menu'!I2="X","X",IF('full menu'!I2="UASC","UASC",IF(OR('full menu'!I2="PERF",'full menu'!I2="AERF",'full menu'!I2="PCB"),"ERfix",IF(OR('full menu'!I2="ACB",'full menu'!I2="LCERT",'full menu'!I2="LERT",'full menu'!I2="FCERT",'full menu'!I2="FERT"),"ERTs",IF(OR('full menu'!I2="FCMT",'full menu'!I2="FMT",'full menu'!I2="LMT",'full menu'!I2="LCMT"),"MTs",IF(OR('full menu'!I2="LCIT",'full menu'!I2="FCIT",'full menu'!I2="LIT",'full menu'!I2="FIT"),"ITs",IF(OR('full menu'!I2="MwERT",'full menu'!I2="ERwMT",'full menu'!I2="M&ERT",'full menu'!I2="MwIT",'full menu'!I2="IwMT",'full menu'!I2="M&IT",'full menu'!I2="IwERT",'full menu'!I2="ERwIT",'full menu'!I2="I&ERT",'full menu'!I2="ER&M&IT"),"MixedTs",IF('full menu'!I2="UD","UD",IF('full menu'!I2="LSD","LSD",IF('full menu'!I2="WSD","WSD",""))))))))))) -> MTs | ... AY2: =IF('full menu'!AY2="MDC","MDC",IF('full menu'!AY2="X","X",IF('full menu'!AY2="UASC","UASC",IF(OR('full menu'!AY2="PERF",'full menu'!AY2="AERF",'full menu'!AY2="PCB"),"ERfix",IF(OR('full menu'!AY2="ACB",'full menu'!AY2="LCERT",'full menu'!AY2="LERT",'full menu'!AY2="FCERT",'full menu'!AY2="FERT"),"ERTs",IF(OR('full menu'!AY2="FCMT",'full menu'!AY2="FMT",'full menu'!AY2="LMT",'full menu'!AY2="LCMT"),"MTs",IF(OR('full menu'!AY2="LCIT",'full menu'!AY2="FCIT",'full menu'!AY2="LIT",'full menu'!AY2="FIT"),"ITs",IF(OR('full menu'!AY2="MwERT",'full menu'!AY2="ERwMT",'full menu'!AY2="M&ERT",'full menu'!AY2="MwIT",'full menu'!AY2="IwMT",'full menu'!AY2="M&IT",'full menu'!AY2="IwERT",'full menu'!AY2="ERwIT",'full menu'!AY2="I&ERT",'full menu'!AY2="ER&M&IT"),"MixedTs",IF('full menu'!AY2="UD","UD",IF('full menu'!AY2="LSD","LSD",IF('full menu'!AY2="WSD","WSD",""))))))))))) -> ITs
A3: Austria | B3: =IF('full menu'!B3="MDC","MDC",IF('full menu'!B3="X","X",IF('full menu'!B3="UASC","UASC",IF(OR('full menu'!B3="PERF",'full menu'!B3="AERF",'full menu'!B3="PCB"),"ERfix",IF(OR('full menu'!B3="ACB",'full menu'!B3="LCERT",'full menu'!B3="LERT",'full menu'!B3="FCERT",'full menu'!B3="FERT"),"ERTs",IF(OR('full menu'!B3="FCMT",'full menu'!B3="FMT",'full menu'!B3="LMT",'full menu'!B3="LCMT"),"MTs",IF(OR('full menu'!B3="LCIT",'full menu'!B3="FCIT",'full menu'!B3="LIT",'full menu'!B3="FIT"),"ITs",IF(OR('full menu'!B3="MwERT",'full menu'!B3="ERwMT",'full menu'!B3="M&ERT",'full menu'!B3="MwIT",'full menu'!B3="IwMT",'full menu'!B3="M&IT",'full menu'!B3="IwERT",'full menu'!B3="ERwIT",'full menu'!B3="I&ERT",'full menu'!B3="ER&M&IT"),"MixedTs",IF('full menu'!B3="UD","UD",IF('full menu'!B3="LSD","LSD",IF('full menu'!B3="WSD","WSD",""))))))))))) -> ERTs | C3: =IF('full menu'!C3="MDC","MDC",IF('full menu'!C3="X","X",IF('full menu'!C3="UASC","UASC",IF(OR('full menu'!C3="PERF",'full menu'!C3="AERF",'full menu'!C3="PCB"),"ERfix",IF(OR('full menu'!C3="ACB",'full menu'!C3="LCERT",'full menu'!C3="LERT",'full menu'!C3="FCERT",'full menu'!C3="FERT"),"ERTs",IF(OR('full menu'!C3="FCMT",'full menu'!C3="FMT",'full menu'!C3="LMT",'full menu'!C3="LCMT"),"MTs",IF(OR('full menu'!C3="LCIT",'full menu'!C3="FCIT",'full menu'!C3="LIT",'full menu'!C3="FIT"),"ITs",IF(OR('full menu'!C3="MwERT",'full menu'!C3="ERwMT",'full menu'!C3="M&ERT",'full menu'!C3="MwIT",'full menu'!C3="IwMT",'full menu'!C3="M&IT",'full menu'!C3="IwERT",'full menu'!C3="ERwIT",'full menu'!C3="I&ERT",'full menu'!C3="ER&M&IT"),"MixedTs",IF('full menu'!C3="UD","UD",IF('full menu'!C3="LSD","LSD",IF('full menu'!C3="WSD","WSD",""))))))))))) -> ERTs | D3: =IF('full menu'!D3="MDC","MDC",IF('full menu'!D3="X","X",IF('full menu'!D3="UASC","UASC",IF(OR('full menu'!D3="PERF",'full menu'!D3="AERF",'full menu'!D3="PCB"),"ERfix",IF(OR('full menu'!D3="ACB",'full menu'!D3="LCERT",'full menu'!D3="LERT",'full menu'!D3="FCERT",'full menu'!D3="FERT"),"ERTs",IF(OR('full menu'!D3="FCMT",'full menu'!D3="FMT",'full menu'!D3="LMT",'full menu'!D3="LCMT"),"MTs",IF(OR('full menu'!D3="LCIT",'full menu'!D3="FCIT",'full menu'!D3="LIT",'full menu'!D3="FIT"),"ITs",IF(OR('full menu'!D3="MwERT",'full menu'!D3="ERwMT",'full menu'!D3="M&ERT",'full menu'!D3="MwIT",'full menu'!D3="IwMT",'full menu'!D3="M&IT",'full menu'!D3="IwERT",'full menu'!D3="ERwIT",'full menu'!D3="I&ERT",'full menu'!D3="ER&M&IT"),"MixedTs",IF('full menu'!D3="UD","UD",IF('full menu'!D3="LSD","LSD",IF('full menu'!D3="WSD","WSD",""))))))))))) -> ERTs | E3: =IF('full menu'!E3="MDC","MDC",IF('full menu'!E3="X","X",IF('full menu'!E3="UASC","UASC",IF(OR('full menu'!E3="PERF",'full menu'!E3="AERF",'full menu'!E3="PCB"),"ERfix",IF(OR('full menu'!E3="ACB",'full menu'!E3="LCERT",'full menu'!E3="LERT",'full menu'!E3="FCERT",'full menu'!E3="FERT"),"ERTs",IF(OR('full menu'!E3="FCMT",'full menu'!E3="FMT",'full menu'!E3="LMT",'full menu'!E3="LCMT"),"MTs",IF(OR('full menu'!E3="LCIT",'full menu'!E3="FCIT",'full menu'!E3="LIT",'full menu'!E3="FIT"),"ITs",IF(OR('full menu'!E3="MwERT",'full menu'!E3="ERwMT",'full menu'!E3="M&ERT",'full menu'!E3="MwIT",'full menu'!E3="IwMT",'full menu'!E3="M&IT",'full menu'!E3="IwERT",'full menu'!E3="ERwIT",'full menu'!E3="I&ERT",'full menu'!E3="ER&M&IT"),"MixedTs",IF('full menu'!E3="UD","UD",IF('full menu'!E3="LSD","LSD",IF('full menu'!E3="WSD","WSD",""))))))))))) -> ERTs | F3: =IF('full menu'!F3="MDC","MDC",IF('full menu'!F3="X","X",IF('full menu'!F3="UASC","UASC",IF(OR('full menu'!F3="PERF",'full menu'!F3="AERF",'full menu'!F3="PCB"),"ERfix",IF(OR('full menu'!F3="ACB",'full menu'!F3="LCERT",'full menu'!F3="LERT",'full menu'!F3="FCERT",'full menu'!F3="FERT"),"ERTs",IF(OR('full menu'!F3="FCMT",'full menu'!F3="FMT",'full menu'!F3="LMT",'full menu'!F3="LCMT"),"MTs",IF(OR('full menu'!F3="LCIT",'full menu'!F3="FCIT",'full menu'!F3="LIT",'full menu'!F3="FIT"),"ITs",IF(OR('full menu'!F3="MwERT",'full menu'!F3="ERwMT",'full menu'!F3="M&ERT",'full menu'!F3="MwIT",'full menu'!F3="IwMT",'full menu'!F3="M&IT",'full menu'!F3="IwERT",'full menu'!F3="ERwIT",'full menu'!F3="I&ERT",'full menu'!F3="ER&M&IT"),"MixedTs",IF('full menu'!F3="UD","UD",IF('full menu'!F3="LSD","LSD",IF('full menu'!F3="WSD","WSD",""))))))))))) -> ERTs | G3: =IF('full menu'!G3="MDC","MDC",IF('full menu'!G3="X","X",IF('full menu'!G3="UASC","UASC",IF(OR('full menu'!G3="PERF",'full menu'!G3="AERF",'full menu'!G3="PCB"),"ERfix",IF(OR('full menu'!G3="ACB",'full menu'!G3="LCERT",'full menu'!G3="LERT",'full menu'!G3="FCERT",'full menu'!G3="FERT"),"ERTs",IF(OR('full menu'!G3="FCMT",'full menu'!G3="FMT",'full menu'!G3="LMT",'full menu'!G3="LCMT"),"MTs",IF(OR('full menu'!G3="LCIT",'full menu'!G3="FCIT",'full menu'!G3="LIT",'full menu'!G3="FIT"),"ITs",IF(OR('full menu'!G3="MwERT",'full menu'!G3="ERwMT",'full menu'!G3="M&ERT",'full menu'!G3="MwIT",'full menu'!G3="IwMT",'full menu'!G3="M&IT",'full menu'!G3="IwERT",'full menu'!G3="ERwIT",'full menu'!G3="I&ERT",'full menu'!G3="ER&M&IT"),"MixedTs",IF('full menu'!G3="UD","UD",IF('full menu'!G3="LSD","LSD",IF('full menu'!G3="WSD","WSD",""))))))))))) -> ERTs | H3: =IF('full menu'!H3="MDC","MDC",IF('full menu'!H3="X","X",IF('full menu'!H3="UASC","UASC",IF(OR('full menu'!H3="PERF",'full menu'!H3="AERF",'full menu'!H3="PCB"),"ERfix",IF(OR('full menu'!H3="ACB",'full menu'!H3="LCERT",'full menu'!H3="LERT",'full menu'!H3="FCERT",'full menu'!H3="FERT"),"ERTs",IF(OR('full menu'!H3="FCMT",'full menu'!H3="FMT",'full menu'!H3="LMT",'full menu'!H3="LCMT"),"MTs",IF(OR('full menu'!H3="LCIT",'full menu'!H3="FCIT",'full menu'!H3="LIT",'full menu'!H3="FIT"),"ITs",IF(OR('full menu'!H3="MwERT",'full menu'!H3="ERwMT",'full menu'!H3="M&ERT",'full menu'!H3="MwIT",'full menu'!H3="IwMT",'full menu'!H3="M&IT",'full menu'!H3="IwERT",'full menu'!H3="ERwIT",'full menu'!H3="I&ERT",'full menu'!H3="ER&M&IT"),"MixedTs",IF('full menu'!H3="UD","UD",IF('full menu'!H3="LSD","LSD",IF('full menu'!H3="WSD","WSD",""))))))))))) -> ERTs | I3: =IF('full menu'!I3="MDC","MDC",IF('full menu'!I3="X","X",IF('full menu'!I3="UASC","UASC",IF(OR('full menu'!I3="PERF",'full menu'!I3="AERF",'full menu'!I3="PCB"),"ERfix",IF(OR('full menu'!I3="ACB",'full menu'!I3="LCERT",'full menu'!I3="LERT",'full menu'!I3="FCERT",'full menu'!I3="FERT"),"ERTs",IF(OR('full menu'!I3="FCMT",'full menu'!I3="FMT",'full menu'!I3="LMT",'full menu'!I3="LCMT"),"MTs",IF(OR('full menu'!I3="LCIT",'full menu'!I3="FCIT",'full menu'!I3="LIT",'full menu'!I3="FIT"),"ITs",IF(OR('full menu'!I3="MwERT",'full menu'!I3="ERwMT",'full menu'!I3="M&ERT",'full menu'!I3="MwIT",'full menu'!I3="IwMT",'full menu'!I3="M&IT",'full menu'!I3="IwERT",'full menu'!I3="ERwIT",'full menu'!I3="I&ERT",'full menu'!I3="ER&M&IT"),"MixedTs",IF('full menu'!I3="UD","UD",IF('full menu'!I3="LSD","LSD",IF('full menu'!I3="WSD","WSD",""))))))))))) -> ERTs | ... AY3: =IF('full menu'!AY3="MDC","MDC",IF('full menu'!AY3="X","X",IF('full menu'!AY3="UASC","UASC",IF(OR('full menu'!AY3="PERF",'full menu'!AY3="AERF",'full menu'!AY3="PCB"),"ERfix",IF(OR('full menu'!AY3="ACB",'full menu'!AY3="LCERT",'full menu'!AY3="LERT",'full menu'!AY3="FCERT",'full menu'!AY3="FERT"),"ERTs",IF(OR('full menu'!AY3="FCMT",'full menu'!AY3="FMT",'full menu'!AY3="LMT",'full menu'!AY3="LCMT"),"MTs",IF(OR('full menu'!AY3="LCIT",'full menu'!AY3="FCIT",'full menu'!AY3="LIT",'full menu'!AY3="FIT"),"ITs",IF(OR('full menu'!AY3="MwERT",'full menu'!AY3="ERwMT",'full menu'!AY3="M&ERT",'full menu'!AY3="MwIT",'full menu'!AY3="IwMT",'full menu'!AY3="M&IT",'full menu'!AY3="IwERT",'full menu'!AY3="ERwIT",'full menu'!AY3="I&ERT",'full menu'!AY3="ER&M&IT"),"MixedTs",IF('full menu'!AY3="UD","UD",IF('full menu'!AY3="LSD","LSD",IF('full menu'!AY3="WSD","WSD","")))))))))))
A4: Bahamas | B4: =IF('full menu'!B4="MDC","MDC",IF('full menu'!B4="X","X",IF('full menu'!B4="UASC","UASC",IF(OR('full menu'!B4="PERF",'full menu'!B4="AERF",'full menu'!B4="PCB"),"ERfix",IF(OR('full menu'!B4="ACB",'full menu'!B4="LCERT",'full menu'!B4="LERT",'full menu'!B4="FCERT",'full menu'!B4="FERT"),"ERTs",IF(OR('full menu'!B4="FCMT",'full menu'!B4="FMT",'full menu'!B4="LMT",'full menu'!B4="LCMT"),"MTs",IF(OR('full menu'!B4="LCIT",'full menu'!B4="FCIT",'full menu'!B4="LIT",'full menu'!B4="FIT"),"ITs",IF(OR('full menu'!B4="MwERT",'full menu'!B4="ERwMT",'full menu'!B4="M&ERT",'full menu'!B4="MwIT",'full menu'!B4="IwMT",'full menu'!B4="M&IT",'full menu'!B4="IwERT",'full menu'!B4="ERwIT",'full menu'!B4="I&ERT",'full menu'!B4="ER&M&IT"),"MixedTs",IF('full menu'!B4="UD","UD",IF('full menu'!B4="LSD","LSD",IF('full menu'!B4="WSD","WSD",""))))))))))) -> ERfix | C4: =IF('full menu'!C4="MDC","MDC",IF('full menu'!C4="X","X",IF('full menu'!C4="UASC","UASC",IF(OR('full menu'!C4="PERF",'full menu'!C4="AERF",'full menu'!C4="PCB"),"ERfix",IF(OR('full menu'!C4="ACB",'full menu'!C4="LCERT",'full menu'!C4="LERT",'full menu'!C4="FCERT",'full menu'!C4="FERT"),"ERTs",IF(OR('full menu'!C4="FCMT",'full menu'!C4="FMT",'full menu'!C4="LMT",'full menu'!C4="LCMT"),"MTs",IF(OR('full menu'!C4="LCIT",'full menu'!C4="FCIT",'full menu'!C4="LIT",'full menu'!C4="FIT"),"ITs",IF(OR('full menu'!C4="MwERT",'full menu'!C4="ERwMT",'full menu'!C4="M&ERT",'full menu'!C4="MwIT",'full menu'!C4="IwMT",'full menu'!C4="M&IT",'full menu'!C4="IwERT",'full menu'!C4="ERwIT",'full menu'!C4="I&ERT",'full menu'!C4="ER&M&IT"),"MixedTs",IF('full menu'!C4="UD","UD",IF('full menu'!C4="LSD","LSD",IF('full menu'!C4="WSD","WSD",""))))))))))) -> ERfix | D4: =IF('full menu'!D4="MDC","MDC",IF('full menu'!D4="X","X",IF('full menu'!D4="UASC","UASC",IF(OR('full menu'!D4="PERF",'full menu'!D4="AERF",'full menu'!D4="PCB"),"ERfix",IF(OR('full menu'!D4="ACB",'full menu'!D4="LCERT",'full menu'!D4="LERT",'full menu'!D4="FCERT",'full menu'!D4="FERT"),"ERTs",IF(OR('full menu'!D4="FCMT",'full menu'!D4="FMT",'full menu'!D4="LMT",'full menu'!D4="LCMT"),"MTs",IF(OR('full menu'!D4="LCIT",'full menu'!D4="FCIT",'full menu'!D4="LIT",'full menu'!D4="FIT"),"ITs",IF(OR('full menu'!D4="MwERT",'full menu'!D4="ERwMT",'full menu'!D4="M&ERT",'full menu'!D4="MwIT",'full menu'!D4="IwMT",'full menu'!D4="M&IT",'full menu'!D4="IwERT",'full menu'!D4="ERwIT",'full menu'!D4="I&ERT",'full menu'!D4="ER&M&IT"),"MixedTs",IF('full menu'!D4="UD","UD",IF('full menu'!D4="LSD","LSD",IF('full menu'!D4="WSD","WSD",""))))))))))) -> ERfix | E4: =IF('full menu'!E4="MDC","MDC",IF('full menu'!E4="X","X",IF('full menu'!E4="UASC","UASC",IF(OR('full menu'!E4="PERF",'full menu'!E4="AERF",'full menu'!E4="PCB"),"ERfix",IF(OR('full menu'!E4="ACB",'full menu'!E4="LCERT",'full menu'!E4="LERT",'full menu'!E4="FCERT",'full menu'!E4="FERT"),"ERTs",IF(OR('full menu'!E4="FCMT",'full menu'!E4="FMT",'full menu'!E4="LMT",'full menu'!E4="LCMT"),"MTs",IF(OR('full menu'!E4="LCIT",'full menu'!E4="FCIT",'full menu'!E4="LIT",'full menu'!E4="FIT"),"ITs",IF(OR('full menu'!E4="MwERT",'full menu'!E4="ERwMT",'full menu'!E4="M&ERT",'full menu'!E4="MwIT",'full menu'!E4="IwMT",'full menu'!E4="M&IT",'full menu'!E4="IwERT",'full menu'!E4="ERwIT",'full menu'!E4="I&ERT",'full menu'!E4="ER&M&IT"),"MixedTs",IF('full menu'!E4="UD","UD",IF('full menu'!E4="LSD","LSD",IF('full menu'!E4="WSD","WSD",""))))))))))) -> ERfix | F4: =IF('full menu'!F4="MDC","MDC",IF('full menu'!F4="X","X",IF('full menu'!F4="UASC","UASC",IF(OR('full menu'!F4="PERF",'full menu'!F4="AERF",'full menu'!F4="PCB"),"ERfix",IF(OR('full menu'!F4="ACB",'full menu'!F4="LCERT",'full menu'!F4="LERT",'full menu'!F4="FCERT",'full menu'!F4="FERT"),"ERTs",IF(OR('full menu'!F4="FCMT",'full menu'!F4="FMT",'full menu'!F4="LMT",'full menu'!F4="LCMT"),"MTs",IF(OR('full menu'!F4="LCIT",'full menu'!F4="FCIT",'full menu'!F4="LIT",'full menu'!F4="FIT"),"ITs",IF(OR('full menu'!F4="MwERT",'full menu'!F4="ERwMT",'full menu'!F4="M&ERT",'full menu'!F4="MwIT",'full menu'!F4="IwMT",'full menu'!F4="M&IT",'full menu'!F4="IwERT",'full menu'!F4="ERwIT",'full menu'!F4="I&ERT",'full menu'!F4="ER&M&IT"),"MixedTs",IF('full menu'!F4="UD","UD",IF('full menu'!F4="LSD","LSD",IF('full menu'!F4="WSD","WSD",""))))))))))) -> ERfix | G4: =IF('full menu'!G4="MDC","MDC",IF('full menu'!G4="X","X",IF('full menu'!G4="UASC","UASC",IF(OR('full menu'!G4="PERF",'full menu'!G4="AERF",'full menu'!G4="PCB"),"ERfix",IF(OR('full menu'!G4="ACB",'full menu'!G4="LCERT",'full menu'!G4="LERT",'full menu'!G4="FCERT",'full menu'!G4="FERT"),"ERTs",IF(OR('full menu'!G4="FCMT",'full menu'!G4="FMT",'full menu'!G4="LMT",'full menu'!G4="LCMT"),"MTs",IF(OR('full menu'!G4="LCIT",'full menu'!G4="FCIT",'full menu'!G4="LIT",'full menu'!G4="FIT"),"ITs",IF(OR('full menu'!G4="MwERT",'full menu'!G4="ERwMT",'full menu'!G4="M&ERT",'full menu'!G4="MwIT",'full menu'!G4="IwMT",'full menu'!G4="M&IT",'full menu'!G4="IwERT",'full menu'!G4="ERwIT",'full menu'!G4="I&ERT",'full menu'!G4="ER&M&IT"),"MixedTs",IF('full menu'!G4="UD","UD",IF('full menu'!G4="LSD","LSD",IF('full menu'!G4="WSD","WSD",""))))))))))) -> ERfix | H4: =IF('full menu'!H4="MDC","MDC",IF('full menu'!H4="X","X",IF('full menu'!H4="UASC","UASC",IF(OR('full menu'!H4="PERF",'full menu'!H4="AERF",'full menu'!H4="PCB"),"ERfix",IF(OR('full menu'!H4="ACB",'full menu'!H4="LCERT",'full menu'!H4="LERT",'full menu'!H4="FCERT",'full menu'!H4="FERT"),"ERTs",IF(OR('full menu'!H4="FCMT",'full menu'!H4="FMT",'full menu'!H4="LMT",'full menu'!H4="LCMT"),"MTs",IF(OR('full menu'!H4="LCIT",'full menu'!H4="FCIT",'full menu'!H4="LIT",'full menu'!H4="FIT"),"ITs",IF(OR('full menu'!H4="MwERT",'full menu'!H4="ERwMT",'full menu'!H4="M&ERT",'full menu'!H4="MwIT",'full menu'!H4="IwMT",'full menu'!H4="M&IT",'full menu'!H4="IwERT",'full menu'!H4="ERwIT",'full menu'!H4="I&ERT",'full menu'!H4="ER&M&IT"),"MixedTs",IF('full menu'!H4="UD","UD",IF('full menu'!H4="LSD","LSD",IF('full menu'!H4="WSD","WSD",""))))))))))) -> ERfix | I4: =IF('full menu'!I4="MDC","MDC",IF('full menu'!I4="X","X",IF('full menu'!I4="UASC","UASC",IF(OR('full menu'!I4="PERF",'full menu'!I4="AERF",'full menu'!I4="PCB"),"ERfix",IF(OR('full menu'!I4="ACB",'full menu'!I4="LCERT",'full menu'!I4="LERT",'full menu'!I4="FCERT",'full menu'!I4="FERT"),"ERTs",IF(OR('full menu'!I4="FCMT",'full menu'!I4="FMT",'full menu'!I4="LMT",'full menu'!I4="LCMT"),"MTs",IF(OR('full menu'!I4="LCIT",'full menu'!I4="FCIT",'full menu'!I4="LIT",'full menu'!I4="FIT"),"ITs",IF(OR('full menu'!I4="MwERT",'full menu'!I4="ERwMT",'full menu'!I4="M&ERT",'full menu'!I4="MwIT",'full menu'!I4="IwMT",'full menu'!I4="M&IT",'full menu'!I4="IwERT",'full menu'!I4="ERwIT",'full menu'!I4="I&ERT",'full menu'!I4="ER&M&IT"),"MixedTs",IF('full menu'!I4="UD","UD",IF('full menu'!I4="LSD","LSD",IF('full menu'!I4="WSD","WSD",""))))))))))) -> ERfix | ... AY4: =IF('full menu'!AY4="MDC","MDC",IF('full menu'!AY4="X","X",IF('full menu'!AY4="UASC","UASC",IF(OR('full menu'!AY4="PERF",'full menu'!AY4="AERF",'full menu'!AY4="PCB"),"ERfix",IF(OR('full menu'!AY4="ACB",'full menu'!AY4="LCERT",'full menu'!AY4="LERT",'full menu'!AY4="FCERT",'full menu'!AY4="FERT"),"ERTs",IF(OR('full menu'!AY4="FCMT",'full menu'!AY4="FMT",'full menu'!AY4="LMT",'full menu'!AY4="LCMT"),"MTs",IF(OR('full menu'!AY4="LCIT",'full menu'!AY4="FCIT",'full menu'!AY4="LIT",'full menu'!AY4="FIT"),"ITs",IF(OR('full menu'!AY4="MwERT",'full menu'!AY4="ERwMT",'full menu'!AY4="M&ERT",'full menu'!AY4="MwIT",'full menu'!AY4="IwMT",'full menu'!AY4="M&IT",'full menu'!AY4="IwERT",'full menu'!AY4="ERwIT",'full menu'!AY4="I&ERT",'full menu'!AY4="ER&M&IT"),"MixedTs",IF('full menu'!AY4="UD","UD",IF('full menu'!AY4="LSD","LSD",IF('full menu'!AY4="WSD","WSD",""))))))))))) -> ERfix
A5: Bahrain | B5: =IF('full menu'!B5="MDC","MDC",IF('full menu'!B5="X","X",IF('full menu'!B5="UASC","UASC",IF(OR('full menu'!B5="PERF",'full menu'!B5="AERF",'full menu'!B5="PCB"),"ERfix",IF(OR('full menu'!B5="ACB",'full menu'!B5="LCERT",'full menu'!B5="LERT",'full menu'!B5="FCERT",'full menu'!B5="FERT"),"ERTs",IF(OR('full menu'!B5="FCMT",'full menu'!B5="FMT",'full menu'!B5="LMT",'full menu'!B5="LCMT"),"MTs",IF(OR('full menu'!B5="LCIT",'full menu'!B5="FCIT",'full menu'!B5="LIT",'full menu'!B5="FIT"),"ITs",IF(OR('full menu'!B5="MwERT",'full menu'!B5="ERwMT",'full menu'!B5="M&ERT",'full menu'!B5="MwIT",'full menu'!B5="IwMT",'full menu'!B5="M&IT",'full menu'!B5="IwERT",'full menu'!B5="ERwIT",'full menu'!B5="I&ERT",'full menu'!B5="ER&M&IT"),"MixedTs",IF('full menu'!B5="UD","UD",IF('full menu'!B5="LSD","LSD",IF('full menu'!B5="WSD","WSD",""))))))))))) -> ERTs | C5: =IF('full menu'!C5="MDC","MDC",IF('full menu'!C5="X","X",IF('full menu'!C5="UASC","UASC",IF(OR('full menu'!C5="PERF",'full menu'!C5="AERF",'full menu'!C5="PCB"),"ERfix",IF(OR('full menu'!C5="ACB",'full menu'!C5="LCERT",'full menu'!C5="LERT",'full menu'!C5="FCERT",'full menu'!C5="FERT"),"ERTs",IF(OR('full menu'!C5="FCMT",'full menu'!C5="FMT",'full menu'!C5="LMT",'full menu'!C5="LCMT"),"MTs",IF(OR('full menu'!C5="LCIT",'full menu'!C5="FCIT",'full menu'!C5="LIT",'full menu'!C5="FIT"),"ITs",IF(OR('full menu'!C5="MwERT",'full menu'!C5="ERwMT",'full menu'!C5="M&ERT",'full menu'!C5="MwIT",'full menu'!C5="IwMT",'full menu'!C5="M&IT",'full menu'!C5="IwERT",'full menu'!C5="ERwIT",'full menu'!C5="I&ERT",'full menu'!C5="ER&M&IT"),"MixedTs",IF('full menu'!C5="UD","UD",IF('full menu'!C5="LSD","LSD",IF('full menu'!C5="WSD","WSD",""))))))))))) -> ERfix | D5: =IF('full menu'!D5="MDC","MDC",IF('full menu'!D5="X","X",IF('full menu'!D5="UASC","UASC",IF(OR('full menu'!D5="PERF",'full menu'!D5="AERF",'full menu'!D5="PCB"),"ERfix",IF(OR('full menu'!D5="ACB",'full menu'!D5="LCERT",'full menu'!D5="LERT",'full menu'!D5="FCERT",'full menu'!D5="FERT"),"ERTs",IF(OR('full menu'!D5="FCMT",'full menu'!D5="FMT",'full menu'!D5="LMT",'full menu'!D5="LCMT"),"MTs",IF(OR('full menu'!D5="LCIT",'full menu'!D5="FCIT",'full menu'!D5="LIT",'full menu'!D5="FIT"),"ITs",IF(OR('full menu'!D5="MwERT",'full menu'!D5="ERwMT",'full menu'!D5="M&ERT",'full menu'!D5="MwIT",'full menu'!D5="IwMT",'full menu'!D5="M&IT",'full menu'!D5="IwERT",'full menu'!D5="ERwIT",'full menu'!D5="I&ERT",'full menu'!D5="ER&M&IT"),"MixedTs",IF('full menu'!D5="UD","UD",IF('full menu'!D5="LSD","LSD",IF('full menu'!D5="WSD","WSD",""))))))))))) -> ERfix | E5: =IF('full menu'!E5="MDC","MDC",IF('full menu'!E5="X","X",IF('full menu'!E5="UASC","UASC",IF(OR('full menu'!E5="PERF",'full menu'!E5="AERF",'full menu'!E5="PCB"),"ERfix",IF(OR('full menu'!E5="ACB",'full menu'!E5="LCERT",'full menu'!E5="LERT",'full menu'!E5="FCERT",'full menu'!E5="FERT"),"ERTs",IF(OR('full menu'!E5="FCMT",'full menu'!E5="FMT",'full menu'!E5="LMT",'full menu'!E5="LCMT"),"MTs",IF(OR('full menu'!E5="LCIT",'full menu'!E5="FCIT",'full menu'!E5="LIT",'full menu'!E5="FIT"),"ITs",IF(OR('full menu'!E5="MwERT",'full menu'!E5="ERwMT",'full menu'!E5="M&ERT",'full menu'!E5="MwIT",'full menu'!E5="IwMT",'full menu'!E5="M&IT",'full menu'!E5="IwERT",'full menu'!E5="ERwIT",'full menu'!E5="I&ERT",'full menu'!E5="ER&M&IT"),"MixedTs",IF('full menu'!E5="UD","UD",IF('full menu'!E5="LSD","LSD",IF('full menu'!E5="WSD","WSD",""))))))))))) -> ERfix | F5: =IF('full menu'!F5="MDC","MDC",IF('full menu'!F5="X","X",IF('full menu'!F5="UASC","UASC",IF(OR('full menu'!F5="PERF",'full menu'!F5="AERF",'full menu'!F5="PCB"),"ERfix",IF(OR('full menu'!F5="ACB",'full menu'!F5="LCERT",'full menu'!F5="LERT",'full menu'!F5="FCERT",'full menu'!F5="FERT"),"ERTs",IF(OR('full menu'!F5="FCMT",'full menu'!F5="FMT",'full menu'!F5="LMT",'full menu'!F5="LCMT"),"MTs",IF(OR('full menu'!F5="LCIT",'full menu'!F5="FCIT",'full menu'!F5="LIT",'full menu'!F5="FIT"),"ITs",IF(OR('full menu'!F5="MwERT",'full menu'!F5="ERwMT",'full menu'!F5="M&ERT",'full menu'!F5="MwIT",'full menu'!F5="IwMT",'full menu'!F5="M&IT",'full menu'!F5="IwERT",'full menu'!F5="ERwIT",'full menu'!F5="I&ERT",'full menu'!F5="ER&M&IT"),"MixedTs",IF('full menu'!F5="UD","UD",IF('full menu'!F5="LSD","LSD",IF('full menu'!F5="WSD","WSD",""))))))))))) -> ERfix | G5: =IF('full menu'!G5="MDC","MDC",IF('full menu'!G5="X","X",IF('full menu'!G5="UASC","UASC",IF(OR('full menu'!G5="PERF",'full menu'!G5="AERF",'full menu'!G5="PCB"),"ERfix",IF(OR('full menu'!G5="ACB",'full menu'!G5="LCERT",'full menu'!G5="LERT",'full menu'!G5="FCERT",'full menu'!G5="FERT"),"ERTs",IF(OR('full menu'!G5="FCMT",'full menu'!G5="FMT",'full menu'!G5="LMT",'full menu'!G5="LCMT"),"MTs",IF(OR('full menu'!G5="LCIT",'full menu'!G5="FCIT",'full menu'!G5="LIT",'full menu'!G5="FIT"),"ITs",IF(OR('full menu'!G5="MwERT",'full menu'!G5="ERwMT",'full menu'!G5="M&ERT",'full menu'!G5="MwIT",'full menu'!G5="IwMT",'full menu'!G5="M&IT",'full menu'!G5="IwERT",'full menu'!G5="ERwIT",'full menu'!G5="I&ERT",'full menu'!G5="ER&M&IT"),"MixedTs",IF('full menu'!G5="UD","UD",IF('full menu'!G5="LSD","LSD",IF('full menu'!G5="WSD","WSD",""))))))))))) -> ERfix | H5: =IF('full menu'!H5="MDC","MDC",IF('full menu'!H5="X","X",IF('full menu'!H5="UASC","UASC",IF(OR('full menu'!H5="PERF",'full menu'!H5="AERF",'full menu'!H5="PCB"),"ERfix",IF(OR('full menu'!H5="ACB",'full menu'!H5="LCERT",'full menu'!H5="LERT",'full menu'!H5="FCERT",'full menu'!H5="FERT"),"ERTs",IF(OR('full menu'!H5="FCMT",'full menu'!H5="FMT",'full menu'!H5="LMT",'full menu'!H5="LCMT"),"MTs",IF(OR('full menu'!H5="LCIT",'full menu'!H5="FCIT",'full menu'!H5="LIT",'full menu'!H5="FIT"),"ITs",IF(OR('full menu'!H5="MwERT",'full menu'!H5="ERwMT",'full menu'!H5="M&ERT",'full menu'!H5="MwIT",'full menu'!H5="IwMT",'full menu'!H5="M&IT",'full menu'!H5="IwERT",'full menu'!H5="ERwIT",'full menu'!H5="I&ERT",'full menu'!H5="ER&M&IT"),"MixedTs",IF('full menu'!H5="UD","UD",IF('full menu'!H5="LSD","LSD",IF('full menu'!H5="WSD","WSD",""))))))))))) -> ERfix | I5: =IF('full menu'!I5="MDC","MDC",IF('full menu'!I5="X","X",IF('full menu'!I5="UASC","UASC",IF(OR('full menu'!I5="PERF",'full menu'!I5="AERF",'full menu'!I5="PCB"),"ERfix",IF(OR('full menu'!I5="ACB",'full menu'!I5="LCERT",'full menu'!I5="LERT",'full menu'!I5="FCERT",'full menu'!I5="FERT"),"ERTs",IF(OR('full menu'!I5="FCMT",'full menu'!I5="FMT",'full menu'!I5="LMT",'full menu'!I5="LCMT"),"MTs",IF(OR('full menu'!I5="LCIT",'full menu'!I5="FCIT",'full menu'!I5="LIT",'full menu'!I5="FIT"),"ITs",IF(OR('full menu'!I5="MwERT",'full menu'!I5="ERwMT",'full menu'!I5="M&ERT",'full menu'!I5="MwIT",'full menu'!I5="IwMT",'full menu'!I5="M&IT",'full menu'!I5="IwERT",'full menu'!I5="ERwIT",'full menu'!I5="I&ERT",'full menu'!I5="ER&M&IT"),"MixedTs",IF('full menu'!I5="UD","UD",IF('full menu'!I5="LSD","LSD",IF('full menu'!I5="WSD","WSD",""))))))))))) -> ERfix | ... AY5: =IF('full menu'!AY5="MDC","MDC",IF('full menu'!AY5="X","X",IF('full menu'!AY5="UASC","UASC",IF(OR('full menu'!AY5="PERF",'full menu'!AY5="AERF",'full menu'!AY5="PCB"),"ERfix",IF(OR('full menu'!AY5="ACB",'full menu'!AY5="LCERT",'full menu'!AY5="LERT",'full menu'!AY5="FCERT",'full menu'!AY5="FERT"),"ERTs",IF(OR('full menu'!AY5="FCMT",'full menu'!AY5="FMT",'full menu'!AY5="LMT",'full menu'!AY5="LCMT"),"MTs",IF(OR('full menu'!AY5="LCIT",'full menu'!AY5="FCIT",'full menu'!AY5="LIT",'full menu'!AY5="FIT"),"ITs",IF(OR('full menu'!AY5="MwERT",'full menu'!AY5="ERwMT",'full menu'!AY5="M&ERT",'full menu'!AY5="MwIT",'full menu'!AY5="IwMT",'full menu'!AY5="M&IT",'full menu'!AY5="IwERT",'full menu'!AY5="ERwIT",'full menu'!AY5="I&ERT",'full menu'!AY5="ER&M&IT"),"MixedTs",IF('full menu'!AY5="UD","UD",IF('full menu'!AY5="LSD","LSD",IF('full menu'!AY5="WSD","WSD",""))))))))))) -> ERTs
A6: Belgium | B6: =IF('full menu'!B6="MDC","MDC",IF('full menu'!B6="X","X",IF('full menu'!B6="UASC","UASC",IF(OR('full menu'!B6="PERF",'full menu'!B6="AERF",'full menu'!B6="PCB"),"ERfix",IF(OR('full menu'!B6="ACB",'full menu'!B6="LCERT",'full menu'!B6="LERT",'full menu'!B6="FCERT",'full menu'!B6="FERT"),"ERTs",IF(OR('full menu'!B6="FCMT",'full menu'!B6="FMT",'full menu'!B6="LMT",'full menu'!B6="LCMT"),"MTs",IF(OR('full menu'!B6="LCIT",'full menu'!B6="FCIT",'full menu'!B6="LIT",'full menu'!B6="FIT"),"ITs",IF(OR('full menu'!B6="MwERT",'full menu'!B6="ERwMT",'full menu'!B6="M&ERT",'full menu'!B6="MwIT",'full menu'!B6="IwMT",'full menu'!B6="M&IT",'full menu'!B6="IwERT",'full menu'!B6="ERwIT",'full menu'!B6="I&ERT",'full menu'!B6="ER&M&IT"),"MixedTs",IF('full menu'!B6="UD","UD",IF('full menu'!B6="LSD","LSD",IF('full menu'!B6="WSD","WSD",""))))))))))) -> ERTs | C6: =IF('full menu'!C6="MDC","MDC",IF('full menu'!C6="X","X",IF('full menu'!C6="UASC","UASC",IF(OR('full menu'!C6="PERF",'full menu'!C6="AERF",'full menu'!C6="PCB"),"ERfix",IF(OR('full menu'!C6="ACB",'full menu'!C6="LCERT",'full menu'!C6="LERT",'full menu'!C6="FCERT",'full menu'!C6="FERT"),"ERTs",IF(OR('full menu'!C6="FCMT",'full menu'!C6="FMT",'full menu'!C6="LMT",'full menu'!C6="LCMT"),"MTs",IF(OR('full menu'!C6="LCIT",'full menu'!C6="FCIT",'full menu'!C6="LIT",'full menu'!C6="FIT"),"ITs",IF(OR('full menu'!C6="MwERT",'full menu'!C6="ERwMT",'full menu'!C6="M&ERT",'full menu'!C6="MwIT",'full menu'!C6="IwMT",'full menu'!C6="M&IT",'full menu'!C6="IwERT",'full menu'!C6="ERwIT",'full menu'!C6="I&ERT",'full menu'!C6="ER&M&IT"),"MixedTs",IF('full menu'!C6="UD","UD",IF('full menu'!C6="LSD","LSD",IF('full menu'!C6="WSD","WSD",""))))))))))) -> ERTs | D6: =IF('full menu'!D6="MDC","MDC",IF('full menu'!D6="X","X",IF('full menu'!D6="UASC","UASC",IF(OR('full menu'!D6="PERF",'full menu'!D6="AERF",'full menu'!D6="PCB"),"ERfix",IF(OR('full menu'!D6="ACB",'full menu'!D6="LCERT",'full menu'!D6="LERT",'full menu'!D6="FCERT",'full menu'!D6="FERT"),"ERTs",IF(OR('full menu'!D6="FCMT",'full menu'!D6="FMT",'full menu'!D6="LMT",'full menu'!D6="LCMT"),"MTs",IF(OR('full menu'!D6="LCIT",'full menu'!D6="FCIT",'full menu'!D6="LIT",'full menu'!D6="FIT"),"ITs",IF(OR('full menu'!D6="MwERT",'full menu'!D6="ERwMT",'full menu'!D6="M&ERT",'full menu'!D6="MwIT",'full menu'!D6="IwMT",'full menu'!D6="M&IT",'full menu'!D6="IwERT",'full menu'!D6="ERwIT",'full menu'!D6="I&ERT",'full menu'!D6="ER&M&IT"),"MixedTs",IF('full menu'!D6="UD","UD",IF('full menu'!D6="LSD","LSD",IF('full menu'!D6="WSD","WSD",""))))))))))) -> ERTs | E6: =IF('full menu'!E6="MDC","MDC",IF('full menu'!E6="X","X",IF('full menu'!E6="UASC","UASC",IF(OR('full menu'!E6="PERF",'full menu'!E6="AERF",'full menu'!E6="PCB"),"ERfix",IF(OR('full menu'!E6="ACB",'full menu'!E6="LCERT",'full menu'!E6="LERT",'full menu'!E6="FCERT",'full menu'!E6="FERT"),"ERTs",IF(OR('full menu'!E6="FCMT",'full menu'!E6="FMT",'full menu'!E6="LMT",'full menu'!E6="LCMT"),"MTs",IF(OR('full menu'!E6="LCIT",'full menu'!E6="FCIT",'full menu'!E6="LIT",'full menu'!E6="FIT"),"ITs",IF(OR('full menu'!E6="MwERT",'full menu'!E6="ERwMT",'full menu'!E6="M&ERT",'full menu'!E6="MwIT",'full menu'!E6="IwMT",'full menu'!E6="M&IT",'full menu'!E6="IwERT",'full menu'!E6="ERwIT",'full menu'!E6="I&ERT",'full menu'!E6="ER&M&IT"),"MixedTs",IF('full menu'!E6="UD","UD",IF('full menu'!E6="LSD","LSD",IF('full menu'!E6="WSD","WSD",""))))))))))) -> ERTs | F6: =IF('full menu'!F6="MDC","MDC",IF('full menu'!F6="X","X",IF('full menu'!F6="UASC","UASC",IF(OR('full menu'!F6="PERF",'full menu'!F6="AERF",'full menu'!F6="PCB"),"ERfix",IF(OR('full menu'!F6="ACB",'full menu'!F6="LCERT",'full menu'!F6="LERT",'full menu'!F6="FCERT",'full menu'!F6="FERT"),"ERTs",IF(OR('full menu'!F6="FCMT",'full menu'!F6="FMT",'full menu'!F6="LMT",'full menu'!F6="LCMT"),"MTs",IF(OR('full menu'!F6="LCIT",'full menu'!F6="FCIT",'full menu'!F6="LIT",'full menu'!F6="FIT"),"ITs",IF(OR('full menu'!F6="MwERT",'full menu'!F6="ERwMT",'full menu'!F6="M&ERT",'full menu'!F6="MwIT",'full menu'!F6="IwMT",'full menu'!F6="M&IT",'full menu'!F6="IwERT",'full menu'!F6="ERwIT",'full menu'!F6="I&ERT",'full menu'!F6="ER&M&IT"),"MixedTs",IF('full menu'!F6="UD","UD",IF('full menu'!F6="LSD","LSD",IF('full menu'!F6="WSD","WSD",""))))))))))) -> ERTs | G6: =IF('full menu'!G6="MDC","MDC",IF('full menu'!G6="X","X",IF('full menu'!G6="UASC","UASC",IF(OR('full menu'!G6="PERF",'full menu'!G6="AERF",'full menu'!G6="PCB"),"ERfix",IF(OR('full menu'!G6="ACB",'full menu'!G6="LCERT",'full menu'!G6="LERT",'full menu'!G6="FCERT",'full menu'!G6="FERT"),"ERTs",IF(OR('full menu'!G6="FCMT",'full menu'!G6="FMT",'full menu'!G6="LMT",'full menu'!G6="LCMT"),"MTs",IF(OR('full menu'!G6="LCIT",'full menu'!G6="FCIT",'full menu'!G6="LIT",'full menu'!G6="FIT"),"ITs",IF(OR('full menu'!G6="MwERT",'full menu'!G6="ERwMT",'full menu'!G6="M&ERT",'full menu'!G6="MwIT",'full menu'!G6="IwMT",'full menu'!G6="M&IT",'full menu'!G6="IwERT",'full menu'!G6="ERwIT",'full menu'!G6="I&ERT",'full menu'!G6="ER&M&IT"),"MixedTs",IF('full menu'!G6="UD","UD",IF('full menu'!G6="LSD","LSD",IF('full menu'!G6="WSD","WSD",""))))))))))) -> ERTs | H6: =IF('full menu'!H6="MDC","MDC",IF('full menu'!H6="X","X",IF('full menu'!H6="UASC","UASC",IF(OR('full menu'!H6="PERF",'full menu'!H6="AERF",'full menu'!H6="PCB"),"ERfix",IF(OR('full menu'!H6="ACB",'full menu'!H6="LCERT",'full menu'!H6="LERT",'full menu'!H6="FCERT",'full menu'!H6="FERT"),"ERTs",IF(OR('full menu'!H6="FCMT",'full menu'!H6="FMT",'full menu'!H6="LMT",'full menu'!H6="LCMT"),"MTs",IF(OR('full menu'!H6="LCIT",'full menu'!H6="FCIT",'full menu'!H6="LIT",'full menu'!H6="FIT"),"ITs",IF(OR('full menu'!H6="MwERT",'full menu'!H6="ERwMT",'full menu'!H6="M&ERT",'full menu'!H6="MwIT",'full menu'!H6="IwMT",'full menu'!H6="M&IT",'full menu'!H6="IwERT",'full menu'!H6="ERwIT",'full menu'!H6="I&ERT",'full menu'!H6="ER&M&IT"),"MixedTs",IF('full menu'!H6="UD","UD",IF('full menu'!H6="LSD","LSD",IF('full menu'!H6="WSD","WSD",""))))))))))) -> ERTs | I6: =IF('full menu'!I6="MDC","MDC",IF('full menu'!I6="X","X",IF('full menu'!I6="UASC","UASC",IF(OR('full menu'!I6="PERF",'full menu'!I6="AERF",'full menu'!I6="PCB"),"ERfix",IF(OR('full menu'!I6="ACB",'full menu'!I6="LCERT",'full menu'!I6="LERT",'full menu'!I6="FCERT",'full menu'!I6="FERT"),"ERTs",IF(OR('full menu'!I6="FCMT",'full menu'!I6="FMT",'full menu'!I6="LMT",'full menu'!I6="LCMT"),"MTs",IF(OR('full menu'!I6="LCIT",'full menu'!I6="FCIT",'full menu'!I6="LIT",'full menu'!I6="FIT"),"ITs",IF(OR('full menu'!I6="MwERT",'full menu'!I6="ERwMT",'full menu'!I6="M&ERT",'full menu'!I6="MwIT",'full menu'!I6="IwMT",'full menu'!I6="M&IT",'full menu'!I6="IwERT",'full menu'!I6="ERwIT",'full menu'!I6="I&ERT",'full menu'!I6="ER&M&IT"),"MixedTs",IF('full menu'!I6="UD","UD",IF('full menu'!I6="LSD","LSD",IF('full menu'!I6="WSD","WSD",""))))))))))) -> ERTs | ... AY6: =IF('full menu'!AY6="MDC","MDC",IF('full menu'!AY6="X","X",IF('full menu'!AY6="UASC","UASC",IF(OR('full menu'!AY6="PERF",'full menu'!AY6="AERF",'full menu'!AY6="PCB"),"ERfix",IF(OR('full menu'!AY6="ACB",'full menu'!AY6="LCERT",'full menu'!AY6="LERT",'full menu'!AY6="FCERT",'full menu'!AY6="FERT"),"ERTs",IF(OR('full menu'!AY6="FCMT",'full menu'!AY6="FMT",'full menu'!AY6="LMT",'full menu'!AY6="LCMT"),"MTs",IF(OR('full menu'!AY6="LCIT",'full menu'!AY6="FCIT",'full menu'!AY6="LIT",'full menu'!AY6="FIT"),"ITs",IF(OR('full menu'!AY6="MwERT",'full menu'!AY6="ERwMT",'full menu'!AY6="M&ERT",'full menu'!AY6="MwIT",'full menu'!AY6="IwMT",'full menu'!AY6="M&IT",'full menu'!AY6="IwERT",'full menu'!AY6="ERwIT",'full menu'!AY6="I&ERT",'full menu'!AY6="ER&M&IT"),"MixedTs",IF('full menu'!AY6="UD","UD",IF('full menu'!AY6="LSD","LSD",IF('full menu'!AY6="WSD","WSD","")))))))))))
A7: Brunei | B7: =IF('full menu'!B7="MDC","MDC",IF('full menu'!B7="X","X",IF('full menu'!B7="UASC","UASC",IF(OR('full menu'!B7="PERF",'full menu'!B7="AERF",'full menu'!B7="PCB"),"ERfix",IF(OR('full menu'!B7="ACB",'full menu'!B7="LCERT",'full menu'!B7="LERT",'full menu'!B7="FCERT",'full menu'!B7="FERT"),"ERTs",IF(OR('full menu'!B7="FCMT",'full menu'!B7="FMT",'full menu'!B7="LMT",'full menu'!B7="LCMT"),"MTs",IF(OR('full menu'!B7="LCIT",'full menu'!B7="FCIT",'full menu'!B7="LIT",'full menu'!B7="FIT"),"ITs",IF(OR('full menu'!B7="MwERT",'full menu'!B7="ERwMT",'full menu'!B7="M&ERT",'full menu'!B7="MwIT",'full menu'!B7="IwMT",'full menu'!B7="M&IT",'full menu'!B7="IwERT",'full menu'!B7="ERwIT",'full menu'!B7="I&ERT",'full menu'!B7="ER&M&IT"),"MixedTs",IF('full menu'!B7="UD","UD",IF('full menu'!B7="LSD","LSD",IF('full menu'!B7="WSD","WSD",""))))))))))) -> ERfix | C7: =IF('full menu'!C7="MDC","MDC",IF('full menu'!C7="X","X",IF('full menu'!C7="UASC","UASC",IF(OR('full menu'!C7="PERF",'full menu'!C7="AERF",'full menu'!C7="PCB"),"ERfix",IF(OR('full menu'!C7="ACB",'full menu'!C7="LCERT",'full menu'!C7="LERT",'full menu'!C7="FCERT",'full menu'!C7="FERT"),"ERTs",IF(OR('full menu'!C7="FCMT",'full menu'!C7="FMT",'full menu'!C7="LMT",'full menu'!C7="LCMT"),"MTs",IF(OR('full menu'!C7="LCIT",'full menu'!C7="FCIT",'full menu'!C7="LIT",'full menu'!C7="FIT"),"ITs",IF(OR('full menu'!C7="MwERT",'full menu'!C7="ERwMT",'full menu'!C7="M&ERT",'full menu'!C7="MwIT",'full menu'!C7="IwMT",'full menu'!C7="M&IT",'full menu'!C7="IwERT",'full menu'!C7="ERwIT",'full menu'!C7="I&ERT",'full menu'!C7="ER&M&IT"),"MixedTs",IF('full menu'!C7="UD","UD",IF('full menu'!C7="LSD","LSD",IF('full menu'!C7="WSD","WSD",""))))))))))) -> ERfix | D7: =IF('full menu'!D7="MDC","MDC",IF('full menu'!D7="X","X",IF('full menu'!D7="UASC","UASC",IF(OR('full menu'!D7="PERF",'full menu'!D7="AERF",'full menu'!D7="PCB"),"ERfix",IF(OR('full menu'!D7="ACB",'full menu'!D7="LCERT",'full menu'!D7="LERT",'full menu'!D7="FCERT",'full menu'!D7="FERT"),"ERTs",IF(OR('full menu'!D7="FCMT",'full menu'!D7="FMT",'full menu'!D7="LMT",'full menu'!D7="LCMT"),"MTs",IF(OR('full menu'!D7="LCIT",'full menu'!D7="FCIT",'full menu'!D7="LIT",'full menu'!D7="FIT"),"ITs",IF(OR('full menu'!D7="MwERT",'full menu'!D7="ERwMT",'full menu'!D7="M&ERT",'full menu'!D7="MwIT",'full menu'!D7="IwMT",'full menu'!D7="M&IT",'full menu'!D7="IwERT",'full menu'!D7="ERwIT",'full menu'!D7="I&ERT",'full menu'!D7="ER&M&IT"),"MixedTs",IF('full menu'!D7="UD","UD",IF('full menu'!D7="LSD","LSD",IF('full menu'!D7="WSD","WSD",""))))))))))) -> ERfix | E7: =IF('full menu'!E7="MDC","MDC",IF('full menu'!E7="X","X",IF('full menu'!E7="UASC","UASC",IF(OR('full menu'!E7="PERF",'full menu'!E7="AERF",'full menu'!E7="PCB"),"ERfix",IF(OR('full menu'!E7="ACB",'full menu'!E7="LCERT",'full menu'!E7="LERT",'full menu'!E7="FCERT",'full menu'!E7="FERT"),"ERTs",IF(OR('full menu'!E7="FCMT",'full menu'!E7="FMT",'full menu'!E7="LMT",'full menu'!E7="LCMT"),"MTs",IF(OR('full menu'!E7="LCIT",'full menu'!E7="FCIT",'full menu'!E7="LIT",'full menu'!E7="FIT"),"ITs",IF(OR('full menu'!E7="MwERT",'full menu'!E7="ERwMT",'full menu'!E7="M&ERT",'full menu'!E7="MwIT",'full menu'!E7="IwMT",'full menu'!E7="M&IT",'full menu'!E7="IwERT",'full menu'!E7="ERwIT",'full menu'!E7="I&ERT",'full menu'!E7="ER&M&IT"),"MixedTs",IF('full menu'!E7="UD","UD",IF('full menu'!E7="LSD","LSD",IF('full menu'!E7="WSD","WSD",""))))))))))) -> ERfix | F7: =IF('full menu'!F7="MDC","MDC",IF('full menu'!F7="X","X",IF('full menu'!F7="UASC","UASC",IF(OR('full menu'!F7="PERF",'full menu'!F7="AERF",'full menu'!F7="PCB"),"ERfix",IF(OR('full menu'!F7="ACB",'full menu'!F7="LCERT",'full menu'!F7="LERT",'full menu'!F7="FCERT",'full menu'!F7="FERT"),"ERTs",IF(OR('full menu'!F7="FCMT",'full menu'!F7="FMT",'full menu'!F7="LMT",'full menu'!F7="LCMT"),"MTs",IF(OR('full menu'!F7="LCIT",'full menu'!F7="FCIT",'full menu'!F7="LIT",'full menu'!F7="FIT"),"ITs",IF(OR('full menu'!F7="MwERT",'full menu'!F7="ERwMT",'full menu'!F7="M&ERT",'full menu'!F7="MwIT",'full menu'!F7="IwMT",'full menu'!F7="M&IT",'full menu'!F7="IwERT",'full menu'!F7="ERwIT",'full menu'!F7="I&ERT",'full menu'!F7="ER&M&IT"),"MixedTs",IF('full menu'!F7="UD","UD",IF('full menu'!F7="LSD","LSD",IF('full menu'!F7="WSD","WSD",""))))))))))) -> ERfix | G7: =IF('full menu'!G7="MDC","MDC",IF('full menu'!G7="X","X",IF('full menu'!G7="UASC","UASC",IF(OR('full menu'!G7="PERF",'full menu'!G7="AERF",'full menu'!G7="PCB"),"ERfix",IF(OR('full menu'!G7="ACB",'full menu'!G7="LCERT",'full menu'!G7="LERT",'full menu'!G7="FCERT",'full menu'!G7="FERT"),"ERTs",IF(OR('full menu'!G7="FCMT",'full menu'!G7="FMT",'full menu'!G7="LMT",'full menu'!G7="LCMT"),"MTs",IF(OR('full menu'!G7="LCIT",'full menu'!G7="FCIT",'full menu'!G7="LIT",'full menu'!G7="FIT"),"ITs",IF(OR('full menu'!G7="MwERT",'full menu'!G7="ERwMT",'full menu'!G7="M&ERT",'full menu'!G7="MwIT",'full menu'!G7="IwMT",'full menu'!G7="M&IT",'full menu'!G7="IwERT",'full menu'!G7="ERwIT",'full menu'!G7="I&ERT",'full menu'!G7="ER&M&IT"),"MixedTs",IF('full menu'!G7="UD","UD",IF('full menu'!G7="LSD","LSD",IF('full menu'!G7="WSD","WSD",""))))))))))) -> ERfix | H7: =IF('full menu'!H7="MDC","MDC",IF('full menu'!H7="X","X",IF('full menu'!H7="UASC","UASC",IF(OR('full menu'!H7="PERF",'full menu'!H7="AERF",'full menu'!H7="PCB"),"ERfix",IF(OR('full menu'!H7="ACB",'full menu'!H7="LCERT",'full menu'!H7="LERT",'full menu'!H7="FCERT",'full menu'!H7="FERT"),"ERTs",IF(OR('full menu'!H7="FCMT",'full menu'!H7="FMT",'full menu'!H7="LMT",'full menu'!H7="LCMT"),"MTs",IF(OR('full menu'!H7="LCIT",'full menu'!H7="FCIT",'full menu'!H7="LIT",'full menu'!H7="FIT"),"ITs",IF(OR('full menu'!H7="MwERT",'full menu'!H7="ERwMT",'full menu'!H7="M&ERT",'full menu'!H7="MwIT",'full menu'!H7="IwMT",'full menu'!H7="M&IT",'full menu'!H7="IwERT",'full menu'!H7="ERwIT",'full menu'!H7="I&ERT",'full menu'!H7="ER&M&IT"),"MixedTs",IF('full menu'!H7="UD","UD",IF('full menu'!H7="LSD","LSD",IF('full menu'!H7="WSD","WSD",""))))))))))) -> ERfix | I7: =IF('full menu'!I7="MDC","MDC",IF('full menu'!I7="X","X",IF('full menu'!I7="UASC","UASC",IF(OR('full menu'!I7="PERF",'full menu'!I7="AERF",'full menu'!I7="PCB"),"ERfix",IF(OR('full menu'!I7="ACB",'full menu'!I7="LCERT",'full menu'!I7="LERT",'full menu'!I7="FCERT",'full menu'!I7="FERT"),"ERTs",IF(OR('full menu'!I7="FCMT",'full menu'!I7="FMT",'full menu'!I7="LMT",'full menu'!I7="LCMT"),"MTs",IF(OR('full menu'!I7="LCIT",'full menu'!I7="FCIT",'full menu'!I7="LIT",'full menu'!I7="FIT"),"ITs",IF(OR('full menu'!I7="MwERT",'full menu'!I7="ERwMT",'full menu'!I7="M&ERT",'full menu'!I7="MwIT",'full menu'!I7="IwMT",'full menu'!I7="M&IT",'full menu'!I7="IwERT",'full menu'!I7="ERwIT",'full menu'!I7="I&ERT",'full menu'!I7="ER&M&IT"),"MixedTs",IF('full menu'!I7="UD","UD",IF('full menu'!I7="LSD","LSD",IF('full menu'!I7="WSD","WSD",""))))))))))) -> ERfix | ... AY7: =IF('full menu'!AY7="MDC","MDC",IF('full menu'!AY7="X","X",IF('full menu'!AY7="UASC","UASC",IF(OR('full menu'!AY7="PERF",'full menu'!AY7="AERF",'full menu'!AY7="PCB"),"ERfix",IF(OR('full menu'!AY7="ACB",'full menu'!AY7="LCERT",'full menu'!AY7="LERT",'full menu'!AY7="FCERT",'full menu'!AY7="FERT"),"ERTs",IF(OR('full menu'!AY7="FCMT",'full menu'!AY7="FMT",'full menu'!AY7="LMT",'full menu'!AY7="LCMT"),"MTs",IF(OR('full menu'!AY7="LCIT",'full menu'!AY7="FCIT",'full menu'!AY7="LIT",'full menu'!AY7="FIT"),"ITs",IF(OR('full menu'!AY7="MwERT",'full menu'!AY7="ERwMT",'full menu'!AY7="M&ERT",'full menu'!AY7="MwIT",'full menu'!AY7="IwMT",'full menu'!AY7="M&IT",'full menu'!AY7="IwERT",'full menu'!AY7="ERwIT",'full menu'!AY7="I&ERT",'full menu'!AY7="ER&M&IT"),"MixedTs",IF('full menu'!AY7="UD","UD",IF('full menu'!AY7="LSD","LSD",IF('full menu'!AY7="WSD","WSD",""))))))))))) -> ERTs
A8: Canada | B8: =IF('full menu'!B8="MDC","MDC",IF('full menu'!B8="X","X",IF('full menu'!B8="UASC","UASC",IF(OR('full menu'!B8="PERF",'full menu'!B8="AERF",'full menu'!B8="PCB"),"ERfix",IF(OR('full menu'!B8="ACB",'full menu'!B8="LCERT",'full menu'!B8="LERT",'full menu'!B8="FCERT",'full menu'!B8="FERT"),"ERTs",IF(OR('full menu'!B8="FCMT",'full menu'!B8="FMT",'full menu'!B8="LMT",'full menu'!B8="LCMT"),"MTs",IF(OR('full menu'!B8="LCIT",'full menu'!B8="FCIT",'full menu'!B8="LIT",'full menu'!B8="FIT"),"ITs",IF(OR('full menu'!B8="MwERT",'full menu'!B8="ERwMT",'full menu'!B8="M&ERT",'full menu'!B8="MwIT",'full menu'!B8="IwMT",'full menu'!B8="M&IT",'full menu'!B8="IwERT",'full menu'!B8="ERwIT",'full menu'!B8="I&ERT",'full menu'!B8="ER&M&IT"),"MixedTs",IF('full menu'!B8="UD","UD",IF('full menu'!B8="LSD","LSD",IF('full menu'!B8="WSD","WSD",""))))))))))) -> LSD | C8: =IF('full menu'!C8="MDC","MDC",IF('full menu'!C8="X","X",IF('full menu'!C8="UASC","UASC",IF(OR('full menu'!C8="PERF",'full menu'!C8="AERF",'full menu'!C8="PCB"),"ERfix",IF(OR('full menu'!C8="ACB",'full menu'!C8="LCERT",'full menu'!C8="LERT",'full menu'!C8="FCERT",'full menu'!C8="FERT"),"ERTs",IF(OR('full menu'!C8="FCMT",'full menu'!C8="FMT",'full menu'!C8="LMT",'full menu'!C8="LCMT"),"MTs",IF(OR('full menu'!C8="LCIT",'full menu'!C8="FCIT",'full menu'!C8="LIT",'full menu'!C8="FIT"),"ITs",IF(OR('full menu'!C8="MwERT",'full menu'!C8="ERwMT",'full menu'!C8="M&ERT",'full menu'!C8="MwIT",'full menu'!C8="IwMT",'full menu'!C8="M&IT",'full menu'!C8="IwERT",'full menu'!C8="ERwIT",'full menu'!C8="I&ERT",'full menu'!C8="ER&M&IT"),"MixedTs",IF('full menu'!C8="UD","UD",IF('full menu'!C8="LSD","LSD",IF('full menu'!C8="WSD","WSD",""))))))))))) -> LSD | D8: =IF('full menu'!D8="MDC","MDC",IF('full menu'!D8="X","X",IF('full menu'!D8="UASC","UASC",IF(OR('full menu'!D8="PERF",'full menu'!D8="AERF",'full menu'!D8="PCB"),"ERfix",IF(OR('full menu'!D8="ACB",'full menu'!D8="LCERT",'full menu'!D8="LERT",'full menu'!D8="FCERT",'full menu'!D8="FERT"),"ERTs",IF(OR('full menu'!D8="FCMT",'full menu'!D8="FMT",'full menu'!D8="LMT",'full menu'!D8="LCMT"),"MTs",IF(OR('full menu'!D8="LCIT",'full menu'!D8="FCIT",'full menu'!D8="LIT",'full menu'!D8="FIT"),"ITs",IF(OR('full menu'!D8="MwERT",'full menu'!D8="ERwMT",'full menu'!D8="M&ERT",'full menu'!D8="MwIT",'full menu'!D8="IwMT",'full menu'!D8="M&IT",'full menu'!D8="IwERT",'full menu'!D8="ERwIT",'full menu'!D8="I&ERT",'full menu'!D8="ER&M&IT"),"MixedTs",IF('full menu'!D8="UD","UD",IF('full menu'!D8="LSD","LSD",IF('full menu'!D8="WSD","WSD",""))))))))))) -> MTs | E8: =IF('full menu'!E8="MDC","MDC",IF('full menu'!E8="X","X",IF('full menu'!E8="UASC","UASC",IF(OR('full menu'!E8="PERF",'full menu'!E8="AERF",'full menu'!E8="PCB"),"ERfix",IF(OR('full menu'!E8="ACB",'full menu'!E8="LCERT",'full menu'!E8="LERT",'full menu'!E8="FCERT",'full menu'!E8="FERT"),"ERTs",IF(OR('full menu'!E8="FCMT",'full menu'!E8="FMT",'full menu'!E8="LMT",'full menu'!E8="LCMT"),"MTs",IF(OR('full menu'!E8="LCIT",'full menu'!E8="FCIT",'full menu'!E8="LIT",'full menu'!E8="FIT"),"ITs",IF(OR('full menu'!E8="MwERT",'full menu'!E8="ERwMT",'full menu'!E8="M&ERT",'full menu'!E8="MwIT",'full menu'!E8="IwMT",'full menu'!E8="M&IT",'full menu'!E8="IwERT",'full menu'!E8="ERwIT",'full menu'!E8="I&ERT",'full menu'!E8="ER&M&IT"),"MixedTs",IF('full menu'!E8="UD","UD",IF('full menu'!E8="LSD","LSD",IF('full menu'!E8="WSD","WSD",""))))))))))) -> MTs | F8: =IF('full menu'!F8="MDC","MDC",IF('full menu'!F8="X","X",IF('full menu'!F8="UASC","UASC",IF(OR('full menu'!F8="PERF",'full menu'!F8="AERF",'full menu'!F8="PCB"),"ERfix",IF(OR('full menu'!F8="ACB",'full menu'!F8="LCERT",'full menu'!F8="LERT",'full menu'!F8="FCERT",'full menu'!F8="FERT"),"ERTs",IF(OR('full menu'!F8="FCMT",'full menu'!F8="FMT",'full menu'!F8="LMT",'full menu'!F8="LCMT"),"MTs",IF(OR('full menu'!F8="LCIT",'full menu'!F8="FCIT",'full menu'!F8="LIT",'full menu'!F8="FIT"),"ITs",IF(OR('full menu'!F8="MwERT",'full menu'!F8="ERwMT",'full menu'!F8="M&ERT",'full menu'!F8="MwIT",'full menu'!F8="IwMT",'full menu'!F8="M&IT",'full menu'!F8="IwERT",'full menu'!F8="ERwIT",'full menu'!F8="I&ERT",'full menu'!F8="ER&M&IT"),"MixedTs",IF('full menu'!F8="UD","UD",IF('full menu'!F8="LSD","LSD",IF('full menu'!F8="WSD","WSD",""))))))))))) -> MTs | G8: =IF('full menu'!G8="MDC","MDC",IF('full menu'!G8="X","X",IF('full menu'!G8="UASC","UASC",IF(OR('full menu'!G8="PERF",'full menu'!G8="AERF",'full menu'!G8="PCB"),"ERfix",IF(OR('full menu'!G8="ACB",'full menu'!G8="LCERT",'full menu'!G8="LERT",'full menu'!G8="FCERT",'full menu'!G8="FERT"),"ERTs",IF(OR('full menu'!G8="FCMT",'full menu'!G8="FMT",'full menu'!G8="LMT",'full menu'!G8="LCMT"),"MTs",IF(OR('full menu'!G8="LCIT",'full menu'!G8="FCIT",'full menu'!G8="LIT",'full menu'!G8="FIT"),"ITs",IF(OR('full menu'!G8="MwERT",'full menu'!G8="ERwMT",'full menu'!G8="M&ERT",'full menu'!G8="MwIT",'full menu'!G8="IwMT",'full menu'!G8="M&IT",'full menu'!G8="IwERT",'full menu'!G8="ERwIT",'full menu'!G8="I&ERT",'full menu'!G8="ER&M&IT"),"MixedTs",IF('full menu'!G8="UD","UD",IF('full menu'!G8="LSD","LSD",IF('full menu'!G8="WSD","WSD",""))))))))))) -> MTs | H8: =IF('full menu'!H8="MDC","MDC",IF('full menu'!H8="X","X",IF('full menu'!H8="UASC","UASC",IF(OR('full menu'!H8="PERF",'full menu'!H8="AERF",'full menu'!H8="PCB"),"ERfix",IF(OR('full menu'!H8="ACB",'full menu'!H8="LCERT",'full menu'!H8="LERT",'full menu'!H8="FCERT",'full menu'!H8="FERT"),"ERTs",IF(OR('full menu'!H8="FCMT",'full menu'!H8="FMT",'full menu'!H8="LMT",'full menu'!H8="LCMT"),"MTs",IF(OR('full menu'!H8="LCIT",'full menu'!H8="FCIT",'full menu'!H8="LIT",'full menu'!H8="FIT"),"ITs",IF(OR('full menu'!H8="MwERT",'full menu'!H8="ERwMT",'full menu'!H8="M&ERT",'full menu'!H8="MwIT",'full menu'!H8="IwMT",'full menu'!H8="M&IT",'full menu'!H8="IwERT",'full menu'!H8="ERwIT",'full menu'!H8="I&ERT",'full menu'!H8="ER&M&IT"),"MixedTs",IF('full menu'!H8="UD","UD",IF('full menu'!H8="LSD","LSD",IF('full menu'!H8="WSD","WSD",""))))))))))) -> MTs | I8: =IF('full menu'!I8="MDC","MDC",IF('full menu'!I8="X","X",IF('full menu'!I8="UASC","UASC",IF(OR('full menu'!I8="PERF",'full menu'!I8="AERF",'full menu'!I8="PCB"),"ERfix",IF(OR('full menu'!I8="ACB",'full menu'!I8="LCERT",'full menu'!I8="LERT",'full menu'!I8="FCERT",'full menu'!I8="FERT"),"ERTs",IF(OR('full menu'!I8="FCMT",'full menu'!I8="FMT",'full menu'!I8="LMT",'full menu'!I8="LCMT"),"MTs",IF(OR('full menu'!I8="LCIT",'full menu'!I8="FCIT",'full menu'!I8="LIT",'full menu'!I8="FIT"),"ITs",IF(OR('full menu'!I8="MwERT",'full menu'!I8="ERwMT",'full menu'!I8="M&ERT",'full menu'!I8="MwIT",'full menu'!I8="IwMT",'full menu'!I8="M&IT",'full menu'!I8="IwERT",'full menu'!I8="ERwIT",'full menu'!I8="I&ERT",'full menu'!I8="ER&M&IT"),"MixedTs",IF('full menu'!I8="UD","UD",IF('full menu'!I8="LSD","LSD",IF('full menu'!I8="WSD","WSD",""))))))))))) -> LSD | ... AY8: =IF('full menu'!AY8="MDC","MDC",IF('full menu'!AY8="X","X",IF('full menu'!AY8="UASC","UASC",IF(OR('full menu'!AY8="PERF",'full menu'!AY8="AERF",'full menu'!AY8="PCB"),"ERfix",IF(OR('full menu'!AY8="ACB",'full menu'!AY8="LCERT",'full menu'!AY8="LERT",'full menu'!AY8="FCERT",'full menu'!AY8="FERT"),"ERTs",IF(OR('full menu'!AY8="FCMT",'full menu'!AY8="FMT",'full menu'!AY8="LMT",'full menu'!AY8="LCMT"),"MTs",IF(OR('full menu'!AY8="LCIT",'full menu'!AY8="FCIT",'full menu'!AY8="LIT",'full menu'!AY8="FIT"),"ITs",IF(OR('full menu'!AY8="MwERT",'full menu'!AY8="ERwMT",'full menu'!AY8="M&ERT",'full menu'!AY8="MwIT",'full menu'!AY8="IwMT",'full menu'!AY8="M&IT",'full menu'!AY8="IwERT",'full menu'!AY8="ERwIT",'full menu'!AY8="I&ERT",'full menu'!AY8="ER&M&IT"),"MixedTs",IF('full menu'!AY8="UD","UD",IF('full menu'!AY8="LSD","LSD",IF('full menu'!AY8="WSD","WSD",""))))))))))) -> ITs
A9: Cyprus | B9: =IF('full menu'!B9="MDC","MDC",IF('full menu'!B9="X","X",IF('full menu'!B9="UASC","UASC",IF(OR('full menu'!B9="PERF",'full menu'!B9="AERF",'full menu'!B9="PCB"),"ERfix",IF(OR('full menu'!B9="ACB",'full menu'!B9="LCERT",'full menu'!B9="LERT",'full menu'!B9="FCERT",'full menu'!B9="FERT"),"ERTs",IF(OR('full menu'!B9="FCMT",'full menu'!B9="FMT",'full menu'!B9="LMT",'full menu'!B9="LCMT"),"MTs",IF(OR('full menu'!B9="LCIT",'full menu'!B9="FCIT",'full menu'!B9="LIT",'full menu'!B9="FIT"),"ITs",IF(OR('full menu'!B9="MwERT",'full menu'!B9="ERwMT",'full menu'!B9="M&ERT",'full menu'!B9="MwIT",'full menu'!B9="IwMT",'full menu'!B9="M&IT",'full menu'!B9="IwERT",'full menu'!B9="ERwIT",'full menu'!B9="I&ERT",'full menu'!B9="ER&M&IT"),"MixedTs",IF('full menu'!B9="UD","UD",IF('full menu'!B9="LSD","LSD",IF('full menu'!B9="WSD","WSD",""))))))))))) -> ERfix | C9: =IF('full menu'!C9="MDC","MDC",IF('full menu'!C9="X","X",IF('full menu'!C9="UASC","UASC",IF(OR('full menu'!C9="PERF",'full menu'!C9="AERF",'full menu'!C9="PCB"),"ERfix",IF(OR('full menu'!C9="ACB",'full menu'!C9="LCERT",'full menu'!C9="LERT",'full menu'!C9="FCERT",'full menu'!C9="FERT"),"ERTs",IF(OR('full menu'!C9="FCMT",'full menu'!C9="FMT",'full menu'!C9="LMT",'full menu'!C9="LCMT"),"MTs",IF(OR('full menu'!C9="LCIT",'full menu'!C9="FCIT",'full menu'!C9="LIT",'full menu'!C9="FIT"),"ITs",IF(OR('full menu'!C9="MwERT",'full menu'!C9="ERwMT",'full menu'!C9="M&ERT",'full menu'!C9="MwIT",'full menu'!C9="IwMT",'full menu'!C9="M&IT",'full menu'!C9="IwERT",'full menu'!C9="ERwIT",'full menu'!C9="I&ERT",'full menu'!C9="ER&M&IT"),"MixedTs",IF('full menu'!C9="UD","UD",IF('full menu'!C9="LSD","LSD",IF('full menu'!C9="WSD","WSD",""))))))))))) -> ERfix | D9: =IF('full menu'!D9="MDC","MDC",IF('full menu'!D9="X","X",IF('full menu'!D9="UASC","UASC",IF(OR('full menu'!D9="PERF",'full menu'!D9="AERF",'full menu'!D9="PCB"),"ERfix",IF(OR('full menu'!D9="ACB",'full menu'!D9="LCERT",'full menu'!D9="LERT",'full menu'!D9="FCERT",'full menu'!D9="FERT"),"ERTs",IF(OR('full menu'!D9="FCMT",'full menu'!D9="FMT",'full menu'!D9="LMT",'full menu'!D9="LCMT"),"MTs",IF(OR('full menu'!D9="LCIT",'full menu'!D9="FCIT",'full menu'!D9="LIT",'full menu'!D9="FIT"),"ITs",IF(OR('full menu'!D9="MwERT",'full menu'!D9="ERwMT",'full menu'!D9="M&ERT",'full menu'!D9="MwIT",'full menu'!D9="IwMT",'full menu'!D9="M&IT",'full menu'!D9="IwERT",'full menu'!D9="ERwIT",'full menu'!D9="I&ERT",'full menu'!D9="ER&M&IT"),"MixedTs",IF('full menu'!D9="UD","UD",IF('full menu'!D9="LSD","LSD",IF('full menu'!D9="WSD","WSD",""))))))))))) -> ERfix | E9: =IF('full menu'!E9="MDC","MDC",IF('full menu'!E9="X","X",IF('full menu'!E9="UASC","UASC",IF(OR('full menu'!E9="PERF",'full menu'!E9="AERF",'full menu'!E9="PCB"),"ERfix",IF(OR('full menu'!E9="ACB",'full menu'!E9="LCERT",'full menu'!E9="LERT",'full menu'!E9="FCERT",'full menu'!E9="FERT"),"ERTs",IF(OR('full menu'!E9="FCMT",'full menu'!E9="FMT",'full menu'!E9="LMT",'full menu'!E9="LCMT"),"MTs",IF(OR('full menu'!E9="LCIT",'full menu'!E9="FCIT",'full menu'!E9="LIT",'full menu'!E9="FIT"),"ITs",IF(OR('full menu'!E9="MwERT",'full menu'!E9="ERwMT",'full menu'!E9="M&ERT",'full menu'!E9="MwIT",'full menu'!E9="IwMT",'full menu'!E9="M&IT",'full menu'!E9="IwERT",'full menu'!E9="ERwIT",'full menu'!E9="I&ERT",'full menu'!E9="ER&M&IT"),"MixedTs",IF('full menu'!E9="UD","UD",IF('full menu'!E9="LSD","LSD",IF('full menu'!E9="WSD","WSD",""))))))))))) -> ERfix | F9: =IF('full menu'!F9="MDC","MDC",IF('full menu'!F9="X","X",IF('full menu'!F9="UASC","UASC",IF(OR('full menu'!F9="PERF",'full menu'!F9="AERF",'full menu'!F9="PCB"),"ERfix",IF(OR('full menu'!F9="ACB",'full menu'!F9="LCERT",'full menu'!F9="LERT",'full menu'!F9="FCERT",'full menu'!F9="FERT"),"ERTs",IF(OR('full menu'!F9="FCMT",'full menu'!F9="FMT",'full menu'!F9="LMT",'full menu'!F9="LCMT"),"MTs",IF(OR('full menu'!F9="LCIT",'full menu'!F9="FCIT",'full menu'!F9="LIT",'full menu'!F9="FIT"),"ITs",IF(OR('full menu'!F9="MwERT",'full menu'!F9="ERwMT",'full menu'!F9="M&ERT",'full menu'!F9="MwIT",'full menu'!F9="IwMT",'full menu'!F9="M&IT",'full menu'!F9="IwERT",'full menu'!F9="ERwIT",'full menu'!F9="I&ERT",'full menu'!F9="ER&M&IT"),"MixedTs",IF('full menu'!F9="UD","UD",IF('full menu'!F9="LSD","LSD",IF('full menu'!F9="WSD","WSD",""))))))))))) -> ERfix | G9: =IF('full menu'!G9="MDC","MDC",IF('full menu'!G9="X","X",IF('full menu'!G9="UASC","UASC",IF(OR('full menu'!G9="PERF",'full menu'!G9="AERF",'full menu'!G9="PCB"),"ERfix",IF(OR('full menu'!G9="ACB",'full menu'!G9="LCERT",'full menu'!G9="LERT",'full menu'!G9="FCERT",'full menu'!G9="FERT"),"ERTs",IF(OR('full menu'!G9="FCMT",'full menu'!G9="FMT",'full menu'!G9="LMT",'full menu'!G9="LCMT"),"MTs",IF(OR('full menu'!G9="LCIT",'full menu'!G9="FCIT",'full menu'!G9="LIT",'full menu'!G9="FIT"),"ITs",IF(OR('full menu'!G9="MwERT",'full menu'!G9="ERwMT",'full menu'!G9="M&ERT",'full menu'!G9="MwIT",'full menu'!G9="IwMT",'full menu'!G9="M&IT",'full menu'!G9="IwERT",'full menu'!G9="ERwIT",'full menu'!G9="I&ERT",'full menu'!G9="ER&M&IT"),"MixedTs",IF('full menu'!G9="UD","UD",IF('full menu'!G9="LSD","LSD",IF('full menu'!G9="WSD","WSD",""))))))))))) -> ERfix | H9: =IF('full menu'!H9="MDC","MDC",IF('full menu'!H9="X","X",IF('full menu'!H9="UASC","UASC",IF(OR('full menu'!H9="PERF",'full menu'!H9="AERF",'full menu'!H9="PCB"),"ERfix",IF(OR('full menu'!H9="ACB",'full menu'!H9="LCERT",'full menu'!H9="LERT",'full menu'!H9="FCERT",'full menu'!H9="FERT"),"ERTs",IF(OR('full menu'!H9="FCMT",'full menu'!H9="FMT",'full menu'!H9="LMT",'full menu'!H9="LCMT"),"MTs",IF(OR('full menu'!H9="LCIT",'full menu'!H9="FCIT",'full menu'!H9="LIT",'full menu'!H9="FIT"),"ITs",IF(OR('full menu'!H9="MwERT",'full menu'!H9="ERwMT",'full menu'!H9="M&ERT",'full menu'!H9="MwIT",'full menu'!H9="IwMT",'full menu'!H9="M&IT",'full menu'!H9="IwERT",'full menu'!H9="ERwIT",'full menu'!H9="I&ERT",'full menu'!H9="ER&M&IT"),"MixedTs",IF('full menu'!H9="UD","UD",IF('full menu'!H9="LSD","LSD",IF('full menu'!H9="WSD","WSD",""))))))))))) -> ERfix | I9: =IF('full menu'!I9="MDC","MDC",IF('full menu'!I9="X","X",IF('full menu'!I9="UASC","UASC",IF(OR('full menu'!I9="PERF",'full menu'!I9="AERF",'full menu'!I9="PCB"),"ERfix",IF(OR('full menu'!I9="ACB",'full menu'!I9="LCERT",'full menu'!I9="LERT",'full menu'!I9="FCERT",'full menu'!I9="FERT"),"ERTs",IF(OR('full menu'!I9="FCMT",'full menu'!I9="FMT",'full menu'!I9="LMT",'full menu'!I9="LCMT"),"MTs",IF(OR('full menu'!I9="LCIT",'full menu'!I9="FCIT",'full menu'!I9="LIT",'full menu'!I9="FIT"),"ITs",IF(OR('full menu'!I9="MwERT",'full menu'!I9="ERwMT",'full menu'!I9="M&ERT",'full menu'!I9="MwIT",'full menu'!I9="IwMT",'full menu'!I9="M&IT",'full menu'!I9="IwERT",'full menu'!I9="ERwIT",'full menu'!I9="I&ERT",'full menu'!I9="ER&M&IT"),"MixedTs",IF('full menu'!I9="UD","UD",IF('full menu'!I9="LSD","LSD",IF('full menu'!I9="WSD","WSD",""))))))))))) -> ERfix | ... AY9: =IF('full menu'!AY9="MDC","MDC",IF('full menu'!AY9="X","X",IF('full menu'!AY9="UASC","UASC",IF(OR('full menu'!AY9="PERF",'full menu'!AY9="AERF",'full menu'!AY9="PCB"),"ERfix",IF(OR('full menu'!AY9="ACB",'full menu'!AY9="LCERT",'full menu'!AY9="LERT",'full menu'!AY9="FCERT",'full menu'!AY9="FERT"),"ERTs",IF(OR('full menu'!AY9="FCMT",'full menu'!AY9="FMT",'full menu'!AY9="LMT",'full menu'!AY9="LCMT"),"MTs",IF(OR('full menu'!AY9="LCIT",'full menu'!AY9="FCIT",'full menu'!AY9="LIT",'full menu'!AY9="FIT"),"ITs",IF(OR('full menu'!AY9="MwERT",'full menu'!AY9="ERwMT",'full menu'!AY9="M&ERT",'full menu'!AY9="MwIT",'full menu'!AY9="IwMT",'full menu'!AY9="M&IT",'full menu'!AY9="IwERT",'full menu'!AY9="ERwIT",'full menu'!AY9="I&ERT",'full menu'!AY9="ER&M&IT"),"MixedTs",IF('full menu'!AY9="UD","UD",IF('full menu'!AY9="LSD","LSD",IF('full menu'!AY9="WSD","WSD","")))))))))))
A10: Denmark | B10: =IF('full menu'!B10="MDC","MDC",IF('full menu'!B10="X","X",IF('full menu'!B10="UASC","UASC",IF(OR('full menu'!B10="PERF",'full menu'!B10="AERF",'full menu'!B10="PCB"),"ERfix",IF(OR('full menu'!B10="ACB",'full menu'!B10="LCERT",'full menu'!B10="LERT",'full menu'!B10="FCERT",'full menu'!B10="FERT"),"ERTs",IF(OR('full menu'!B10="FCMT",'full menu'!B10="FMT",'full menu'!B10="LMT",'full menu'!B10="LCMT"),"MTs",IF(OR('full menu'!B10="LCIT",'full menu'!B10="FCIT",'full menu'!B10="LIT",'full menu'!B10="FIT"),"ITs",IF(OR('full menu'!B10="MwERT",'full menu'!B10="ERwMT",'full menu'!B10="M&ERT",'full menu'!B10="MwIT",'full menu'!B10="IwMT",'full menu'!B10="M&IT",'full menu'!B10="IwERT",'full menu'!B10="ERwIT",'full menu'!B10="I&ERT",'full menu'!B10="ER&M&IT"),"MixedTs",IF('full menu'!B10="UD","UD",IF('full menu'!B10="LSD","LSD",IF('full menu'!B10="WSD","WSD",""))))))))))) -> ERTs | C10: =IF('full menu'!C10="MDC","MDC",IF('full menu'!C10="X","X",IF('full menu'!C10="UASC","UASC",IF(OR('full menu'!C10="PERF",'full menu'!C10="AERF",'full menu'!C10="PCB"),"ERfix",IF(OR('full menu'!C10="ACB",'full menu'!C10="LCERT",'full menu'!C10="LERT",'full menu'!C10="FCERT",'full menu'!C10="FERT"),"ERTs",IF(OR('full menu'!C10="FCMT",'full menu'!C10="FMT",'full menu'!C10="LMT",'full menu'!C10="LCMT"),"MTs",IF(OR('full menu'!C10="LCIT",'full menu'!C10="FCIT",'full menu'!C10="LIT",'full menu'!C10="FIT"),"ITs",IF(OR('full menu'!C10="MwERT",'full menu'!C10="ERwMT",'full menu'!C10="M&ERT",'full menu'!C10="MwIT",'full menu'!C10="IwMT",'full menu'!C10="M&IT",'full menu'!C10="IwERT",'full menu'!C10="ERwIT",'full menu'!C10="I&ERT",'full menu'!C10="ER&M&IT"),"MixedTs",IF('full menu'!C10="UD","UD",IF('full menu'!C10="LSD","LSD",IF('full menu'!C10="WSD","WSD",""))))))))))) -> ERTs | D10: =IF('full menu'!D10="MDC","MDC",IF('full menu'!D10="X","X",IF('full menu'!D10="UASC","UASC",IF(OR('full menu'!D10="PERF",'full menu'!D10="AERF",'full menu'!D10="PCB"),"ERfix",IF(OR('full menu'!D10="ACB",'full menu'!D10="LCERT",'full menu'!D10="LERT",'full menu'!D10="FCERT",'full menu'!D10="FERT"),"ERTs",IF(OR('full menu'!D10="FCMT",'full menu'!D10="FMT",'full menu'!D10="LMT",'full menu'!D10="LCMT"),"MTs",IF(OR('full menu'!D10="LCIT",'full menu'!D10="FCIT",'full menu'!D10="LIT",'full menu'!D10="FIT"),"ITs",IF(OR('full menu'!D10="MwERT",'full menu'!D10="ERwMT",'full menu'!D10="M&ERT",'full menu'!D10="MwIT",'full menu'!D10="IwMT",'full menu'!D10="M&IT",'full menu'!D10="IwERT",'full menu'!D10="ERwIT",'full menu'!D10="I&ERT",'full menu'!D10="ER&M&IT"),"MixedTs",IF('full menu'!D10="UD","UD",IF('full menu'!D10="LSD","LSD",IF('full menu'!D10="WSD","WSD",""))))))))))) -> ERTs | E10: =IF('full menu'!E10="MDC","MDC",IF('full menu'!E10="X","X",IF('full menu'!E10="UASC","UASC",IF(OR('full menu'!E10="PERF",'full menu'!E10="AERF",'full menu'!E10="PCB"),"ERfix",IF(OR('full menu'!E10="ACB",'full menu'!E10="LCERT",'full menu'!E10="LERT",'full menu'!E10="FCERT",'full menu'!E10="FERT"),"ERTs",IF(OR('full menu'!E10="FCMT",'full menu'!E10="FMT",'full menu'!E10="LMT",'full menu'!E10="LCMT"),"MTs",IF(OR('full menu'!E10="LCIT",'full menu'!E10="FCIT",'full menu'!E10="LIT",'full menu'!E10="FIT"),"ITs",IF(OR('full menu'!E10="MwERT",'full menu'!E10="ERwMT",'full menu'!E10="M&ERT",'full menu'!E10="MwIT",'full menu'!E10="IwMT",'full menu'!E10="M&IT",'full menu'!E10="IwERT",'full menu'!E10="ERwIT",'full menu'!E10="I&ERT",'full menu'!E10="ER&M&IT"),"MixedTs",IF('full menu'!E10="UD","UD",IF('full menu'!E10="LSD","LSD",IF('full menu'!E10="WSD","WSD",""))))))))))) -> ERTs | F10: =IF('full menu'!F10="MDC","MDC",IF('full menu'!F10="X","X",IF('full menu'!F10="UASC","UASC",IF(OR('full menu'!F10="PERF",'full menu'!F10="AERF",'full menu'!F10="PCB"),"ERfix",IF(OR('full menu'!F10="ACB",'full menu'!F10="LCERT",'full menu'!F10="LERT",'full menu'!F10="FCERT",'full menu'!F10="FERT"),"ERTs",IF(OR('full menu'!F10="FCMT",'full menu'!F10="FMT",'full menu'!F10="LMT",'full menu'!F10="LCMT"),"MTs",IF(OR('full menu'!F10="LCIT",'full menu'!F10="FCIT",'full menu'!F10="LIT",'full menu'!F10="FIT"),"ITs",IF(OR('full menu'!F10="MwERT",'full menu'!F10="ERwMT",'full menu'!F10="M&ERT",'full menu'!F10="MwIT",'full menu'!F10="IwMT",'full menu'!F10="M&IT",'full menu'!F10="IwERT",'full menu'!F10="ERwIT",'full menu'!F10="I&ERT",'full menu'!F10="ER&M&IT"),"MixedTs",IF('full menu'!F10="UD","UD",IF('full menu'!F10="LSD","LSD",IF('full menu'!F10="WSD","WSD",""))))))))))) -> ERTs | G10: =IF('full menu'!G10="MDC","MDC",IF('full menu'!G10="X","X",IF('full menu'!G10="UASC","UASC",IF(OR('full menu'!G10="PERF",'full menu'!G10="AERF",'full menu'!G10="PCB"),"ERfix",IF(OR('full menu'!G10="ACB",'full menu'!G10="LCERT",'full menu'!G10="LERT",'full menu'!G10="FCERT",'full menu'!G10="FERT"),"ERTs",IF(OR('full menu'!G10="FCMT",'full menu'!G10="FMT",'full menu'!G10="LMT",'full menu'!G10="LCMT"),"MTs",IF(OR('full menu'!G10="LCIT",'full menu'!G10="FCIT",'full menu'!G10="LIT",'full menu'!G10="FIT"),"ITs",IF(OR('full menu'!G10="MwERT",'full menu'!G10="ERwMT",'full menu'!G10="M&ERT",'full menu'!G10="MwIT",'full menu'!G10="IwMT",'full menu'!G10="M&IT",'full menu'!G10="IwERT",'full menu'!G10="ERwIT",'full menu'!G10="I&ERT",'full menu'!G10="ER&M&IT"),"MixedTs",IF('full menu'!G10="UD","UD",IF('full menu'!G10="LSD","LSD",IF('full menu'!G10="WSD","WSD",""))))))))))) -> ERTs | H10: =IF('full menu'!H10="MDC","MDC",IF('full menu'!H10="X","X",IF('full menu'!H10="UASC","UASC",IF(OR('full menu'!H10="PERF",'full menu'!H10="AERF",'full menu'!H10="PCB"),"ERfix",IF(OR('full menu'!H10="ACB",'full menu'!H10="LCERT",'full menu'!H10="LERT",'full menu'!H10="FCERT",'full menu'!H10="FERT"),"ERTs",IF(OR('full menu'!H10="FCMT",'full menu'!H10="FMT",'full menu'!H10="LMT",'full menu'!H10="LCMT"),"MTs",IF(OR('full menu'!H10="LCIT",'full menu'!H10="FCIT",'full menu'!H10="LIT",'full menu'!H10="FIT"),"ITs",IF(OR('full menu'!H10="MwERT",'full menu'!H10="ERwMT",'full menu'!H10="M&ERT",'full menu'!H10="MwIT",'full menu'!H10="IwMT",'full menu'!H10="M&IT",'full menu'!H10="IwERT",'full menu'!H10="ERwIT",'full menu'!H10="I&ERT",'full menu'!H10="ER&M&IT"),"MixedTs",IF('full menu'!H10="UD","UD",IF('full menu'!H10="LSD","LSD",IF('full menu'!H10="WSD","WSD",""))))))))))) -> ERTs | I10: =IF('full menu'!I10="MDC","MDC",IF('full menu'!I10="X","X",IF('full menu'!I10="UASC","UASC",IF(OR('full menu'!I10="PERF",'full menu'!I10="AERF",'full menu'!I10="PCB"),"ERfix",IF(OR('full menu'!I10="ACB",'full menu'!I10="LCERT",'full menu'!I10="LERT",'full menu'!I10="FCERT",'full menu'!I10="FERT"),"ERTs",IF(OR('full menu'!I10="FCMT",'full menu'!I10="FMT",'full menu'!I10="LMT",'full menu'!I10="LCMT"),"MTs",IF(OR('full menu'!I10="LCIT",'full menu'!I10="FCIT",'full menu'!I10="LIT",'full menu'!I10="FIT"),"ITs",IF(OR('full menu'!I10="MwERT",'full menu'!I10="ERwMT",'full menu'!I10="M&ERT",'full menu'!I10="MwIT",'full menu'!I10="IwMT",'full menu'!I10="M&IT",'full menu'!I10="IwERT",'full menu'!I10="ERwIT",'full menu'!I10="I&ERT",'full menu'!I10="ER&M&IT"),"MixedTs",IF('full menu'!I10="UD","UD",IF('full menu'!I10="LSD","LSD",IF('full menu'!I10="WSD","WSD",""))))))))))) -> ERTs | ... AY10: =IF('full menu'!AY10="MDC","MDC",IF('full menu'!AY10="X","X",IF('full menu'!AY10="UASC","UASC",IF(OR('full menu'!AY10="PERF",'full menu'!AY10="AERF",'full menu'!AY10="PCB"),"ERfix",IF(OR('full menu'!AY10="ACB",'full menu'!AY10="LCERT",'full menu'!AY10="LERT",'full menu'!AY10="FCERT",'full menu'!AY10="FERT"),"ERTs",IF(OR('full menu'!AY10="FCMT",'full menu'!AY10="FMT",'full menu'!AY10="LMT",'full menu'!AY10="LCMT"),"MTs",IF(OR('full menu'!AY10="LCIT",'full menu'!AY10="FCIT",'full menu'!AY10="LIT",'full menu'!AY10="FIT"),"ITs",IF(OR('full menu'!AY10="MwERT",'full menu'!AY10="ERwMT",'full menu'!AY10="M&ERT",'full menu'!AY10="MwIT",'full menu'!AY10="IwMT",'full menu'!AY10="M&IT",'full menu'!AY10="IwERT",'full menu'!AY10="ERwIT",'full menu'!AY10="I&ERT",'full menu'!AY10="ER&M&IT"),"MixedTs",IF('full menu'!AY10="UD","UD",IF('full menu'!AY10="LSD","LSD",IF('full menu'!AY10="WSD","WSD",""))))))))))) -> ERTs
A11: Euro area | B11: =IF('full menu'!B11="MDC","MDC",IF('full menu'!B11="X","X",IF('full menu'!B11="UASC","UASC",IF(OR('full menu'!B11="PERF",'full menu'!B11="AERF",'full menu'!B11="PCB"),"ERfix",IF(OR('full menu'!B11="ACB",'full menu'!B11="LCERT",'full menu'!B11="LERT",'full menu'!B11="FCERT",'full menu'!B11="FERT"),"ERTs",IF(OR('full menu'!B11="FCMT",'full menu'!B11="FMT",'full menu'!B11="LMT",'full menu'!B11="LCMT"),"MTs",IF(OR('full menu'!B11="LCIT",'full menu'!B11="FCIT",'full menu'!B11="LIT",'full menu'!B11="FIT"),"ITs",IF(OR('full menu'!B11="MwERT",'full menu'!B11="ERwMT",'full menu'!B11="M&ERT",'full menu'!B11="MwIT",'full menu'!B11="IwMT",'full menu'!B11="M&IT",'full menu'!B11="IwERT",'full menu'!B11="ERwIT",'full menu'!B11="I&ERT",'full menu'!B11="ER&M&IT"),"MixedTs",IF('full menu'!B11="UD","UD",IF('full menu'!B11="LSD","LSD",IF('full menu'!B11="WSD","WSD",""))))))))))) -> X | C11: =IF('full menu'!C11="MDC","MDC",IF('full menu'!C11="X","X",IF('full menu'!C11="UASC","UASC",IF(OR('full menu'!C11="PERF",'full menu'!C11="AERF",'full menu'!C11="PCB"),"ERfix",IF(OR('full menu'!C11="ACB",'full menu'!C11="LCERT",'full menu'!C11="LERT",'full menu'!C11="FCERT",'full menu'!C11="FERT"),"ERTs",IF(OR('full menu'!C11="FCMT",'full menu'!C11="FMT",'full menu'!C11="LMT",'full menu'!C11="LCMT"),"MTs",IF(OR('full menu'!C11="LCIT",'full menu'!C11="FCIT",'full menu'!C11="LIT",'full menu'!C11="FIT"),"ITs",IF(OR('full menu'!C11="MwERT",'full menu'!C11="ERwMT",'full menu'!C11="M&ERT",'full menu'!C11="MwIT",'full menu'!C11="IwMT",'full menu'!C11="M&IT",'full menu'!C11="IwERT",'full menu'!C11="ERwIT",'full menu'!C11="I&ERT",'full menu'!C11="ER&M&IT"),"MixedTs",IF('full menu'!C11="UD","UD",IF('full menu'!C11="LSD","LSD",IF('full menu'!C11="WSD","WSD",""))))))))))) -> X | D11: =IF('full menu'!D11="MDC","MDC",IF('full menu'!D11="X","X",IF('full menu'!D11="UASC","UASC",IF(OR('full menu'!D11="PERF",'full menu'!D11="AERF",'full menu'!D11="PCB"),"ERfix",IF(OR('full menu'!D11="ACB",'full menu'!D11="LCERT",'full menu'!D11="LERT",'full menu'!D11="FCERT",'full menu'!D11="FERT"),"ERTs",IF(OR('full menu'!D11="FCMT",'full menu'!D11="FMT",'full menu'!D11="LMT",'full menu'!D11="LCMT"),"MTs",IF(OR('full menu'!D11="LCIT",'full menu'!D11="FCIT",'full menu'!D11="LIT",'full menu'!D11="FIT"),"ITs",IF(OR('full menu'!D11="MwERT",'full menu'!D11="ERwMT",'full menu'!D11="M&ERT",'full menu'!D11="MwIT",'full menu'!D11="IwMT",'full menu'!D11="M&IT",'full menu'!D11="IwERT",'full menu'!D11="ERwIT",'full menu'!D11="I&ERT",'full menu'!D11="ER&M&IT"),"MixedTs",IF('full menu'!D11="UD","UD",IF('full menu'!D11="LSD","LSD",IF('full menu'!D11="WSD","WSD",""))))))))))) -> X | E11: =IF('full menu'!E11="MDC","MDC",IF('full menu'!E11="X","X",IF('full menu'!E11="UASC","UASC",IF(OR('full menu'!E11="PERF",'full menu'!E11="AERF",'full menu'!E11="PCB"),"ERfix",IF(OR('full menu'!E11="ACB",'full menu'!E11="LCERT",'full menu'!E11="LERT",'full menu'!E11="FCERT",'full menu'!E11="FERT"),"ERTs",IF(OR('full menu'!E11="FCMT",'full menu'!E11="FMT",'full menu'!E11="LMT",'full menu'!E11="LCMT"),"MTs",IF(OR('full menu'!E11="LCIT",'full menu'!E11="FCIT",'full menu'!E11="LIT",'full menu'!E11="FIT"),"ITs",IF(OR('full menu'!E11="MwERT",'full menu'!E11="ERwMT",'full menu'!E11="M&ERT",'full menu'!E11="MwIT",'full menu'!E11="IwMT",'full menu'!E11="M&IT",'full menu'!E11="IwERT",'full menu'!E11="ERwIT",'full menu'!E11="I&ERT",'full menu'!E11="ER&M&IT"),"MixedTs",IF('full menu'!E11="UD","UD",IF('full menu'!E11="LSD","LSD",IF('full menu'!E11="WSD","WSD",""))))))))))) -> X | F11: =IF('full menu'!F11="MDC","MDC",IF('full menu'!F11="X","X",IF('full menu'!F11="UASC","UASC",IF(OR('full menu'!F11="PERF",'full menu'!F11="AERF",'full menu'!F11="PCB"),"ERfix",IF(OR('full menu'!F11="ACB",'full menu'!F11="LCERT",'full menu'!F11="LERT",'full menu'!F11="FCERT",'full menu'!F11="FERT"),"ERTs",IF(OR('full menu'!F11="FCMT",'full menu'!F11="FMT",'full menu'!F11="LMT",'full menu'!F11="LCMT"),"MTs",IF(OR('full menu'!F11="LCIT",'full menu'!F11="FCIT",'full menu'!F11="LIT",'full menu'!F11="FIT"),"ITs",IF(OR('full menu'!F11="MwERT",'full menu'!F11="ERwMT",'full menu'!F11="M&ERT",'full menu'!F11="MwIT",'full menu'!F11="IwMT",'full menu'!F11="M&IT",'full menu'!F11="IwERT",'full menu'!F11="ERwIT",'full menu'!F11="I&ERT",'full menu'!F11="ER&M&IT"),"MixedTs",IF('full menu'!F11="UD","UD",IF('full menu'!F11="LSD","LSD",IF('full menu'!F11="WSD","WSD",""))))))))))) -> X | G11: =IF('full menu'!G11="MDC","MDC",IF('full menu'!G11="X","X",IF('full menu'!G11="UASC","UASC",IF(OR('full menu'!G11="PERF",'full menu'!G11="AERF",'full menu'!G11="PCB"),"ERfix",IF(OR('full menu'!G11="ACB",'full menu'!G11="LCERT",'full menu'!G11="LERT",'full menu'!G11="FCERT",'full menu'!G11="FERT"),"ERTs",IF(OR('full menu'!G11="FCMT",'full menu'!G11="FMT",'full menu'!G11="LMT",'full menu'!G11="LCMT"),"MTs",IF(OR('full menu'!G11="LCIT",'full menu'!G11="FCIT",'full menu'!G11="LIT",'full menu'!G11="FIT"),"ITs",IF(OR('full menu'!G11="MwERT",'full menu'!G11="ERwMT",'full menu'!G11="M&ERT",'full menu'!G11="MwIT",'full menu'!G11="IwMT",'full menu'!G11="M&IT",'full menu'!G11="IwERT",'full menu'!G11="ERwIT",'full menu'!G11="I&ERT",'full menu'!G11="ER&M&IT"),"MixedTs",IF('full menu'!G11="UD","UD",IF('full menu'!G11="LSD","LSD",IF('full menu'!G11="WSD","WSD",""))))))))))) -> X | H11: =IF('full menu'!H11="MDC","MDC",IF('full menu'!H11="X","X",IF('full menu'!H11="UASC","UASC",IF(OR('full menu'!H11="PERF",'full menu'!H11="AERF",'full menu'!H11="PCB"),"ERfix",IF(OR('full menu'!H11="ACB",'full menu'!H11="LCERT",'full menu'!H11="LERT",'full menu'!H11="FCERT",'full menu'!H11="FERT"),"ERTs",IF(OR('full menu'!H11="FCMT",'full menu'!H11="FMT",'full menu'!H11="LMT",'full menu'!H11="LCMT"),"MTs",IF(OR('full menu'!H11="LCIT",'full menu'!H11="FCIT",'full menu'!H11="LIT",'full menu'!H11="FIT"),"ITs",IF(OR('full menu'!H11="MwERT",'full menu'!H11="ERwMT",'full menu'!H11="M&ERT",'full menu'!H11="MwIT",'full menu'!H11="IwMT",'full menu'!H11="M&IT",'full menu'!H11="IwERT",'full menu'!H11="ERwIT",'full menu'!H11="I&ERT",'full menu'!H11="ER&M&IT"),"MixedTs",IF('full menu'!H11="UD","UD",IF('full menu'!H11="LSD","LSD",IF('full menu'!H11="WSD","WSD",""))))))))))) -> X | I11: =IF('full menu'!I11="MDC","MDC",IF('full menu'!I11="X","X",IF('full menu'!I11="UASC","UASC",IF(OR('full menu'!I11="PERF",'full menu'!I11="AERF",'full menu'!I11="PCB"),"ERfix",IF(OR('full menu'!I11="ACB",'full menu'!I11="LCERT",'full menu'!I11="LERT",'full menu'!I11="FCERT",'full menu'!I11="FERT"),"ERTs",IF(OR('full menu'!I11="FCMT",'full menu'!I11="FMT",'full menu'!I11="LMT",'full menu'!I11="LCMT"),"MTs",IF(OR('full menu'!I11="LCIT",'full menu'!I11="FCIT",'full menu'!I11="LIT",'full menu'!I11="FIT"),"ITs",IF(OR('full menu'!I11="MwERT",'full menu'!I11="ERwMT",'full menu'!I11="M&ERT",'full menu'!I11="MwIT",'full menu'!I11="IwMT",'full menu'!I11="M&IT",'full menu'!I11="IwERT",'full menu'!I11="ERwIT",'full menu'!I11="I&ERT",'full menu'!I11="ER&M&IT"),"MixedTs",IF('full menu'!I11="UD","UD",IF('full menu'!I11="LSD","LSD",IF('full menu'!I11="WSD","WSD",""))))))))))) -> X | ... AY11: =IF('full menu'!AY11="MDC","MDC",IF('full menu'!AY11="X","X",IF('full menu'!AY11="UASC","UASC",IF(OR('full menu'!AY11="PERF",'full menu'!AY11="AERF",'full menu'!AY11="PCB"),"ERfix",IF(OR('full menu'!AY11="ACB",'full menu'!AY11="LCERT",'full menu'!AY11="LERT",'full menu'!AY11="FCERT",'full menu'!AY11="FERT"),"ERTs",IF(OR('full menu'!AY11="FCMT",'full menu'!AY11="FMT",'full menu'!AY11="LMT",'full menu'!AY11="LCMT"),"MTs",IF(OR('full menu'!AY11="LCIT",'full menu'!AY11="FCIT",'full menu'!AY11="LIT",'full menu'!AY11="FIT"),"ITs",IF(OR('full menu'!AY11="MwERT",'full menu'!AY11="ERwMT",'full menu'!AY11="M&ERT",'full menu'!AY11="MwIT",'full menu'!AY11="IwMT",'full menu'!AY11="M&IT",'full menu'!AY11="IwERT",'full menu'!AY11="ERwIT",'full menu'!AY11="I&ERT",'full menu'!AY11="ER&M&IT"),"MixedTs",IF('full menu'!AY11="UD","UD",IF('full menu'!AY11="LSD","LSD",IF('full menu'!AY11="WSD","WSD",""))))))))))) -> ITs
A12: Finland | B12: =IF('full menu'!B12="MDC","MDC",IF('full menu'!B12="X","X",IF('full menu'!B12="UASC","UASC",IF(OR('full menu'!B12="PERF",'full menu'!B12="AERF",'full menu'!B12="PCB"),"ERfix",IF(OR('full menu'!B12="ACB",'full menu'!B12="LCERT",'full menu'!B12="LERT",'full menu'!B12="FCERT",'full menu'!B12="FERT"),"ERTs",IF(OR('full menu'!B12="FCMT",'full menu'!B12="FMT",'full menu'!B12="LMT",'full menu'!B12="LCMT"),"MTs",IF(OR('full menu'!B12="LCIT",'full menu'!B12="FCIT",'full menu'!B12="LIT",'full menu'!B12="FIT"),"ITs",IF(OR('full menu'!B12="MwERT",'full menu'!B12="ERwMT",'full menu'!B12="M&ERT",'full menu'!B12="MwIT",'full menu'!B12="IwMT",'full menu'!B12="M&IT",'full menu'!B12="IwERT",'full menu'!B12="ERwIT",'full menu'!B12="I&ERT",'full menu'!B12="ER&M&IT"),"MixedTs",IF('full menu'!B12="UD","UD",IF('full menu'!B12="LSD","LSD",IF('full menu'!B12="WSD","WSD",""))))))))))) -> ERTs | C12: =IF('full menu'!C12="MDC","MDC",IF('full menu'!C12="X","X",IF('full menu'!C12="UASC","UASC",IF(OR('full menu'!C12="PERF",'full menu'!C12="AERF",'full menu'!C12="PCB"),"ERfix",IF(OR('full menu'!C12="ACB",'full menu'!C12="LCERT",'full menu'!C12="LERT",'full menu'!C12="FCERT",'full menu'!C12="FERT"),"ERTs",IF(OR('full menu'!C12="FCMT",'full menu'!C12="FMT",'full menu'!C12="LMT",'full menu'!C12="LCMT"),"MTs",IF(OR('full menu'!C12="LCIT",'full menu'!C12="FCIT",'full menu'!C12="LIT",'full menu'!C12="FIT"),"ITs",IF(OR('full menu'!C12="MwERT",'full menu'!C12="ERwMT",'full menu'!C12="M&ERT",'full menu'!C12="MwIT",'full menu'!C12="IwMT",'full menu'!C12="M&IT",'full menu'!C12="IwERT",'full menu'!C12="ERwIT",'full menu'!C12="I&ERT",'full menu'!C12="ER&M&IT"),"MixedTs",IF('full menu'!C12="UD","UD",IF('full menu'!C12="LSD","LSD",IF('full menu'!C12="WSD","WSD",""))))))))))) -> ERTs | D12: =IF('full menu'!D12="MDC","MDC",IF('full menu'!D12="X","X",IF('full menu'!D12="UASC","UASC",IF(OR('full menu'!D12="PERF",'full menu'!D12="AERF",'full menu'!D12="PCB"),"ERfix",IF(OR('full menu'!D12="ACB",'full menu'!D12="LCERT",'full menu'!D12="LERT",'full menu'!D12="FCERT",'full menu'!D12="FERT"),"ERTs",IF(OR('full menu'!D12="FCMT",'full menu'!D12="FMT",'full menu'!D12="LMT",'full menu'!D12="LCMT"),"MTs",IF(OR('full menu'!D12="LCIT",'full menu'!D12="FCIT",'full menu'!D12="LIT",'full menu'!D12="FIT"),"ITs",IF(OR('full menu'!D12="MwERT",'full menu'!D12="ERwMT",'full menu'!D12="M&ERT",'full menu'!D12="MwIT",'full menu'!D12="IwMT",'full menu'!D12="M&IT",'full menu'!D12="IwERT",'full menu'!D12="ERwIT",'full menu'!D12="I&ERT",'full menu'!D12="ER&M&IT"),"MixedTs",IF('full menu'!D12="UD","UD",IF('full menu'!D12="LSD","LSD",IF('full menu'!D12="WSD","WSD",""))))))))))) -> ERTs | E12: =IF('full menu'!E12="MDC","MDC",IF('full menu'!E12="X","X",IF('full menu'!E12="UASC","UASC",IF(OR('full menu'!E12="PERF",'full menu'!E12="AERF",'full menu'!E12="PCB"),"ERfix",IF(OR('full menu'!E12="ACB",'full menu'!E12="LCERT",'full menu'!E12="LERT",'full menu'!E12="FCERT",'full menu'!E12="FERT"),"ERTs",IF(OR('full menu'!E12="FCMT",'full menu'!E12="FMT",'full menu'!E12="LMT",'full menu'!E12="LCMT"),"MTs",IF(OR('full menu'!E12="LCIT",'full menu'!E12="FCIT",'full menu'!E12="LIT",'full menu'!E12="FIT"),"ITs",IF(OR('full menu'!E12="MwERT",'full menu'!E12="ERwMT",'full menu'!E12="M&ERT",'full menu'!E12="MwIT",'full menu'!E12="IwMT",'full menu'!E12="M&IT",'full menu'!E12="IwERT",'full menu'!E12="ERwIT",'full menu'!E12="I&ERT",'full menu'!E12="ER&M&IT"),"MixedTs",IF('full menu'!E12="UD","UD",IF('full menu'!E12="LSD","LSD",IF('full menu'!E12="WSD","WSD",""))))))))))) -> ERTs | F12: =IF('full menu'!F12="MDC","MDC",IF('full menu'!F12="X","X",IF('full menu'!F12="UASC","UASC",IF(OR('full menu'!F12="PERF",'full menu'!F12="AERF",'full menu'!F12="PCB"),"ERfix",IF(OR('full menu'!F12="ACB",'full menu'!F12="LCERT",'full menu'!F12="LERT",'full menu'!F12="FCERT",'full menu'!F12="FERT"),"ERTs",IF(OR('full menu'!F12="FCMT",'full menu'!F12="FMT",'full menu'!F12="LMT",'full menu'!F12="LCMT"),"MTs",IF(OR('full menu'!F12="LCIT",'full menu'!F12="FCIT",'full menu'!F12="LIT",'full menu'!F12="FIT"),"ITs",IF(OR('full menu'!F12="MwERT",'full menu'!F12="ERwMT",'full menu'!F12="M&ERT",'full menu'!F12="MwIT",'full menu'!F12="IwMT",'full menu'!F12="M&IT",'full menu'!F12="IwERT",'full menu'!F12="ERwIT",'full menu'!F12="I&ERT",'full menu'!F12="ER&M&IT"),"MixedTs",IF('full menu'!F12="UD","UD",IF('full menu'!F12="LSD","LSD",IF('full menu'!F12="WSD","WSD",""))))))))))) -> ERTs | G12: =IF('full menu'!G12="MDC","MDC",IF('full menu'!G12="X","X",IF('full menu'!G12="UASC","UASC",IF(OR('full menu'!G12="PERF",'full menu'!G12="AERF",'full menu'!G12="PCB"),"ERfix",IF(OR('full menu'!G12="ACB",'full menu'!G12="LCERT",'full menu'!G12="LERT",'full menu'!G12="FCERT",'full menu'!G12="FERT"),"ERTs",IF(OR('full menu'!G12="FCMT",'full menu'!G12="FMT",'full menu'!G12="LMT",'full menu'!G12="LCMT"),"MTs",IF(OR('full menu'!G12="LCIT",'full menu'!G12="FCIT",'full menu'!G12="LIT",'full menu'!G12="FIT"),"ITs",IF(OR('full menu'!G12="MwERT",'full menu'!G12="ERwMT",'full menu'!G12="M&ERT",'full menu'!G12="MwIT",'full menu'!G12="IwMT",'full menu'!G12="M&IT",'full menu'!G12="IwERT",'full menu'!G12="ERwIT",'full menu'!G12="I&ERT",'full menu'!G12="ER&M&IT"),"MixedTs",IF('full menu'!G12="UD","UD",IF('full menu'!G12="LSD","LSD",IF('full menu'!G12="WSD","WSD",""))))))))))) -> ERTs | H12: =IF('full menu'!H12="MDC","MDC",IF('full menu'!H12="X","X",IF('full menu'!H12="UASC","UASC",IF(OR('full menu'!H12="PERF",'full menu'!H12="AERF",'full menu'!H12="PCB"),"ERfix",IF(OR('full menu'!H12="ACB",'full menu'!H12="LCERT",'full menu'!H12="LERT",'full menu'!H12="FCERT",'full menu'!H12="FERT"),"ERTs",IF(OR('full menu'!H12="FCMT",'full menu'!H12="FMT",'full menu'!H12="LMT",'full menu'!H12="LCMT"),"MTs",IF(OR('full menu'!H12="LCIT",'full menu'!H12="FCIT",'full menu'!H12="LIT",'full menu'!H12="FIT"),"ITs",IF(OR('full menu'!H12="MwERT",'full menu'!H12="ERwMT",'full menu'!H12="M&ERT",'full menu'!H12="MwIT",'full menu'!H12="IwMT",'full menu'!H12="M&IT",'full menu'!H12="IwERT",'full menu'!H12="ERwIT",'full menu'!H12="I&ERT",'full menu'!H12="ER&M&IT"),"MixedTs",IF('full menu'!H12="UD","UD",IF('full menu'!H12="LSD","LSD",IF('full menu'!H12="WSD","WSD",""))))))))))) -> ERTs | I12: =IF('full menu'!I12="MDC","MDC",IF('full menu'!I12="X","X",IF('full menu'!I12="UASC","UASC",IF(OR('full menu'!I12="PERF",'full menu'!I12="AERF",'full menu'!I12="PCB"),"ERfix",IF(OR('full menu'!I12="ACB",'full menu'!I12="LCERT",'full menu'!I12="LERT",'full menu'!I12="FCERT",'full menu'!I12="FERT"),"ERTs",IF(OR('full menu'!I12="FCMT",'full menu'!I12="FMT",'full menu'!I12="LMT",'full menu'!I12="LCMT"),"MTs",IF(OR('full menu'!I12="LCIT",'full menu'!I12="FCIT",'full menu'!I12="LIT",'full menu'!I12="FIT"),"ITs",IF(OR('full menu'!I12="MwERT",'full menu'!I12="ERwMT",'full menu'!I12="M&ERT",'full menu'!I12="MwIT",'full menu'!I12="IwMT",'full menu'!I12="M&IT",'full menu'!I12="IwERT",'full menu'!I12="ERwIT",'full menu'!I12="I&ERT",'full menu'!I12="ER&M&IT"),"MixedTs",IF('full menu'!I12="UD","UD",IF('full menu'!I12="LSD","LSD",IF('full menu'!I12="WSD","WSD",""))))))))))) -> ERTs | ... AY12: =IF('full menu'!AY12="MDC","MDC",IF('full menu'!AY12="X","X",IF('full menu'!AY12="UASC","UASC",IF(OR('full menu'!AY12="PERF",'full menu'!AY12="AERF",'full menu'!AY12="PCB"),"ERfix",IF(OR('full menu'!AY12="ACB",'full menu'!AY12="LCERT",'full menu'!AY12="LERT",'full menu'!AY12="FCERT",'full menu'!AY12="FERT"),"ERTs",IF(OR('full menu'!AY12="FCMT",'full menu'!AY12="FMT",'full menu'!AY12="LMT",'full menu'!AY12="LCMT"),"MTs",IF(OR('full menu'!AY12="LCIT",'full menu'!AY12="FCIT",'full menu'!AY12="LIT",'full menu'!AY12="FIT"),"ITs",IF(OR('full menu'!AY12="MwERT",'full menu'!AY12="ERwMT",'full menu'!AY12="M&ERT",'full menu'!AY12="MwIT",'full menu'!AY12="IwMT",'full menu'!AY12="M&IT",'full menu'!AY12="IwERT",'full menu'!AY12="ERwIT",'full menu'!AY12="I&ERT",'full menu'!AY12="ER&M&IT"),"MixedTs",IF('full menu'!AY12="UD","UD",IF('full menu'!AY12="LSD","LSD",IF('full menu'!AY12="WSD","WSD","")))))))))))
A13: France | B13: =IF('full menu'!B13="MDC","MDC",IF('full menu'!B13="X","X",IF('full menu'!B13="UASC","UASC",IF(OR('full menu'!B13="PERF",'full menu'!B13="AERF",'full menu'!B13="PCB"),"ERfix",IF(OR('full menu'!B13="ACB",'full menu'!B13="LCERT",'full menu'!B13="LERT",'full menu'!B13="FCERT",'full menu'!B13="FERT"),"ERTs",IF(OR('full menu'!B13="FCMT",'full menu'!B13="FMT",'full menu'!B13="LMT",'full menu'!B13="LCMT"),"MTs",IF(OR('full menu'!B13="LCIT",'full menu'!B13="FCIT",'full menu'!B13="LIT",'full menu'!B13="FIT"),"ITs",IF(OR('full menu'!B13="MwERT",'full menu'!B13="ERwMT",'full menu'!B13="M&ERT",'full menu'!B13="MwIT",'full menu'!B13="IwMT",'full menu'!B13="M&IT",'full menu'!B13="IwERT",'full menu'!B13="ERwIT",'full menu'!B13="I&ERT",'full menu'!B13="ER&M&IT"),"MixedTs",IF('full menu'!B13="UD","UD",IF('full menu'!B13="LSD","LSD",IF('full menu'!B13="WSD","WSD",""))))))))))) -> LSD | C13: =IF('full menu'!C13="MDC","MDC",IF('full menu'!C13="X","X",IF('full menu'!C13="UASC","UASC",IF(OR('full menu'!C13="PERF",'full menu'!C13="AERF",'full menu'!C13="PCB"),"ERfix",IF(OR('full menu'!C13="ACB",'full menu'!C13="LCERT",'full menu'!C13="LERT",'full menu'!C13="FCERT",'full menu'!C13="FERT"),"ERTs",IF(OR('full menu'!C13="FCMT",'full menu'!C13="FMT",'full menu'!C13="LMT",'full menu'!C13="LCMT"),"MTs",IF(OR('full menu'!C13="LCIT",'full menu'!C13="FCIT",'full menu'!C13="LIT",'full menu'!C13="FIT"),"ITs",IF(OR('full menu'!C13="MwERT",'full menu'!C13="ERwMT",'full menu'!C13="M&ERT",'full menu'!C13="MwIT",'full menu'!C13="IwMT",'full menu'!C13="M&IT",'full menu'!C13="IwERT",'full menu'!C13="ERwIT",'full menu'!C13="I&ERT",'full menu'!C13="ER&M&IT"),"MixedTs",IF('full menu'!C13="UD","UD",IF('full menu'!C13="LSD","LSD",IF('full menu'!C13="WSD","WSD",""))))))))))) -> LSD | D13: =IF('full menu'!D13="MDC","MDC",IF('full menu'!D13="X","X",IF('full menu'!D13="UASC","UASC",IF(OR('full menu'!D13="PERF",'full menu'!D13="AERF",'full menu'!D13="PCB"),"ERfix",IF(OR('full menu'!D13="ACB",'full menu'!D13="LCERT",'full menu'!D13="LERT",'full menu'!D13="FCERT",'full menu'!D13="FERT"),"ERTs",IF(OR('full menu'!D13="FCMT",'full menu'!D13="FMT",'full menu'!D13="LMT",'full menu'!D13="LCMT"),"MTs",IF(OR('full menu'!D13="LCIT",'full menu'!D13="FCIT",'full menu'!D13="LIT",'full menu'!D13="FIT"),"ITs",IF(OR('full menu'!D13="MwERT",'full menu'!D13="ERwMT",'full menu'!D13="M&ERT",'full menu'!D13="MwIT",'full menu'!D13="IwMT",'full menu'!D13="M&IT",'full menu'!D13="IwERT",'full menu'!D13="ERwIT",'full menu'!D13="I&ERT",'full menu'!D13="ER&M&IT"),"MixedTs",IF('full menu'!D13="UD","UD",IF('full menu'!D13="LSD","LSD",IF('full menu'!D13="WSD","WSD",""))))))))))) -> LSD | E13: =IF('full menu'!E13="MDC","MDC",IF('full menu'!E13="X","X",IF('full menu'!E13="UASC","UASC",IF(OR('full menu'!E13="PERF",'full menu'!E13="AERF",'full menu'!E13="PCB"),"ERfix",IF(OR('full menu'!E13="ACB",'full menu'!E13="LCERT",'full menu'!E13="LERT",'full menu'!E13="FCERT",'full menu'!E13="FERT"),"ERTs",IF(OR('full menu'!E13="FCMT",'full menu'!E13="FMT",'full menu'!E13="LMT",'full menu'!E13="LCMT"),"MTs",IF(OR('full menu'!E13="LCIT",'full menu'!E13="FCIT",'full menu'!E13="LIT",'full menu'!E13="FIT"),"ITs",IF(OR('full menu'!E13="MwERT",'full menu'!E13="ERwMT",'full menu'!E13="M&ERT",'full menu'!E13="MwIT",'full menu'!E13="IwMT",'full menu'!E13="M&IT",'full menu'!E13="IwERT",'full menu'!E13="ERwIT",'full menu'!E13="I&ERT",'full menu'!E13="ER&M&IT"),"MixedTs",IF('full menu'!E13="UD","UD",IF('full menu'!E13="LSD","LSD",IF('full menu'!E13="WSD","WSD",""))))))))))) -> MixedTs | F13: =IF('full menu'!F13="MDC","MDC",IF('full menu'!F13="X","X",IF('full menu'!F13="UASC","UASC",IF(OR('full menu'!F13="PERF",'full menu'!F13="AERF",'full menu'!F13="PCB"),"ERfix",IF(OR('full menu'!F13="ACB",'full menu'!F13="LCERT",'full menu'!F13="LERT",'full menu'!F13="FCERT",'full menu'!F13="FERT"),"ERTs",IF(OR('full menu'!F13="FCMT",'full menu'!F13="FMT",'full menu'!F13="LMT",'full menu'!F13="LCMT"),"MTs",IF(OR('full menu'!F13="LCIT",'full menu'!F13="FCIT",'full menu'!F13="LIT",'full menu'!F13="FIT"),"ITs",IF(OR('full menu'!F13="MwERT",'full menu'!F13="ERwMT",'full menu'!F13="M&ERT",'full menu'!F13="MwIT",'full menu'!F13="IwMT",'full menu'!F13="M&IT",'full menu'!F13="IwERT",'full menu'!F13="ERwIT",'full menu'!F13="I&ERT",'full menu'!F13="ER&M&IT"),"MixedTs",IF('full menu'!F13="UD","UD",IF('full menu'!F13="LSD","LSD",IF('full menu'!F13="WSD","WSD",""))))))))))) -> MixedTs | G13: =IF('full menu'!G13="MDC","MDC",IF('full menu'!G13="X","X",IF('full menu'!G13="UASC","UASC",IF(OR('full menu'!G13="PERF",'full menu'!G13="AERF",'full menu'!G13="PCB"),"ERfix",IF(OR('full menu'!G13="ACB",'full menu'!G13="LCERT",'full menu'!G13="LERT",'full menu'!G13="FCERT",'full menu'!G13="FERT"),"ERTs",IF(OR('full menu'!G13="FCMT",'full menu'!G13="FMT",'full menu'!G13="LMT",'full menu'!G13="LCMT"),"MTs",IF(OR('full menu'!G13="LCIT",'full menu'!G13="FCIT",'full menu'!G13="LIT",'full menu'!G13="FIT"),"ITs",IF(OR('full menu'!G13="MwERT",'full menu'!G13="ERwMT",'full menu'!G13="M&ERT",'full menu'!G13="MwIT",'full menu'!G13="IwMT",'full menu'!G13="M&IT",'full menu'!G13="IwERT",'full menu'!G13="ERwIT",'full menu'!G13="I&ERT",'full menu'!G13="ER&M&IT"),"MixedTs",IF('full menu'!G13="UD","UD",IF('full menu'!G13="LSD","LSD",IF('full menu'!G13="WSD","WSD",""))))))))))) -> MixedTs | H13: =IF('full menu'!H13="MDC","MDC",IF('full menu'!H13="X","X",IF('full menu'!H13="UASC","UASC",IF(OR('full menu'!H13="PERF",'full menu'!H13="AERF",'full menu'!H13="PCB"),"ERfix",IF(OR('full menu'!H13="ACB",'full menu'!H13="LCERT",'full menu'!H13="LERT",'full menu'!H13="FCERT",'full menu'!H13="FERT"),"ERTs",IF(OR('full menu'!H13="FCMT",'full menu'!H13="FMT",'full menu'!H13="LMT",'full menu'!H13="LCMT"),"MTs",IF(OR('full menu'!H13="LCIT",'full menu'!H13="FCIT",'full menu'!H13="LIT",'full menu'!H13="FIT"),"ITs",IF(OR('full menu'!H13="MwERT",'full menu'!H13="ERwMT",'full menu'!H13="M&ERT",'full menu'!H13="MwIT",'full menu'!H13="IwMT",'full menu'!H13="M&IT",'full menu'!H13="IwERT",'full menu'!H13="ERwIT",'full menu'!H13="I&ERT",'full menu'!H13="ER&M&IT"),"MixedTs",IF('full menu'!H13="UD","UD",IF('full menu'!H13="LSD","LSD",IF('full menu'!H13="WSD","WSD",""))))))))))) -> MixedTs | I13: =IF('full menu'!I13="MDC","MDC",IF('full menu'!I13="X","X",IF('full menu'!I13="UASC","UASC",IF(OR('full menu'!I13="PERF",'full menu'!I13="AERF",'full menu'!I13="PCB"),"ERfix",IF(OR('full menu'!I13="ACB",'full menu'!I13="LCERT",'full menu'!I13="LERT",'full menu'!I13="FCERT",'full menu'!I13="FERT"),"ERTs",IF(OR('full menu'!I13="FCMT",'full menu'!I13="FMT",'full menu'!I13="LMT",'full menu'!I13="LCMT"),"MTs",IF(OR('full menu'!I13="LCIT",'full menu'!I13="FCIT",'full menu'!I13="LIT",'full menu'!I13="FIT"),"ITs",IF(OR('full menu'!I13="MwERT",'full menu'!I13="ERwMT",'full menu'!I13="M&ERT",'full menu'!I13="MwIT",'full menu'!I13="IwMT",'full menu'!I13="M&IT",'full menu'!I13="IwERT",'full menu'!I13="ERwIT",'full menu'!I13="I&ERT",'full menu'!I13="ER&M&IT"),"MixedTs",IF('full menu'!I13="UD","UD",IF('full menu'!I13="LSD","LSD",IF('full menu'!I13="WSD","WSD",""))))))))))) -> MixedTs | ... AY13: =IF('full menu'!AY13="MDC","MDC",IF('full menu'!AY13="X","X",IF('full menu'!AY13="UASC","UASC",IF(OR('full menu'!AY13="PERF",'full menu'!AY13="AERF",'full menu'!AY13="PCB"),"ERfix",IF(OR('full menu'!AY13="ACB",'full menu'!AY13="LCERT",'full menu'!AY13="LERT",'full menu'!AY13="FCERT",'full menu'!AY13="FERT"),"ERTs",IF(OR('full menu'!AY13="FCMT",'full menu'!AY13="FMT",'full menu'!AY13="LMT",'full menu'!AY13="LCMT"),"MTs",IF(OR('full menu'!AY13="LCIT",'full menu'!AY13="FCIT",'full menu'!AY13="LIT",'full menu'!AY13="FIT"),"ITs",IF(OR('full menu'!AY13="MwERT",'full menu'!AY13="ERwMT",'full menu'!AY13="M&ERT",'full menu'!AY13="MwIT",'full menu'!AY13="IwMT",'full menu'!AY13="M&IT",'full menu'!AY13="IwERT",'full menu'!AY13="ERwIT",'full menu'!AY13="I&ERT",'full menu'!AY13="ER&M&IT"),"MixedTs",IF('full menu'!AY13="UD","UD",IF('full menu'!AY13="LSD","LSD",IF('full menu'!AY13="WSD","WSD","")))))))))))
... A41: USA | B41: =IF('full menu'!B41="MDC","MDC",IF('full menu'!B41="X","X",IF('full menu'!B41="UASC","UASC",IF(OR('full menu'!B41="PERF",'full menu'!B41="AERF",'full menu'!B41="PCB"),"ERfix",IF(OR('full menu'!B41="ACB",'full menu'!B41="LCERT",'full menu'!B41="LERT",'full menu'!B41="FCERT",'full menu'!B41="FERT"),"ERTs",IF(OR('full menu'!B41="FCMT",'full menu'!B41="FMT",'full menu'!B41="LMT",'full menu'!B41="LCMT"),"MTs",IF(OR('full menu'!B41="LCIT",'full menu'!B41="FCIT",'full menu'!B41="LIT",'full menu'!B41="FIT"),"ITs",IF(OR('full menu'!B41="MwERT",'full menu'!B41="ERwMT",'full menu'!B41="M&ERT",'full menu'!B41="MwIT",'full menu'!B41="IwMT",'full menu'!B41="M&IT",'full menu'!B41="IwERT",'full menu'!B41="ERwIT",'full menu'!B41="I&ERT",'full menu'!B41="ER&M&IT"),"MixedTs",IF('full menu'!B41="UD","UD",IF('full menu'!B41="LSD","LSD",IF('full menu'!B41="WSD","WSD",""))))))))))) -> LSD | C41: =IF('full menu'!C41="MDC","MDC",IF('full menu'!C41="X","X",IF('full menu'!C41="UASC","UASC",IF(OR('full menu'!C41="PERF",'full menu'!C41="AERF",'full menu'!C41="PCB"),"ERfix",IF(OR('full menu'!C41="ACB",'full menu'!C41="LCERT",'full menu'!C41="LERT",'full menu'!C41="FCERT",'full menu'!C41="FERT"),"ERTs",IF(OR('full menu'!C41="FCMT",'full menu'!C41="FMT",'full menu'!C41="LMT",'full menu'!C41="LCMT"),"MTs",IF(OR('full menu'!C41="LCIT",'full menu'!C41="FCIT",'full menu'!C41="LIT",'full menu'!C41="FIT"),"ITs",IF(OR('full menu'!C41="MwERT",'full menu'!C41="ERwMT",'full menu'!C41="M&ERT",'full menu'!C41="MwIT",'full menu'!C41="IwMT",'full menu'!C41="M&IT",'full menu'!C41="IwERT",'full menu'!C41="ERwIT",'full menu'!C41="I&ERT",'full menu'!C41="ER&M&IT"),"MixedTs",IF('full menu'!C41="UD","UD",IF('full menu'!C41="LSD","LSD",IF('full menu'!C41="WSD","WSD",""))))))))))) -> MTs | D41: =IF('full menu'!D41="MDC","MDC",IF('full menu'!D41="X","X",IF('full menu'!D41="UASC","UASC",IF(OR('full menu'!D41="PERF",'full menu'!D41="AERF",'full menu'!D41="PCB"),"ERfix",IF(OR('full menu'!D41="ACB",'full menu'!D41="LCERT",'full menu'!D41="LERT",'full menu'!D41="FCERT",'full menu'!D41="FERT"),"ERTs",IF(OR('full menu'!D41="FCMT",'full menu'!D41="FMT",'full menu'!D41="LMT",'full menu'!D41="LCMT"),"MTs",IF(OR('full menu'!D41="LCIT",'full menu'!D41="FCIT",'full menu'!D41="LIT",'full menu'!D41="FIT"),"ITs",IF(OR('full menu'!D41="MwERT",'full menu'!D41="ERwMT",'full menu'!D41="M&ERT",'full menu'!D41="MwIT",'full menu'!D41="IwMT",'full menu'!D41="M&IT",'full menu'!D41="IwERT",'full menu'!D41="ERwIT",'full menu'!D41="I&ERT",'full menu'!D41="ER&M&IT"),"MixedTs",IF('full menu'!D41="UD","UD",IF('full menu'!D41="LSD","LSD",IF('full menu'!D41="WSD","WSD",""))))))))))) -> MTs | E41: =IF('full menu'!E41="MDC","MDC",IF('full menu'!E41="X","X",IF('full menu'!E41="UASC","UASC",IF(OR('full menu'!E41="PERF",'full menu'!E41="AERF",'full menu'!E41="PCB"),"ERfix",IF(OR('full menu'!E41="ACB",'full menu'!E41="LCERT",'full menu'!E41="LERT",'full menu'!E41="FCERT",'full menu'!E41="FERT"),"ERTs",IF(OR('full menu'!E41="FCMT",'full menu'!E41="FMT",'full menu'!E41="LMT",'full menu'!E41="LCMT"),"MTs",IF(OR('full menu'!E41="LCIT",'full menu'!E41="FCIT",'full menu'!E41="LIT",'full menu'!E41="FIT"),"ITs",IF(OR('full menu'!E41="MwERT",'full menu'!E41="ERwMT",'full menu'!E41="M&ERT",'full menu'!E41="MwIT",'full menu'!E41="IwMT",'full menu'!E41="M&IT",'full menu'!E41="IwERT",'full menu'!E41="ERwIT",'full menu'!E41="I&ERT",'full menu'!E41="ER&M&IT"),"MixedTs",IF('full menu'!E41="UD","UD",IF('full menu'!E41="LSD","LSD",IF('full menu'!E41="WSD","WSD",""))))))))))) -> MTs | F41: =IF('full menu'!F41="MDC","MDC",IF('full menu'!F41="X","X",IF('full menu'!F41="UASC","UASC",IF(OR('full menu'!F41="PERF",'full menu'!F41="AERF",'full menu'!F41="PCB"),"ERfix",IF(OR('full menu'!F41="ACB",'full menu'!F41="LCERT",'full menu'!F41="LERT",'full menu'!F41="FCERT",'full menu'!F41="FERT"),"ERTs",IF(OR('full menu'!F41="FCMT",'full menu'!F41="FMT",'full menu'!F41="LMT",'full menu'!F41="LCMT"),"MTs",IF(OR('full menu'!F41="LCIT",'full menu'!F41="FCIT",'full menu'!F41="LIT",'full menu'!F41="FIT"),"ITs",IF(OR('full menu'!F41="MwERT",'full menu'!F41="ERwMT",'full menu'!F41="M&ERT",'full menu'!F41="MwIT",'full menu'!F41="IwMT",'full menu'!F41="M&IT",'full menu'!F41="IwERT",'full menu'!F41="ERwIT",'full menu'!F41="I&ERT",'full menu'!F41="ER&M&IT"),"MixedTs",IF('full menu'!F41="UD","UD",IF('full menu'!F41="LSD","LSD",IF('full menu'!F41="WSD","WSD",""))))))))))) -> MTs | G41: =IF('full menu'!G41="MDC","MDC",IF('full menu'!G41="X","X",IF('full menu'!G41="UASC","UASC",IF(OR('full menu'!G41="PERF",'full menu'!G41="AERF",'full menu'!G41="PCB"),"ERfix",IF(OR('full menu'!G41="ACB",'full menu'!G41="LCERT",'full menu'!G41="LERT",'full menu'!G41="FCERT",'full menu'!G41="FERT"),"ERTs",IF(OR('full menu'!G41="FCMT",'full menu'!G41="FMT",'full menu'!G41="LMT",'full menu'!G41="LCMT"),"MTs",IF(OR('full menu'!G41="LCIT",'full menu'!G41="FCIT",'full menu'!G41="LIT",'full menu'!G41="FIT"),"ITs",IF(OR('full menu'!G41="MwERT",'full menu'!G41="ERwMT",'full menu'!G41="M&ERT",'full menu'!G41="MwIT",'full menu'!G41="IwMT",'full menu'!G41="M&IT",'full menu'!G41="IwERT",'full menu'!G41="ERwIT",'full menu'!G41="I&ERT",'full menu'!G41="ER&M&IT"),"MixedTs",IF('full menu'!G41="UD","UD",IF('full menu'!G41="LSD","LSD",IF('full menu'!G41="WSD","WSD",""))))))))))) -> MTs | H41: =IF('full menu'!H41="MDC","MDC",IF('full menu'!H41="X","X",IF('full menu'!H41="UASC","UASC",IF(OR('full menu'!H41="PERF",'full menu'!H41="AERF",'full menu'!H41="PCB"),"ERfix",IF(OR('full menu'!H41="ACB",'full menu'!H41="LCERT",'full menu'!H41="LERT",'full menu'!H41="FCERT",'full menu'!H41="FERT"),"ERTs",IF(OR('full menu'!H41="FCMT",'full menu'!H41="FMT",'full menu'!H41="LMT",'full menu'!H41="LCMT"),"MTs",IF(OR('full menu'!H41="LCIT",'full menu'!H41="FCIT",'full menu'!H41="LIT",'full menu'!H41="FIT"),"ITs",IF(OR('full menu'!H41="MwERT",'full menu'!H41="ERwMT",'full menu'!H41="M&ERT",'full menu'!H41="MwIT",'full menu'!H41="IwMT",'full menu'!H41="M&IT",'full menu'!H41="IwERT",'full menu'!H41="ERwIT",'full menu'!H41="I&ERT",'full menu'!H41="ER&M&IT"),"MixedTs",IF('full menu'!H41="UD","UD",IF('full menu'!H41="LSD","LSD",IF('full menu'!H41="WSD","WSD",""))))))))))) -> MTs | I41: =IF('full menu'!I41="MDC","MDC",IF('full menu'!I41="X","X",IF('full menu'!I41="UASC","UASC",IF(OR('full menu'!I41="PERF",'full menu'!I41="AERF",'full menu'!I41="PCB"),"ERfix",IF(OR('full menu'!I41="ACB",'full menu'!I41="LCERT",'full menu'!I41="LERT",'full menu'!I41="FCERT",'full menu'!I41="FERT"),"ERTs",IF(OR('full menu'!I41="FCMT",'full menu'!I41="FMT",'full menu'!I41="LMT",'full menu'!I41="LCMT"),"MTs",IF(OR('full menu'!I41="LCIT",'full menu'!I41="FCIT",'full menu'!I41="LIT",'full menu'!I41="FIT"),"ITs",IF(OR('full menu'!I41="MwERT",'full menu'!I41="ERwMT",'full menu'!I41="M&ERT",'full menu'!I41="MwIT",'full menu'!I41="IwMT",'full menu'!I41="M&IT",'full menu'!I41="IwERT",'full menu'!I41="ERwIT",'full menu'!I41="I&ERT",'full menu'!I41="ER&M&IT"),"MixedTs",IF('full menu'!I41="UD","UD",IF('full menu'!I41="LSD","LSD",IF('full menu'!I41="WSD","WSD",""))))))))))) -> MTs | ... AY41: =IF('full menu'!AY41="MDC","MDC",IF('full menu'!AY41="X","X",IF('full menu'!AY41="UASC","UASC",IF(OR('full menu'!AY41="PERF",'full menu'!AY41="AERF",'full menu'!AY41="PCB"),"ERfix",IF(OR('full menu'!AY41="ACB",'full menu'!AY41="LCERT",'full menu'!AY41="LERT",'full menu'!AY41="FCERT",'full menu'!AY41="FERT"),"ERTs",IF(OR('full menu'!AY41="FCMT",'full menu'!AY41="FMT",'full menu'!AY41="LMT",'full menu'!AY41="LCMT"),"MTs",IF(OR('full menu'!AY41="LCIT",'full menu'!AY41="FCIT",'full menu'!AY41="LIT",'full menu'!AY41="FIT"),"ITs",IF(OR('full menu'!AY41="MwERT",'full menu'!AY41="ERwMT",'full menu'!AY41="M&ERT",'full menu'!AY41="MwIT",'full menu'!AY41="IwMT",'full menu'!AY41="M&IT",'full menu'!AY41="IwERT",'full menu'!AY41="ERwIT",'full menu'!AY41="I&ERT",'full menu'!AY41="ER&M&IT"),"MixedTs",IF('full menu'!AY41="UD","UD",IF('full menu'!AY41="LSD","LSD",IF('full menu'!AY41="WSD","WSD",""))))))))))) -> ITs
B46: 1974 | C46: 1975 | D46: 1976 | E46: 1977 | F46: 1978 | G46: 1979 | H46: 1980 | I46: 1981 | J46: 1982 | K46: 1983 | L46: 1984 | M46: 1985 | N46: 1986 | O46: 1987 | P46: 1988 | Q46: 1989 | R46: 1990 | S46: 1991 | T46: 1992 | U46: 1993 | V46: 1994 | W46: 1995 | X46: 1996 | Y46: 1997 | Z46: 1998 | AA46: 1999 | AB46: 2000 | AC46: 2001 | AD46: 2002 | AE46: 2003 | AF46: 2004 | AG46: 2005 | AH46: 2006 | AI46: 2007 | AJ46: 2008 | AK46: 2009 | AL46: 2010 | AM46: 2011 | AN46: 2012 | AO46: 2013 | AP46: 2014 | AQ46: 2015 | AR46: 2016 | AS46: 2017 | AT46: 2018 | AU46: 2019 | AV46: 2020 | AW46: 2021 | AX46: 2022 | AY46: 2023
A47: X or blank | B47: =COUNTIF(B2:B41,"X")+COUNTIF(B2:B41,"") -> 2 | C47: =COUNTIF(C2:C41,"X")+COUNTIF(C2:C41,"") -> 2 | D47: =COUNTIF(D2:D41,"X")+COUNTIF(D2:D41,"") -> 2 | E47: =COUNTIF(E2:E41,"X")+COUNTIF(E2:E41,"") -> 2 | F47: =COUNTIF(F2:F41,"X")+COUNTIF(F2:F41,"") -> 2 | G47: =COUNTIF(G2:G41,"X")+COUNTIF(G2:G41,"") -> 2 | H47: =COUNTIF(H2:H41,"X")+COUNTIF(H2:H41,"") -> 2 | I47: =COUNTIF(I2:I41,"X")+COUNTIF(I2:I41,"") -> 2 | ... AY47: =COUNTIF(AY2:AY41,"X")+COUNTIF(AY2:AY41,"") -> 15
A48: MDC | B48: =COUNTIF(B2:B41,"MDC") -> 0 | C48: =COUNTIF(C2:C41,"MDC") -> 0 | D48: =COUNTIF(D2:D41,"MDC") -> 0 | E48: =COUNTIF(E2:E41,"MDC") -> 0 | F48: =COUNTIF(F2:F41,"MDC") -> 0 | G48: =COUNTIF(G2:G41,"MDC") -> 0 | H48: =COUNTIF(H2:H41,"MDC") -> 0 | I48: =COUNTIF(I2:I41,"MDC") -> 0 | ... AY48: =COUNTIF(AY2:AY41,"MDC") -> 0
A49: ERFix | B49: =COUNTIF(B2:B41,"ERFix") -> 10 | C49: =COUNTIF(C2:C41,"ERFix") -> 11 | D49: =COUNTIF(D2:D41,"ERFix") -> 11 | E49: =COUNTIF(E2:E41,"ERFix") -> 10 | F49: =COUNTIF(F2:F41,"ERFix") -> 10 | G49: =COUNTIF(G2:G41,"ERFix") -> 7 | H49: =COUNTIF(H2:H41,"ERFix") -> 7 | I49: =COUNTIF(I2:I41,"ERFix") -> 7 | ... AY49: =COUNTIF(AY2:AY41,"ERFix") -> 2
A50: ERTs | B50: =COUNTIF(B2:B41,"ERTs") -> 12 | C50: =COUNTIF(C2:C41,"ERTs") -> 10 | D50: =COUNTIF(D2:D41,"ERTs") -> 11 | E50: =COUNTIF(E2:E41,"ERTs") -> 11 | F50: =COUNTIF(F2:F41,"ERTs") -> 12 | G50: =COUNTIF(G2:G41,"ERTs") -> 13 | H50: =COUNTIF(H2:H41,"ERTs") -> 13 | I50: =COUNTIF(I2:I41,"ERTs") -> 12 | ... AY50: =COUNTIF(AY2:AY41,"ERTs") -> 8
A51: MTs | B51: =COUNTIF(B2:B41,"MTs") -> 1 | C51: =COUNTIF(C2:C41,"MTs") -> 3 | D51: =COUNTIF(D2:D41,"MTs") -> 4 | E51: =COUNTIF(E2:E41,"MTs") -> 5 | F51: =COUNTIF(F2:F41,"MTs") -> 4 | G51: =COUNTIF(G2:G41,"MTs") -> 5 | H51: =COUNTIF(H2:H41,"MTs") -> 5 | I51: =COUNTIF(I2:I41,"MTs") -> 4 | ... AY51: =COUNTIF(AY2:AY41,"MTs") -> 0
A52: ITs | B52: =COUNTIF(B2:B41,"ITs") -> 0 | C52: =COUNTIF(C2:C41,"ITs") -> 0 | D52: =COUNTIF(D2:D41,"ITs") -> 0 | E52: =COUNTIF(E2:E41,"ITs") -> 0 | F52: =COUNTIF(F2:F41,"ITs") -> 0 | G52: =COUNTIF(G2:G41,"ITs") -> 0 | H52: =COUNTIF(H2:H41,"ITs") -> 0 | I52: =COUNTIF(I2:I41,"ITs") -> 0 | ... AY52: =COUNTIF(AY2:AY41,"ITs") -> 13
A53: MixedTs | B53: =COUNTIF(B2:B41,"MixedTs") -> 0 | C53: =COUNTIF(C2:C41,"MixedTs") -> 1 | D53: =COUNTIF(D2:D41,"MixedTs") -> 1 | E53: =COUNTIF(E2:E41,"MixedTs") -> 2 | F53: =COUNTIF(F2:F41,"MixedTs") -> 2 | G53: =COUNTIF(G2:G41,"MixedTs") -> 3 | H53: =COUNTIF(H2:H41,"MixedTs") -> 3 | I53: =COUNTIF(I2:I41,"MixedTs") -> 3 | ... AY53: =COUNTIF(AY2:AY41,"MixedTs") -> 0
A54: UD | B54: =COUNTIF(B2:B41,"UD") -> 6 | C54: =COUNTIF(C2:C41,"UD") -> 7 | D54: =COUNTIF(D2:D41,"UD") -> 7 | E54: =COUNTIF(E2:E41,"UD") -> 7 | F54: =COUNTIF(F2:F41,"UD") -> 6 | G54: =COUNTIF(G2:G41,"UD") -> 5 | H54: =COUNTIF(H2:H41,"UD") -> 5 | I54: =COUNTIF(I2:I41,"UD") -> 5 | ... AY54: =COUNTIF(AY2:AY41,"UD") -> 0
A55: LSD | B55: =COUNTIF(B2:B41,"LSD") -> 8 | C55: =COUNTIF(C2:C41,"LSD") -> 5 | D55: =COUNTIF(D2:D41,"LSD") -> 3 | E55: =COUNTIF(E2:E41,"LSD") -> 2 | F55: =COUNTIF(F2:F41,"LSD") -> 3 | G55: =COUNTIF(G2:G41,"LSD") -> 4 | H55: =COUNTIF(H2:H41,"LSD") -> 4 | I55: =COUNTIF(I2:I41,"LSD") -> 6 | ... AY55: =COUNTIF(AY2:AY41,"LSD") -> 2
A56: WSD | B56: =COUNTIF(B2:B41,"WSD") -> 0 | C56: =COUNTIF(C2:C41,"WSD") -> 0 | D56: =COUNTIF(D2:D41,"WSD") -> 0 | E56: =COUNTIF(E2:E41,"WSD") -> 0 | F56: =COUNTIF(F2:F41,"WSD") -> 0 | G56: =COUNTIF(G2:G41,"WSD") -> 0 | H56: =COUNTIF(H2:H41,"WSD") -> 0 | I56: =COUNTIF(I2:I41,"WSD") -> 0 | ... AY56: =COUNTIF(AY2:AY41,"WSD") -> 0
A57: UASC | B57: =COUNTIF(B2:B41,"UASC") -> 1 | C57: =COUNTIF(C2:C41,"UASC") -> 1 | D57: =COUNTIF(D2:D41,"UASC") -> 1 | E57: =COUNTIF(E2:E41,"UASC") -> 1 | F57: =COUNTIF(F2:F41,"UASC") -> 1 | G57: =COUNTIF(G2:G41,"UASC") -> 1 | H57: =COUNTIF(H2:H41,"UASC") -> 1 | I57: =COUNTIF(I2:I41,"UASC") -> 1 | ... AY57: =COUNTIF(AY2:AY41,"UASC") -> 0
B59: =SUM(B47:B57) -> 40 | C59: =SUM(C47:C57) -> 40 | D59: =SUM(D47:D57) -> 40 | E59: =SUM(E47:E57) -> 40 | F59: =SUM(F47:F57) -> 40 | G59: =SUM(G47:G57) -> 40 | H59: =SUM(H47:H57) -> 40 | I59: =SUM(I47:I57) -> 40 | ... AY59: =SUM(AY47:AY57) -> 40

Sheet docvar
A1: country | B1: 1974 | C1: 1975 | D1: 1976 | E1: 1977 | F1: 1978 | G1: 1979 | H1: 1980 | I1: 1981 | J1: 1982 | K1: 1983 | L1: 1984 | M1: 1985 | N1: 1986 | O1: 1987 | P1: 1988 | Q1: 1989 | R1: 1990 | S1: 1991 | T1: 1992 | U1: 1993 | V1: 1994 | W1: 1995 | X1: 1996 | Y1: 1997 | Z1: 1998 | AA1: 1999 | AB1: 2000 | AC1: 2001 | AD1: 2002 | AE1: 2003 | AF1: 2004 | AG1: 2005 | AH1: 2006 | AI1: 2007 | AJ1: 2008 | AK1: 2009 | AL1: 2010 | AM1: 2011 | AN1: 2012 | AO1: 2013 | AP1: 2014 | AQ1: 2015 | AR1: 2016 | AS1: 2017 | AT1: 2018 | AU1: 2019 | AV1: 2020 | AW1: 2021 | AX1: 2022 | AY1: 2023
A2: Australia | B2: =IF(OR('full menu'!B2="MDC",'full menu'!B2="PERF"),"rude",IF(OR('full menu'!B2="PCB",'full menu'!B2="AERF",'full menu'!B2="UD"),"inter",IF(OR('full menu'!B2="ACB",'full menu'!B2="LCERT",'full menu'!B2="LERT",'full menu'!B2="FCERT",'full menu'!B2="FCMT",'full menu'!B2="LCMT",'full menu'!B2="LMT",'full menu'!B2="LCIT",'full menu'!B2="FCIT",'full menu'!B2="LIT",'full menu'!B2="MwERT",'full menu'!B2="ERwMT",'full menu'!B2="M&ERT",'full menu'!B2="MwIT",'full menu'!B2="IwMT",'full menu'!B2="M&IT",'full menu'!B2="IwERT",'full menu'!B2="ERwIT",'full menu'!B2="I&ERT",'full menu'!B2="ER&M&IT",'full menu'!B2="LSD"),"subst",IF(OR('full menu'!B2="FERT",'full menu'!B2="FMT",'full menu'!B2="FIT",'full menu'!B2="WSD"),"intens",IF('full menu'!B2="UASC","UASC",""))))) -> inter | C2: =IF(OR('full menu'!C2="MDC",'full menu'!C2="PERF"),"rude",IF(OR('full menu'!C2="PCB",'full menu'!C2="AERF",'full menu'!C2="UD"),"inter",IF(OR('full menu'!C2="ACB",'full menu'!C2="LCERT",'full menu'!C2="LERT",'full menu'!C2="FCERT",'full menu'!C2="FCMT",'full menu'!C2="LCMT",'full menu'!C2="LMT",'full menu'!C2="LCIT",'full menu'!C2="FCIT",'full menu'!C2="LIT",'full menu'!C2="MwERT",'full menu'!C2="ERwMT",'full menu'!C2="M&ERT",'full menu'!C2="MwIT",'full menu'!C2="IwMT",'full menu'!C2="M&IT",'full menu'!C2="IwERT",'full menu'!C2="ERwIT",'full menu'!C2="I&ERT",'full menu'!C2="ER&M&IT",'full menu'!C2="LSD"),"subst",IF(OR('full menu'!C2="FERT",'full menu'!C2="FMT",'full menu'!C2="FIT",'full menu'!C2="WSD"),"intens",IF('full menu'!C2="UASC","UASC",""))))) -> inter | D2: =IF(OR('full menu'!D2="MDC",'full menu'!D2="PERF"),"rude",IF(OR('full menu'!D2="PCB",'full menu'!D2="AERF",'full menu'!D2="UD"),"inter",IF(OR('full menu'!D2="ACB",'full menu'!D2="LCERT",'full menu'!D2="LERT",'full menu'!D2="FCERT",'full menu'!D2="FCMT",'full menu'!D2="LCMT",'full menu'!D2="LMT",'full menu'!D2="LCIT",'full menu'!D2="FCIT",'full menu'!D2="LIT",'full menu'!D2="MwERT",'full menu'!D2="ERwMT",'full menu'!D2="M&ERT",'full menu'!D2="MwIT",'full menu'!D2="IwMT",'full menu'!D2="M&IT",'full menu'!D2="IwERT",'full menu'!D2="ERwIT",'full menu'!D2="I&ERT",'full menu'!D2="ER&M&IT",'full menu'!D2="LSD"),"subst",IF(OR('full menu'!D2="FERT",'full menu'!D2="FMT",'full menu'!D2="FIT",'full menu'!D2="WSD"),"intens",IF('full menu'!D2="UASC","UASC",""))))) -> inter | E2: =IF(OR('full menu'!E2="MDC",'full menu'!E2="PERF"),"rude",IF(OR('full menu'!E2="PCB",'full menu'!E2="AERF",'full menu'!E2="UD"),"inter",IF(OR('full menu'!E2="ACB",'full menu'!E2="LCERT",'full menu'!E2="LERT",'full menu'!E2="FCERT",'full menu'!E2="FCMT",'full menu'!E2="LCMT",'full menu'!E2="LMT",'full menu'!E2="LCIT",'full menu'!E2="FCIT",'full menu'!E2="LIT",'full menu'!E2="MwERT",'full menu'!E2="ERwMT",'full menu'!E2="M&ERT",'full menu'!E2="MwIT",'full menu'!E2="IwMT",'full menu'!E2="M&IT",'full menu'!E2="IwERT",'full menu'!E2="ERwIT",'full menu'!E2="I&ERT",'full menu'!E2="ER&M&IT",'full menu'!E2="LSD"),"subst",IF(OR('full menu'!E2="FERT",'full menu'!E2="FMT",'full menu'!E2="FIT",'full menu'!E2="WSD"),"intens",IF('full menu'!E2="UASC","UASC",""))))) -> subst | F2: =IF(OR('full menu'!F2="MDC",'full menu'!F2="PERF"),"rude",IF(OR('full menu'!F2="PCB",'full menu'!F2="AERF",'full menu'!F2="UD"),"inter",IF(OR('full menu'!F2="ACB",'full menu'!F2="LCERT",'full menu'!F2="LERT",'full menu'!F2="FCERT",'full menu'!F2="FCMT",'full menu'!F2="LCMT",'full menu'!F2="LMT",'full menu'!F2="LCIT",'full menu'!F2="FCIT",'full menu'!F2="LIT",'full menu'!F2="MwERT",'full menu'!F2="ERwMT",'full menu'!F2="M&ERT",'full menu'!F2="MwIT",'full menu'!F2="IwMT",'full menu'!F2="M&IT",'full menu'!F2="IwERT",'full menu'!F2="ERwIT",'full menu'!F2="I&ERT",'full menu'!F2="ER&M&IT",'full menu'!F2="LSD"),"subst",IF(OR('full menu'!F2="FERT",'full menu'!F2="FMT",'full menu'!F2="FIT",'full menu'!F2="WSD"),"intens",IF('full menu'!F2="UASC","UASC",""))))) -> subst | G2: =IF(OR('full menu'!G2="MDC",'full menu'!G2="PERF"),"rude",IF(OR('full menu'!G2="PCB",'full menu'!G2="AERF",'full menu'!G2="UD"),"inter",IF(OR('full menu'!G2="ACB",'full menu'!G2="LCERT",'full menu'!G2="LERT",'full menu'!G2="FCERT",'full menu'!G2="FCMT",'full menu'!G2="LCMT",'full menu'!G2="LMT",'full menu'!G2="LCIT",'full menu'!G2="FCIT",'full menu'!G2="LIT",'full menu'!G2="MwERT",'full menu'!G2="ERwMT",'full menu'!G2="M&ERT",'full menu'!G2="MwIT",'full menu'!G2="IwMT",'full menu'!G2="M&IT",'full menu'!G2="IwERT",'full menu'!G2="ERwIT",'full menu'!G2="I&ERT",'full menu'!G2="ER&M&IT",'full menu'!G2="LSD"),"subst",IF(OR('full menu'!G2="FERT",'full menu'!G2="FMT",'full menu'!G2="FIT",'full menu'!G2="WSD"),"intens",IF('full menu'!G2="UASC","UASC",""))))) -> subst | H2: =IF(OR('full menu'!H2="MDC",'full menu'!H2="PERF"),"rude",IF(OR('full menu'!H2="PCB",'full menu'!H2="AERF",'full menu'!H2="UD"),"inter",IF(OR('full menu'!H2="ACB",'full menu'!H2="LCERT",'full menu'!H2="LERT",'full menu'!H2="FCERT",'full menu'!H2="FCMT",'full menu'!H2="LCMT",'full menu'!H2="LMT",'full menu'!H2="LCIT",'full menu'!H2="FCIT",'full menu'!H2="LIT",'full menu'!H2="MwERT",'full menu'!H2="ERwMT",'full menu'!H2="M&ERT",'full menu'!H2="MwIT",'full menu'!H2="IwMT",'full menu'!H2="M&IT",'full menu'!H2="IwERT",'full menu'!H2="ERwIT",'full menu'!H2="I&ERT",'full menu'!H2="ER&M&IT",'full menu'!H2="LSD"),"subst",IF(OR('full menu'!H2="FERT",'full menu'!H2="FMT",'full menu'!H2="FIT",'full menu'!H2="WSD"),"intens",IF('full menu'!H2="UASC","UASC",""))))) -> subst | I2: =IF(OR('full menu'!I2="MDC",'full menu'!I2="PERF"),"rude",IF(OR('full menu'!I2="PCB",'full menu'!I2="AERF",'full menu'!I2="UD"),"inter",IF(OR('full menu'!I2="ACB",'full menu'!I2="LCERT",'full menu'!I2="LERT",'full menu'!I2="FCERT",'full menu'!I2="FCMT",'full menu'!I2="LCMT",'full menu'!I2="LMT",'full menu'!I2="LCIT",'full menu'!I2="FCIT",'full menu'!I2="LIT",'full menu'!I2="MwERT",'full menu'!I2="ERwMT",'full menu'!I2="M&ERT",'full menu'!I2="MwIT",'full menu'!I2="IwMT",'full menu'!I2="M&IT",'full menu'!I2="IwERT",'full menu'!I2="ERwIT",'full menu'!I2="I&ERT",'full menu'!I2="ER&M&IT",'full menu'!I2="LSD"),"subst",IF(OR('full menu'!I2="FERT",'full menu'!I2="FMT",'full menu'!I2="FIT",'full menu'!I2="WSD"),"intens",IF('full menu'!I2="UASC","UASC",""))))) -> subst | ... AY2: =IF(OR('full menu'!AY2="MDC",'full menu'!AY2="PERF"),"rude",IF(OR('full menu'!AY2="PCB",'full menu'!AY2="AERF",'full menu'!AY2="UD"),"inter",IF(OR('full menu'!AY2="ACB",'full menu'!AY2="LCERT",'full menu'!AY2="LERT",'full menu'!AY2="FCERT",'full menu'!AY2="FCMT",'full menu'!AY2="LCMT",'full menu'!AY2="LMT",'full menu'!AY2="LCIT",'full menu'!AY2="FCIT",'full menu'!AY2="LIT",'full menu'!AY2="MwERT",'full menu'!AY2="ERwMT",'full menu'!AY2="M&ERT",'full menu'!AY2="MwIT",'full menu'!AY2="IwMT",'full menu'!AY2="M&IT",'full menu'!AY2="IwERT",'full menu'!AY2="ERwIT",'full menu'!AY2="I&ERT",'full menu'!AY2="ER&M&IT",'full menu'!AY2="LSD"),"subst",IF(OR('full menu'!AY2="FERT",'full menu'!AY2="FMT",'full menu'!AY2="FIT",'full menu'!AY2="WSD"),"intens",IF('full menu'!AY2="UASC","UASC",""))))) -> intens
A3: Austria | B3: =IF(OR('full menu'!B3="MDC",'full menu'!B3="PERF"),"rude",IF(OR('full menu'!B3="PCB",'full menu'!B3="AERF",'full menu'!B3="UD"),"inter",IF(OR('full menu'!B3="ACB",'full menu'!B3="LCERT",'full menu'!B3="LERT",'full menu'!B3="FCERT",'full menu'!B3="FCMT",'full menu'!B3="LCMT",'full menu'!B3="LMT",'full menu'!B3="LCIT",'full menu'!B3="FCIT",'full menu'!B3="LIT",'full menu'!B3="MwERT",'full menu'!B3="ERwMT",'full menu'!B3="M&ERT",'full menu'!B3="MwIT",'full menu'!B3="IwMT",'full menu'!B3="M&IT",'full menu'!B3="IwERT",'full menu'!B3="ERwIT",'full menu'!B3="I&ERT",'full menu'!B3="ER&M&IT",'full menu'!B3="LSD"),"subst",IF(OR('full menu'!B3="FERT",'full menu'!B3="FMT",'full menu'!B3="FIT",'full menu'!B3="WSD"),"intens",IF('full menu'!B3="UASC","UASC",""))))) -> subst | C3: =IF(OR('full menu'!C3="MDC",'full menu'!C3="PERF"),"rude",IF(OR('full menu'!C3="PCB",'full menu'!C3="AERF",'full menu'!C3="UD"),"inter",IF(OR('full menu'!C3="ACB",'full menu'!C3="LCERT",'full menu'!C3="LERT",'full menu'!C3="FCERT",'full menu'!C3="FCMT",'full menu'!C3="LCMT",'full menu'!C3="LMT",'full menu'!C3="LCIT",'full menu'!C3="FCIT",'full menu'!C3="LIT",'full menu'!C3="MwERT",'full menu'!C3="ERwMT",'full menu'!C3="M&ERT",'full menu'!C3="MwIT",'full menu'!C3="IwMT",'full menu'!C3="M&IT",'full menu'!C3="IwERT",'full menu'!C3="ERwIT",'full menu'!C3="I&ERT",'full menu'!C3="ER&M&IT",'full menu'!C3="LSD"),"subst",IF(OR('full menu'!C3="FERT",'full menu'!C3="FMT",'full menu'!C3="FIT",'full menu'!C3="WSD"),"intens",IF('full menu'!C3="UASC","UASC",""))))) -> subst | D3: =IF(OR('full menu'!D3="MDC",'full menu'!D3="PERF"),"rude",IF(OR('full menu'!D3="PCB",'full menu'!D3="AERF",'full menu'!D3="UD"),"inter",IF(OR('full menu'!D3="ACB",'full menu'!D3="LCERT",'full menu'!D3="LERT",'full menu'!D3="FCERT",'full menu'!D3="FCMT",'full menu'!D3="LCMT",'full menu'!D3="LMT",'full menu'!D3="LCIT",'full menu'!D3="FCIT",'full menu'!D3="LIT",'full menu'!D3="MwERT",'full menu'!D3="ERwMT",'full menu'!D3="M&ERT",'full menu'!D3="MwIT",'full menu'!D3="IwMT",'full menu'!D3="M&IT",'full menu'!D3="IwERT",'full menu'!D3="ERwIT",'full menu'!D3="I&ERT",'full menu'!D3="ER&M&IT",'full menu'!D3="LSD"),"subst",IF(OR('full menu'!D3="FERT",'full menu'!D3="FMT",'full menu'!D3="FIT",'full menu'!D3="WSD"),"intens",IF('full menu'!D3="UASC","UASC",""))))) -> subst | E3: =IF(OR('full menu'!E3="MDC",'full menu'!E3="PERF"),"rude",IF(OR('full menu'!E3="PCB",'full menu'!E3="AERF",'full menu'!E3="UD"),"inter",IF(OR('full menu'!E3="ACB",'full menu'!E3="LCERT",'full menu'!E3="LERT",'full menu'!E3="FCERT",'full menu'!E3="FCMT",'full menu'!E3="LCMT",'full menu'!E3="LMT",'full menu'!E3="LCIT",'full menu'!E3="FCIT",'full menu'!E3="LIT",'full menu'!E3="MwERT",'full menu'!E3="ERwMT",'full menu'!E3="M&ERT",'full menu'!E3="MwIT",'full menu'!E3="IwMT",'full menu'!E3="M&IT",'full menu'!E3="IwERT",'full menu'!E3="ERwIT",'full menu'!E3="I&ERT",'full menu'!E3="ER&M&IT",'full menu'!E3="LSD"),"subst",IF(OR('full menu'!E3="FERT",'full menu'!E3="FMT",'full menu'!E3="FIT",'full menu'!E3="WSD"),"intens",IF('full menu'!E3="UASC","UASC",""))))) -> subst | F3: =IF(OR('full menu'!F3="MDC",'full menu'!F3="PERF"),"rude",IF(OR('full menu'!F3="PCB",'full menu'!F3="AERF",'full menu'!F3="UD"),"inter",IF(OR('full menu'!F3="ACB",'full menu'!F3="LCERT",'full menu'!F3="LERT",'full menu'!F3="FCERT",'full menu'!F3="FCMT",'full menu'!F3="LCMT",'full menu'!F3="LMT",'full menu'!F3="LCIT",'full menu'!F3="FCIT",'full menu'!F3="LIT",'full menu'!F3="MwERT",'full menu'!F3="ERwMT",'full menu'!F3="M&ERT",'full menu'!F3="MwIT",'full menu'!F3="IwMT",'full menu'!F3="M&IT",'full menu'!F3="IwERT",'full menu'!F3="ERwIT",'full menu'!F3="I&ERT",'full menu'!F3="ER&M&IT",'full menu'!F3="LSD"),"subst",IF(OR('full menu'!F3="FERT",'full menu'!F3="FMT",'full menu'!F3="FIT",'full menu'!F3="WSD"),"intens",IF('full menu'!F3="UASC","UASC",""))))) -> subst | G3: =IF(OR('full menu'!G3="MDC",'full menu'!G3="PERF"),"rude",IF(OR('full menu'!G3="PCB",'full menu'!G3="AERF",'full menu'!G3="UD"),"inter",IF(OR('full menu'!G3="ACB",'full menu'!G3="LCERT",'full menu'!G3="LERT",'full menu'!G3="FCERT",'full menu'!G3="FCMT",'full menu'!G3="LCMT",'full menu'!G3="LMT",'full menu'!G3="LCIT",'full menu'!G3="FCIT",'full menu'!G3="LIT",'full menu'!G3="MwERT",'full menu'!G3="ERwMT",'full menu'!G3="M&ERT",'full menu'!G3="MwIT",'full menu'!G3="IwMT",'full menu'!G3="M&IT",'full menu'!G3="IwERT",'full menu'!G3="ERwIT",'full menu'!G3="I&ERT",'full menu'!G3="ER&M&IT",'full menu'!G3="LSD"),"subst",IF(OR('full menu'!G3="FERT",'full menu'!G3="FMT",'full menu'!G3="FIT",'full menu'!G3="WSD"),"intens",IF('full menu'!G3="UASC","UASC",""))))) -> subst | H3: =IF(OR('full menu'!H3="MDC",'full menu'!H3="PERF"),"rude",IF(OR('full menu'!H3="PCB",'full menu'!H3="AERF",'full menu'!H3="UD"),"inter",IF(OR('full menu'!H3="ACB",'full menu'!H3="LCERT",'full menu'!H3="LERT",'full menu'!H3="FCERT",'full menu'!H3="FCMT",'full menu'!H3="LCMT",'full menu'!H3="LMT",'full menu'!H3="LCIT",'full menu'!H3="FCIT",'full menu'!H3="LIT",'full menu'!H3="MwERT",'full menu'!H3="ERwMT",'full menu'!H3="M&ERT",'full menu'!H3="MwIT",'full menu'!H3="IwMT",'full menu'!H3="M&IT",'full menu'!H3="IwERT",'full menu'!H3="ERwIT",'full menu'!H3="I&ERT",'full menu'!H3="ER&M&IT",'full menu'!H3="LSD"),"subst",IF(OR('full menu'!H3="FERT",'full menu'!H3="FMT",'full menu'!H3="FIT",'full menu'!H3="WSD"),"intens",IF('full menu'!H3="UASC","UASC",""))))) -> intens | I3: =IF(OR('full menu'!I3="MDC",'full menu'!I3="PERF"),"rude",IF(OR('full menu'!I3="PCB",'full menu'!I3="AERF",'full menu'!I3="UD"),"inter",IF(OR('full menu'!I3="ACB",'full menu'!I3="LCERT",'full menu'!I3="LERT",'full menu'!I3="FCERT",'full menu'!I3="FCMT",'full menu'!I3="LCMT",'full menu'!I3="LMT",'full menu'!I3="LCIT",'full menu'!I3="FCIT",'full menu'!I3="LIT",'full menu'!I3="MwERT",'full menu'!I3="ERwMT",'full menu'!I3="M&ERT",'full menu'!I3="MwIT",'full menu'!I3="IwMT",'full menu'!I3="M&IT",'full menu'!I3="IwERT",'full menu'!I3="ERwIT",'full menu'!I3="I&ERT",'full menu'!I3="ER&M&IT",'full menu'!I3="LSD"),"subst",IF(OR('full menu'!I3="FERT",'full menu'!I3="FMT",'full menu'!I3="FIT",'full menu'!I3="WSD"),"intens",IF('full menu'!I3="UASC","UASC",""))))) -> intens | ... AY3: =IF(OR('full menu'!AY3="MDC",'full menu'!AY3="PERF"),"rude",IF(OR('full menu'!AY3="PCB",'full menu'!AY3="AERF",'full menu'!AY3="UD"),"inter",IF(OR('full menu'!AY3="ACB",'full menu'!AY3="LCERT",'full menu'!AY3="LERT",'full menu'!AY3="FCERT",'full menu'!AY3="FCMT",'full menu'!AY3="LCMT",'full menu'!AY3="LMT",'full menu'!AY3="LCIT",'full menu'!AY3="FCIT",'full menu'!AY3="LIT",'full menu'!AY3="MwERT",'full menu'!AY3="ERwMT",'full menu'!AY3="M&ERT",'full menu'!AY3="MwIT",'full menu'!AY3="IwMT",'full menu'!AY3="M&IT",'full menu'!AY3="IwERT",'full menu'!AY3="ERwIT",'full menu'!AY3="I&ERT",'full menu'!AY3="ER&M&IT",'full menu'!AY3="LSD"),"subst",IF(OR('full menu'!AY3="FERT",'full menu'!AY3="FMT",'full menu'!AY3="FIT",'full menu'!AY3="WSD"),"intens",IF('full menu'!AY3="UASC","UASC","")))))
A4: Bahamas | B4: =IF(OR('full menu'!B4="MDC",'full menu'!B4="PERF"),"rude",IF(OR('full menu'!B4="PCB",'full menu'!B4="AERF",'full menu'!B4="UD"),"inter",IF(OR('full menu'!B4="ACB",'full menu'!B4="LCERT",'full menu'!B4="LERT",'full menu'!B4="FCERT",'full menu'!B4="FCMT",'full menu'!B4="LCMT",'full menu'!B4="LMT",'full menu'!B4="LCIT",'full menu'!B4="FCIT",'full menu'!B4="LIT",'full menu'!B4="MwERT",'full menu'!B4="ERwMT",'full menu'!B4="M&ERT",'full menu'!B4="MwIT",'full menu'!B4="IwMT",'full menu'!B4="M&IT",'full menu'!B4="IwERT",'full menu'!B4="ERwIT",'full menu'!B4="I&ERT",'full menu'!B4="ER&M&IT",'full menu'!B4="LSD"),"subst",IF(OR('full menu'!B4="FERT",'full menu'!B4="FMT",'full menu'!B4="FIT",'full menu'!B4="WSD"),"intens",IF('full menu'!B4="UASC","UASC",""))))) -> inter | C4: =IF(OR('full menu'!C4="MDC",'full menu'!C4="PERF"),"rude",IF(OR('full menu'!C4="PCB",'full menu'!C4="AERF",'full menu'!C4="UD"),"inter",IF(OR('full menu'!C4="ACB",'full menu'!C4="LCERT",'full menu'!C4="LERT",'full menu'!C4="FCERT",'full menu'!C4="FCMT",'full menu'!C4="LCMT",'full menu'!C4="LMT",'full menu'!C4="LCIT",'full menu'!C4="FCIT",'full menu'!C4="LIT",'full menu'!C4="MwERT",'full menu'!C4="ERwMT",'full menu'!C4="M&ERT",'full menu'!C4="MwIT",'full menu'!C4="IwMT",'full menu'!C4="M&IT",'full menu'!C4="IwERT",'full menu'!C4="ERwIT",'full menu'!C4="I&ERT",'full menu'!C4="ER&M&IT",'full menu'!C4="LSD"),"subst",IF(OR('full menu'!C4="FERT",'full menu'!C4="FMT",'full menu'!C4="FIT",'full menu'!C4="WSD"),"intens",IF('full menu'!C4="UASC","UASC",""))))) -> inter | D4: =IF(OR('full menu'!D4="MDC",'full menu'!D4="PERF"),"rude",IF(OR('full menu'!D4="PCB",'full menu'!D4="AERF",'full menu'!D4="UD"),"inter",IF(OR('full menu'!D4="ACB",'full menu'!D4="LCERT",'full menu'!D4="LERT",'full menu'!D4="FCERT",'full menu'!D4="FCMT",'full menu'!D4="LCMT",'full menu'!D4="LMT",'full menu'!D4="LCIT",'full menu'!D4="FCIT",'full menu'!D4="LIT",'full menu'!D4="MwERT",'full menu'!D4="ERwMT",'full menu'!D4="M&ERT",'full menu'!D4="MwIT",'full menu'!D4="IwMT",'full menu'!D4="M&IT",'full menu'!D4="IwERT",'full menu'!D4="ERwIT",'full menu'!D4="I&ERT",'full menu'!D4="ER&M&IT",'full menu'!D4="LSD"),"subst",IF(OR('full menu'!D4="FERT",'full menu'!D4="FMT",'full menu'!D4="FIT",'full menu'!D4="WSD"),"intens",IF('full menu'!D4="UASC","UASC",""))))) -> inter | E4: =IF(OR('full menu'!E4="MDC",'full menu'!E4="PERF"),"rude",IF(OR('full menu'!E4="PCB",'full menu'!E4="AERF",'full menu'!E4="UD"),"inter",IF(OR('full menu'!E4="ACB",'full menu'!E4="LCERT",'full menu'!E4="LERT",'full menu'!E4="FCERT",'full menu'!E4="FCMT",'full menu'!E4="LCMT",'full menu'!E4="LMT",'full menu'!E4="LCIT",'full menu'!E4="FCIT",'full menu'!E4="LIT",'full menu'!E4="MwERT",'full menu'!E4="ERwMT",'full menu'!E4="M&ERT",'full menu'!E4="MwIT",'full menu'!E4="IwMT",'full menu'!E4="M&IT",'full menu'!E4="IwERT",'full menu'!E4="ERwIT",'full menu'!E4="I&ERT",'full menu'!E4="ER&M&IT",'full menu'!E4="LSD"),"subst",IF(OR('full menu'!E4="FERT",'full menu'!E4="FMT",'full menu'!E4="FIT",'full menu'!E4="WSD"),"intens",IF('full menu'!E4="UASC","UASC",""))))) -> inter | F4: =IF(OR('full menu'!F4="MDC",'full menu'!F4="PERF"),"rude",IF(OR('full menu'!F4="PCB",'full menu'!F4="AERF",'full menu'!F4="UD"),"inter",IF(OR('full menu'!F4="ACB",'full menu'!F4="LCERT",'full menu'!F4="LERT",'full menu'!F4="FCERT",'full menu'!F4="FCMT",'full menu'!F4="LCMT",'full menu'!F4="LMT",'full menu'!F4="LCIT",'full menu'!F4="FCIT",'full menu'!F4="LIT",'full menu'!F4="MwERT",'full menu'!F4="ERwMT",'full menu'!F4="M&ERT",'full menu'!F4="MwIT",'full menu'!F4="IwMT",'full menu'!F4="M&IT",'full menu'!F4="IwERT",'full menu'!F4="ERwIT",'full menu'!F4="I&ERT",'full menu'!F4="ER&M&IT",'full menu'!F4="LSD"),"subst",IF(OR('full menu'!F4="FERT",'full menu'!F4="FMT",'full menu'!F4="FIT",'full menu'!F4="WSD"),"intens",IF('full menu'!F4="UASC","UASC",""))))) -> inter | G4: =IF(OR('full menu'!G4="MDC",'full menu'!G4="PERF"),"rude",IF(OR('full menu'!G4="PCB",'full menu'!G4="AERF",'full menu'!G4="UD"),"inter",IF(OR('full menu'!G4="ACB",'full menu'!G4="LCERT",'full menu'!G4="LERT",'full menu'!G4="FCERT",'full menu'!G4="FCMT",'full menu'!G4="LCMT",'full menu'!G4="LMT",'full menu'!G4="LCIT",'full menu'!G4="FCIT",'full menu'!G4="LIT",'full menu'!G4="MwERT",'full menu'!G4="ERwMT",'full menu'!G4="M&ERT",'full menu'!G4="MwIT",'full menu'!G4="IwMT",'full menu'!G4="M&IT",'full menu'!G4="IwERT",'full menu'!G4="ERwIT",'full menu'!G4="I&ERT",'full menu'!G4="ER&M&IT",'full menu'!G4="LSD"),"subst",IF(OR('full menu'!G4="FERT",'full menu'!G4="FMT",'full menu'!G4="FIT",'full menu'!G4="WSD"),"intens",IF('full menu'!G4="UASC","UASC",""))))) -> inter | H4: =IF(OR('full menu'!H4="MDC",'full menu'!H4="PERF"),"rude",IF(OR('full menu'!H4="PCB",'full menu'!H4="AERF",'full menu'!H4="UD"),"inter",IF(OR('full menu'!H4="ACB",'full menu'!H4="LCERT",'full menu'!H4="LERT",'full menu'!H4="FCERT",'full menu'!H4="FCMT",'full menu'!H4="LCMT",'full menu'!H4="LMT",'full menu'!H4="LCIT",'full menu'!H4="FCIT",'full menu'!H4="LIT",'full menu'!H4="MwERT",'full menu'!H4="ERwMT",'full menu'!H4="M&ERT",'full menu'!H4="MwIT",'full menu'!H4="IwMT",'full menu'!H4="M&IT",'full menu'!H4="IwERT",'full menu'!H4="ERwIT",'full menu'!H4="I&ERT",'full menu'!H4="ER&M&IT",'full menu'!H4="LSD"),"subst",IF(OR('full menu'!H4="FERT",'full menu'!H4="FMT",'full menu'!H4="FIT",'full menu'!H4="WSD"),"intens",IF('full menu'!H4="UASC","UASC",""))))) -> inter | I4: =IF(OR('full menu'!I4="MDC",'full menu'!I4="PERF"),"rude",IF(OR('full menu'!I4="PCB",'full menu'!I4="AERF",'full menu'!I4="UD"),"inter",IF(OR('full menu'!I4="ACB",'full menu'!I4="LCERT",'full menu'!I4="LERT",'full menu'!I4="FCERT",'full menu'!I4="FCMT",'full menu'!I4="LCMT",'full menu'!I4="LMT",'full menu'!I4="LCIT",'full menu'!I4="FCIT",'full menu'!I4="LIT",'full menu'!I4="MwERT",'full menu'!I4="ERwMT",'full menu'!I4="M&ERT",'full menu'!I4="MwIT",'full menu'!I4="IwMT",'full menu'!I4="M&IT",'full menu'!I4="IwERT",'full menu'!I4="ERwIT",'full menu'!I4="I&ERT",'full menu'!I4="ER&M&IT",'full menu'!I4="LSD"),"subst",IF(OR('full menu'!I4="FERT",'full menu'!I4="FMT",'full menu'!I4="FIT",'full menu'!I4="WSD"),"intens",IF('full menu'!I4="UASC","UASC",""))))) -> inter | ... AY4: =IF(OR('full menu'!AY4="MDC",'full menu'!AY4="PERF"),"rude",IF(OR('full menu'!AY4="PCB",'full menu'!AY4="AERF",'full menu'!AY4="UD"),"inter",IF(OR('full menu'!AY4="ACB",'full menu'!AY4="LCERT",'full menu'!AY4="LERT",'full menu'!AY4="FCERT",'full menu'!AY4="FCMT",'full menu'!AY4="LCMT",'full menu'!AY4="LMT",'full menu'!AY4="LCIT",'full menu'!AY4="FCIT",'full menu'!AY4="LIT",'full menu'!AY4="MwERT",'full menu'!AY4="ERwMT",'full menu'!AY4="M&ERT",'full menu'!AY4="MwIT",'full menu'!AY4="IwMT",'full menu'!AY4="M&IT",'full menu'!AY4="IwERT",'full menu'!AY4="ERwIT",'full menu'!AY4="I&ERT",'full menu'!AY4="ER&M&IT",'full menu'!AY4="LSD"),"subst",IF(OR('full menu'!AY4="FERT",'full menu'!AY4="FMT",'full menu'!AY4="FIT",'full menu'!AY4="WSD"),"intens",IF('full menu'!AY4="UASC","UASC",""))))) -> inter
A5: Bahrain | B5: =IF(OR('full menu'!B5="MDC",'full menu'!B5="PERF"),"rude",IF(OR('full menu'!B5="PCB",'full menu'!B5="AERF",'full menu'!B5="UD"),"inter",IF(OR('full menu'!B5="ACB",'full menu'!B5="LCERT",'full menu'!B5="LERT",'full menu'!B5="FCERT",'full menu'!B5="FCMT",'full menu'!B5="LCMT",'full menu'!B5="LMT",'full menu'!B5="LCIT",'full menu'!B5="FCIT",'full menu'!B5="LIT",'full menu'!B5="MwERT",'full menu'!B5="ERwMT",'full menu'!B5="M&ERT",'full menu'!B5="MwIT",'full menu'!B5="IwMT",'full menu'!B5="M&IT",'full menu'!B5="IwERT",'full menu'!B5="ERwIT",'full menu'!B5="I&ERT",'full menu'!B5="ER&M&IT",'full menu'!B5="LSD"),"subst",IF(OR('full menu'!B5="FERT",'full menu'!B5="FMT",'full menu'!B5="FIT",'full menu'!B5="WSD"),"intens",IF('full menu'!B5="UASC","UASC",""))))) -> subst | C5: =IF(OR('full menu'!C5="MDC",'full menu'!C5="PERF"),"rude",IF(OR('full menu'!C5="PCB",'full menu'!C5="AERF",'full menu'!C5="UD"),"inter",IF(OR('full menu'!C5="ACB",'full menu'!C5="LCERT",'full menu'!C5="LERT",'full menu'!C5="FCERT",'full menu'!C5="FCMT",'full menu'!C5="LCMT",'full menu'!C5="LMT",'full menu'!C5="LCIT",'full menu'!C5="FCIT",'full menu'!C5="LIT",'full menu'!C5="MwERT",'full menu'!C5="ERwMT",'full menu'!C5="M&ERT",'full menu'!C5="MwIT",'full menu'!C5="IwMT",'full menu'!C5="M&IT",'full menu'!C5="IwERT",'full menu'!C5="ERwIT",'full menu'!C5="I&ERT",'full menu'!C5="ER&M&IT",'full menu'!C5="LSD"),"subst",IF(OR('full menu'!C5="FERT",'full menu'!C5="FMT",'full menu'!C5="FIT",'full menu'!C5="WSD"),"intens",IF('full menu'!C5="UASC","UASC",""))))) -> inter | D5: =IF(OR('full menu'!D5="MDC",'full menu'!D5="PERF"),"rude",IF(OR('full menu'!D5="PCB",'full menu'!D5="AERF",'full menu'!D5="UD"),"inter",IF(OR('full menu'!D5="ACB",'full menu'!D5="LCERT",'full menu'!D5="LERT",'full menu'!D5="FCERT",'full menu'!D5="FCMT",'full menu'!D5="LCMT",'full menu'!D5="LMT",'full menu'!D5="LCIT",'full menu'!D5="FCIT",'full menu'!D5="LIT",'full menu'!D5="MwERT",'full menu'!D5="ERwMT",'full menu'!D5="M&ERT",'full menu'!D5="MwIT",'full menu'!D5="IwMT",'full menu'!D5="M&IT",'full menu'!D5="IwERT",'full menu'!D5="ERwIT",'full menu'!D5="I&ERT",'full menu'!D5="ER&M&IT",'full menu'!D5="LSD"),"subst",IF(OR('full menu'!D5="FERT",'full menu'!D5="FMT",'full menu'!D5="FIT",'full menu'!D5="WSD"),"intens",IF('full menu'!D5="UASC","UASC",""))))) -> inter | E5: =IF(OR('full menu'!E5="MDC",'full menu'!E5="PERF"),"rude",IF(OR('full menu'!E5="PCB",'full menu'!E5="AERF",'full menu'!E5="UD"),"inter",IF(OR('full menu'!E5="ACB",'full menu'!E5="LCERT",'full menu'!E5="LERT",'full menu'!E5="FCERT",'full menu'!E5="FCMT",'full menu'!E5="LCMT",'full menu'!E5="LMT",'full menu'!E5="LCIT",'full menu'!E5="FCIT",'full menu'!E5="LIT",'full menu'!E5="MwERT",'full menu'!E5="ERwMT",'full menu'!E5="M&ERT",'full menu'!E5="MwIT",'full menu'!E5="IwMT",'full menu'!E5="M&IT",'full menu'!E5="IwERT",'full menu'!E5="ERwIT",'full menu'!E5="I&ERT",'full menu'!E5="ER&M&IT",'full menu'!E5="LSD"),"subst",IF(OR('full menu'!E5="FERT",'full menu'!E5="FMT",'full menu'!E5="FIT",'full menu'!E5="WSD"),"intens",IF('full menu'!E5="UASC","UASC",""))))) -> inter | F5: =IF(OR('full menu'!F5="MDC",'full menu'!F5="PERF"),"rude",IF(OR('full menu'!F5="PCB",'full menu'!F5="AERF",'full menu'!F5="UD"),"inter",IF(OR('full menu'!F5="ACB",'full menu'!F5="LCERT",'full menu'!F5="LERT",'full menu'!F5="FCERT",'full menu'!F5="FCMT",'full menu'!F5="LCMT",'full menu'!F5="LMT",'full menu'!F5="LCIT",'full menu'!F5="FCIT",'full menu'!F5="LIT",'full menu'!F5="MwERT",'full menu'!F5="ERwMT",'full menu'!F5="M&ERT",'full menu'!F5="MwIT",'full menu'!F5="IwMT",'full menu'!F5="M&IT",'full menu'!F5="IwERT",'full menu'!F5="ERwIT",'full menu'!F5="I&ERT",'full menu'!F5="ER&M&IT",'full menu'!F5="LSD"),"subst",IF(OR('full menu'!F5="FERT",'full menu'!F5="FMT",'full menu'!F5="FIT",'full menu'!F5="WSD"),"intens",IF('full menu'!F5="UASC","UASC",""))))) -> inter | G5: =IF(OR('full menu'!G5="MDC",'full menu'!G5="PERF"),"rude",IF(OR('full menu'!G5="PCB",'full menu'!G5="AERF",'full menu'!G5="UD"),"inter",IF(OR('full menu'!G5="ACB",'full menu'!G5="LCERT",'full menu'!G5="LERT",'full menu'!G5="FCERT",'full menu'!G5="FCMT",'full menu'!G5="LCMT",'full menu'!G5="LMT",'full menu'!G5="LCIT",'full menu'!G5="FCIT",'full menu'!G5="LIT",'full menu'!G5="MwERT",'full menu'!G5="ERwMT",'full menu'!G5="M&ERT",'full menu'!G5="MwIT",'full menu'!G5="IwMT",'full menu'!G5="M&IT",'full menu'!G5="IwERT",'full menu'!G5="ERwIT",'full menu'!G5="I&ERT",'full menu'!G5="ER&M&IT",'full menu'!G5="LSD"),"subst",IF(OR('full menu'!G5="FERT",'full menu'!G5="FMT",'full menu'!G5="FIT",'full menu'!G5="WSD"),"intens",IF('full menu'!G5="UASC","UASC",""))))) -> inter | H5: =IF(OR('full menu'!H5="MDC",'full menu'!H5="PERF"),"rude",IF(OR('full menu'!H5="PCB",'full menu'!H5="AERF",'full menu'!H5="UD"),"inter",IF(OR('full menu'!H5="ACB",'full menu'!H5="LCERT",'full menu'!H5="LERT",'full menu'!H5="FCERT",'full menu'!H5="FCMT",'full menu'!H5="LCMT",'full menu'!H5="LMT",'full menu'!H5="LCIT",'full menu'!H5="FCIT",'full menu'!H5="LIT",'full menu'!H5="MwERT",'full menu'!H5="ERwMT",'full menu'!H5="M&ERT",'full menu'!H5="MwIT",'full menu'!H5="IwMT",'full menu'!H5="M&IT",'full menu'!H5="IwERT",'full menu'!H5="ERwIT",'full menu'!H5="I&ERT",'full menu'!H5="ER&M&IT",'full menu'!H5="LSD"),"subst",IF(OR('full menu'!H5="FERT",'full menu'!H5="FMT",'full menu'!H5="FIT",'full menu'!H5="WSD"),"intens",IF('full menu'!H5="UASC","UASC",""))))) -> inter | I5: =IF(OR('full menu'!I5="MDC",'full menu'!I5="PERF"),"rude",IF(OR('full menu'!I5="PCB",'full menu'!I5="AERF",'full menu'!I5="UD"),"inter",IF(OR('full menu'!I5="ACB",'full menu'!I5="LCERT",'full menu'!I5="LERT",'full menu'!I5="FCERT",'full menu'!I5="FCMT",'full menu'!I5="LCMT",'full menu'!I5="LMT",'full menu'!I5="LCIT",'full menu'!I5="FCIT",'full menu'!I5="LIT",'full menu'!I5="MwERT",'full menu'!I5="ERwMT",'full menu'!I5="M&ERT",'full menu'!I5="MwIT",'full menu'!I5="IwMT",'full menu'!I5="M&IT",'full menu'!I5="IwERT",'full menu'!I5="ERwIT",'full menu'!I5="I&ERT",'full menu'!I5="ER&M&IT",'full menu'!I5="LSD"),"subst",IF(OR('full menu'!I5="FERT",'full menu'!I5="FMT",'full menu'!I5="FIT",'full menu'!I5="WSD"),"intens",IF('full menu'!I5="UASC","UASC",""))))) -> inter | ... AY5: =IF(OR('full menu'!AY5="MDC",'full menu'!AY5="PERF"),"rude",IF(OR('full menu'!AY5="PCB",'full menu'!AY5="AERF",'full menu'!AY5="UD"),"inter",IF(OR('full menu'!AY5="ACB",'full menu'!AY5="LCERT",'full menu'!AY5="LERT",'full menu'!AY5="FCERT",'full menu'!AY5="FCMT",'full menu'!AY5="LCMT",'full menu'!AY5="LMT",'full menu'!AY5="LCIT",'full menu'!AY5="FCIT",'full menu'!AY5="LIT",'full menu'!AY5="MwERT",'full menu'!AY5="ERwMT",'full menu'!AY5="M&ERT",'full menu'!AY5="MwIT",'full menu'!AY5="IwMT",'full menu'!AY5="M&IT",'full menu'!AY5="IwERT",'full menu'!AY5="ERwIT",'full menu'!AY5="I&ERT",'full menu'!AY5="ER&M&IT",'full menu'!AY5="LSD"),"subst",IF(OR('full menu'!AY5="FERT",'full menu'!AY5="FMT",'full menu'!AY5="FIT",'full menu'!AY5="WSD"),"intens",IF('full menu'!AY5="UASC","UASC",""))))) -> intens
A6: Belgium | B6: =IF(OR('full menu'!B6="MDC",'full menu'!B6="PERF"),"rude",IF(OR('full menu'!B6="PCB",'full menu'!B6="AERF",'full menu'!B6="UD"),"inter",IF(OR('full menu'!B6="ACB",'full menu'!B6="LCERT",'full menu'!B6="LERT",'full menu'!B6="FCERT",'full menu'!B6="FCMT",'full menu'!B6="LCMT",'full menu'!B6="LMT",'full menu'!B6="LCIT",'full menu'!B6="FCIT",'full menu'!B6="LIT",'full menu'!B6="MwERT",'full menu'!B6="ERwMT",'full menu'!B6="M&ERT",'full menu'!B6="MwIT",'full menu'!B6="IwMT",'full menu'!B6="M&IT",'full menu'!B6="IwERT",'full menu'!B6="ERwIT",'full menu'!B6="I&ERT",'full menu'!B6="ER&M&IT",'full menu'!B6="LSD"),"subst",IF(OR('full menu'!B6="FERT",'full menu'!B6="FMT",'full menu'!B6="FIT",'full menu'!B6="WSD"),"intens",IF('full menu'!B6="UASC","UASC",""))))) -> subst | C6: =IF(OR('full menu'!C6="MDC",'full menu'!C6="PERF"),"rude",IF(OR('full menu'!C6="PCB",'full menu'!C6="AERF",'full menu'!C6="UD"),"inter",IF(OR('full menu'!C6="ACB",'full menu'!C6="LCERT",'full menu'!C6="LERT",'full menu'!C6="FCERT",'full menu'!C6="FCMT",'full menu'!C6="LCMT",'full menu'!C6="LMT",'full menu'!C6="LCIT",'full menu'!C6="FCIT",'full menu'!C6="LIT",'full menu'!C6="MwERT",'full menu'!C6="ERwMT",'full menu'!C6="M&ERT",'full menu'!C6="MwIT",'full menu'!C6="IwMT",'full menu'!C6="M&IT",'full menu'!C6="IwERT",'full menu'!C6="ERwIT",'full menu'!C6="I&ERT",'full menu'!C6="ER&M&IT",'full menu'!C6="LSD"),"subst",IF(OR('full menu'!C6="FERT",'full menu'!C6="FMT",'full menu'!C6="FIT",'full menu'!C6="WSD"),"intens",IF('full menu'!C6="UASC","UASC",""))))) -> subst | D6: =IF(OR('full menu'!D6="MDC",'full menu'!D6="PERF"),"rude",IF(OR('full menu'!D6="PCB",'full menu'!D6="AERF",'full menu'!D6="UD"),"inter",IF(OR('full menu'!D6="ACB",'full menu'!D6="LCERT",'full menu'!D6="LERT",'full menu'!D6="FCERT",'full menu'!D6="FCMT",'full menu'!D6="LCMT",'full menu'!D6="LMT",'full menu'!D6="LCIT",'full menu'!D6="FCIT",'full menu'!D6="LIT",'full menu'!D6="MwERT",'full menu'!D6="ERwMT",'full menu'!D6="M&ERT",'full menu'!D6="MwIT",'full menu'!D6="IwMT",'full menu'!D6="M&IT",'full menu'!D6="IwERT",'full menu'!D6="ERwIT",'full menu'!D6="I&ERT",'full menu'!D6="ER&M&IT",'full menu'!D6="LSD"),"subst",IF(OR('full menu'!D6="FERT",'full menu'!D6="FMT",'full menu'!D6="FIT",'full menu'!D6="WSD"),"intens",IF('full menu'!D6="UASC","UASC",""))))) -> subst | E6: =IF(OR('full menu'!E6="MDC",'full menu'!E6="PERF"),"rude",IF(OR('full menu'!E6="PCB",'full menu'!E6="AERF",'full menu'!E6="UD"),"inter",IF(OR('full menu'!E6="ACB",'full menu'!E6="LCERT",'full menu'!E6="LERT",'full menu'!E6="FCERT",'full menu'!E6="FCMT",'full menu'!E6="LCMT",'full menu'!E6="LMT",'full menu'!E6="LCIT",'full menu'!E6="FCIT",'full menu'!E6="LIT",'full menu'!E6="MwERT",'full menu'!E6="ERwMT",'full menu'!E6="M&ERT",'full menu'!E6="MwIT",'full menu'!E6="IwMT",'full menu'!E6="M&IT",'full menu'!E6="IwERT",'full menu'!E6="ERwIT",'full menu'!E6="I&ERT",'full menu'!E6="ER&M&IT",'full menu'!E6="LSD"),"subst",IF(OR('full menu'!E6="FERT",'full menu'!E6="FMT",'full menu'!E6="FIT",'full menu'!E6="WSD"),"intens",IF('full menu'!E6="UASC","UASC",""))))) -> subst | F6: =IF(OR('full menu'!F6="MDC",'full menu'!F6="PERF"),"rude",IF(OR('full menu'!F6="PCB",'full menu'!F6="AERF",'full menu'!F6="UD"),"inter",IF(OR('full menu'!F6="ACB",'full menu'!F6="LCERT",'full menu'!F6="LERT",'full menu'!F6="FCERT",'full menu'!F6="FCMT",'full menu'!F6="LCMT",'full menu'!F6="LMT",'full menu'!F6="LCIT",'full menu'!F6="FCIT",'full menu'!F6="LIT",'full menu'!F6="MwERT",'full menu'!F6="ERwMT",'full menu'!F6="M&ERT",'full menu'!F6="MwIT",'full menu'!F6="IwMT",'full menu'!F6="M&IT",'full menu'!F6="IwERT",'full menu'!F6="ERwIT",'full menu'!F6="I&ERT",'full menu'!F6="ER&M&IT",'full menu'!F6="LSD"),"subst",IF(OR('full menu'!F6="FERT",'full menu'!F6="FMT",'full menu'!F6="FIT",'full menu'!F6="WSD"),"intens",IF('full menu'!F6="UASC","UASC",""))))) -> subst | G6: =IF(OR('full menu'!G6="MDC",'full menu'!G6="PERF"),"rude",IF(OR('full menu'!G6="PCB",'full menu'!G6="AERF",'full menu'!G6="UD"),"inter",IF(OR('full menu'!G6="ACB",'full menu'!G6="LCERT",'full menu'!G6="LERT",'full menu'!G6="FCERT",'full menu'!G6="FCMT",'full menu'!G6="LCMT",'full menu'!G6="LMT",'full menu'!G6="LCIT",'full menu'!G6="FCIT",'full menu'!G6="LIT",'full menu'!G6="MwERT",'full menu'!G6="ERwMT",'full menu'!G6="M&ERT",'full menu'!G6="MwIT",'full menu'!G6="IwMT",'full menu'!G6="M&IT",'full menu'!G6="IwERT",'full menu'!G6="ERwIT",'full menu'!G6="I&ERT",'full menu'!G6="ER&M&IT",'full menu'!G6="LSD"),"subst",IF(OR('full menu'!G6="FERT",'full menu'!G6="FMT",'full menu'!G6="FIT",'full menu'!G6="WSD"),"intens",IF('full menu'!G6="UASC","UASC",""))))) -> subst | H6: =IF(OR('full menu'!H6="MDC",'full menu'!H6="PERF"),"rude",IF(OR('full menu'!H6="PCB",'full menu'!H6="AERF",'full menu'!H6="UD"),"inter",IF(OR('full menu'!H6="ACB",'full menu'!H6="LCERT",'full menu'!H6="LERT",'full menu'!H6="FCERT",'full menu'!H6="FCMT",'full menu'!H6="LCMT",'full menu'!H6="LMT",'full menu'!H6="LCIT",'full menu'!H6="FCIT",'full menu'!H6="LIT",'full menu'!H6="MwERT",'full menu'!H6="ERwMT",'full menu'!H6="M&ERT",'full menu'!H6="MwIT",'full menu'!H6="IwMT",'full menu'!H6="M&IT",'full menu'!H6="IwERT",'full menu'!H6="ERwIT",'full menu'!H6="I&ERT",'full menu'!H6="ER&M&IT",'full menu'!H6="LSD"),"subst",IF(OR('full menu'!H6="FERT",'full menu'!H6="FMT",'full menu'!H6="FIT",'full menu'!H6="WSD"),"intens",IF('full menu'!H6="UASC","UASC",""))))) -> subst | I6: =IF(OR('full menu'!I6="MDC",'full menu'!I6="PERF"),"rude",IF(OR('full menu'!I6="PCB",'full menu'!I6="AERF",'full menu'!I6="UD"),"inter",IF(OR('full menu'!I6="ACB",'full menu'!I6="LCERT",'full menu'!I6="LERT",'full menu'!I6="FCERT",'full menu'!I6="FCMT",'full menu'!I6="LCMT",'full menu'!I6="LMT",'full menu'!I6="LCIT",'full menu'!I6="FCIT",'full menu'!I6="LIT",'full menu'!I6="MwERT",'full menu'!I6="ERwMT",'full menu'!I6="M&ERT",'full menu'!I6="MwIT",'full menu'!I6="IwMT",'full menu'!I6="M&IT",'full menu'!I6="IwERT",'full menu'!I6="ERwIT",'full menu'!I6="I&ERT",'full menu'!I6="ER&M&IT",'full menu'!I6="LSD"),"subst",IF(OR('full menu'!I6="FERT",'full menu'!I6="FMT",'full menu'!I6="FIT",'full menu'!I6="WSD"),"intens",IF('full menu'!I6="UASC","UASC",""))))) -> subst | ... AY6: =IF(OR('full menu'!AY6="MDC",'full menu'!AY6="PERF"),"rude",IF(OR('full menu'!AY6="PCB",'full menu'!AY6="AERF",'full menu'!AY6="UD"),"inter",IF(OR('full menu'!AY6="ACB",'full menu'!AY6="LCERT",'full menu'!AY6="LERT",'full menu'!AY6="FCERT",'full menu'!AY6="FCMT",'full menu'!AY6="LCMT",'full menu'!AY6="LMT",'full menu'!AY6="LCIT",'full menu'!AY6="FCIT",'full menu'!AY6="LIT",'full menu'!AY6="MwERT",'full menu'!AY6="ERwMT",'full menu'!AY6="M&ERT",'full menu'!AY6="MwIT",'full menu'!AY6="IwMT",'full menu'!AY6="M&IT",'full menu'!AY6="IwERT",'full menu'!AY6="ERwIT",'full menu'!AY6="I&ERT",'full menu'!AY6="ER&M&IT",'full menu'!AY6="LSD"),"subst",IF(OR('full menu'!AY6="FERT",'full menu'!AY6="FMT",'full menu'!AY6="FIT",'full menu'!AY6="WSD"),"intens",IF('full menu'!AY6="UASC","UASC","")))))
A7: Brunei | B7: =IF(OR('full menu'!B7="MDC",'full menu'!B7="PERF"),"rude",IF(OR('full menu'!B7="PCB",'full menu'!B7="AERF",'full menu'!B7="UD"),"inter",IF(OR('full menu'!B7="ACB",'full menu'!B7="LCERT",'full menu'!B7="LERT",'full menu'!B7="FCERT",'full menu'!B7="FCMT",'full menu'!B7="LCMT",'full menu'!B7="LMT",'full menu'!B7="LCIT",'full menu'!B7="FCIT",'full menu'!B7="LIT",'full menu'!B7="MwERT",'full menu'!B7="ERwMT",'full menu'!B7="M&ERT",'full menu'!B7="MwIT",'full menu'!B7="IwMT",'full menu'!B7="M&IT",'full menu'!B7="IwERT",'full menu'!B7="ERwIT",'full menu'!B7="I&ERT",'full menu'!B7="ER&M&IT",'full menu'!B7="LSD"),"subst",IF(OR('full menu'!B7="FERT",'full menu'!B7="FMT",'full menu'!B7="FIT",'full menu'!B7="WSD"),"intens",IF('full menu'!B7="UASC","UASC",""))))) -> inter | C7: =IF(OR('full menu'!C7="MDC",'full menu'!C7="PERF"),"rude",IF(OR('full menu'!C7="PCB",'full menu'!C7="AERF",'full menu'!C7="UD"),"inter",IF(OR('full menu'!C7="ACB",'full menu'!C7="LCERT",'full menu'!C7="LERT",'full menu'!C7="FCERT",'full menu'!C7="FCMT",'full menu'!C7="LCMT",'full menu'!C7="LMT",'full menu'!C7="LCIT",'full menu'!C7="FCIT",'full menu'!C7="LIT",'full menu'!C7="MwERT",'full menu'!C7="ERwMT",'full menu'!C7="M&ERT",'full menu'!C7="MwIT",'full menu'!C7="IwMT",'full menu'!C7="M&IT",'full menu'!C7="IwERT",'full menu'!C7="ERwIT",'full menu'!C7="I&ERT",'full menu'!C7="ER&M&IT",'full menu'!C7="LSD"),"subst",IF(OR('full menu'!C7="FERT",'full menu'!C7="FMT",'full menu'!C7="FIT",'full menu'!C7="WSD"),"intens",IF('full menu'!C7="UASC","UASC",""))))) -> inter | D7: =IF(OR('full menu'!D7="MDC",'full menu'!D7="PERF"),"rude",IF(OR('full menu'!D7="PCB",'full menu'!D7="AERF",'full menu'!D7="UD"),"inter",IF(OR('full menu'!D7="ACB",'full menu'!D7="LCERT",'full menu'!D7="LERT",'full menu'!D7="FCERT",'full menu'!D7="FCMT",'full menu'!D7="LCMT",'full menu'!D7="LMT",'full menu'!D7="LCIT",'full menu'!D7="FCIT",'full menu'!D7="LIT",'full menu'!D7="MwERT",'full menu'!D7="ERwMT",'full menu'!D7="M&ERT",'full menu'!D7="MwIT",'full menu'!D7="IwMT",'full menu'!D7="M&IT",'full menu'!D7="IwERT",'full menu'!D7="ERwIT",'full menu'!D7="I&ERT",'full menu'!D7="ER&M&IT",'full menu'!D7="LSD"),"subst",IF(OR('full menu'!D7="FERT",'full menu'!D7="FMT",'full menu'!D7="FIT",'full menu'!D7="WSD"),"intens",IF('full menu'!D7="UASC","UASC",""))))) -> inter | E7: =IF(OR('full menu'!E7="MDC",'full menu'!E7="PERF"),"rude",IF(OR('full menu'!E7="PCB",'full menu'!E7="AERF",'full menu'!E7="UD"),"inter",IF(OR('full menu'!E7="ACB",'full menu'!E7="LCERT",'full menu'!E7="LERT",'full menu'!E7="FCERT",'full menu'!E7="FCMT",'full menu'!E7="LCMT",'full menu'!E7="LMT",'full menu'!E7="LCIT",'full menu'!E7="FCIT",'full menu'!E7="LIT",'full menu'!E7="MwERT",'full menu'!E7="ERwMT",'full menu'!E7="M&ERT",'full menu'!E7="MwIT",'full menu'!E7="IwMT",'full menu'!E7="M&IT",'full menu'!E7="IwERT",'full menu'!E7="ERwIT",'full menu'!E7="I&ERT",'full menu'!E7="ER&M&IT",'full menu'!E7="LSD"),"subst",IF(OR('full menu'!E7="FERT",'full menu'!E7="FMT",'full menu'!E7="FIT",'full menu'!E7="WSD"),"intens",IF('full menu'!E7="UASC","UASC",""))))) -> inter | F7: =IF(OR('full menu'!F7="MDC",'full menu'!F7="PERF"),"rude",IF(OR('full menu'!F7="PCB",'full menu'!F7="AERF",'full menu'!F7="UD"),"inter",IF(OR('full menu'!F7="ACB",'full menu'!F7="LCERT",'full menu'!F7="LERT",'full menu'!F7="FCERT",'full menu'!F7="FCMT",'full menu'!F7="LCMT",'full menu'!F7="LMT",'full menu'!F7="LCIT",'full menu'!F7="FCIT",'full menu'!F7="LIT",'full menu'!F7="MwERT",'full menu'!F7="ERwMT",'full menu'!F7="M&ERT",'full menu'!F7="MwIT",'full menu'!F7="IwMT",'full menu'!F7="M&IT",'full menu'!F7="IwERT",'full menu'!F7="ERwIT",'full menu'!F7="I&ERT",'full menu'!F7="ER&M&IT",'full menu'!F7="LSD"),"subst",IF(OR('full menu'!F7="FERT",'full menu'!F7="FMT",'full menu'!F7="FIT",'full menu'!F7="WSD"),"intens",IF('full menu'!F7="UASC","UASC",""))))) -> inter | G7: =IF(OR('full menu'!G7="MDC",'full menu'!G7="PERF"),"rude",IF(OR('full menu'!G7="PCB",'full menu'!G7="AERF",'full menu'!G7="UD"),"inter",IF(OR('full menu'!G7="ACB",'full menu'!G7="LCERT",'full menu'!G7="LERT",'full menu'!G7="FCERT",'full menu'!G7="FCMT",'full menu'!G7="LCMT",'full menu'!G7="LMT",'full menu'!G7="LCIT",'full menu'!G7="FCIT",'full menu'!G7="LIT",'full menu'!G7="MwERT",'full menu'!G7="ERwMT",'full menu'!G7="M&ERT",'full menu'!G7="MwIT",'full menu'!G7="IwMT",'full menu'!G7="M&IT",'full menu'!G7="IwERT",'full menu'!G7="ERwIT",'full menu'!G7="I&ERT",'full menu'!G7="ER&M&IT",'full menu'!G7="LSD"),"subst",IF(OR('full menu'!G7="FERT",'full menu'!G7="FMT",'full menu'!G7="FIT",'full menu'!G7="WSD"),"intens",IF('full menu'!G7="UASC","UASC",""))))) -> inter | H7: =IF(OR('full menu'!H7="MDC",'full menu'!H7="PERF"),"rude",IF(OR('full menu'!H7="PCB",'full menu'!H7="AERF",'full menu'!H7="UD"),"inter",IF(OR('full menu'!H7="ACB",'full menu'!H7="LCERT",'full menu'!H7="LERT",'full menu'!H7="FCERT",'full menu'!H7="FCMT",'full menu'!H7="LCMT",'full menu'!H7="LMT",'full menu'!H7="LCIT",'full menu'!H7="FCIT",'full menu'!H7="LIT",'full menu'!H7="MwERT",'full menu'!H7="ERwMT",'full menu'!H7="M&ERT",'full menu'!H7="MwIT",'full menu'!H7="IwMT",'full menu'!H7="M&IT",'full menu'!H7="IwERT",'full menu'!H7="ERwIT",'full menu'!H7="I&ERT",'full menu'!H7="ER&M&IT",'full menu'!H7="LSD"),"subst",IF(OR('full menu'!H7="FERT",'full menu'!H7="FMT",'full menu'!H7="FIT",'full menu'!H7="WSD"),"intens",IF('full menu'!H7="UASC","UASC",""))))) -> inter | I7: =IF(OR('full menu'!I7="MDC",'full menu'!I7="PERF"),"rude",IF(OR('full menu'!I7="PCB",'full menu'!I7="AERF",'full menu'!I7="UD"),"inter",IF(OR('full menu'!I7="ACB",'full menu'!I7="LCERT",'full menu'!I7="LERT",'full menu'!I7="FCERT",'full menu'!I7="FCMT",'full menu'!I7="LCMT",'full menu'!I7="LMT",'full menu'!I7="LCIT",'full menu'!I7="FCIT",'full menu'!I7="LIT",'full menu'!I7="MwERT",'full menu'!I7="ERwMT",'full menu'!I7="M&ERT",'full menu'!I7="MwIT",'full menu'!I7="IwMT",'full menu'!I7="M&IT",'full menu'!I7="IwERT",'full menu'!I7="ERwIT",'full menu'!I7="I&ERT",'full menu'!I7="ER&M&IT",'full menu'!I7="LSD"),"subst",IF(OR('full menu'!I7="FERT",'full menu'!I7="FMT",'full menu'!I7="FIT",'full menu'!I7="WSD"),"intens",IF('full menu'!I7="UASC","UASC",""))))) -> inter | ... AY7: =IF(OR('full menu'!AY7="MDC",'full menu'!AY7="PERF"),"rude",IF(OR('full menu'!AY7="PCB",'full menu'!AY7="AERF",'full menu'!AY7="UD"),"inter",IF(OR('full menu'!AY7="ACB",'full menu'!AY7="LCERT",'full menu'!AY7="LERT",'full menu'!AY7="FCERT",'full menu'!AY7="FCMT",'full menu'!AY7="LCMT",'full menu'!AY7="LMT",'full menu'!AY7="LCIT",'full menu'!AY7="FCIT",'full menu'!AY7="LIT",'full menu'!AY7="MwERT",'full menu'!AY7="ERwMT",'full menu'!AY7="M&ERT",'full menu'!AY7="MwIT",'full menu'!AY7="IwMT",'full menu'!AY7="M&IT",'full menu'!AY7="IwERT",'full menu'!AY7="ERwIT",'full menu'!AY7="I&ERT",'full menu'!AY7="ER&M&IT",'full menu'!AY7="LSD"),"subst",IF(OR('full menu'!AY7="FERT",'full menu'!AY7="FMT",'full menu'!AY7="FIT",'full menu'!AY7="WSD"),"intens",IF('full menu'!AY7="UASC","UASC",""))))) -> subst
A8: Canada | B8: =IF(OR('full menu'!B8="MDC",'full menu'!B8="PERF"),"rude",IF(OR('full menu'!B8="PCB",'full menu'!B8="AERF",'full menu'!B8="UD"),"inter",IF(OR('full menu'!B8="ACB",'full menu'!B8="LCERT",'full menu'!B8="LERT",'full menu'!B8="FCERT",'full menu'!B8="FCMT",'full menu'!B8="LCMT",'full menu'!B8="LMT",'full menu'!B8="LCIT",'full menu'!B8="FCIT",'full menu'!B8="LIT",'full menu'!B8="MwERT",'full menu'!B8="ERwMT",'full menu'!B8="M&ERT",'full menu'!B8="MwIT",'full menu'!B8="IwMT",'full menu'!B8="M&IT",'full menu'!B8="IwERT",'full menu'!B8="ERwIT",'full menu'!B8="I&ERT",'full menu'!B8="ER&M&IT",'full menu'!B8="LSD"),"subst",IF(OR('full menu'!B8="FERT",'full menu'!B8="FMT",'full menu'!B8="FIT",'full menu'!B8="WSD"),"intens",IF('full menu'!B8="UASC","UASC",""))))) -> subst | C8: =IF(OR('full menu'!C8="MDC",'full menu'!C8="PERF"),"rude",IF(OR('full menu'!C8="PCB",'full menu'!C8="AERF",'full menu'!C8="UD"),"inter",IF(OR('full menu'!C8="ACB",'full menu'!C8="LCERT",'full menu'!C8="LERT",'full menu'!C8="FCERT",'full menu'!C8="FCMT",'full menu'!C8="LCMT",'full menu'!C8="LMT",'full menu'!C8="LCIT",'full menu'!C8="FCIT",'full menu'!C8="LIT",'full menu'!C8="MwERT",'full menu'!C8="ERwMT",'full menu'!C8="M&ERT",'full menu'!C8="MwIT",'full menu'!C8="IwMT",'full menu'!C8="M&IT",'full menu'!C8="IwERT",'full menu'!C8="ERwIT",'full menu'!C8="I&ERT",'full menu'!C8="ER&M&IT",'full menu'!C8="LSD"),"subst",IF(OR('full menu'!C8="FERT",'full menu'!C8="FMT",'full menu'!C8="FIT",'full menu'!C8="WSD"),"intens",IF('full menu'!C8="UASC","UASC",""))))) -> subst | D8: =IF(OR('full menu'!D8="MDC",'full menu'!D8="PERF"),"rude",IF(OR('full menu'!D8="PCB",'full menu'!D8="AERF",'full menu'!D8="UD"),"inter",IF(OR('full menu'!D8="ACB",'full menu'!D8="LCERT",'full menu'!D8="LERT",'full menu'!D8="FCERT",'full menu'!D8="FCMT",'full menu'!D8="LCMT",'full menu'!D8="LMT",'full menu'!D8="LCIT",'full menu'!D8="FCIT",'full menu'!D8="LIT",'full menu'!D8="MwERT",'full menu'!D8="ERwMT",'full menu'!D8="M&ERT",'full menu'!D8="MwIT",'full menu'!D8="IwMT",'full menu'!D8="M&IT",'full menu'!D8="IwERT",'full menu'!D8="ERwIT",'full menu'!D8="I&ERT",'full menu'!D8="ER&M&IT",'full menu'!D8="LSD"),"subst",IF(OR('full menu'!D8="FERT",'full menu'!D8="FMT",'full menu'!D8="FIT",'full menu'!D8="WSD"),"intens",IF('full menu'!D8="UASC","UASC",""))))) -> subst | E8: =IF(OR('full menu'!E8="MDC",'full menu'!E8="PERF"),"rude",IF(OR('full menu'!E8="PCB",'full menu'!E8="AERF",'full menu'!E8="UD"),"inter",IF(OR('full menu'!E8="ACB",'full menu'!E8="LCERT",'full menu'!E8="LERT",'full menu'!E8="FCERT",'full menu'!E8="FCMT",'full menu'!E8="LCMT",'full menu'!E8="LMT",'full menu'!E8="LCIT",'full menu'!E8="FCIT",'full menu'!E8="LIT",'full menu'!E8="MwERT",'full menu'!E8="ERwMT",'full menu'!E8="M&ERT",'full menu'!E8="MwIT",'full menu'!E8="IwMT",'full menu'!E8="M&IT",'full menu'!E8="IwERT",'full menu'!E8="ERwIT",'full menu'!E8="I&ERT",'full menu'!E8="ER&M&IT",'full menu'!E8="LSD"),"subst",IF(OR('full menu'!E8="FERT",'full menu'!E8="FMT",'full menu'!E8="FIT",'full menu'!E8="WSD"),"intens",IF('full menu'!E8="UASC","UASC",""))))) -> subst | F8: =IF(OR('full menu'!F8="MDC",'full menu'!F8="PERF"),"rude",IF(OR('full menu'!F8="PCB",'full menu'!F8="AERF",'full menu'!F8="UD"),"inter",IF(OR('full menu'!F8="ACB",'full menu'!F8="LCERT",'full menu'!F8="LERT",'full menu'!F8="FCERT",'full menu'!F8="FCMT",'full menu'!F8="LCMT",'full menu'!F8="LMT",'full menu'!F8="LCIT",'full menu'!F8="FCIT",'full menu'!F8="LIT",'full menu'!F8="MwERT",'full menu'!F8="ERwMT",'full menu'!F8="M&ERT",'full menu'!F8="MwIT",'full menu'!F8="IwMT",'full menu'!F8="M&IT",'full menu'!F8="IwERT",'full menu'!F8="ERwIT",'full menu'!F8="I&ERT",'full menu'!F8="ER&M&IT",'full menu'!F8="LSD"),"subst",IF(OR('full menu'!F8="FERT",'full menu'!F8="FMT",'full menu'!F8="FIT",'full menu'!F8="WSD"),"intens",IF('full menu'!F8="UASC","UASC",""))))) -> subst | G8: =IF(OR('full menu'!G8="MDC",'full menu'!G8="PERF"),"rude",IF(OR('full menu'!G8="PCB",'full menu'!G8="AERF",'full menu'!G8="UD"),"inter",IF(OR('full menu'!G8="ACB",'full menu'!G8="LCERT",'full menu'!G8="LERT",'full menu'!G8="FCERT",'full menu'!G8="FCMT",'full menu'!G8="LCMT",'full menu'!G8="LMT",'full menu'!G8="LCIT",'full menu'!G8="FCIT",'full menu'!G8="LIT",'full menu'!G8="MwERT",'full menu'!G8="ERwMT",'full menu'!G8="M&ERT",'full menu'!G8="MwIT",'full menu'!G8="IwMT",'full menu'!G8="M&IT",'full menu'!G8="IwERT",'full menu'!G8="ERwIT",'full menu'!G8="I&ERT",'full menu'!G8="ER&M&IT",'full menu'!G8="LSD"),"subst",IF(OR('full menu'!G8="FERT",'full menu'!G8="FMT",'full menu'!G8="FIT",'full menu'!G8="WSD"),"intens",IF('full menu'!G8="UASC","UASC",""))))) -> subst | H8: =IF(OR('full menu'!H8="MDC",'full menu'!H8="PERF"),"rude",IF(OR('full menu'!H8="PCB",'full menu'!H8="AERF",'full menu'!H8="UD"),"inter",IF(OR('full menu'!H8="ACB",'full menu'!H8="LCERT",'full menu'!H8="LERT",'full menu'!H8="FCERT",'full menu'!H8="FCMT",'full menu'!H8="LCMT",'full menu'!H8="LMT",'full menu'!H8="LCIT",'full menu'!H8="FCIT",'full menu'!H8="LIT",'full menu'!H8="MwERT",'full menu'!H8="ERwMT",'full menu'!H8="M&ERT",'full menu'!H8="MwIT",'full menu'!H8="IwMT",'full menu'!H8="M&IT",'full menu'!H8="IwERT",'full menu'!H8="ERwIT",'full menu'!H8="I&ERT",'full menu'!H8="ER&M&IT",'full menu'!H8="LSD"),"subst",IF(OR('full menu'!H8="FERT",'full menu'!H8="FMT",'full menu'!H8="FIT",'full menu'!H8="WSD"),"intens",IF('full menu'!H8="UASC","UASC",""))))) -> subst | I8: =IF(OR('full menu'!I8="MDC",'full menu'!I8="PERF"),"rude",IF(OR('full menu'!I8="PCB",'full menu'!I8="AERF",'full menu'!I8="UD"),"inter",IF(OR('full menu'!I8="ACB",'full menu'!I8="LCERT",'full menu'!I8="LERT",'full menu'!I8="FCERT",'full menu'!I8="FCMT",'full menu'!I8="LCMT",'full menu'!I8="LMT",'full menu'!I8="LCIT",'full menu'!I8="FCIT",'full menu'!I8="LIT",'full menu'!I8="MwERT",'full menu'!I8="ERwMT",'full menu'!I8="M&ERT",'full menu'!I8="MwIT",'full menu'!I8="IwMT",'full menu'!I8="M&IT",'full menu'!I8="IwERT",'full menu'!I8="ERwIT",'full menu'!I8="I&ERT",'full menu'!I8="ER&M&IT",'full menu'!I8="LSD"),"subst",IF(OR('full menu'!I8="FERT",'full menu'!I8="FMT",'full menu'!I8="FIT",'full menu'!I8="WSD"),"intens",IF('full menu'!I8="UASC","UASC",""))))) -> subst | ... AY8: =IF(OR('full menu'!AY8="MDC",'full menu'!AY8="PERF"),"rude",IF(OR('full menu'!AY8="PCB",'full menu'!AY8="AERF",'full menu'!AY8="UD"),"inter",IF(OR('full menu'!AY8="ACB",'full menu'!AY8="LCERT",'full menu'!AY8="LERT",'full menu'!AY8="FCERT",'full menu'!AY8="FCMT",'full menu'!AY8="LCMT",'full menu'!AY8="LMT",'full menu'!AY8="LCIT",'full menu'!AY8="FCIT",'full menu'!AY8="LIT",'full menu'!AY8="MwERT",'full menu'!AY8="ERwMT",'full menu'!AY8="M&ERT",'full menu'!AY8="MwIT",'full menu'!AY8="IwMT",'full menu'!AY8="M&IT",'full menu'!AY8="IwERT",'full menu'!AY8="ERwIT",'full menu'!AY8="I&ERT",'full menu'!AY8="ER&M&IT",'full menu'!AY8="LSD"),"subst",IF(OR('full menu'!AY8="FERT",'full menu'!AY8="FMT",'full menu'!AY8="FIT",'full menu'!AY8="WSD"),"intens",IF('full menu'!AY8="UASC","UASC",""))))) -> intens
A9: Cyprus | B9: =IF(OR('full menu'!B9="MDC",'full menu'!B9="PERF"),"rude",IF(OR('full menu'!B9="PCB",'full menu'!B9="AERF",'full menu'!B9="UD"),"inter",IF(OR('full menu'!B9="ACB",'full menu'!B9="LCERT",'full menu'!B9="LERT",'full menu'!B9="FCERT",'full menu'!B9="FCMT",'full menu'!B9="LCMT",'full menu'!B9="LMT",'full menu'!B9="LCIT",'full menu'!B9="FCIT",'full menu'!B9="LIT",'full menu'!B9="MwERT",'full menu'!B9="ERwMT",'full menu'!B9="M&ERT",'full menu'!B9="MwIT",'full menu'!B9="IwMT",'full menu'!B9="M&IT",'full menu'!B9="IwERT",'full menu'!B9="ERwIT",'full menu'!B9="I&ERT",'full menu'!B9="ER&M&IT",'full menu'!B9="LSD"),"subst",IF(OR('full menu'!B9="FERT",'full menu'!B9="FMT",'full menu'!B9="FIT",'full menu'!B9="WSD"),"intens",IF('full menu'!B9="UASC","UASC",""))))) -> inter | C9: =IF(OR('full menu'!C9="MDC",'full menu'!C9="PERF"),"rude",IF(OR('full menu'!C9="PCB",'full menu'!C9="AERF",'full menu'!C9="UD"),"inter",IF(OR('full menu'!C9="ACB",'full menu'!C9="LCERT",'full menu'!C9="LERT",'full menu'!C9="FCERT",'full menu'!C9="FCMT",'full menu'!C9="LCMT",'full menu'!C9="LMT",'full menu'!C9="LCIT",'full menu'!C9="FCIT",'full menu'!C9="LIT",'full menu'!C9="MwERT",'full menu'!C9="ERwMT",'full menu'!C9="M&ERT",'full menu'!C9="MwIT",'full menu'!C9="IwMT",'full menu'!C9="M&IT",'full menu'!C9="IwERT",'full menu'!C9="ERwIT",'full menu'!C9="I&ERT",'full menu'!C9="ER&M&IT",'full menu'!C9="LSD"),"subst",IF(OR('full menu'!C9="FERT",'full menu'!C9="FMT",'full menu'!C9="FIT",'full menu'!C9="WSD"),"intens",IF('full menu'!C9="UASC","UASC",""))))) -> inter | D9: =IF(OR('full menu'!D9="MDC",'full menu'!D9="PERF"),"rude",IF(OR('full menu'!D9="PCB",'full menu'!D9="AERF",'full menu'!D9="UD"),"inter",IF(OR('full menu'!D9="ACB",'full menu'!D9="LCERT",'full menu'!D9="LERT",'full menu'!D9="FCERT",'full menu'!D9="FCMT",'full menu'!D9="LCMT",'full menu'!D9="LMT",'full menu'!D9="LCIT",'full menu'!D9="FCIT",'full menu'!D9="LIT",'full menu'!D9="MwERT",'full menu'!D9="ERwMT",'full menu'!D9="M&ERT",'full menu'!D9="MwIT",'full menu'!D9="IwMT",'full menu'!D9="M&IT",'full menu'!D9="IwERT",'full menu'!D9="ERwIT",'full menu'!D9="I&ERT",'full menu'!D9="ER&M&IT",'full menu'!D9="LSD"),"subst",IF(OR('full menu'!D9="FERT",'full menu'!D9="FMT",'full menu'!D9="FIT",'full menu'!D9="WSD"),"intens",IF('full menu'!D9="UASC","UASC",""))))) -> inter | E9: =IF(OR('full menu'!E9="MDC",'full menu'!E9="PERF"),"rude",IF(OR('full menu'!E9="PCB",'full menu'!E9="AERF",'full menu'!E9="UD"),"inter",IF(OR('full menu'!E9="ACB",'full menu'!E9="LCERT",'full menu'!E9="LERT",'full menu'!E9="FCERT",'full menu'!E9="FCMT",'full menu'!E9="LCMT",'full menu'!E9="LMT",'full menu'!E9="LCIT",'full menu'!E9="FCIT",'full menu'!E9="LIT",'full menu'!E9="MwERT",'full menu'!E9="ERwMT",'full menu'!E9="M&ERT",'full menu'!E9="MwIT",'full menu'!E9="IwMT",'full menu'!E9="M&IT",'full menu'!E9="IwERT",'full menu'!E9="ERwIT",'full menu'!E9="I&ERT",'full menu'!E9="ER&M&IT",'full menu'!E9="LSD"),"subst",IF(OR('full menu'!E9="FERT",'full menu'!E9="FMT",'full menu'!E9="FIT",'full menu'!E9="WSD"),"intens",IF('full menu'!E9="UASC","UASC",""))))) -> inter | F9: =IF(OR('full menu'!F9="MDC",'full menu'!F9="PERF"),"rude",IF(OR('full menu'!F9="PCB",'full menu'!F9="AERF",'full menu'!F9="UD"),"inter",IF(OR('full menu'!F9="ACB",'full menu'!F9="LCERT",'full menu'!F9="LERT",'full menu'!F9="FCERT",'full menu'!F9="FCMT",'full menu'!F9="LCMT",'full menu'!F9="LMT",'full menu'!F9="LCIT",'full menu'!F9="FCIT",'full menu'!F9="LIT",'full menu'!F9="MwERT",'full menu'!F9="ERwMT",'full menu'!F9="M&ERT",'full menu'!F9="MwIT",'full menu'!F9="IwMT",'full menu'!F9="M&IT",'full menu'!F9="IwERT",'full menu'!F9="ERwIT",'full menu'!F9="I&ERT",'full menu'!F9="ER&M&IT",'full menu'!F9="LSD"),"subst",IF(OR('full menu'!F9="FERT",'full menu'!F9="FMT",'full menu'!F9="FIT",'full menu'!F9="WSD"),"intens",IF('full menu'!F9="UASC","UASC",""))))) -> inter | G9: =IF(OR('full menu'!G9="MDC",'full menu'!G9="PERF"),"rude",IF(OR('full menu'!G9="PCB",'full menu'!G9="AERF",'full menu'!G9="UD"),"inter",IF(OR('full menu'!G9="ACB",'full menu'!G9="LCERT",'full menu'!G9="LERT",'full menu'!G9="FCERT",'full menu'!G9="FCMT",'full menu'!G9="LCMT",'full menu'!G9="LMT",'full menu'!G9="LCIT",'full menu'!G9="FCIT",'full menu'!G9="LIT",'full menu'!G9="MwERT",'full menu'!G9="ERwMT",'full menu'!G9="M&ERT",'full menu'!G9="MwIT",'full menu'!G9="IwMT",'full menu'!G9="M&IT",'full menu'!G9="IwERT",'full menu'!G9="ERwIT",'full menu'!G9="I&ERT",'full menu'!G9="ER&M&IT",'full menu'!G9="LSD"),"subst",IF(OR('full menu'!G9="FERT",'full menu'!G9="FMT",'full menu'!G9="FIT",'full menu'!G9="WSD"),"intens",IF('full menu'!G9="UASC","UASC",""))))) -> inter | H9: =IF(OR('full menu'!H9="MDC",'full menu'!H9="PERF"),"rude",IF(OR('full menu'!H9="PCB",'full menu'!H9="AERF",'full menu'!H9="UD"),"inter",IF(OR('full menu'!H9="ACB",'full menu'!H9="LCERT",'full menu'!H9="LERT",'full menu'!H9="FCERT",'full menu'!H9="FCMT",'full menu'!H9="LCMT",'full menu'!H9="LMT",'full menu'!H9="LCIT",'full menu'!H9="FCIT",'full menu'!H9="LIT",'full menu'!H9="MwERT",'full menu'!H9="ERwMT",'full menu'!H9="M&ERT",'full menu'!H9="MwIT",'full menu'!H9="IwMT",'full menu'!H9="M&IT",'full menu'!H9="IwERT",'full menu'!H9="ERwIT",'full menu'!H9="I&ERT",'full menu'!H9="ER&M&IT",'full menu'!H9="LSD"),"subst",IF(OR('full menu'!H9="FERT",'full menu'!H9="FMT",'full menu'!H9="FIT",'full menu'!H9="WSD"),"intens",IF('full menu'!H9="UASC","UASC",""))))) -> inter | I9: =IF(OR('full menu'!I9="MDC",'full menu'!I9="PERF"),"rude",IF(OR('full menu'!I9="PCB",'full menu'!I9="AERF",'full menu'!I9="UD"),"inter",IF(OR('full menu'!I9="ACB",'full menu'!I9="LCERT",'full menu'!I9="LERT",'full menu'!I9="FCERT",'full menu'!I9="FCMT",'full menu'!I9="LCMT",'full menu'!I9="LMT",'full menu'!I9="LCIT",'full menu'!I9="FCIT",'full menu'!I9="LIT",'full menu'!I9="MwERT",'full menu'!I9="ERwMT",'full menu'!I9="M&ERT",'full menu'!I9="MwIT",'full menu'!I9="IwMT",'full menu'!I9="M&IT",'full menu'!I9="IwERT",'full menu'!I9="ERwIT",'full menu'!I9="I&ERT",'full menu'!I9="ER&M&IT",'full menu'!I9="LSD"),"subst",IF(OR('full menu'!I9="FERT",'full menu'!I9="FMT",'full menu'!I9="FIT",'full menu'!I9="WSD"),"intens",IF('full menu'!I9="UASC","UASC",""))))) -> inter | ... AY9: =IF(OR('full menu'!AY9="MDC",'full menu'!AY9="PERF"),"rude",IF(OR('full menu'!AY9="PCB",'full menu'!AY9="AERF",'full menu'!AY9="UD"),"inter",IF(OR('full menu'!AY9="ACB",'full menu'!AY9="LCERT",'full menu'!AY9="LERT",'full menu'!AY9="FCERT",'full menu'!AY9="FCMT",'full menu'!AY9="LCMT",'full menu'!AY9="LMT",'full menu'!AY9="LCIT",'full menu'!AY9="FCIT",'full menu'!AY9="LIT",'full menu'!AY9="MwERT",'full menu'!AY9="ERwMT",'full menu'!AY9="M&ERT",'full menu'!AY9="MwIT",'full menu'!AY9="IwMT",'full menu'!AY9="M&IT",'full menu'!AY9="IwERT",'full menu'!AY9="ERwIT",'full menu'!AY9="I&ERT",'full menu'!AY9="ER&M&IT",'full menu'!AY9="LSD"),"subst",IF(OR('full menu'!AY9="FERT",'full menu'!AY9="FMT",'full menu'!AY9="FIT",'full menu'!AY9="WSD"),"intens",IF('full menu'!AY9="UASC","UASC","")))))
A10: Denmark | B10: =IF(OR('full menu'!B10="MDC",'full menu'!B10="PERF"),"rude",IF(OR('full menu'!B10="PCB",'full menu'!B10="AERF",'full menu'!B10="UD"),"inter",IF(OR('full menu'!B10="ACB",'full menu'!B10="LCERT",'full menu'!B10="LERT",'full menu'!B10="FCERT",'full menu'!B10="FCMT",'full menu'!B10="LCMT",'full menu'!B10="LMT",'full menu'!B10="LCIT",'full menu'!B10="FCIT",'full menu'!B10="LIT",'full menu'!B10="MwERT",'full menu'!B10="ERwMT",'full menu'!B10="M&ERT",'full menu'!B10="MwIT",'full menu'!B10="IwMT",'full menu'!B10="M&IT",'full menu'!B10="IwERT",'full menu'!B10="ERwIT",'full menu'!B10="I&ERT",'full menu'!B10="ER&M&IT",'full menu'!B10="LSD"),"subst",IF(OR('full menu'!B10="FERT",'full menu'!B10="FMT",'full menu'!B10="FIT",'full menu'!B10="WSD"),"intens",IF('full menu'!B10="UASC","UASC",""))))) -> subst | C10: =IF(OR('full menu'!C10="MDC",'full menu'!C10="PERF"),"rude",IF(OR('full menu'!C10="PCB",'full menu'!C10="AERF",'full menu'!C10="UD"),"inter",IF(OR('full menu'!C10="ACB",'full menu'!C10="LCERT",'full menu'!C10="LERT",'full menu'!C10="FCERT",'full menu'!C10="FCMT",'full menu'!C10="LCMT",'full menu'!C10="LMT",'full menu'!C10="LCIT",'full menu'!C10="FCIT",'full menu'!C10="LIT",'full menu'!C10="MwERT",'full menu'!C10="ERwMT",'full menu'!C10="M&ERT",'full menu'!C10="MwIT",'full menu'!C10="IwMT",'full menu'!C10="M&IT",'full menu'!C10="IwERT",'full menu'!C10="ERwIT",'full menu'!C10="I&ERT",'full menu'!C10="ER&M&IT",'full menu'!C10="LSD"),"subst",IF(OR('full menu'!C10="FERT",'full menu'!C10="FMT",'full menu'!C10="FIT",'full menu'!C10="WSD"),"intens",IF('full menu'!C10="UASC","UASC",""))))) -> subst | D10: =IF(OR('full menu'!D10="MDC",'full menu'!D10="PERF"),"rude",IF(OR('full menu'!D10="PCB",'full menu'!D10="AERF",'full menu'!D10="UD"),"inter",IF(OR('full menu'!D10="ACB",'full menu'!D10="LCERT",'full menu'!D10="LERT",'full menu'!D10="FCERT",'full menu'!D10="FCMT",'full menu'!D10="LCMT",'full menu'!D10="LMT",'full menu'!D10="LCIT",'full menu'!D10="FCIT",'full menu'!D10="LIT",'full menu'!D10="MwERT",'full menu'!D10="ERwMT",'full menu'!D10="M&ERT",'full menu'!D10="MwIT",'full menu'!D10="IwMT",'full menu'!D10="M&IT",'full menu'!D10="IwERT",'full menu'!D10="ERwIT",'full menu'!D10="I&ERT",'full menu'!D10="ER&M&IT",'full menu'!D10="LSD"),"subst",IF(OR('full menu'!D10="FERT",'full menu'!D10="FMT",'full menu'!D10="FIT",'full menu'!D10="WSD"),"intens",IF('full menu'!D10="UASC","UASC",""))))) -> subst | E10: =IF(OR('full menu'!E10="MDC",'full menu'!E10="PERF"),"rude",IF(OR('full menu'!E10="PCB",'full menu'!E10="AERF",'full menu'!E10="UD"),"inter",IF(OR('full menu'!E10="ACB",'full menu'!E10="LCERT",'full menu'!E10="LERT",'full menu'!E10="FCERT",'full menu'!E10="FCMT",'full menu'!E10="LCMT",'full menu'!E10="LMT",'full menu'!E10="LCIT",'full menu'!E10="FCIT",'full menu'!E10="LIT",'full menu'!E10="MwERT",'full menu'!E10="ERwMT",'full menu'!E10="M&ERT",'full menu'!E10="MwIT",'full menu'!E10="IwMT",'full menu'!E10="M&IT",'full menu'!E10="IwERT",'full menu'!E10="ERwIT",'full menu'!E10="I&ERT",'full menu'!E10="ER&M&IT",'full menu'!E10="LSD"),"subst",IF(OR('full menu'!E10="FERT",'full menu'!E10="FMT",'full menu'!E10="FIT",'full menu'!E10="WSD"),"intens",IF('full menu'!E10="UASC","UASC",""))))) -> subst | F10: =IF(OR('full menu'!F10="MDC",'full menu'!F10="PERF"),"rude",IF(OR('full menu'!F10="PCB",'full menu'!F10="AERF",'full menu'!F10="UD"),"inter",IF(OR('full menu'!F10="ACB",'full menu'!F10="LCERT",'full menu'!F10="LERT",'full menu'!F10="FCERT",'full menu'!F10="FCMT",'full menu'!F10="LCMT",'full menu'!F10="LMT",'full menu'!F10="LCIT",'full menu'!F10="FCIT",'full menu'!F10="LIT",'full menu'!F10="MwERT",'full menu'!F10="ERwMT",'full menu'!F10="M&ERT",'full menu'!F10="MwIT",'full menu'!F10="IwMT",'full menu'!F10="M&IT",'full menu'!F10="IwERT",'full menu'!F10="ERwIT",'full menu'!F10="I&ERT",'full menu'!F10="ER&M&IT",'full menu'!F10="LSD"),"subst",IF(OR('full menu'!F10="FERT",'full menu'!F10="FMT",'full menu'!F10="FIT",'full menu'!F10="WSD"),"intens",IF('full menu'!F10="UASC","UASC",""))))) -> subst | G10: =IF(OR('full menu'!G10="MDC",'full menu'!G10="PERF"),"rude",IF(OR('full menu'!G10="PCB",'full menu'!G10="AERF",'full menu'!G10="UD"),"inter",IF(OR('full menu'!G10="ACB",'full menu'!G10="LCERT",'full menu'!G10="LERT",'full menu'!G10="FCERT",'full menu'!G10="FCMT",'full menu'!G10="LCMT",'full menu'!G10="LMT",'full menu'!G10="LCIT",'full menu'!G10="FCIT",'full menu'!G10="LIT",'full menu'!G10="MwERT",'full menu'!G10="ERwMT",'full menu'!G10="M&ERT",'full menu'!G10="MwIT",'full menu'!G10="IwMT",'full menu'!G10="M&IT",'full menu'!G10="IwERT",'full menu'!G10="ERwIT",'full menu'!G10="I&ERT",'full menu'!G10="ER&M&IT",'full menu'!G10="LSD"),"subst",IF(OR('full menu'!G10="FERT",'full menu'!G10="FMT",'full menu'!G10="FIT",'full menu'!G10="WSD"),"intens",IF('full menu'!G10="UASC","UASC",""))))) -> subst | H10: =IF(OR('full menu'!H10="MDC",'full menu'!H10="PERF"),"rude",IF(OR('full menu'!H10="PCB",'full menu'!H10="AERF",'full menu'!H10="UD"),"inter",IF(OR('full menu'!H10="ACB",'full menu'!H10="LCERT",'full menu'!H10="LERT",'full menu'!H10="FCERT",'full menu'!H10="FCMT",'full menu'!H10="LCMT",'full menu'!H10="LMT",'full menu'!H10="LCIT",'full menu'!H10="FCIT",'full menu'!H10="LIT",'full menu'!H10="MwERT",'full menu'!H10="ERwMT",'full menu'!H10="M&ERT",'full menu'!H10="MwIT",'full menu'!H10="IwMT",'full menu'!H10="M&IT",'full menu'!H10="IwERT",'full menu'!H10="ERwIT",'full menu'!H10="I&ERT",'full menu'!H10="ER&M&IT",'full menu'!H10="LSD"),"subst",IF(OR('full menu'!H10="FERT",'full menu'!H10="FMT",'full menu'!H10="FIT",'full menu'!H10="WSD"),"intens",IF('full menu'!H10="UASC","UASC",""))))) -> subst | I10: =IF(OR('full menu'!I10="MDC",'full menu'!I10="PERF"),"rude",IF(OR('full menu'!I10="PCB",'full menu'!I10="AERF",'full menu'!I10="UD"),"inter",IF(OR('full menu'!I10="ACB",'full menu'!I10="LCERT",'full menu'!I10="LERT",'full menu'!I10="FCERT",'full menu'!I10="FCMT",'full menu'!I10="LCMT",'full menu'!I10="LMT",'full menu'!I10="LCIT",'full menu'!I10="FCIT",'full menu'!I10="LIT",'full menu'!I10="MwERT",'full menu'!I10="ERwMT",'full menu'!I10="M&ERT",'full menu'!I10="MwIT",'full menu'!I10="IwMT",'full menu'!I10="M&IT",'full menu'!I10="IwERT",'full menu'!I10="ERwIT",'full menu'!I10="I&ERT",'full menu'!I10="ER&M&IT",'full menu'!I10="LSD"),"subst",IF(OR('full menu'!I10="FERT",'full menu'!I10="FMT",'full menu'!I10="FIT",'full menu'!I10="WSD"),"intens",IF('full menu'!I10="UASC","UASC",""))))) -> subst | ... AY10: =IF(OR('full menu'!AY10="MDC",'full menu'!AY10="PERF"),"rude",IF(OR('full menu'!AY10="PCB",'full menu'!AY10="AERF",'full menu'!AY10="UD"),"inter",IF(OR('full menu'!AY10="ACB",'full menu'!AY10="LCERT",'full menu'!AY10="LERT",'full menu'!AY10="FCERT",'full menu'!AY10="FCMT",'full menu'!AY10="LCMT",'full menu'!AY10="LMT",'full menu'!AY10="LCIT",'full menu'!AY10="FCIT",'full menu'!AY10="LIT",'full menu'!AY10="MwERT",'full menu'!AY10="ERwMT",'full menu'!AY10="M&ERT",'full menu'!AY10="MwIT",'full menu'!AY10="IwMT",'full menu'!AY10="M&IT",'full menu'!AY10="IwERT",'full menu'!AY10="ERwIT",'full menu'!AY10="I&ERT",'full menu'!AY10="ER&M&IT",'full menu'!AY10="LSD"),"subst",IF(OR('full menu'!AY10="FERT",'full menu'!AY10="FMT",'full menu'!AY10="FIT",'full menu'!AY10="WSD"),"intens",IF('full menu'!AY10="UASC","UASC",""))))) -> intens
A11: Euro area | B11: =IF(OR('full menu'!B11="MDC",'full menu'!B11="PERF"),"rude",IF(OR('full menu'!B11="PCB",'full menu'!B11="AERF",'full menu'!B11="UD"),"inter",IF(OR('full menu'!B11="ACB",'full menu'!B11="LCERT",'full menu'!B11="LERT",'full menu'!B11="FCERT",'full menu'!B11="FCMT",'full menu'!B11="LCMT",'full menu'!B11="LMT",'full menu'!B11="LCIT",'full menu'!B11="FCIT",'full menu'!B11="LIT",'full menu'!B11="MwERT",'full menu'!B11="ERwMT",'full menu'!B11="M&ERT",'full menu'!B11="MwIT",'full menu'!B11="IwMT",'full menu'!B11="M&IT",'full menu'!B11="IwERT",'full menu'!B11="ERwIT",'full menu'!B11="I&ERT",'full menu'!B11="ER&M&IT",'full menu'!B11="LSD"),"subst",IF(OR('full menu'!B11="FERT",'full menu'!B11="FMT",'full menu'!B11="FIT",'full menu'!B11="WSD"),"intens",IF('full menu'!B11="UASC","UASC",""))))) | C11: =IF(OR('full menu'!C11="MDC",'full menu'!C11="PERF"),"rude",IF(OR('full menu'!C11="PCB",'full menu'!C11="AERF",'full menu'!C11="UD"),"inter",IF(OR('full menu'!C11="ACB",'full menu'!C11="LCERT",'full menu'!C11="LERT",'full menu'!C11="FCERT",'full menu'!C11="FCMT",'full menu'!C11="LCMT",'full menu'!C11="LMT",'full menu'!C11="LCIT",'full menu'!C11="FCIT",'full menu'!C11="LIT",'full menu'!C11="MwERT",'full menu'!C11="ERwMT",'full menu'!C11="M&ERT",'full menu'!C11="MwIT",'full menu'!C11="IwMT",'full menu'!C11="M&IT",'full menu'!C11="IwERT",'full menu'!C11="ERwIT",'full menu'!C11="I&ERT",'full menu'!C11="ER&M&IT",'full menu'!C11="LSD"),"subst",IF(OR('full menu'!C11="FERT",'full menu'!C11="FMT",'full menu'!C11="FIT",'full menu'!C11="WSD"),"intens",IF('full menu'!C11="UASC","UASC",""))))) | D11: =IF(OR('full menu'!D11="MDC",'full menu'!D11="PERF"),"rude",IF(OR('full menu'!D11="PCB",'full menu'!D11="AERF",'full menu'!D11="UD"),"inter",IF(OR('full menu'!D11="ACB",'full menu'!D11="LCERT",'full menu'!D11="LERT",'full menu'!D11="FCERT",'full menu'!D11="FCMT",'full menu'!D11="LCMT",'full menu'!D11="LMT",'full menu'!D11="LCIT",'full menu'!D11="FCIT",'full menu'!D11="LIT",'full menu'!D11="MwERT",'full menu'!D11="ERwMT",'full menu'!D11="M&ERT",'full menu'!D11="MwIT",'full menu'!D11="IwMT",'full menu'!D11="M&IT",'full menu'!D11="IwERT",'full menu'!D11="ERwIT",'full menu'!D11="I&ERT",'full menu'!D11="ER&M&IT",'full menu'!D11="LSD"),"subst",IF(OR('full menu'!D11="FERT",'full menu'!D11="FMT",'full menu'!D11="FIT",'full menu'!D11="WSD"),"intens",IF('full menu'!D11="UASC","UASC",""))))) | E11: =IF(OR('full menu'!E11="MDC",'full menu'!E11="PERF"),"rude",IF(OR('full menu'!E11="PCB",'full menu'!E11="AERF",'full menu'!E11="UD"),"inter",IF(OR('full menu'!E11="ACB",'full menu'!E11="LCERT",'full menu'!E11="LERT",'full menu'!E11="FCERT",'full menu'!E11="FCMT",'full menu'!E11="LCMT",'full menu'!E11="LMT",'full menu'!E11="LCIT",'full menu'!E11="FCIT",'full menu'!E11="LIT",'full menu'!E11="MwERT",'full menu'!E11="ERwMT",'full menu'!E11="M&ERT",'full menu'!E11="MwIT",'full menu'!E11="IwMT",'full menu'!E11="M&IT",'full menu'!E11="IwERT",'full menu'!E11="ERwIT",'full menu'!E11="I&ERT",'full menu'!E11="ER&M&IT",'full menu'!E11="LSD"),"subst",IF(OR('full menu'!E11="FERT",'full menu'!E11="FMT",'full menu'!E11="FIT",'full menu'!E11="WSD"),"intens",IF('full menu'!E11="UASC","UASC",""))))) | F11: =IF(OR('full menu'!F11="MDC",'full menu'!F11="PERF"),"rude",IF(OR('full menu'!F11="PCB",'full menu'!F11="AERF",'full menu'!F11="UD"),"inter",IF(OR('full menu'!F11="ACB",'full menu'!F11="LCERT",'full menu'!F11="LERT",'full menu'!F11="FCERT",'full menu'!F11="FCMT",'full menu'!F11="LCMT",'full menu'!F11="LMT",'full menu'!F11="LCIT",'full menu'!F11="FCIT",'full menu'!F11="LIT",'full menu'!F11="MwERT",'full menu'!F11="ERwMT",'full menu'!F11="M&ERT",'full menu'!F11="MwIT",'full menu'!F11="IwMT",'full menu'!F11="M&IT",'full menu'!F11="IwERT",'full menu'!F11="ERwIT",'full menu'!F11="I&ERT",'full menu'!F11="ER&M&IT",'full menu'!F11="LSD"),"subst",IF(OR('full menu'!F11="FERT",'full menu'!F11="FMT",'full menu'!F11="FIT",'full menu'!F11="WSD"),"intens",IF('full menu'!F11="UASC","UASC",""))))) | G11: =IF(OR('full menu'!G11="MDC",'full menu'!G11="PERF"),"rude",IF(OR('full menu'!G11="PCB",'full menu'!G11="AERF",'full menu'!G11="UD"),"inter",IF(OR('full menu'!G11="ACB",'full menu'!G11="LCERT",'full menu'!G11="LERT",'full menu'!G11="FCERT",'full menu'!G11="FCMT",'full menu'!G11="LCMT",'full menu'!G11="LMT",'full menu'!G11="LCIT",'full menu'!G11="FCIT",'full menu'!G11="LIT",'full menu'!G11="MwERT",'full menu'!G11="ERwMT",'full menu'!G11="M&ERT",'full menu'!G11="MwIT",'full menu'!G11="IwMT",'full menu'!G11="M&IT",'full menu'!G11="IwERT",'full menu'!G11="ERwIT",'full menu'!G11="I&ERT",'full menu'!G11="ER&M&IT",'full menu'!G11="LSD"),"subst",IF(OR('full menu'!G11="FERT",'full menu'!G11="FMT",'full menu'!G11="FIT",'full menu'!G11="WSD"),"intens",IF('full menu'!G11="UASC","UASC",""))))) | H11: =IF(OR('full menu'!H11="MDC",'full menu'!H11="PERF"),"rude",IF(OR('full menu'!H11="PCB",'full menu'!H11="AERF",'full menu'!H11="UD"),"inter",IF(OR('full menu'!H11="ACB",'full menu'!H11="LCERT",'full menu'!H11="LERT",'full menu'!H11="FCERT",'full menu'!H11="FCMT",'full menu'!H11="LCMT",'full menu'!H11="LMT",'full menu'!H11="LCIT",'full menu'!H11="FCIT",'full menu'!H11="LIT",'full menu'!H11="MwERT",'full menu'!H11="ERwMT",'full menu'!H11="M&ERT",'full menu'!H11="MwIT",'full menu'!H11="IwMT",'full menu'!H11="M&IT",'full menu'!H11="IwERT",'full menu'!H11="ERwIT",'full menu'!H11="I&ERT",'full menu'!H11="ER&M&IT",'full menu'!H11="LSD"),"subst",IF(OR('full menu'!H11="FERT",'full menu'!H11="FMT",'full menu'!H11="FIT",'full menu'!H11="WSD"),"intens",IF('full menu'!H11="UASC","UASC",""))))) | I11: =IF(OR('full menu'!I11="MDC",'full menu'!I11="PERF"),"rude",IF(OR('full menu'!I11="PCB",'full menu'!I11="AERF",'full menu'!I11="UD"),"inter",IF(OR('full menu'!I11="ACB",'full menu'!I11="LCERT",'full menu'!I11="LERT",'full menu'!I11="FCERT",'full menu'!I11="FCMT",'full menu'!I11="LCMT",'full menu'!I11="LMT",'full menu'!I11="LCIT",'full menu'!I11="FCIT",'full menu'!I11="LIT",'full menu'!I11="MwERT",'full menu'!I11="ERwMT",'full menu'!I11="M&ERT",'full menu'!I11="MwIT",'full menu'!I11="IwMT",'full menu'!I11="M&IT",'full menu'!I11="IwERT",'full menu'!I11="ERwIT",'full menu'!I11="I&ERT",'full menu'!I11="ER&M&IT",'full menu'!I11="LSD"),"subst",IF(OR('full menu'!I11="FERT",'full menu'!I11="FMT",'full menu'!I11="FIT",'full menu'!I11="WSD"),"intens",IF('full menu'!I11="UASC","UASC",""))))) | ... AY11: =IF(OR('full menu'!AY11="MDC",'full menu'!AY11="PERF"),"rude",IF(OR('full menu'!AY11="PCB",'full menu'!AY11="AERF",'full menu'!AY11="UD"),"inter",IF(OR('full menu'!AY11="ACB",'full menu'!AY11="LCERT",'full menu'!AY11="LERT",'full menu'!AY11="FCERT",'full menu'!AY11="FCMT",'full menu'!AY11="LCMT",'full menu'!AY11="LMT",'full menu'!AY11="LCIT",'full menu'!AY11="FCIT",'full menu'!AY11="LIT",'full menu'!AY11="MwERT",'full menu'!AY11="ERwMT",'full menu'!AY11="M&ERT",'full menu'!AY11="MwIT",'full menu'!AY11="IwMT",'full menu'!AY11="M&IT",'full menu'!AY11="IwERT",'full menu'!AY11="ERwIT",'full menu'!AY11="I&ERT",'full menu'!AY11="ER&M&IT",'full menu'!AY11="LSD"),"subst",IF(OR('full menu'!AY11="FERT",'full menu'!AY11="FMT",'full menu'!AY11="FIT",'full menu'!AY11="WSD"),"intens",IF('full menu'!AY11="UASC","UASC",""))))) -> subst
