Workbook

Sheet full menu
A1: country | B1: 1974 | C1: 1975 | D1: 1976 | E1: 1977 | F1: 1978 | G1: 1979 | H1: 1980 | I1: 1981 | J1: 1982 | K1: 1983 | L1: 1984 | M1: 1985 | N1: 1986 | O1: 1987 | P1: 1988 | Q1: 1989 | R1: 1990 | S1: 1991 | T1: 1992 | U1: 1993 | V1: 1994 | W1: 1995 | X1: 1996 | Y1: 1997 | Z1: 1998 | AA1: 1999 | AB1: 2000 | AC1: 2001 | AD1: 2002 | AE1: 2003 | AF1: 2004 | AG1: 2005 | AH1: 2006 | AI1: 2007 | AJ1: 2008 | AK1: 2009 | AL1: 2010 | AM1: 2011 | AN1: 2012 | AO1: 2013 | AP1: 2014 | AQ1: 2015 | AR1: 2016 | AS1: 2017 | AT1: 2018 | AU1: 2019 | AV1: 2020 | AW1: 2021 | AX1: 2022 | AY1: 2023
A2: Australia | B2: AERF | C2: AERF | D2: AERF | E2: LMT | F2: LMT | G2: LMT | H2: LMT | I2: LMT | J2: LMT | K2: LMT | L2: LSD | M2: LSD | N2: LSD | O2: LSD | P2: LSD | Q2: LSD | R2: LSD | S2: LSD | T2: LSD | U2: LIT | V2: LIT | W2: LIT | X2: LIT | Y2: FIT | Z2: FIT | AA2: FIT | AB2: FIT | AC2: FIT | AD2: FIT | AE2: FIT | AF2: FIT | AG2: FIT | AH2: FIT | AI2: FIT | AJ2: FIT | AK2: FIT | AL2: FIT | AM2: FIT | AN2: FIT | AO2: FIT | AP2: FIT | AQ2: FIT | AR2: FIT | AS2: FIT | AT2: FIT | AU2: FIT | AV2: FIT | AW2: FIT | AX2: FIT | AY2: FIT
A3: Austria | B3: LERT | C3: LERT | D3: LERT | E3: LERT | F3: LERT | G3: LERT | H3: FERT | I3: FERT | J3: FERT | K3: FERT | L3: FERT | M3: FERT | N3: FERT | O3: FERT | P3: FERT | Q3: FERT | R3: FERT | S3: FERT | T3: FERT | U3: FERT | V3: FERT | W3: FERT | X3: FERT | Y3: FERT | Z3: FERT | AA3: CU | AB3: CU | AC3: CU | AD3: CU | AE3: CU | AF3: CU | AG3: CU | AH3: CU | AI3: CU | AJ3: CU | AK3: CU | AL3: CU | AM3: CU | AN3: CU | AO3: CU | AP3: CU | AQ3: CU | AR3: CU | AS3: CU | AT3: CU | AU3: CU | AV3: CU | AW3: CU | AX3: CU | AY3: CU
A4: Bahamas | B4: AERF | C4: AERF | D4: AERF | E4: AERF | F4: AERF | G4: AERF | H4: AERF | I4: AERF | J4: AERF | K4: AERF | L4: AERF | M4: AERF | N4: AERF | O4: AERF | P4: AERF | Q4: AERF | R4: AERF | S4: AERF | T4: AERF | U4: AERF | V4: AERF | W4: AERF | X4: AERF | Y4: AERF | Z4: AERF | AA4: AERF | AB4: AERF | AC4: AERF | AD4: AERF | AE4: AERF | AF4: AERF | AG4: AERF | AH4: AERF | AI4: AERF | AJ4: AERF | AK4: AERF | AL4: AERF | AM4: AERF | AN4: AERF | AO4: AERF | AP4: AERF | AQ4: AERF | AR4: AERF | AS4: AERF | AT4: AERF | AU4: AERF | AV4: AERF | AW4: AERF | AX4: AERF | AY4: AERF
A5: Bahrain | B5: ACB | C5: AERF | D5: AERF | E5: AERF | F5: AERF | G5: AERF | H5: AERF | I5: AERF | J5: AERF | K5: AERF | L5: AERF | M5: AERF | N5: AERF | O5: AERF | P5: AERF | Q5: AERF | R5: AERF | S5: AERF | T5: AERF | U5: AERF | V5: AERF | W5: FERT | X5: FERT | Y5: FERT | Z5: FERT | AA5: FERT | AB5: FERT | AC5: FERT | AD5: FERT | AE5: FERT | AF5: FERT | AG5: FERT | AH5: FERT | AI5: FERT | AJ5: FERT | AK5: FERT | AL5: FERT | AM5: FERT | AN5: FERT | AO5: FERT | AP5: FERT | AQ5: FERT | AR5: FERT | AS5: FERT | AT5: FERT | AU5: FERT | AV5: FERT | AW5: FERT | AX5: FERT | AY5: FERT
A6: Belgium | B6: LERT | C6: LERT | D6: LERT | E6: LERT | F6: LERT | G6: LERT | H6: LERT | I6: LERT | J6: LERT | K6: FERT | L6: FERT | M6: FERT | N6: FERT | O6: FERT | P6: FERT | Q6: FERT | R6: FERT | S6: FERT | T6: FERT | U6: FERT | V6: FERT | W6: FERT | X6: FERT | Y6: FERT | Z6: FERT | AA6: CU | AB6: CU | AC6: CU | AD6: CU | AE6: CU | AF6: CU | AG6: CU | AH6: CU | AI6: CU | AJ6: CU | AK6: CU | AL6: CU | AM6: CU | AN6: CU | AO6: CU | AP6: CU | AQ6: CU | AR6: CU | AS6: CU | AT6: CU | AU6: CU | AV6: CU | AW6: CU | AX6: CU | AY6: CU
A7: Brunei | B7: PCB | C7: PCB | D7: PCB | E7: PCB | F7: PCB | G7: PCB | H7: PCB | I7: PCB | J7: PCB | K7: PCB | L7: PCB | M7: PCB | N7: PCB | O7: PCB | P7: PCB | Q7: PCB | R7: PCB | S7: PCB | T7: PCB | U7: PCB | V7: PCB | W7: PCB | X7: PCB | Y7: PCB | Z7: PCB | AA7: PCB | AB7: PCB | AC7: PCB | AD7: PCB | AE7: PCB | AF7: PCB | AG7: PCB | AH7: PCB | AI7: PCB | AJ7: PCB | AK7: PCB | AL7: PCB | AM7: PCB | AN7: PCB | AO7: ACB | AP7: ACB | AQ7: ACB | AR7: ACB | AS7: ACB | AT7: ACB | AU7: ACB | AV7: ACB | AW7: ACB | AX7: ACB | AY7: ACB
A8: Canada | B8: LSD | C8: LSD | D8: LCMT | E8: LCMT | F8: LCMT | G8: LCMT | H8: LCMT | I8: LSD | J8: LSD | K8: LSD | L8: LSD | M8: LSD | N8: LSD | O8: LSD | P8: LSD | Q8: LSD | R8: LSD | S8: LSD | T8: FIT | U8: FIT | V8: FIT | W8: FIT | X8: FIT | Y8: FIT | Z8: FIT | AA8: FIT | AB8: FIT | AC8: FIT | AD8: FIT | AE8: FIT | AF8: FIT | AG8: FIT | AH8: FIT | AI8: FIT | AJ8: FIT | AK8: FIT | AL8: FIT | AM8: FIT | AN8: FIT | AO8: FIT | AP8: FIT | AQ8: FIT | AR8: FIT | AS8: FIT | AT8: FIT | AU8: FIT | AV8: FIT | AW8: FIT | AX8: FIT | AY8: FIT
A9: Cyprus | B9: AERF | C9: AERF | D9: AERF | E9: AERF | F9: AERF | G9: AERF | H9: AERF | I9: AERF | J9: AERF | K9: AERF | L9: AERF | M9: AERF | N9: AERF | O9: AERF | P9: AERF | Q9: AERF | R9: LERT | S9: LERT | T9: FERT | U9: FERT | V9: FERT | W9: FERT | X9: FERT | Y9: FERT | Z9: FERT | AA9: FERT | AB9: FERT | AC9: FERT | AD9: FERT | AE9: FERT | AF9: FERT | AG9: FERT | AH9: FERT | AI9: FERT | AJ9: CU | AK9: CU | AL9: CU | AM9: CU | AN9: CU | AO9: CU | AP9: CU | AQ9: CU | AR9: CU | AS9: CU | AT9: CU | AU9: CU | AV9: CU | AW9: CU | AX9: CU | AY9: CU
A10: Denmark | B10: LERT | C10: LERT | D10: LERT | E10: LERT | F10: LERT | G10: LERT | H10: LERT | I10: LERT | J10: LERT | K10: FERT | L10: FERT | M10: FERT | N10: FERT | O10: FERT | P10: FERT | Q10: FERT | R10: FERT | S10: FERT | T10: FERT | U10: FERT | V10: FERT | W10: FERT | X10: FERT | Y10: FERT | Z10: FERT | AA10: FERT | AB10: FERT | AC10: FERT | AD10: FERT | AE10: FERT | AF10: FERT | AG10: FERT | AH10: FERT | AI10: FERT | AJ10: FERT | AK10: FERT | AL10: FERT | AM10: FERT | AN10: FERT | AO10: FERT | AP10: FERT | AQ10: FERT | AR10: FERT | AS10: FERT | AT10: FERT | AU10: FERT | AV10: FERT | AW10: FERT | AX10: FERT | AY10: FERT
A11: Euro area | B11: X | C11: X | D11: X | E11: X | F11: X | G11: X | H11: X | I11: X | J11: X | K11: X | L11: X | M11: X | N11: X | O11: X | P11: X | Q11: X | R11: X | S11: X | T11: X | U11: X | V11: X | W11: X | X11: X | Y11: X | Z11: X | AA11: LIT | AB11: LIT | AC11: LIT | AD11: LIT | AE11: LIT | AF11: LIT | AG11: LIT | AH11: LIT | AI11: LIT | AJ11: LIT | AK11: LIT | AL11: LIT | AM11: LIT | AN11: LIT | AO11: LIT | AP11: LIT | AQ11: LIT | AR11: LIT | AS11: LIT | AT11: LIT | AU11: LIT | AV11: LIT | AW11: LIT | AX11: LIT | AY11: LIT
A12: Finland | B12: LERT | C12: LERT | D12: LERT | E12: LERT | F12: LERT | G12: LERT | H12: LERT | I12: LERT | J12: LERT | K12: FERT | L12: FERT | M12: FERT | N12: FERT | O12: FERT | P12: FERT | Q12: FERT | R12: FERT | S12: FERT | T12: FERT | U12: FIT | V12: FIT | W12: FIT | X12: FIT | Y12: IwERT | Z12: IwERT | AA12: CU | AB12: CU | AC12: CU | AD12: CU | AE12: CU | AF12: CU | AG12: CU | AH12: CU | AI12: CU | AJ12: CU | AK12: CU | AL12: CU | AM12: CU | AN12: CU | AO12: CU | AP12: CU | AQ12: CU | AR12: CU | AS12: CU | AT12: CU | AU12: CU | AV12: CU | AW12: CU | AX12: CU | AY12: CU
A13: France | B13: LSD | C13: LSD | D13: LSD | E13: MwERT | F13: MwERT | G13: MwERT | H13: MwERT | I13: MwERT | J13: MwERT | K13: M&ERT | L13: M&ERT | M13: M&ERT | N13: M&ERT | O13: ERwMT | P13: ERwMT | Q13: ERwMT | R13: ERwMT | S13: ERwMT | T13: ERwMT | U13: FERT | V13: FERT | W13: FERT | X13: FERT | Y13: FERT | Z13: FERT | AA13: CU | AB13: CU | AC13: CU | AD13: CU | AE13: CU | AF13: CU | AG13: CU | AH13: CU | AI13: CU | AJ13: CU | AK13: CU | AL13: CU | AM13: CU | AN13: CU | AO13: CU | AP13: CU | AQ13: CU | AR13: CU | AS13: CU | AT13: CU | AU13: CU | AV13: CU | AW13: CU | AX13: CU | AY13: CU
... A41: USA | B41: LSD | C41: FCMT | D41: FCMT | E41: FCMT | F41: FCMT | G41: FCMT | H41: FCMT | I41: LMT | J41: LMT | K41: LMT | L41: LMT | M41: LMT | N41: LMT | O41: LMT | P41: LMT | Q41: LMT | R41: LSD | S41: LSD | T41: LSD | U41: LSD | V41: LSD | W41: LSD | X41: LIT | Y41: LIT | Z41: LIT | AA41: LIT | AB41: LIT | AC41: LIT | AD41: LIT | AE41: LIT | AF41: LIT | AG41: LIT | AH41: LIT | AI41: LIT | AJ41: LIT | AK41: LIT | AL41: LIT | AM41: LIT | AN41: FIT | AO41: FIT | AP41: FIT | AQ41: FIT | AR41: FIT | AS41: FIT | AT41: FIT | AU41: FIT | AV41: FIT | AW41: FIT | AX41: FIT | AY41: FIT
B65: 1974 | C65: 1975 | D65: 1976 | E65: 1977 | F65: 1978 | G65: 1979 | H65: 1980 | I65: 1981 | J65: 1982 | K65: 1983 | L65: 1984 | M65: 1985 | N65: 1986 | O65: 1987 | P65: 1988 | Q65: 1989 | R65: 1990 | S65: 1991 | T65: 1992 | U65: 1993 | V65: 1994 | W65: 1995 | X65: 1996 | Y65: 1997 | Z65: 1998 | AA65: 1999 | AB65: 2000 | AC65: 2001 | AD65: 2002 | AE65: 2003 | AF65: 2004 | AG65: 2005 | AH65: 2006 | AI65: 2007 | AJ65: 2008 | AK65: 2009 | AL65: 2010 | AM65: 2011 | AN65: 2012 | AO65: 2013 | AP65: 2014 | AQ65: 2015 | AR65: 2016 | AS65: 2017 | AT65: 2017 | AU65: 2017 | AV65: 2017 | AW65: 2017 | AX65: 2017 | AY65: 2017
A66: X | B66: =COUNTIF(B2:B41,"X") -> 2 | C66: =COUNTIF(C2:C41,"X") -> 2 | D66: =COUNTIF(D2:D41,"X") -> 2 | E66: =COUNTIF(E2:E41,"X") -> 2 | F66: =COUNTIF(F2:F41,"X") -> 2 | G66: =COUNTIF(G2:G41,"X") -> 2 | H66: =COUNTIF(H2:H41,"X") -> 2 | I66: =COUNTIF(I2:I41,"X") -> 2 | ... AY66: =COUNTIF(AY2:AY41,"X") -> 0
A67: MDC | B67: =COUNTIF(B2:B41,"MDC") -> 0 | C67: =COUNTIF(C2:C41,"MDC") -> 0 | D67: =COUNTIF(D2:D41,"MDC") -> 0 | E67: =COUNTIF(E2:E41,"MDC") -> 0 | F67: =COUNTIF(F2:F41,"MDC") -> 0 | G67: =COUNTIF(G2:G41,"MDC") -> 0 | H67: =COUNTIF(H2:H41,"MDC") -> 0 | I67: =COUNTIF(I2:I41,"MDC") -> 0 | ... AY67: =COUNTIF(AY2:AY41,"MDC") -> 0
A68: PERF | B68: =COUNTIF(B2:B41,"PERF") -> 1 | C68: =COUNTIF(C2:C41,"PERF") -> 1 | D68: =COUNTIF(D2:D41,"PERF") -> 1 | E68: =COUNTIF(E2:E41,"PERF") -> 0 | F68: =COUNTIF(F2:F41,"PERF") -> 0 | G68: =COUNTIF(G2:G41,"PERF") -> 0 | H68: =COUNTIF(H2:H41,"PERF") -> 0 | I68: =COUNTIF(I2:I41,"PERF") -> 0 | ... AY68: =COUNTIF(AY2:AY41,"PERF") -> 0
A69: AERF | B69: =COUNTIF(B2:B41,"AERF") -> 7 | C69: =COUNTIF(C2:C41,"AERF") -> 8 | D69: =COUNTIF(D2:D41,"AERF") -> 8 | E69: =COUNTIF(E2:E41,"AERF") -> 7 | F69: =COUNTIF(F2:F41,"AERF") -> 7 | G69: =COUNTIF(G2:G41,"AERF") -> 5 | H69: =COUNTIF(H2:H41,"AERF") -> 5 | I69: =COUNTIF(I2:I41,"AERF") -> 5 | ... AY69: =COUNTIF(AY2:AY41,"AERF") -> 1
A70: PCB | B70: =COUNTIF(B2:B41,"PCB") -> 2 | C70: =COUNTIF(C2:C41,"PCB") -> 2 | D70: =COUNTIF(D2:D41,"PCB") -> 2 | E70: =COUNTIF(E2:E41,"PCB") -> 3 | F70: =COUNTIF(F2:F41,"PCB") -> 3 | G70: =COUNTIF(G2:G41,"PCB") -> 2 | H70: =COUNTIF(H2:H41,"PCB") -> 2 | I70: =COUNTIF(I2:I41,"PCB") -> 2 | ... AY70: =COUNTIF(AY2:AY41,"PCB") -> 1
A71: ACB | B71: =COUNTIF(B2:B41,"ACB") -> 3 | C71: =COUNTIF(C2:C41,"ACB") -> 2 | D71: =COUNTIF(D2:D41,"ACB") -> 2 | E71: =COUNTIF(E2:E41,"ACB") -> 2 | F71: =COUNTIF(F2:F41,"ACB") -> 2 | G71: =COUNTIF(G2:G41,"ACB") -> 2 | H71: =COUNTIF(H2:H41,"ACB") -> 2 | I71: =COUNTIF(I2:I41,"ACB") -> 1 | ... AY71: =COUNTIF(AY2:AY41,"ACB") -> 2
A72: UD | B72: =COUNTIF(B2:B41,"UD") -> 6 | C72: =COUNTIF(C2:C41,"UD") -> 7 | D72: =COUNTIF(D2:D41,"UD") -> 7 | E72: =COUNTIF(E2:E41,"UD") -> 7 | F72: =COUNTIF(F2:F41,"UD") -> 6 | G72: =COUNTIF(G2:G41,"UD") -> 5 | H72: =COUNTIF(H2:H41,"UD") -> 5 | I72: =COUNTIF(I2:I41,"UD") -> 5 | ... AY72: =COUNTIF(AY2:AY41,"UD") -> 0
A73: LERT | B73: =COUNTIF(B2:B41,"LERT") -> 7 | C73: =COUNTIF(C2:C41,"LERT") -> 7 | D73: =COUNTIF(D2:D41,"LERT") -> 8 | E73: =COUNTIF(E2:E41,"LERT") -> 8 | F73: =COUNTIF(F2:F41,"LERT") -> 8 | G73: =COUNTIF(G2:G41,"LERT") -> 9 | H73: =COUNTIF(H2:H41,"LERT") -> 8 | I73: =COUNTIF(I2:I41,"LERT") -> 8 | ... AY73: =COUNTIF(AY2:AY41,"LERT") -> 1
A74: LCERT | B74: =COUNTIF(B2:B41,"LCERT") -> 0 | C74: =COUNTIF(C2:C41,"LCERT") -> 0 | D74: =COUNTIF(D2:D41,"LCERT") -> 0 | E74: =COUNTIF(E2:E41,"LCERT") -> 0 | F74: =COUNTIF(F2:F41,"LCERT") -> 1 | G74: =COUNTIF(G2:G41,"LCERT") -> 1 | H74: =COUNTIF(H2:H41,"LCERT") -> 1 | I74: =COUNTIF(I2:I41,"LCERT") -> 1 | ... AY74: =COUNTIF(AY2:AY41,"LCERT") -> 0
A75: LMT | B75: =COUNTIF(B2:B41,"LMT") -> 1 | C75: =COUNTIF(C2:C41,"LMT") -> 2 | D75: =COUNTIF(D2:D41,"LMT") -> 2 | E75: =COUNTIF(E2:E41,"LMT") -> 3 | F75: =COUNTIF(F2:F41,"LMT") -> 1 | G75: =COUNTIF(G2:G41,"LMT") -> 1 | H75: =COUNTIF(H2:H41,"LMT") -> 1 | I75: =COUNTIF(I2:I41,"LMT") -> 2 | ... AY75: =COUNTIF(AY2:AY41,"LMT") -> 0
A76: LCMT | B76: =COUNTIF(B2:B41,"LCMT") -> 0 | C76: =COUNTIF(C2:C41,"LCMT") -> 0 | D76: =COUNTIF(D2:D41,"LCMT") -> 1 | E76: =COUNTIF(E2:E41,"LCMT") -> 1 | F76: =COUNTIF(F2:F41,"LCMT") -> 1 | G76: =COUNTIF(G2:G41,"LCMT") -> 2 | H76: =COUNTIF(H2:H41,"LCMT") -> 2 | I76: =COUNTIF(I2:I41,"LCMT") -> 1 | ... AY76: =COUNTIF(AY2:AY41,"LCMT") -> 0
A77: LIT | B77: =COUNTIF(B2:B41,"LIT") -> 0 | C77: =COUNTIF(C2:C41,"LIT") -> 0 | D77: =COUNTIF(D2:D41,"LIT") -> 0 | E77: =COUNTIF(E2:E41,"LIT") -> 0 | F77: =COUNTIF(F2:F41,"LIT") -> 0 | G77: =COUNTIF(G2:G41,"LIT") -> 0 | H77: =COUNTIF(H2:H41,"LIT") -> 0 | I77: =COUNTIF(I2:I41,"LIT") -> 0 | ... AY77: =COUNTIF(AY2:AY41,"LIT") -> 3
A78: LCIT | B78: =COUNTIF(B2:B41,"LCIT") -> 0 | C78: =COUNTIF(C2:C41,"LCIT") -> 0 | D78: =COUNTIF(D2:D41,"LCIT") -> 0 | E78: =COUNTIF(E2:E41,"LCIT") -> 0 | F78: =COUNTIF(F2:F41,"LCIT") -> 0 | G78: =COUNTIF(G2:G41,"LCIT") -> 0 | H78: =COUNTIF(H2:H41,"LCIT") -> 0 | I78: =COUNTIF(I2:I41,"LCIT") -> 0 | ... AY78: =COUNTIF(AY2:AY41,"LCIT") -> 0
A79: MwERT | B79: =COUNTIF(B2:B41,"MwERT") -> 0 | C79: =COUNTIF(C2:C41,"MwERT") -> 1 | D79: =COUNTIF(D2:D41,"MwERT") -> 1 | E79: =COUNTIF(E2:E41,"MwERT") -> 2 | F79: =COUNTIF(F2:F41,"MwERT") -> 2 | G79: =COUNTIF(G2:G41,"MwERT") -> 3 | H79: =COUNTIF(H2:H41,"MwERT") -> 3 | I79: =COUNTIF(I2:I41,"MwERT") -> 3 | ... AY79: =COUNTIF(AY2:AY41,"MwERT") -> 0
A80: ERwMT | B80: =COUNTIF(B2:B41,"ERwMT") -> 0 | C80: =COUNTIF(C2:C41,"ERwMT") -> 0 | D80: =COUNTIF(D2:D41,"ERwMT") -> 0 | E80: =COUNTIF(E2:E41,"ERwMT") -> 0 | F80: =COUNTIF(F2:F41,"ERwMT") -> 0 | G80: =COUNTIF(G2:G41,"ERwMT") -> 0 | H80: =COUNTIF(H2:H41,"ERwMT") -> 0 | I80: =COUNTIF(I2:I41,"ERwMT") -> 0 | ... AY80: =COUNTIF(AY2:AY41,"ERwMT") -> 0
A81: M&ERT | B81: =COUNTIF(B2:B41,"M&ERT") -> 0 | C81: =COUNTIF(C2:C41,"M&ERT") -> 0 | D81: =COUNTIF(D2:D41,"M&ERT") -> 0 | E81: =COUNTIF(E2:E41,"M&ERT") -> 0 | F81: =COUNTIF(F2:F41,"M&ERT") -> 0 | G81: =COUNTIF(G2:G41,"M&ERT") -> 0 | H81: =COUNTIF(H2:H41,"M&ERT") -> 0 | I81: =COUNTIF(I2:I41,"M&ERT") -> 0 | ... AY81: =COUNTIF(AY2:AY41,"M&ERT") -> 0
A82: MwIT | B82: =COUNTIF(B2:B41,"MwIT") -> 0 | C82: =COUNTIF(C2:C41,"MwIT") -> 0 | D82: =COUNTIF(D2:D41,"MwIT") -> 0 | E82: =COUNTIF(E2:E41,"MwIT") -> 0 | F82: =COUNTIF(F2:F41,"MwIT") -> 0 | G82: =COUNTIF(G2:G41,"MwIT") -> 0 | H82: =COUNTIF(H2:H41,"MwIT") -> 0 | I82: =COUNTIF(I2:I41,"MwIT") -> 0 | ... AY82: =COUNTIF(AY2:AY41,"MwIT") -> 0
A83: IwMT | B83: =COUNTIF(B2:B41,"IwMT") -> 0 | C83: =COUNTIF(C2:C41,"IwMT") -> 0 | D83: =COUNTIF(D2:D41,"IwMT") -> 0 | E83: =COUNTIF(E2:E41,"IwMT") -> 0 | F83: =COUNTIF(F2:F41,"IwMT") -> 0 | G83: =COUNTIF(G2:G41,"IwMT") -> 0 | H83: =COUNTIF(H2:H41,"IwMT") -> 0 | I83: =COUNTIF(I2:I41,"IwMT") -> 0 | ... AY83: =COUNTIF(AY2:AY41,"IwMT") -> 0
A84: M&IT | B84: =COUNTIF(B2:B41,"M&IT") -> 0 | C84: =COUNTIF(C2:C41,"M&IT") -> 0 | D84: =COUNTIF(D2:D41,"M&IT") -> 0 | E84: =COUNTIF(E2:E41,"M&IT") -> 0 | F84: =COUNTIF(F2:F41,"M&IT") -> 0 | G84: =COUNTIF(G2:G41,"M&IT") -> 0 | H84: =COUNTIF(H2:H41,"M&IT") -> 0 | I84: =COUNTIF(I2:I41,"M&IT") -> 0 | ... AY84: =COUNTIF(AY2:AY41,"M&IT") -> 0
A85: IwERT | B85: =COUNTIF(B2:B41,"IwERT") -> 0 | C85: =COUNTIF(C2:C41,"IwERT") -> 0 | D85: =COUNTIF(D2:D41,"IwERT") -> 0 | E85: =COUNTIF(E2:E41,"IwERT") -> 0 | F85: =COUNTIF(F2:F41,"IwERT") -> 0 | G85: =COUNTIF(G2:G41,"IwERT") -> 0 | H85: =COUNTIF(H2:H41,"IwERT") -> 0 | I85: =COUNTIF(I2:I41,"IwERT") -> 0 | ... AY85: =COUNTIF(AY2:AY41,"IwERT") -> 0
A86: ERwIT | B86: =COUNTIF(B2:B41,"ERwIT") -> 0 | C86: =COUNTIF(C2:C41,"ERwIT") -> 0 | D86: =COUNTIF(D2:D41,"ERwIT") -> 0 | E86: =COUNTIF(E2:E41,"ERwIT") -> 0 | F86: =COUNTIF(F2:F41,"ERwIT") -> 0 | G86: =COUNTIF(G2:G41,"ERwIT") -> 0 | H86: =COUNTIF(H2:H41,"ERwIT") -> 0 | I86: =COUNTIF(I2:I41,"ERwIT") -> 0 | ... AY86: =COUNTIF(AY2:AY41,"ERwIT") -> 0
A87: I&ERT | B87: =COUNTIF(B2:B41,"I&ERT") -> 0 | C87: =COUNTIF(C2:C41,"I&ERT") -> 0 | D87: =COUNTIF(D2:D41,"I&ERT") -> 0 | E87: =COUNTIF(E2:E41,"I&ERT") -> 0 | F87: =COUNTIF(F2:F41,"I&ERT") -> 0 | G87: =COUNTIF(G2:G41,"I&ERT") -> 0 | H87: =COUNTIF(H2:H41,"I&ERT") -> 0 | I87: =COUNTIF(I2:I41,"I&ERT") -> 0 | ... AY87: =COUNTIF(AY2:AY41,"I&ERT") -> 0
A88: ER&M&IT | B88: =COUNTIF(B2:B41,"ER&M&IT") -> 0 | C88: =COUNTIF(C2:C41,"ER&M&IT") -> 0 | D88: =COUNTIF(D2:D41,"ER&M&IT") -> 0 | E88: =COUNTIF(E2:E41,"ER&M&IT") -> 0 | F88: =COUNTIF(F2:F41,"ER&M&IT") -> 0 | G88: =COUNTIF(G2:G41,"ER&M&IT") -> 0 | H88: =COUNTIF(H2:H41,"ER&M&IT") -> 0 | I88: =COUNTIF(I2:I41,"ER&M&IT") -> 0 | ... AY88: =COUNTIF(AY2:AY41,"ER&M&IT") -> 0
A89: LSD | B89: =COUNTIF(B2:B41,"LSD") -> 8 | C89: =COUNTIF(C2:C41,"LSD") -> 5 | D89: =COUNTIF(D2:D41,"LSD") -> 3 | E89: =COUNTIF(E2:E41,"LSD") -> 2 | F89: =COUNTIF(F2:F41,"LSD") -> 3 | G89: =COUNTIF(G2:G41,"LSD") -> 4 | H89: =COUNTIF(H2:H41,"LSD") -> 4 | I89: =COUNTIF(I2:I41,"LSD") -> 6 | ... AY89: =COUNTIF(AY2:AY41,"LSD") -> 2
A90: UASC | B90: =COUNTIF(B2:B41,"UASC") -> 1 | C90: =COUNTIF(C2:C41,"UASC") -> 1 | D90: =COUNTIF(D2:D41,"UASC") -> 1 | E90: =COUNTIF(E2:E41,"UASC") -> 1 | F90: =COUNTIF(F2:F41,"UASC") -> 1 | G90: =COUNTIF(G2:G41,"UASC") -> 1 | H90: =COUNTIF(H2:H41,"UASC") -> 1 | I90: =COUNTIF(I2:I41,"UASC") -> 1 | ... AY90: =COUNTIF(AY2:AY41,"UASC") -> 0
...

Sheet targvar
A1: country | B1: 1974 | C1: 1975 | D1: 1976 | E1: 1977 | F1: 1978 | G1: 1979 | H1: 1980 | I1: 1981 | J1: 1982 | K1: 1983 | L1: 1984 | M1: 1985 | N1: 1986 | O1: 1987 | P1: 1988 | Q1: 1989 | R1: 1990 | S1: 1991 | T1: 1992 | U1: 1993 | V1: 1994 | W1: 1995 | X1: 1996 | Y1: 1997 | Z1: 1998 | AA1: 1999 | AB1: 2000 | AC1: 2001 | AD1: 2002 | AE1: 2003 | AF1: 2004 | AG1: 2005 | AH1: 2006 | AI1: 2007 | AJ1: 2008 | AK1: 2009 | AL1: 2010 | AM1: 2011 | AN1: 2012 | AO1: 2013 | AP1: 2014 | AQ1: 2015 | AR1: 2016 | AS1: 2017 | AT1: 2018 | AU1: 2019 | AV1: 2020 | AW1: 2021 | AX1: 2022 | AY1: 2023
A2: Australia | B2: =IF('full menu'!B2="MDC","MDC",IF('full menu'!B2="X","X",IF('full menu'!B2="UASC","UASC",IF(OR('full menu'!B2="PERF",'full menu'!B2="AERF",'full menu'!B2="PCB"),"ERfix",IF(OR('full menu'!B2="ACB",'full menu'!B2="LCERT",'full menu'!B2="LERT",'full menu'!B2="FCERT",'full menu'!B2="FERT"),"ERTs",IF(OR('full menu'!B2="FCMT",'full menu'!B2="FMT",'full menu'!B2="LMT",'full menu'!B2="LCMT"),"MTs",IF(OR('full menu'!B2="LCIT",'full menu'!B2="FCIT",'full menu'!B2="LIT",'full menu'!B2="FIT"),"ITs",IF(OR('full menu'!B2="MwERT",'full menu'!B2="ERwMT",'full menu'!B2="M&ERT",'full menu'!B2="MwIT",'full menu'!B2="IwMT",'full menu'!B2="M&IT",'full menu'!B2="IwERT",'full menu'!B2="ERwIT",'full menu'!B2="I&ERT",'full menu'!B2="ER&M&IT"),"MixedTs",IF('full menu'!B2="UD","UD",IF('full menu'!B2="LSD","LSD",IF('full menu'!B2="WSD","WSD",""))))))))))) -> ERfix | C2: =IF('full menu'!C2="MDC","MDC",IF('full menu'!C2="X","X",IF('full menu'!C2="UASC","UASC",IF(OR('full menu'!C2="PERF",'full menu'!C2="AERF",'full menu'!C2="PCB"),"ERfix",IF(OR('full menu'!C2="ACB",'full menu'!C2="LCERT",'full menu'!C2="LERT",'full menu'!C2="FCERT",'full menu'!C2="FERT"),"ERTs",IF(OR('full menu'!C2="FCMT",'full menu'!C2="FMT",'full menu'!C2="LMT",'full menu'!C2="LCMT"),"MTs",IF(OR('full menu'!C2="LCIT",'full menu'!C2="FCIT",'full menu'!C2="LIT",'full menu'!C2="FIT"),"ITs",IF(OR('full menu'!C2="MwERT",'full menu'!C2="ERwMT",'full menu'!C2="M&ERT",'full menu'!C2="MwIT",'full menu'!C2="IwMT",'full menu'!C2="M&IT",'full menu'!C2="IwERT",'full menu'!C2="ERwIT",'full menu'!C2="I&ERT",'full menu'!C2="ER&M&IT"),"MixedTs",IF('full menu'!C2="UD","UD",IF('full menu'!C2="LSD","LSD",IF('full menu'!C2="WSD","WSD",""))))))))))) -> ERfix | D2: =IF('full menu'!D2="MDC","MDC",IF('full menu'!D2="X","X",IF('full menu'!D2="UASC","UASC",IF(OR('full menu'!D2="PERF",'full menu'!D2="AERF",'full menu'!D2="PCB"),"ERfix",IF(OR('full menu'!D2="ACB",'full menu'!D2="LCERT",'full menu'!D2="LERT",'full menu'!D2="FCERT",'full menu'!D2="FERT"),"ERTs",IF(OR('full menu'!D2="FCMT",'full menu'!D2="FMT",'full menu'!D2="LMT",'full menu'!D2="LCMT"),"MTs",IF(OR('full menu'!D2="LCIT",'full menu'!D2="FCIT",'full menu'!D2="LIT",'full menu'!D2="FIT"),"ITs",IF(OR('full menu'!D2="MwERT",'full menu'!D2="ERwMT",'full menu'!D2="M&ERT",'full menu'!D2="MwIT",'full menu'!D2="IwMT",'full menu'!D2="M&IT",'full menu'!D2="IwERT",'full menu'!D2="ERwIT",'full menu'!D2="I&ERT",'full menu'!D2="ER&M&IT"),"MixedTs",IF('full menu'!D2="UD","UD",IF('full menu'!D2="LSD","LSD",IF('full menu'!D2="WSD","WSD",""))))))))))) -> ERfix | E2: =IF('full menu'!E2="MDC","MDC",IF('full menu'!E2="X","X",IF('full menu'!E2="UASC","UASC",IF(OR('full menu'!E2="PERF",'full menu'!E2="AERF",'full menu'!E2="PCB"),"ERfix",IF(OR('full menu'!E2="ACB",'full menu'!E2="LCERT",'full menu'!E2="LERT",'full menu'!E2="FCERT",'full menu'!E2="FERT"),"ERTs",IF(OR('full menu'!E2="FCMT",'full menu'!E2="FMT",'full menu'!E2="LMT",'full menu'!E2="LCMT"),"MTs",IF(OR('full menu'!E2="LCIT",'full menu'!E2="FCIT",'full menu'!E2="LIT",'full menu'!E2="FIT"),"ITs",IF(OR('full menu'!E2="MwERT",'full menu'!E2="ERwMT",'full menu'!E2="M&ERT",'full menu'!E2="MwIT",'full menu'!E2="IwMT",'full menu'!E2="M&IT",'full menu'!E2="IwERT",'full menu'!E2="ERwIT",'full menu'!E2="I&ERT",'full menu'!E2="ER&M&IT"),"MixedTs",IF('full menu'!E2="UD","UD",IF('full menu'!E2="LSD","LSD",IF('full menu'!E2="WSD","WSD",""))))))))))) -> MTs | F2: =IF('full menu'!F2="MDC","MDC",IF('full menu'!F2="X","X",IF('full menu'!F2="UASC","UASC",IF(OR('full menu'!F2="PERF",'full menu'!F2="AERF",'full menu'!F2="PCB"),"ERfix",IF(OR('full menu'!F2="ACB",'full menu'!F2="LCERT",'full menu'!F2="LERT",'full menu'!F2="FCERT",'full menu'!F2="FERT"),"ERTs",IF(OR('full menu'!F2="FCMT",'full menu'!F2="FMT",'full menu'!F2="LMT",'full menu'!F2="LCMT"),"MTs",IF(OR('full menu'!F2="LCIT",'full menu'!F2="FCIT",'full menu'!F2="LIT",'full menu'!F2="FIT"),"ITs",IF(OR('full menu'!F2="MwERT",'full menu'!F2="ERwMT",'full menu'!F2="M&ERT",'full menu'!F2="MwIT",'full menu'!F2="IwMT",'full menu'!F2="M&IT",'full menu'!F2="IwERT",'full menu'!F2="ERwIT",'full menu'!F2="I&ERT",'full menu'!F2="ER&M&IT"),"MixedTs",IF('full menu'!F2="UD","UD",IF('full menu'!F2="LSD","LSD",IF('full menu'!F2="WSD","WSD",""))))))))))) -> MTs | G2: =IF('full menu'!G2="MDC","MDC",IF('full menu'!G2="X","X",IF('full menu'!G2="UASC","UASC",IF(OR('full menu'!G2="PERF",'full menu'!G2="AERF",'full menu'!G2="PCB"),"ERfix",IF(OR('full menu'!G2="ACB",'full menu'!G2="LCERT",'full menu'!G2="LERT",'full menu'!G2="FCERT",'full menu'!G2="FERT"),"ERTs",IF(OR('full menu'!G2="FCMT",'full menu'!G2="FMT",'full menu'!G2="LMT",'full menu'!G2="LCMT"),"MTs",IF(OR('full menu'!G2="LCIT",'full menu'!G2="FCIT",'full menu'!G2="LIT",'full menu'!G2="FIT"),"ITs",IF(OR('full menu'!G2="MwERT",'full menu'!G2="ERwMT",'full menu'!G2="M&ERT",'full menu'!G2="MwIT",'full menu'!G2="IwMT",'full menu'!G2="M&IT",'full menu'!G2="IwERT",'full menu'!G2="ERwIT",'full menu'!G2="I&ERT",'full menu'!G2="ER&M&IT"),"MixedTs",IF('full menu'!G2="UD","UD",IF('full menu'!G2="LSD","LSD",IF('full menu'!G2="WSD","WSD",""))))))))))) -> MTs | H2: =IF('full menu'!H2="MDC","MDC",IF('full menu'!H2="X","X",IF('full menu'!H2="UASC","UASC",IF(OR('full menu'!H2="PERF",'full menu'!H2="AERF",'full menu'!H2="PCB"),"ERfix",IF(OR('full menu'!H2="ACB",'full menu'!H2="LCERT",'full menu'!H2="LERT",'full menu'!H2="FCERT",'full menu'!H2="FERT"),"ERTs",IF(OR('full menu'!H2="FCMT",'full menu'!H2="FMT",'full menu'!H2="LMT",'full menu'!H2="LCMT"),"MTs",IF(OR('full menu'!H2="LCIT",'full menu'!H2="FCIT",'full menu'!H2="LIT",'full menu'!H2="FIT"),"ITs",IF(OR('full menu'!H2="MwERT",'full menu'!H2="ERwMT",'full menu'!H2="M&ERT",'full menu'!H2="MwIT",'full menu'!H2="IwMT",'full menu'!H2="M&IT",'full menu'!H2="IwERT",'full menu'!H2="ERwIT",'full menu'!H2="I&ERT",'full menu'!H2="ER&M&IT"),"MixedTs",IF('full menu'!H2="UD","UD",IF('full menu'!H2="LSD","LSD",IF('full menu'!H2="WSD","WSD",""))))))))))) -> MTs | I2: =IF('full menu'!I2="MDC","MDC",IF('full menu'!I2="X","X",IF('full menu'!I2="UASC","UASC",IF(OR('full menu'!I2="PERF",'full menu'!I2="AERF",'full menu'!I2="PCB"),"ERfix",IF(OR('full menu'!I2="ACB",'full menu'!I2="LCERT",'full menu'!I2="LERT",'full menu'!I2="FCERT",'full menu'!I2="FERT"),"ERTs",IF(OR('full menu'!I2="FCMT",'full menu'!I2="FMT",'full menu'!I2="LMT",'full menu'!I2="LCMT"),"MTs",IF(OR('full menu'!I2="LCIT",'full menu'!I2="FCIT",'full menu'!I2="LIT",'full menu'!I2="FIT"),"ITs",IF(OR('full menu'!I2="MwERT",'full menu'!I2="ERwMT",'full menu'!I2="M&ERT",'full menu'!I2="MwIT",'full menu'!I2="IwMT",'full menu'!I2="M&IT",'full menu'!I2="IwERT",'full menu'!I2="ERwIT",'full menu'!I2="I&ERT",'full menu'!I2="ER&M&IT"),"MixedTs",IF('full menu'!I2="UD","UD",IF('full menu'!I2="LSD","LSD",IF('full menu'!I2="WSD","WSD",""))))))))))) -> MTs | ... AY2: =IF('full menu'!AY2="MDC","MDC",IF('full menu'!AY2="X","X",IF('full menu'!AY2="UASC","UASC",IF(OR('full menu'!AY2="PERF",'full menu'!AY2="AERF",'full menu'!AY2="PCB"),"ERfix",IF(OR('full menu'!AY2="ACB",'full menu'!AY2="LCERT",'full menu'!AY2="LERT",'full menu'!AY2="FCERT",'full menu'!AY2="FERT"),"ERTs",IF(OR('full menu'!AY2="FCMT",'full menu'!AY2="FMT",'full menu'!AY2="LMT",'full menu'!AY2="LCMT"),"MTs",IF(OR('full menu'!AY2="LCIT",'full menu'!AY2="FCIT",'full menu'!AY2="LIT",'full menu'!AY2="FIT"),"ITs",IF(OR('full menu'!AY2="MwERT",'full menu'!AY2="ERwMT",'full menu'!AY2="M&ERT",'full menu'!AY2="MwIT",'full menu'!AY2="IwMT",'full menu'!AY2="M&IT",'full menu'!AY2="IwERT",'full menu'!AY2="ERwIT",'full menu'!AY2="I&ERT",'full menu'!AY2="ER&M&IT"),"MixedTs",IF('full menu'!AY2="UD","UD",IF('full menu'!AY2="LSD","LSD",IF('full menu'!AY2="WSD","WSD",""))))))))))) -> ITs
A3: Austria | B3: =IF('full menu'!B3="MDC","MDC",IF('full menu'!B3="X","X",IF('full menu'!B3="UASC","UASC",IF(OR('full menu'!B3="PERF",'full menu'!B3="AERF",'full menu'!B3="PCB"),"ERfix",IF(OR('full menu'!B3="ACB",'full menu'!B3="LCERT",'full menu'!B3="LERT",'full menu'!B3="FCERT",'full menu'!B3="FERT"),"ERTs",IF(OR('full menu'!B3="FCMT",'full menu'!B3="FMT",'full menu'!B3="LMT",'full menu'!B3="LCMT"),"MTs",IF(OR('full menu'!B3="LCIT",'full menu'!B3="FCIT",'full menu'!B3="LIT",'full menu'!B3="FIT"),"ITs",IF(OR('full menu'!B3="MwERT",'full menu'!B3="ERwMT",'full menu'!B3="M&ERT",'full menu'!B3="MwIT",'full menu'!B3="IwMT",'full menu'!B3="M&IT",'full menu'!B3="IwERT",'full menu'!B3="ERwIT",'full menu'!B3="I&ERT",'full menu'!B3="ER&M&IT"),"MixedTs",IF('full menu'!B3="UD","UD",IF('full menu'!B3="LSD","LSD",IF('full menu'!B3="WSD","WSD",""))))))))))) -> ERTs | C3: =IF('full menu'!C3="MDC","MDC",IF('full menu'!C3="X","X",IF('full menu'!C3="UASC","UASC",IF(OR('full menu'!C3="PERF",'full menu'!C3="AERF",'full menu'!C3="PCB"),"ERfix",IF(OR('full menu'!C3="ACB",'full menu'!C3="LCERT",'full menu'!C3="LERT",'full menu'!C3="FCERT",'full menu'!C3="FERT"),"ERTs",IF(OR('full menu'!C3="FCMT",'full menu'!C3="FMT",'full menu'!C3="LMT",'full menu'!C3="LCMT"),"MTs",IF(OR('full menu'!C3="LCIT",'full menu'!C3="FCIT",'full menu'!C3="LIT",'full menu'!C3="FIT"),"ITs",IF(OR('full menu'!C3="MwERT",'full menu'!C3="ERwMT",'full menu'!C3="M&ERT",'full menu'!C3="MwIT",'full menu'!C3="IwMT",'full menu'!C3="M&IT",'full menu'!C3="IwERT",'full menu'!C3="ERwIT",'full menu'!C3="I&ERT",'full menu'!C3="ER&M&IT"),"MixedTs",IF('full menu'!C3="UD","UD",IF('full menu'!C3="LSD","LSD",IF('full menu'!C3="WSD","WSD",""))))))))))) -> ERTs | D3: =IF('full menu'!D3="MDC","MDC",IF('full menu'!D3="X","X",IF('full menu'!D3="UASC","UASC",IF(OR('full menu'!D3="PERF",'full menu'!D3="AERF",'full menu'!D3="PCB"),"ERfix",IF(OR('full menu'!D3="ACB",'full menu'!D3="LCERT",'full menu'!D3="LERT",'full menu'!D3="FCERT",'full menu'!D3="FERT"),"ERTs",IF(OR('full menu'!D3="FCMT",'full menu'!D3="FMT",'full menu'!D3="LMT",'full menu'!D3="LCMT"),"MTs",IF(OR('full menu'!D3="LCIT",'full menu'!D3="FCIT",'full menu'!D3="LIT",'full menu'!D3="FIT"),"ITs",IF(OR('full menu'!D3="MwERT",'full menu'!D3="ERwMT",'full menu'!D3="M&ERT",'full menu'!D3="MwIT",'full menu'!D3="IwMT",'full menu'!D3="M&IT",'full menu'!D3="IwERT",'full menu'!D3="ERwIT",'full menu'!D3="I&ERT",'full menu'!D3="ER&M&IT"),"MixedTs",IF('full menu'!D3="UD","UD",IF('full menu'!D3="LSD","LSD",IF('full menu'!D3="WSD","WSD",""))))))))))) -> ERTs | E3: =IF('full menu'!E3="MDC","MDC",IF('full menu'!E3="X","X",IF('full menu'!E3="UASC","UASC",IF(OR('full menu'!E3="PERF",'full menu'!E3="AERF",'full menu'!E3="PCB"),"ERfix",IF(OR('full menu'!E3="ACB",'full menu'!E3="LCERT",'full menu'!E3="LERT",'full menu'!E3="FCERT",'full menu'!E3="FERT"),"ERTs",IF(OR('full menu'!E3="FCMT",'full menu'!E3="FMT",'full menu'!E3="LMT",'full menu'!E3="LCMT"),"MTs",IF(OR('full menu'!E3="LCIT",'full menu'!E3="FCIT",'full menu'!E3="LIT",'full menu'!E3="FIT"),"ITs",IF(OR('full menu'!E3="MwERT",'full menu'!E3="ERwMT",'full menu'!E3="M&ERT",'full menu'!E3="MwIT",'full menu'!E3="IwMT",'full menu'!E3="M&IT",'full menu'!E3="IwERT",'full menu'!E3="ERwIT",'full menu'!E3="I&ERT",'full menu'!E3="ER&M&IT"),"MixedTs",IF('full menu'!E3="UD","UD",IF('full menu'!E3="LSD","LSD",IF('full menu'!E3="WSD","WSD",""))))))))))) -> ERTs | F3: =IF('full menu'!F3="MDC","MDC",IF('full menu'!F3="X","X",IF('full menu'!F3="UASC","UASC",IF(OR('full menu'!F3="PERF",'full menu'!F3="AERF",'full menu'!F3="PCB"),"ERfix",IF(OR('full menu'!F3="ACB",'full menu'!F3="LCERT",'full menu'!F3="LERT",'full menu'!F3="FCERT",'full menu'!F3="FERT"),"ERTs",IF(OR('full menu'!F3="FCMT",'full menu'!F3="FMT",'full menu'!F3="LMT",'full menu'!F3="LCMT"),"MTs",IF(OR('full menu'!F3="LCIT",'full menu'!F3="FCIT",'full menu'!F3="LIT",'full menu'!F3="FIT"),"ITs",IF(OR('full menu'!F3="MwERT",'full menu'!F3="ERwMT",'full menu'!F3="M&ERT",'full menu'!F3="MwIT",'full menu'!F3="IwMT",'full menu'!F3="M&IT",'full menu'!F3="IwERT",'full menu'!F3="ERwIT",'full menu'!F3="I&ERT",'full menu'!F3="ER&M&IT"),"MixedTs",IF('full menu'!F3="UD","UD",IF('full menu'!F3="LSD","LSD",IF('full menu'!F3="WSD","WSD",""))))))))))) -> ERTs | G3: =IF('full menu'!G3="MDC","MDC",IF('full menu'!G3="X","X",IF('full menu'!G3="UASC","UASC",IF(OR('full menu'!G3="PERF",'full menu'!G3="AERF",'full menu'!G3="PCB"),"ERfix",IF(OR('full menu'!G3="ACB",'full menu'!G3="LCERT",'full menu'!G3="LERT",'full menu'!G3="FCERT",'full menu'!G3="FERT"),"ERTs",IF(OR('full menu'!G3="FCMT",'full menu'!G3="FMT",'full menu'!G3="LMT",'full menu'!G3="LCMT"),"MTs",IF(OR('full menu'!G3="LCIT",'full menu'!G3="FCIT",'full menu'!G3="LIT",'full menu'!G3="FIT"),"ITs",IF(OR('full menu'!G3="MwERT",'full menu'!G3="ERwMT",'full menu'!G3="M&ERT",'full menu'!G3="MwIT",'full menu'!G3="IwMT",'full menu'!G3="M&IT",'full menu'!G3="IwERT",'full menu'!G3="ERwIT",'full menu'!G3="I&ERT",'full menu'!G3="ER&M&IT"),"MixedTs",IF('full menu'!G3="UD","UD",IF('full menu'!G3="LSD","LSD",IF('full menu'!G3="WSD","WSD",""))))))))))) -> ERTs | H3: =IF('full menu'!H3="MDC","MDC",IF('full menu'!H3="X","X",IF('full menu'!H3="UASC","UASC",IF(OR('full menu'!H3="PERF",'full menu'!H3="AERF",'full menu'!H3="PCB"),"ERfix",IF(OR('full menu'!H3="ACB",'full menu'!H3="LCERT",'full menu'!H3="LERT",'full menu'!H3="FCERT",'full menu'!H3="FERT"),"ERTs",IF(OR('full menu'!H3="FCMT",'full menu'!H3="FMT",'full menu'!H3="LMT",'full menu'!H3="LCMT"),"MTs",IF(OR('full menu'!H3="LCIT",'full menu'!H3="FCIT",'full menu'!H3="LIT",'full menu'!H3="FIT"),"ITs",IF(OR('full menu'!H3="MwERT",'full menu'!H3="ERwMT",'full menu'!H3="M&ERT",'full menu'!H3="MwIT",'full menu'!H3="IwMT",'full menu'!H3="M&IT",'full menu'!H3="IwERT",'full menu'!H3="ERwIT",'full menu'!H3="I&ERT",'full menu'!H3="ER&M&IT"),"MixedTs",IF('full menu'!H3="UD","UD",IF('full menu'!H3="LSD","LSD",IF('full menu'!H3="WSD","WSD",""))))))))))) -> ERTs | I3: =IF('full menu'!I3="MDC","MDC",IF('full menu'!I3="X","X",IF('full menu'!I3="UASC","UASC",IF(OR('full menu'!I3="PERF",'full menu'!I3="AERF",'full menu'!I3="PCB"),"ERfix",IF(OR('full menu'!I3="ACB",'full menu'!I3="LCERT",'full menu'!I3="LERT",'full menu'!I3="FCERT",'full menu'!I3="FERT"),"ERTs",IF(OR('full menu'!I3="FCMT",'full menu'!I3="FMT",'full menu'!I3="LMT",'full menu'!I3="LCMT"),"MTs",IF(OR('full menu'!I3="LCIT",'full menu'!I3="FCIT",'full menu'!I3="LIT",'full menu'!I3="FIT"),"ITs",IF(OR('full menu'!I3="MwERT",'full menu'!I3="ERwMT",'full menu'!I3="M&ERT",'full menu'!I3="MwIT",'full menu'!I3="IwMT",'full menu'!I3="M&IT",'full menu'!I3="IwERT",'full menu'!I3="ERwIT",'full menu'!I3="I&ERT",'full menu'!I3="ER&M&IT"),"MixedTs",IF('full menu'!I3="UD","UD",IF('full menu'!I3="LSD","LSD",IF('full menu'!I3="WSD","WSD",""))))))))))) -> ERTs | ... AY3: =IF('full menu'!AY3="MDC","MDC",IF('full menu'!AY3="X","X",IF('full menu'!AY3="UASC","UASC",IF(OR('full menu'!AY3="PERF",'full menu'!AY3="AERF",'full menu'!AY3="PCB"),"ERfix",IF(OR('full menu'!AY3="ACB",'full menu'!AY3="LCERT",'full menu'!AY3="LERT",'full menu'!AY3="FCERT",'full menu'!AY3="FERT"),"ERTs",IF(OR('full menu'!AY3="FCMT",'full menu'!AY3="FMT",'full menu'!AY3="LMT",'full menu'!AY3="LCMT"),"MTs",IF(OR('full menu'!AY3="LCIT",'full menu'!AY3="FCIT",'full menu'!AY3="LIT",'full menu'!AY3="FIT"),"ITs",IF(OR('full menu'!AY3="MwERT",'full menu'!AY3="ERwMT",'full menu'!AY3="M&ERT",'full menu'!AY3="MwIT",'full menu'!AY3="IwMT",'full menu'!AY3="M&IT",'full menu'!AY3="IwERT",'full menu'!AY3="ERwIT",'full menu'!AY3="I&ERT",'full menu'!AY3="ER&M&IT"),"MixedTs",IF('full menu'!AY3="UD","UD",IF('full menu'!AY3="LSD","LSD",IF('full menu'!AY3="WSD","WSD","")))))))))))
A4: Bahamas | B4: =IF('full menu'!B4="MDC","MDC",IF('full menu'!B4="X","X",IF('full menu'!B4="UASC","UASC",IF(OR('full menu'!B4="PERF",'full menu'!B4="AERF",'full menu'!B4="PCB"),"ERfix",IF(OR('full menu'!B4="ACB",'full menu'!B4="LCERT",'full menu'!B4="LERT",'full menu'!B4="FCERT",'full menu'!B4="FERT"),"ERTs",IF(OR('full menu'!B4="FCMT",'full menu'!B4="FMT",'full menu'!B4="LMT",'full menu'!B4="LCMT"),"MTs",IF(OR('full menu'!B4="LCIT",'full menu'!B4="FCIT",'full menu'!B4="LIT",'full menu'!B4="FIT"),"ITs",IF(OR('full menu'!B4="MwERT",'full menu'!B4="ERwMT",'full menu'!B4="M&ERT",'full menu'!B4="MwIT",'full menu'!B4="IwMT",'full menu'!B4="M&IT",'full menu'!B4="IwERT",'full menu'!B4="ERwIT",'full menu'!B4="I&ERT",'full menu'!B4="ER&M&IT"),"MixedTs",IF('full menu'!B4="UD","UD",IF('full menu'!B4="LSD","LSD",IF('full menu'!B4="WSD","WSD",""))))))))))) -> ERfix | C4: =IF('full menu'!C4="MDC","MDC",IF('full menu'!C4="X","X",IF('full menu'!C4="UASC","UASC",IF(OR('full menu'!C4="PERF",'full menu'!C4="AERF",'full menu'!C4="PCB"),"ERfix",IF(OR('full menu'!C4="ACB",'full menu'!C4="LCERT",'full menu'!C4="LERT",'full menu'!C4="FCERT",'full menu'!C4="FERT"),"ERTs",IF(OR('full menu'!C4="FCMT",'full menu'!C4="FMT",'full menu'!C4="LMT",'full menu'!C4="LCMT"),"MTs",IF(OR('full menu'!C4="LCIT",'full menu'!C4="FCIT",'full menu'!C4="LIT",'full menu'!C4="FIT"),"ITs",IF(OR('full menu'!C4="MwERT",'full menu'!C4="ERwMT",'full menu'!C4="M&ERT",'full menu'!C4="MwIT",'full menu'!C4="IwMT",'full menu'!C4="M&IT",'full menu'!C4="IwERT",'full menu'!C4="ERwIT",'full menu'!C4="I&ERT",'full menu'!C4="ER&M&IT"),"MixedTs",IF('full menu'!C4="UD","UD",IF('full menu'!C4="LSD","LSD",IF('full menu'!C4="WSD","WSD",""))))))))))) -> ERfix | D4: =IF('full menu'!D4="MDC","MDC",IF('full menu'!D4="X","X",IF('full menu'!D4="UASC","UASC",IF(OR('full menu'!D4="PERF",'full menu'!D4="AERF",'full menu'!D4="PCB"),"ERfix",IF(OR('full menu'!D4="ACB",'full menu'!D4="LCERT",'full menu'!D4="LERT",'full menu'!D4="FCERT",'full menu'!D4="FERT"),"ERTs",IF(OR('full menu'!D4="FCMT",'full menu'!D4="FMT",'full menu'!D4="LMT",'full menu'!D4="LCMT"),"MTs",IF(OR('full menu'!D4="LCIT",'full menu'!D4="FCIT",'full menu'!D4="LIT",'full menu'!D4="FIT"),"ITs",IF(OR('full menu'!D4="MwERT",'full menu'!D4="ERwMT",'full menu'!D4="M&ERT",'full menu'!D4="MwIT",'full menu'!D4="IwMT",'full menu'!D4="M&IT",'full menu'!D4="IwERT",'full menu'!D4="ERwIT",'full menu'!D4="I&ERT",'full menu'!D4="ER&M&IT"),"MixedTs",IF('full menu'!D4="UD","UD",IF('full menu'!D4="LSD","LSD",IF('full menu'!D4="WSD","WSD",""))))))))))) -> ERfix | E4: =IF('full menu'!E4="MDC","MDC",IF('full menu'!E4="X","X",IF('full menu'!E4="UASC","UASC",IF(OR('full menu'!E4="PERF",'full menu'!E4="AERF",'full menu'!E4="PCB"),"ERfix",IF(OR('full menu'!E4="ACB",'full menu'!E4="LCERT",'full menu'!E4="LERT",'full menu'!E4="FCERT",'full menu'!E4="FERT"),"ERTs",IF(OR('full menu'!E4="FCMT",'full menu'!E4="FMT",'full menu'!E4="LMT",'full menu'!E4="LCMT"),"MTs",IF(OR('full menu'!E4="LCIT",'full menu'!E4="FCIT",'full menu'!E4="LIT",'full menu'!E4="FIT"),"ITs",IF(OR('full menu'!E4="MwERT",'full menu'!E4="ERwMT",'full menu'!E4="M&ERT",'full menu'!E4="MwIT",'full menu'!E4="IwMT",'full menu'!E4="M&IT",'full menu'!E4="IwERT",'full menu'!E4="ERwIT",'full menu'!E4="I&ERT",'full menu'!E4="ER&M&IT"),"MixedTs",IF('full menu'!E4="UD","UD",IF('full menu'!E4="LSD","LSD",IF('full menu'!E4="WSD","WSD",""))))))))))) -> ERfix | F4: =IF('full menu'!F4="MDC","MDC",IF('full menu'!F4="X","X",IF('full menu'!F4="UASC","UASC",IF(OR('full menu'!F4="PERF",'full menu'!F4="AERF",'full menu'!F4="PCB"),"ERfix",IF(OR('full menu'!F4="ACB",'full menu'!F4="LCERT",'full menu'!F4="LERT",'full menu'!F4="FCERT",'full menu'!F4="FERT"),"ERTs",IF(OR('full menu'!F4="FCMT",'full menu'!F4="FMT",'full menu'!F4="LMT",'full menu'!F4="LCMT"),"MTs",IF(OR('full menu'!F4="LCIT",'full menu'!F4="FCIT",'full menu'!F4="LIT",'full menu'!F4="FIT"),"ITs",IF(OR('full menu'!F4="MwERT",'full menu'!F4="ERwMT",'full menu'!F4="M&ERT",'full menu'!F4="MwIT",'full menu'!F4="IwMT",'full menu'!F4="M&IT",'full menu'!F4="IwERT",'full menu'!F4="ERwIT",'full menu'!F4="I&ERT",'full menu'!F4="ER&M&IT"),"MixedTs",IF('full menu'!F4="UD","UD",IF('full menu'!F4="LSD","LSD",IF('full menu'!F4="WSD","WSD",""))))))))))) -> ERfix | G4: =IF('full menu'!G4="MDC","MDC",IF('full menu'!G4="X","X",IF('full menu'!G4="UASC","UASC",IF(OR('full menu'!G4="PERF",'full menu'!G4="AERF",'full menu'!G4="PCB"),"ERfix",IF(OR('full menu'!G4="ACB",'full menu'!G4="LCERT",'full menu'!G4="LERT",'full menu'!G4="FCERT",'full menu'!G4="FERT"),"ERTs",IF(OR('full menu'!G4="FCMT",'full menu'!G4="FMT",'full menu'!G4="LMT",'full menu'!G4="LCMT"),"MTs",IF(OR('full menu'!G4="LCIT",'full menu'!G4="FCIT",'full menu'!G4="LIT",'full menu'!G4="FIT"),"ITs",IF(OR('full menu'!G4="MwERT",'full menu'!G4="ERwMT",'full menu'!G4="M&ERT",'full menu'!G4="MwIT",'full menu'!G4="IwMT",'full menu'!G4="M&IT",'full menu'!G4="IwERT",'full menu'!G4="ERwIT",'full menu'!G4="I&ERT",'full menu'!G4="ER&M&IT"),"MixedTs",IF('full menu'!G4="UD","UD",IF('full menu'!G4="LSD","LSD",IF('full menu'!G4="WSD","WSD",""))))))))))) -> ERfix | H4: =IF('full menu'!H4="MDC","MDC",IF('full menu'!H4="X","X",IF('full menu'!H4="UASC","UASC",IF(OR('full menu'!H4="PERF",'full menu'!H4="AERF",'full menu'!H4="PCB"),"ERfix",IF(OR('full menu'!H4="ACB",'full menu'!H4="LCERT",'full menu'!H4="LERT",'full menu'!H4="FCERT",'full menu'!H4="FERT"),"ERTs",IF(OR('full menu'!H4="FCMT",'full menu'!H4="FMT",'full menu'!H4="LMT",'full menu'!H4="LCMT"),"MTs",IF(OR('full menu'!H4="LCIT",'full menu'!H4="FCIT",'full menu'!H4="LIT",'full menu'!H4="FIT"),"ITs",IF(OR('full menu'!H4="MwERT",'full menu'!H4="ERwMT",'full menu'!H4="M&ERT",'full menu'!H4="MwIT",'full menu'!H4="IwMT",'full menu'!H4="M&IT",'full menu'!H4="IwERT",'full menu'!H4="ERwIT",'full menu'!H4="I&ERT",'full menu'!H4="ER&M&IT"),"MixedTs",IF('full menu'!H4="UD","UD",IF('full menu'!H4="LSD","LSD",IF('full menu'!H4="WSD","WSD",""))))))))))) -> ERfix | I4: =IF('full menu'!I4="MDC","MDC",IF('full menu'!I4="X","X",IF('full menu'!I4="UASC","UASC",IF(OR('full menu'!I4="PERF",'full menu'!I4="AERF",'full menu'!I4="PCB"),"ERfix",IF(OR('full menu'!I4="ACB",'full menu'!I4="LCERT",'full menu'!I4="LERT",'full menu'!I4="FCERT",'full menu'!I4="FERT"),"ERTs",IF(OR('full menu'!I4="FCMT",'full menu'!I4="FMT",'full menu'!I4="LMT",'full menu'!I4="LCMT"),"MTs",IF(OR('full menu'!I4="LCIT",'full menu'!I4="FCIT",'full menu'!I4="LIT",'full menu'!I4="FIT"),"ITs",IF(OR('full menu'!I4="MwERT",'full menu'!I4="ERwMT",'full menu'!I4="M&ERT",'full menu'!I4="MwIT",'full menu'!I4="IwMT",'full menu'!I4="M&IT",'full menu'!I4="IwERT",'full menu'!I4="ERwIT",'full menu'!I4="I&ERT",'full menu'!I4="ER&M&IT"),"MixedTs",IF('full menu'!I4="UD","UD",IF('full menu'!I4="LSD","LSD",IF('full menu'!I4="WSD","WSD",""))))))))))) -> ERfix | ... AY4: =IF('full menu'!AY4="MDC","MDC",IF('full menu'!AY4="X","X",IF('full menu'!AY4="UASC","UASC",IF(OR('full menu'!AY4="PERF",'full menu'!AY4="AERF",'full menu'!AY4="PCB"),"ERfix",IF(OR('full menu'!AY4="ACB",'full menu'!AY4="LCERT",'full menu'!AY4="LERT",'full menu'!AY4="FCERT",'full menu'!AY4="FERT"),"ERTs",IF(OR('full menu'!AY4="FCMT",'full menu'!AY4="FMT",'full menu'!AY4="LMT",'full menu'!AY4="LCMT"),"MTs",IF(OR('full menu'!AY4="LCIT",'full menu'!AY4="FCIT",'full menu'!AY4="LIT",'full menu'!AY4="FIT"),"ITs",IF(OR('full menu'!AY4="MwERT",'full menu'!AY4="ERwMT",'full menu'!AY4="M&ERT",'full menu'!AY4="MwIT",'full menu'!AY4="IwMT",'full menu'!AY4="M&IT",'full menu'!AY4="IwERT",'full menu'!AY4="ERwIT",'full menu'!AY4="I&ERT",'full menu'!AY4="ER&M&IT"),"MixedTs",IF('full menu'!AY4="UD","UD",IF('full menu'!AY4="LSD","LSD",IF('full menu'!AY4="WSD","WSD",""))))))))))) -> ERfix
A5: Bahrain | B5: =IF('full menu'!B5="MDC","MDC",IF('full menu'!B5="X","X",IF('full menu'!B5="UASC","UASC",IF(OR('full menu'!B5="PERF",'full menu'!B5="AERF",'full menu'!B5="PCB"),"ERfix",IF(OR('full menu'!B5="ACB",'full menu'!B5="LCERT",'full menu'!B5="LERT",'full menu'!B5="FCERT",'full menu'!B5="FERT"),"ERTs",IF(OR('full menu'!B5="FCMT",'full menu'!B5="FMT",'full menu'!B5="LMT",'full menu'!B5="LCMT"),"MTs",IF(OR('full menu'!B5="LCIT",'full menu'!B5="FCIT",'full menu'!B5="LIT",'full menu'!B5="FIT"),"ITs",IF(OR('full menu'!B5="MwERT",'full menu'!B5="ERwMT",'full menu'!B5="M&ERT",'full menu'!B5="MwIT",'full menu'!B5="IwMT",'full menu'!B5="M&IT",'full menu'!B5="IwERT",'full menu'!B5="ERwIT",'full menu'!B5="I&ERT",'full menu'!B5="ER&M&IT"),"MixedTs",IF('full menu'!B5="UD","UD",IF('full menu'!B5="LSD","LSD",IF('full menu'!B5="WSD","WSD",""))))))))))) -> ERTs | C5: =IF('full menu'!C5="MDC","MDC",IF('full menu'!C5="X","X",IF('full menu'!C5="UASC","UASC",IF(OR('full menu'!C5="PERF",'full menu'!C5="AERF",'full menu'!C5="PCB"),"ERfix",IF(OR('full menu'!C5="ACB",'full menu'!C5="LCERT",'full menu'!C5="LERT",'full menu'!C5="FCERT",'full menu'!C5="FERT"),"ERTs",IF(OR('full menu'!C5="FCMT",'full menu'!C5="FMT",'full menu'!C5="LMT",'full menu'!C5="LCMT"),"MTs",IF(OR('full menu'!C5="LCIT",'full menu'!C5="FCIT",'full menu'!C5="LIT",'full menu'!C5="FIT"),"ITs",IF(OR('full menu'!C5="MwERT",'full menu'!C5="ERwMT",'full menu'!C5="M&ERT",'full menu'!C5="MwIT",'full menu'!C5="IwMT",'full menu'!C5="M&IT",'full menu'!C5="IwERT",'full menu'!C5="ERwIT",'full menu'!C5="I&ERT",'full menu'!C5="ER&M&IT"),"MixedTs",IF('full menu'!C5="UD","UD",IF('full menu'!C5="LSD","LSD",IF('full menu'!C5="WSD","WSD",""))))))))))) -> ERfix | D5: =IF('full menu'!D5="MDC","MDC",IF('full menu'!D5="X","X",IF('full menu'!D5="UASC","UASC",IF(OR('full menu'!D5="PERF",'full menu'!D5="AERF",'full menu'!D5="PCB"),"ERfix",IF(OR('full menu'!D5="ACB",'full menu'!D5="LCERT",'full menu'!D5="LERT",'full menu'!D5="FCERT",'full menu'!D5="FERT"),"ERTs",IF(OR('full menu'!D5="FCMT",'full menu'!D5="FMT",'full menu'!D5="LMT",'full menu'!D5="LCMT"),"MTs",IF(OR('full menu'!D5="LCIT",'full menu'!D5="FCIT",'full menu'!D5="LIT",'full menu'!D5="FIT"),"ITs",IF(OR('full menu'!D5="MwERT",'full menu'!D5="ERwMT",'full menu'!D5="M&ERT",'full menu'!D5="MwIT",'full menu'!D5="IwMT",'full menu'!D5="M&IT",'full menu'!D5="IwERT",'full menu'!D5="ERwIT",'full menu'!D5="I&ERT",'full menu'!D5="ER&M&IT"),"MixedTs",IF('full menu'!D5="UD","UD",IF('full menu'!D5="LSD","LSD",IF('full menu'!D5="WSD","WSD",""))))))))))) -> ERfix | E5: =IF('full menu'!E5="MDC","MDC",IF('full menu'!E5="X","X",IF('full menu'!E5="UASC","UASC",IF(OR('full menu'!E5="PERF",'full menu'!E5="AERF",'full menu'!E5="PCB"),"ERfix",IF(OR('full menu'!E5="ACB",'full menu'!E5="LCERT",'full menu'!E5="LERT",'full menu'!E5="FCERT",'full menu'!E5="FERT"),"ERTs",IF(OR('full menu'!E5="FCMT",'full menu'!E5="FMT",'full menu'!E5="LMT",'full menu'!E5="LCMT"),"MTs",IF(OR('full menu'!E5="LCIT",'full menu'!E5="FCIT",'full menu'!E5="LIT",'full menu'!E5="FIT"),"ITs",IF(OR('full menu'!E5="MwERT",'full menu'!E5="ERwMT",'full menu'!E5="M&ERT",'full menu'!E5="MwIT",'full menu'!E5="IwMT",'full menu'!E5="M&IT",'full menu'!E5="IwERT",'full menu'!E5="ERwIT",'full menu'!E5="I&ERT",'full menu'!E5="ER&M&IT"),"MixedTs",IF('full menu'!E5="UD","UD",IF('full menu'!E5="LSD","LSD",IF('full menu'!E5="WSD","WSD",""))))))))))) -> ERfix | F5: =IF('full menu'!F5="MDC","MDC",IF('full menu'!F5="X","X",IF('full menu'!F5="UASC","UASC",IF(OR('full menu'!F5="PERF",'full menu'!F5="AERF",'full menu'!F5="PCB"),"ERfix",IF(OR('full menu'!F5="ACB",'full menu'!F5="LCERT",'full menu'!F5="LERT",'full menu'!F5="FCERT",'full menu'!F5="FERT"),"ERTs",IF(OR('full menu'!F5="FCMT",'full menu'!F5="FMT",'full menu'!F5="LMT",'full menu'!F5="LCMT"),"MTs",IF(OR('full menu'!F5="LCIT",'full menu'!F5="FCIT",'full menu'!F5="LIT",'full menu'!F5="FIT"),"ITs",IF(OR('full menu'!F5="MwERT",'full menu'!F5="ERwMT",'full menu'!F5="M&ERT",'full menu'!F5="MwIT",'full menu'!F5="IwMT",'full menu'!F5="M&IT",'full menu'!F5="IwERT",'full menu'!F5="ERwIT",'full menu'!F5="I&ERT",'full menu'!F5="ER&M&IT"),"MixedTs",IF('full menu'!F5="UD","UD",IF('full menu'!F5="LSD","LSD",IF('full menu'!F5="WSD","WSD",""))))))))))) -> ERfix | G5: =IF('full menu'!G5="MDC","MDC",IF('full menu'!G5="X","X",IF('full menu'!G5="UASC","UASC",IF(OR('full menu'!G5="PERF",'full menu'!G5="AERF",'full menu'!G5="PCB"),"ERfix",IF(OR('full menu'!G5="ACB",'full menu'!G5="LCERT",'full menu'!G5="LERT",'full menu'!G5="FCERT",'full menu'!G5="FERT"),"ERTs",IF(OR('full menu'!G5="FCMT",'full menu'!G5="FMT",'full menu'!G5="LMT",'full menu'!G5="LCMT"),"MTs",IF(OR('full menu'!G5="LCIT",'full menu'!G5="FCIT",'full menu'!G5="LIT",'full menu'!G5="FIT"),"ITs",IF(OR('full menu'!G5="MwERT",'full menu'!G5="ERwMT",'full menu'!G5="M&ERT",'full menu'!G5="MwIT",'full menu'!G5="IwMT",'full menu'!G5="M&IT",'full menu'!G5="IwERT",'full menu'!G5="ERwIT",'full menu'!G5="I&ERT",'full menu'!G5="ER&M&IT"),"MixedTs",IF('full menu'!G5="UD","UD",IF('full menu'!G5="LSD","LSD",IF('full menu'!G5="WSD","WSD",""))))))))))) -> ERfix | H5: =IF('full menu'!H5="MDC","MDC",IF('full menu'!H5="X","X",IF('full menu'!H5="UASC","UASC",IF(OR('full menu'!H5="PERF",'full menu'!H5="AERF",'full menu'!H5="PCB"),"ERfix",IF(OR('full menu'!H5="ACB",'full menu'!H5="LCERT",'full menu'!H5="LERT",'full menu'!H5="FCERT",'full menu'!H5="FERT"),"ERTs",IF(OR('full menu'!H5="FCMT",'full menu'!H5="FMT",'full menu'!H5="LMT",'full menu'!H5="LCMT"),"MTs",IF(OR('full menu'!H5="LCIT",'full menu'!H5="FCIT",'full menu'!H5="LIT",'full menu'!H5="FIT"),"ITs",IF(OR('full menu'!H5="MwERT",'full menu'!H5="ERwMT",'full menu'!H5="M&ERT",'full menu'!H5="MwIT",'full menu'!H5="IwMT",'full menu'!H5="M&IT",'full menu'!H5="IwERT",'full menu'!H5="ERwIT",'full menu'!H5="I&ERT",'full menu'!H5="ER&M&IT"),"MixedTs",IF('full menu'!H5="UD","UD",IF('full menu'!H5="LSD","LSD",IF('full menu'!H5="WSD","WSD",""))))))))))) -> ERfix | I5: =IF('full menu'!I5="MDC","MDC",IF('full menu'!I5="X","X",IF('full menu'!I5="UASC","UASC",IF(OR('full menu'!I5="PERF",'full menu'!I5="AERF",'full menu'!I5="PCB"),"ERfix",IF(OR('full menu'!I5="ACB",'full menu'!I5="LCERT",'full menu'!I5="LERT",'full menu'!I5="FCERT",'full menu'!I5="FERT"),"ERTs",IF(OR('full menu'!I5="FCMT",'full menu'!I5="FMT",'full menu'!I5="LMT",'full menu'!I5="LCMT"),"MTs",IF(OR('full menu'!I5="LCIT",'full menu'!I5="FCIT",'full menu'!I5="LIT",'full menu'!I5="FIT"),"ITs",IF(OR('full menu'!I5="MwERT",'full menu'!I5="ERwMT",'full menu'!I5="M&ERT",'full menu'!I5="MwIT",'full menu'!I5="IwMT",'full menu'!I5="M&IT",'full menu'!I5="IwERT",'full menu'!I5="ERwIT",'full menu'!I5="I&ERT",'full menu'!I5="ER&M&IT"),"MixedTs",IF('full menu'!I5="UD","UD",IF('full menu'!I5="LSD","LSD",IF('full menu'!I5="WSD","WSD",""))))))))))) -> ERfix | ... AY5: =IF('full menu'!AY5="MDC","MDC",IF('full menu'!AY5="X","X",IF('full menu'!AY5="UASC","UASC",IF(OR('full menu'!AY5="PERF",'full menu'!AY5="AERF",'full menu'!AY5="PCB"),"ERfix",IF(OR('full menu'!AY5="ACB",'full menu'!AY5="LCERT",'full menu'!AY5="LERT",'full menu'!AY5="FCERT",'full menu'!AY5="FERT"),"ERTs",IF(OR('full menu'!AY5="FCMT",'full menu'!AY5="FMT",'full menu'!AY5="LMT",'full menu'!AY5="LCMT"),"MTs",IF(OR('full menu'!AY5="LCIT",'full menu'!AY5="FCIT",'full menu'!AY5="LIT",'full menu'!AY5="FIT"),"ITs",IF(OR('full menu'!AY5="MwERT",'full menu'!AY5="ERwMT",'full menu'!AY5="M&ERT",'full menu'!AY5="MwIT",'full menu'!AY5="IwMT",'full menu'!AY5="M&IT",'full menu'!AY5="IwERT",'full menu'!AY5="ERwIT",'full menu'!AY5="I&ERT",'full menu'!AY5="ER&M&IT"),"MixedTs",IF('full menu'!AY5="UD","UD",IF('full menu'!AY5="LSD","LSD",IF('full menu'!AY5="WSD","WSD",""))))))))))) -> ERTs
A6: Belgium | B6: =IF('full menu'!B6="MDC","MDC",IF('full menu'!B6="X","X",IF('full menu'!B6="UASC","UASC",IF(OR('full menu'!B6="PERF",'full menu'!B6="AERF",'full menu'!B6="PCB"),"ERfix",IF(OR('full menu'!B6="ACB",'full menu'!B6="LCERT",'full menu'!B6="LERT",'full menu'!B6="FCERT",'full menu'!B6="FERT"),"ERTs",IF(OR('full menu'!B6="FCMT",'full menu'!B6="FMT",'full menu'!B6="LMT",'full menu'!B6="LCMT"),"MTs",IF(OR('full menu'!B6="LCIT",'full menu'!B6="FCIT",'full menu'!B6="LIT",'full menu'!B6="FIT"),"ITs",IF(OR('full menu'!B6="MwERT",'full menu'!B6="ERwMT",'full menu'!B6="M&ERT",'full menu'!B6="MwIT",'full menu'!B6="IwMT",'full menu'!B6="M&IT",'full menu'!B6="IwERT",'full menu'!B6="ERwIT",'full menu'!B6="I&ERT",'full menu'!B6="ER&M&IT"),"MixedTs",IF('full menu'!B6="UD","UD",IF('full menu'!B6="LSD","LSD",IF('full menu'!B6="WSD","WSD",""))))))))))) -> ERTs | C6: =IF('full menu'!C6="MDC","MDC",IF('full menu'!C6="X","X",IF('full menu'!C6="UASC","UASC",IF(OR('full menu'!C6="PERF",'full menu'!C6="AERF",'full menu'!C6="PCB"),"ERfix",IF(OR('full menu'!C6="ACB",'full menu'!C6="LCERT",'full menu'!C6="LERT",'full menu'!C6="FCERT",'full menu'!C6="FERT"),"ERTs",IF(OR('full menu'!C6="FCMT",'full menu'!C6="FMT",'full menu'!C6="LMT",'full menu'!C6="LCMT"),"MTs",IF(OR('full menu'!C6="LCIT",'full menu'!C6="FCIT",'full menu'!C6="LIT",'full menu'!C6="FIT"),"ITs",IF(OR('full menu'!C6="MwERT",'full menu'!C6="ERwMT",'full menu'!C6="M&ERT",'full menu'!C6="MwIT",'full menu'!C6="IwMT",'full menu'!C6="M&IT",'full menu'!C6="IwERT",'full menu'!C6="ERwIT",'full menu'!C6="I&ERT",'full menu'!C6="ER&M&IT"),"MixedTs",IF('full menu'!C6="UD","UD",IF('full menu'!C6="LSD","LSD",IF('full menu'!C6="WSD","WSD",""))))))))))) -> ERTs | D6: =IF('full menu'!D6="MDC","MDC",IF('full menu'!D6="X","X",IF('full menu'!D6="UASC","UASC",IF(OR('full menu'!D6="PERF",'full menu'!D6="AERF",'full menu'!D6="PCB"),"ERfix",IF(OR('full menu'!D6="ACB",'full menu'!D6="LCERT",'full menu'!D6="LERT",'full menu'!D6="FCERT",'full menu'!D6="FERT"),"ERTs",IF(OR('full menu'!D6="FCMT",'full menu'!D6="FMT",'full menu'!D6="LMT",'full menu'!D6="LCMT"),"MTs",IF(OR('full menu'!D6="LCIT",'full menu'!D6="FCIT",'full menu'!D6="LIT",'full menu'!D6="FIT"),"ITs",IF(OR('full menu'!D6="MwERT",'full menu'!D6="ERwMT",'full menu'!D6="M&ERT",'full menu'!D6="MwIT",'full menu'!D6="IwMT",'full menu'!D6="M&IT",'full menu'!D6="IwERT",'full menu'!D6="ERwIT",'full menu'!D6="I&ERT",'full menu'!D6="ER&M&IT"),"MixedTs",IF('full menu'!D6="UD","UD",IF('full menu'!D6="LSD","LSD",IF('full menu'!D6="WSD","WSD",""))))))))))) -> ERTs | E6: =IF('full menu'!E6="MDC","MDC",IF('full menu'!E6="X","X",IF('full menu'!E6="UASC","UASC",IF(OR('full menu'!E6="PERF",'full menu'!E6="AERF",'full menu'!E6="PCB"),"ERfix",IF(OR('full menu'!E6="ACB",'full menu'!E6="LCERT",'full menu'!E6="LERT",'full menu'!E6="FCERT",'full menu'!E6="FERT"),"ERTs",IF(OR('full menu'!E6="FCMT",'full menu'!E6="FMT",'full menu'!E6="LMT",'full menu'!E6="LCMT"),"MTs",IF(OR('full menu'!E6="LCIT",'full menu'!E6="FCIT",'full menu'!E6="LIT",'full menu'!E6="FIT"),"ITs",IF(OR('full menu'!E6="MwERT",'full menu'!E6="ERwMT",'full menu'!E6="M&ERT",'full menu'!E6="MwIT",'full menu'!E6="IwMT",'full menu'!E6="M&IT",'full menu'!E6="IwERT",'full menu'!E6="ERwIT",'full menu'!E6="I&ERT",'full menu'!E6="ER&M&IT"),"MixedTs",IF('full menu'!E6="UD","UD",IF('full menu'!E6="LSD","LSD",IF('full menu'!E6="WSD","WSD",""))))))))))) -> ERTs | F6: =IF('full menu'!F6="MDC","MDC",IF('full menu'!F6="X","X",IF('full menu'!F6="UASC","UASC",IF(OR('full menu'!F6="PERF",'full menu'!F6="AERF",'full menu'!F6="PCB"),"ERfix",IF(OR('full menu'!F6="ACB",'full menu'!F6="LCERT",'full menu'!F6="LERT",'full menu'!F6="FCERT",'full menu'!F6="FERT"),"ERTs",IF(OR('full menu'!F6="FCMT",'full menu'!F6="FMT",'full menu'!F6="LMT",'full menu'!F6="LCMT"),"MTs",IF(OR('full menu'!F6="LCIT",'full menu'!F6="FCIT",'full menu'!F6="LIT",'full menu'!F6="FIT"),"ITs",IF(OR('full menu'!F6="MwERT",'full menu'!F6="ERwMT",'full menu'!F6="M&ERT",'full menu'!F6="MwIT",'full menu'!F6="IwMT",'full menu'!F6="M&IT",'full menu'!F6="IwERT",'full menu'!F6="ERwIT",'full menu'!F6="I&ERT",'full menu'!F6="ER&M&IT"),"MixedTs",IF('full menu'!F6="UD","UD",IF('full menu'!F6="LSD","LSD",IF('full menu'!F6="WSD","WSD",""))))))))))) -> ERTs | G6: =IF('full menu'!G6="MDC","MDC",IF('full menu'!G6="X","X",IF('full menu'!G6="UASC","UASC",IF(OR('full menu'!G6="PERF",'full menu'!G6="AERF",'full menu'!G6="PCB"),"ERfix",IF(OR('full menu'!G6="ACB",'full menu'!G6="LCERT",'full menu'!G6="LERT",'full menu'!G6="FCERT",'full menu'!G6="FERT"),"ERTs",IF(OR('full menu'!G6="FCMT",'full menu'!G6="FMT",'full menu'!G6="LMT",'full menu'!G6="LCMT"),"MTs",IF(OR('full menu'!G6="LCIT",'full menu'!G6="FCIT",'full menu'!G6="LIT",'full menu'!G6="FIT"),"ITs",IF(OR('full menu'!G6="MwERT",'full menu'!G6="ERwMT",'full menu'!G6="M&ERT",'full menu'!G6="MwIT",'full menu'!G6="IwMT",'full menu'!G6="M&IT",'full menu'!G6="IwERT",'full menu'!G6="ERwIT",'full menu'!G6="I&ERT",'full menu'!G6="ER&M&IT"),"MixedTs",IF('full menu'!G6="UD","UD",IF('full menu'!G6="LSD","LSD",IF('full menu'!G6="WSD","WSD",""))))))))))) -> ERTs | H6: =IF('full menu'!H6="MDC","MDC",IF('full menu'!H6="X","X",IF('full menu'!H6="UASC","UASC",IF(OR('full menu'!H6="PERF",'full menu'!H6="AERF",'full menu'!H6="PCB"),"ERfix",IF(OR('full menu'!H6="ACB",'full menu'!H6="LCERT",'full menu'!H6="LERT",'full menu'!H6="FCERT",'full menu'!H6="FERT"),"ERTs",IF(OR('full menu'!H6="FCMT",'full menu'!H6="FMT",'full menu'!H6="LMT",'full menu'!H6="LCMT"),"MTs",IF(OR('full menu'!H6="LCIT",'full menu'!H6="FCIT",'full menu'!H6="LIT",'full menu'!H6="FIT"),"ITs",IF(OR('full menu'!H6="MwERT",'full menu'!H6="ERwMT",'full menu'!H6="M&ERT",'full menu'!H6="MwIT",'full menu'!H6="IwMT",'full menu'!H6="M&IT",'full menu'!H6="IwERT",'full menu'!H6="ERwIT",'full menu'!H6="I&ERT",'full menu'!H6="ER&M&IT"),"MixedTs",IF('full menu'!H6="UD","UD",IF('full menu'!H6="LSD","LSD",IF('full menu'!H6="WSD","WSD",""))))))))))) -> ERTs | I6: =IF('full menu'!I6="MDC","MDC",IF('full menu'!I6="X","X",IF('full menu'!I6="UASC","UASC",IF(OR('full menu'!I6="PERF",'full menu'!I6="AERF",'full menu'!I6="PCB"),"ERfix",IF(OR('full menu'!I6="ACB",'full menu'!I6="LCERT",'full menu'!I6="LERT",'full menu'!I6="FCERT",'full menu'!I6="FERT"),"ERTs",IF(OR('full menu'!I6="FCMT",'full menu'!I6="FMT",'full menu'!I6="LMT",'full menu'!I6="LCMT"),"MTs",IF(OR('full menu'!I6="LCIT",'full menu'!I6="FCIT",'full menu'!I6="LIT",'full menu'!I6="FIT"),"ITs",IF(OR('full menu'!I6="MwERT",'full menu'!I6="ERwMT",'full menu'!I6="M&ERT",'full menu'!I6="MwIT",'full menu'!I6="IwMT",'full menu'!I6="M&IT",'full menu'!I6="IwERT",'full menu'!I6="ERwIT",'full menu'!I6="I&ERT",'full menu'!I6="ER&M&IT"),"MixedTs",IF('full menu'!I6="UD","UD",IF('full menu'!I6="LSD","LSD",IF('full menu'!I6="WSD","WSD",""))))))))))) -> ERTs | ... AY6: =IF('full menu'!AY6="MDC","MDC",IF('full menu'!AY6="X","X",IF('full menu'!AY6="UASC","UASC",IF(OR('full menu'!AY6="PERF",'full menu'!AY6="AERF",'full menu'!AY6="PCB"),"ERfix",IF(OR('full menu'!AY6="ACB",'full menu'!AY6="LCERT",'full menu'!AY6="LERT",'full menu'!AY6="FCERT",'full menu'!AY6="FERT"),"ERTs",IF(OR('full menu'!AY6="FCMT",'full menu'!AY6="FMT",'full menu'!AY6="LMT",'full menu'!AY6="LCMT"),"MTs",IF(OR('full menu'!AY6="LCIT",'full menu'!AY6="FCIT",'full menu'!AY6="LIT",'full menu'!AY6="FIT"),"ITs",IF(OR('full menu'!AY6="MwERT",'full menu'!AY6="ERwMT",'full menu'!AY6="M&ERT",'full menu'!AY6="MwIT",'full menu'!AY6="IwMT",'full menu'!AY6="M&IT",'full menu'!AY6="IwERT",'full menu'!AY6="ERwIT",'full menu'!AY6="I&ERT",'full menu'!AY6="ER&M&IT"),"MixedTs",IF('full menu'!AY6="UD","UD",IF('full menu'!AY6="LSD","LSD",IF('full menu'!AY6="WSD","WSD","")))))))))))
