Workbook

Sheet Full menu
B1: 1974 | C1: 1975 | D1: 1976 | E1: 1977 | F1: 1978 | G1: 1979 | H1: 1980 | I1: 1981 | J1: 1982 | K1: 1983 | L1: 1984 | M1: 1985 | N1: 1986 | O1: 1987 | P1: 1988 | Q1: 1989 | R1: 1990 | S1: 1991 | T1: 1992 | U1: 1993 | V1: 1994 | W1: 1995 | X1: 1996 | Y1: 1997 | Z1: 1998 | AA1: 1999 | AB1: 2000 | AC1: 2001 | AD1: 2002 | AE1: 2003 | AF1: 2004 | AG1: 2005 | AH1: 2006 | AI1: 2007 | AJ1: 2008 | AK1: 2009 | AL1: 2010 | AM1: 2011 | AN1: 2012 | AO1: 2013 | AP1: 2014 | AQ1: 2015 | AR1: 2016 | AS1: 2017
A2: Argentina | B2: MDC | C2: MDC | D2: MDC | E2: UD | F2: UD | G2: UD | H2: UD | I2: UD | J2: UD | K2: UD | L2: UD | M2: UD | N2: UD | O2: UD | P2: UD | Q2: UD | R2: UD | S2: ACB | T2: ACB | U2: ACB | V2: ACB | W2: ACB | X2: ACB | Y2: ACB | Z2: ACB | AA2: ACB | AB2: ACB | AC2: ACB | AD2: UD | AE2: LSD | AF2: LSD | AG2: LSD | AH2: LSD | AI2: LSD | AJ2: LSD | AK2: LSD | AL2: LSD | AM2: LSD | AN2: LSD | AO2: LSD | AP2: LSD | AQ2: LSD | AR2: LSD | AS2: LSD
A3: Brazil | B3: UD | C3: UD | D3: UD | E3: UD | F3: UD | G3: UD | H3: UD | I3: UD | J3: UD | K3: UD | L3: UD | M3: UD | N3: LSD | O3: LSD | P3: LSD | Q3: LSD | R3: LSD | S3: LSD | T3: LSD | U3: LSD | V3: LSD | W3: LSD | X3: LSD | Y3: LSD | Z3: LSD | AA3: LCIT | AB3: LCIT | AC3: LSD | AD3: LSD | AE3: LSD | AF3: LIT | AG3: LIT | AH3: LIT | AI3: LIT | AJ3: LIT | AK3: LIT | AL3: LIT | AM3: LIT | AN3: LIT | AO3: LIT | AP3: LIT | AQ3: LIT | AR3: LIT | AS3: LIT
A4: Bulgaria | B4: MDC | C4: MDC | D4: MDC | E4: MDC | F4: MDC | G4: MDC | H4: MDC | I4: MDC | J4: MDC | K4: MDC | L4: MDC | M4: MDC | N4: MDC | O4: MDC | P4: MDC | Q4: MDC | R4: UD | S4: UD | T4: UD | U4: UD | V4: UD | W4: UD | X4: UD | Y4: UD | Z4: ACB | AA4: ACB | AB4: ACB | AC4: ACB | AD4: ACB | AE4: ACB | AF4: ACB | AG4: ACB | AH4: ACB | AI4: ACB | AJ4: ACB | AK4: ACB | AL4: ACB | AM4: ACB | AN4: ACB | AO4: ACB | AP4: ACB | AQ4: ACB | AR4: ACB | AS4: ACB
A5: Chile | B5: UD | C5: UD | D5: UD | E5: UD | F5: UD | G5: UD | H5: UD | I5: UD | J5: UD | K5: UD | L5: UD | M5: UD | N5: UD | O5: LSD | P5: LSD | Q5: LSD | R5: LSD | S5: LCIT | T5: LCIT | U5: LCIT | V5: LCIT | W5: LCIT | X5: LCIT | Y5: LCIT | Z5: LCIT | AA5: LCIT | AB5: FIT | AC5: FIT | AD5: FIT | AE5: FIT | AF5: FIT | AG5: FIT | AH5: FIT | AI5: FIT | AJ5: FIT | AK5: FIT | AL5: FIT | AM5: FIT | AN5: FIT | AO5: FIT | AP5: FIT | AQ5: FIT | AR5: FIT | AS5: FIT
A6: China | B6: MDC | C6: MDC | D6: MDC | E6: MDC | F6: MDC | G6: MDC | H6: MDC | I6: MDC | J6: MDC | K6: MDC | L6: UD | M6: UD | N6: UD | O6: UD | P6: UD | Q6: UD | R6: UD | S6: UD | T6: UD | U6: UD | V6: LSD | W6: LSD | X6: LSD | Y6: LSD | Z6: LSD | AA6: LSD | AB6: LSD | AC6: LSD | AD6: LSD | AE6: LSD | AF6: LSD | AG6: LSD | AH6: LSD | AI6: LSD | AJ6: LSD | AK6: LSD | AL6: LSD | AM6: LSD | AN6: LSD | AO6: LSD | AP6: LSD | AQ6: LSD | AR6: LSD | AS6: LSD
A7: Croatia | B7: X | C7: X | D7: X | E7: X | F7: X | G7: X | H7: X | I7: X | J7: X | K7: X | L7: X | M7: X | N7: X | O7: X | P7: X | Q7: X | R7: X | S7: X | T7: UD | U7: UD | V7: LSD | W7: LSD | X7: LSD | Y7: LSD | Z7: LSD | AA7: LSD | AB7: LSD | AC7: LSD | AD7: LSD | AE7: LSD | AF7: LSD | AG7: LSD | AH7: LSD | AI7: LSD | AJ7: LSD | AK7: LSD | AL7: LSD | AM7: LSD | AN7: LSD | AO7: LSD | AP7: LSD | AQ7: LSD | AR7: LSD | AS7: LSD
A8: Cyprus | B8: AERF | C8: AERF | D8: AERF | E8: AERF | F8: AERF | G8: AERF | H8: AERF | I8: AERF | J8: AERF | K8: AERF | L8: AERF | M8: AERF | N8: AERF | O8: AERF | P8: AERF | Q8: AERF | R8: LERT | S8: LERT | T8: FERT | U8: FERT | V8: FERT | W8: FERT | X8: FERT | Y8: FERT | Z8: FERT | AA8: FERT | AB8: FERT | AC8: FERT | AD8: FERT | AE8: FERT | AF8: FERT | AG8: FERT | AH8: FERT | AI8: FERT | AJ8: CU | AK8: CU | AL8: CU | AM8: CU | AN8: CU | AO8: CU | AP8: CU | AQ8: CU | AR8: CU | AS8: CU
A9: Czech Rep | B9: X | C9: X | D9: X | E9: X | F9: X | G9: X | H9: X | I9: X | J9: X | K9: X | L9: X | M9: X | N9: X | O9: X | P9: X | Q9: X | R9: X | S9: X | T9: X | U9: AERF | V9: AERF | W9: AERF | X9: LSD | Y9: LSD | Z9: LCIT | AA9: LCIT | AB9: LCIT | AC9: LCIT | AD9: LCIT | AE9: LCIT | AF9: LCIT | AG9: LCIT | AH9: FIT | AI9: FIT | AJ9: FIT | AK9: FIT | AL9: FIT | AM9: FIT | AN9: FIT | AO9: FIT | AP9: FIT | AQ9: FIT | AR9: FIT | AS9: FIT
A10: Czechoslovakia | B10: MDC | C10: MDC | D10: MDC | E10: MDC | F10: MDC | G10: MDC | H10: MDC | I10: MDC | J10: MDC | K10: MDC | L10: MDC | M10: MDC | N10: MDC | O10: LSD | P10: LSD | Q10: LSD | R10: LSD | S10: LSD | T10: LSD | U10: X | V10: X | W10: X | X10: X | Y10: X | Z10: X | AA10: X | AB10: X | AC10: X | AD10: X | AE10: X | AF10: X | AG10: X | AH10: X | AI10: X | AJ10: X | AK10: X | AL10: X | AM10: X | AN10: X | AO10: X | AP10: X | AQ10: X | AR10: X | AS10: X
A11: Egypt | B11: MDC | C11: MDC | D11: MDC | E11: UD | F11: UD | G11: UD | H11: UD | I11: UD | J11: UD | K11: UD | L11: UD | M11: UD | N11: UD | O11: UD | P11: UD | Q11: UD | R11: UD | S11: UD | T11: LERT | U11: LERT | V11: LERT | W11: LERT | X11: LERT | Y11: LERT | Z11: LERT | AA11: LERT | AB11: LERT | AC11: LERT | AD11: LERT | AE11: LSD | AF11: LSD | AG11: LSD | AH11: LSD | AI11: LSD | AJ11: LSD | AK11: LSD | AL11: LSD | AM11: LSD | AN11: LSD | AO11: LSD | AP11: LSD | AQ11: LSD | AR11: LSD | AS11: LSD
A12: Estonia | B12: X | C12: X | D12: X | E12: X | F12: X | G12: X | H12: X | I12: X | J12: X | K12: X | L12: X | M12: X | N12: X | O12: X | P12: X | Q12: X | R12: X | S12: X | T12: ACB | U12: ACB | V12: ACB | W12: ACB | X12: ACB | Y12: ACB | Z12: ACB | AA12: ACB | AB12: ACB | AC12: ACB | AD12: ACB | AE12: ACB | AF12: ACB | AG12: ACB | AH12: ACB | AI12: ACB | AJ12: ACB | AK12: ACB | AL12: ACB | AM12: CU | AN12: CU | AO12: CU | AP12: CU | AQ12: CU | AR12: CU | AS12: CU
A13: Hungary | B13: MDC | C13: MDC | D13: MDC | E13: MDC | F13: MDC | G13: MDC | H13: MDC | I13: MDC | J13: MDC | K13: MDC | L13: MDC | M13: MDC | N13: MDC | O13: UD | P13: UD | Q13: UD | R13: UD | S13: UD | T13: UD | U13: UD | V13: UD | W13: LSD | X13: LSD | Y13: LSD | Z13: LSD | AA13: LSD | AB13: LSD | AC13: LCIT | AD13: LCIT | AE13: LCIT | AF13: LCIT | AG13: LCIT | AH13: LCIT | AI13: LIT | AJ13: LIT | AK13: LIT | AL13: LIT | AM13: LIT | AN13: LIT | AO13: LIT | AP13: LIT | AQ13: LIT | AR13: LIT | AS13: LIT
... A36: Venezuela | B36: AERF | C36: AERF | D36: AERF | E36: AERF | F36: AERF | G36: AERF | H36: AERF | I36: AERF | J36: AERF | K36: UD | L36: UD | M36: UD | N36: UD | O36: UD | P36: UD | Q36: LSD | R36: LSD | S36: LSD | T36: LSD | U36: LSD | V36: LSD | W36: LSD | X36: LSD | Y36: LSD | Z36: LSD | AA36: LSD | AB36: LSD | AC36: LSD | AD36: LSD | AE36: LSD | AF36: LSD | AG36: LSD | AH36: LSD | AI36: LSD | AJ36: LSD | AK36: LSD | AL36: UD | AM36: UD | AN36: UD | AO36: UD | AP36: UD | AQ36: UD | AR36: UD | AS36: UD
B40: 1974 | C40: 1975 | D40: 1976 | E40: 1977 | F40: 1978 | G40: 1979 | H40: 1980 | I40: 1981 | J40: 1982 | K40: 1983 | L40: 1984 | M40: 1985 | N40: 1986 | O40: 1987 | P40: 1988 | Q40: 1989 | R40: 1990 | S40: 1991 | T40: 1992 | U40: 1993 | V40: 1994 | W40: 1995 | X40: 1996 | Y40: 1997 | Z40: 1998 | AA40: 1999 | AB40: 2000 | AC40: 2001 | AD40: 2002 | AE40: 2003 | AF40: 2004 | AG40: 2005 | AH40: 2006 | AI40: 2007 | AJ40: 2008 | AK40: 2009 | AL40: 2010 | AM40: 2011 | AN40: 2012 | AO40: 2013 | AP40: 2014 | AQ40: 2015 | AR40: 2016 | AS40: 2017
A41: X | B41: =COUNTIF(B2:B36,"X") -> 8 | C41: =COUNTIF(C2:C36,"X") -> 8 | D41: =COUNTIF(D2:D36,"X") -> 8 | E41: =COUNTIF(E2:E36,"X") -> 8 | F41: =COUNTIF(F2:F36,"X") -> 8 | G41: =COUNTIF(G2:G36,"X") -> 8 | H41: =COUNTIF(H2:H36,"X") -> 8 | I41: =COUNTIF(I2:I36,"X") -> 8 | ... AS41: =COUNTIF(AS2:AS36,"X") -> 1
A42: MDC | B42: =COUNTIF(B2:B36,"MDC") -> 8 | C42: =COUNTIF(C2:C36,"MDC") -> 8 | D42: =COUNTIF(D2:D36,"MDC") -> 8 | E42: =COUNTIF(E2:E36,"MDC") -> 6 | F42: =COUNTIF(F2:F36,"MDC") -> 6 | G42: =COUNTIF(G2:G36,"MDC") -> 6 | H42: =COUNTIF(H2:H36,"MDC") -> 6 | I42: =COUNTIF(I2:I36,"MDC") -> 6 | ... AS42: =COUNTIF(AS2:AS36,"MDC") -> 0
A43: PERF | B43: =COUNTIF(B2:B36,"PERF") -> 0 | C43: =COUNTIF(C2:C36,"PERF") -> 0 | D43: =COUNTIF(D2:D36,"PERF") -> 0 | E43: =COUNTIF(E2:E36,"PERF") -> 0 | F43: =COUNTIF(F2:F36,"PERF") -> 0 | G43: =COUNTIF(G2:G36,"PERF") -> 0 | H43: =COUNTIF(H2:H36,"PERF") -> 0 | I43: =COUNTIF(I2:I36,"PERF") -> 0 | ... AS43: =COUNTIF(AS2:AS36,"PERF") -> 0
A44: AERF | B44: =COUNTIF(B2:B36,"AERF") -> 10 | C44: =COUNTIF(C2:C36,"AERF") -> 10 | D44: =COUNTIF(D2:D36,"AERF") -> 10 | E44: =COUNTIF(E2:E36,"AERF") -> 10 | F44: =COUNTIF(F2:F36,"AERF") -> 10 | G44: =COUNTIF(G2:G36,"AERF") -> 7 | H44: =COUNTIF(H2:H36,"AERF") -> 7 | I44: =COUNTIF(I2:I36,"AERF") -> 6 | ... AS44: =COUNTIF(AS2:AS36,"AERF") -> 0
A45: PCB | B45: =COUNTIF(B2:B36,"PCB") -> 0 | C45: =COUNTIF(C2:C36,"PCB") -> 0 | D45: =COUNTIF(D2:D36,"PCB") -> 0 | E45: =COUNTIF(E2:E36,"PCB") -> 0 | F45: =COUNTIF(F2:F36,"PCB") -> 0 | G45: =COUNTIF(G2:G36,"PCB") -> 0 | H45: =COUNTIF(H2:H36,"PCB") -> 0 | I45: =COUNTIF(I2:I36,"PCB") -> 0 | ... AS45: =COUNTIF(AS2:AS36,"PCB") -> 0
A46: ACB | B46: =COUNTIF(B2:B36,"ACB") -> 0 | C46: =COUNTIF(C2:C36,"ACB") -> 0 | D46: =COUNTIF(D2:D36,"ACB") -> 0 | E46: =COUNTIF(E2:E36,"ACB") -> 0 | F46: =COUNTIF(F2:F36,"ACB") -> 0 | G46: =COUNTIF(G2:G36,"ACB") -> 0 | H46: =COUNTIF(H2:H36,"ACB") -> 0 | I46: =COUNTIF(I2:I36,"ACB") -> 0 | ... AS46: =COUNTIF(AS2:AS36,"ACB") -> 1
A47: UD | B47: =COUNTIF(B2:B36,"UD") -> 5 | C47: =COUNTIF(C2:C36,"UD") -> 5 | D47: =COUNTIF(D2:D36,"UD") -> 5 | E47: =COUNTIF(E2:E36,"UD") -> 7 | F47: =COUNTIF(F2:F36,"UD") -> 7 | G47: =COUNTIF(G2:G36,"UD") -> 7 | H47: =COUNTIF(H2:H36,"UD") -> 7 | I47: =COUNTIF(I2:I36,"UD") -> 7 | ... AS47: =COUNTIF(AS2:AS36,"UD") -> 1
A48: LERT | B48: =COUNTIF(B2:B36,"LERT") -> 1 | C48: =COUNTIF(C2:C36,"LERT") -> 1 | D48: =COUNTIF(D2:D36,"LERT") -> 1 | E48: =COUNTIF(E2:E36,"LERT") -> 1 | F48: =COUNTIF(F2:F36,"LERT") -> 1 | G48: =COUNTIF(G2:G36,"LERT") -> 1 | H48: =COUNTIF(H2:H36,"LERT") -> 1 | I48: =COUNTIF(I2:I36,"LERT") -> 1 | ... AS48: =COUNTIF(AS2:AS36,"LERT") -> 0
A49: LCERT | B49: =COUNTIF(B2:B36,"LCERT") -> 0 | C49: =COUNTIF(C2:C36,"LCERT") -> 0 | D49: =COUNTIF(D2:D36,"LCERT") -> 0 | E49: =COUNTIF(E2:E36,"LCERT") -> 0 | F49: =COUNTIF(F2:F36,"LCERT") -> 0 | G49: =COUNTIF(G2:G36,"LCERT") -> 0 | H49: =COUNTIF(H2:H36,"LCERT") -> 0 | I49: =COUNTIF(I2:I36,"LCERT") -> 0 | ... AS49: =COUNTIF(AS2:AS36,"LCERT") -> 0
A50: LMT | B50: =COUNTIF(B2:B36,"LMT") -> 0 | C50: =COUNTIF(C2:C36,"LMT") -> 0 | D50: =COUNTIF(D2:D36,"LMT") -> 0 | E50: =COUNTIF(E2:E36,"LMT") -> 0 | F50: =COUNTIF(F2:F36,"LMT") -> 0 | G50: =COUNTIF(G2:G36,"LMT") -> 0 | H50: =COUNTIF(H2:H36,"LMT") -> 0 | I50: =COUNTIF(I2:I36,"LMT") -> 0 | ... AS50: =COUNTIF(AS2:AS36,"LMT") -> 1
A51: LCMT | B51: =COUNTIF(B2:B36,"LCMT") -> 0 | C51: =COUNTIF(C2:C36,"LCMT") -> 0 | D51: =COUNTIF(D2:D36,"LCMT") -> 0 | E51: =COUNTIF(E2:E36,"LCMT") -> 0 | F51: =COUNTIF(F2:F36,"LCMT") -> 0 | G51: =COUNTIF(G2:G36,"LCMT") -> 0 | H51: =COUNTIF(H2:H36,"LCMT") -> 0 | I51: =COUNTIF(I2:I36,"LCMT") -> 0 | ... AS51: =COUNTIF(AS2:AS36,"LCMT") -> 0
A52: LIT | B52: =COUNTIF(B2:B36,"LIT") -> 0 | C52: =COUNTIF(C2:C36,"LIT") -> 0 | D52: =COUNTIF(D2:D36,"LIT") -> 0 | E52: =COUNTIF(E2:E36,"LIT") -> 0 | F52: =COUNTIF(F2:F36,"LIT") -> 0 | G52: =COUNTIF(G2:G36,"LIT") -> 0 | H52: =COUNTIF(H2:H36,"LIT") -> 0 | I52: =COUNTIF(I2:I36,"LIT") -> 0 | ... AS52: =COUNTIF(AS2:AS36,"LIT") -> 6
A53: LCIT | B53: =COUNTIF(B2:B36,"LCIT") -> 0 | C53: =COUNTIF(C2:C36,"LCIT") -> 0 | D53: =COUNTIF(D2:D36,"LCIT") -> 0 | E53: =COUNTIF(E2:E36,"LCIT") -> 0 | F53: =COUNTIF(F2:F36,"LCIT") -> 0 | G53: =COUNTIF(G2:G36,"LCIT") -> 0 | H53: =COUNTIF(H2:H36,"LCIT") -> 0 | I53: =COUNTIF(I2:I36,"LCIT") -> 0 | ... AS53: =COUNTIF(AS2:AS36,"LCIT") -> 1
A54: MwERT | B54: =COUNTIF(B2:B36,"MwERT") -> 0 | C54: =COUNTIF(C2:C36,"MwERT") -> 0 | D54: =COUNTIF(D2:D36,"MwERT") -> 0 | E54: =COUNTIF(E2:E36,"MwERT") -> 0 | F54: =COUNTIF(F2:F36,"MwERT") -> 0 | G54: =COUNTIF(G2:G36,"MwERT") -> 0 | H54: =COUNTIF(H2:H36,"MwERT") -> 0 | I54: =COUNTIF(I2:I36,"MwERT") -> 0 | ... AS54: =COUNTIF(AS2:AS36,"MwERT") -> 0
A55: ERwMT | B55: =COUNTIF(B2:B36,"ERwMT") -> 0 | C55: =COUNTIF(C2:C36,"ERwMT") -> 0 | D55: =COUNTIF(D2:D36,"ERwMT") -> 0 | E55: =COUNTIF(E2:E36,"ERwMT") -> 0 | F55: =COUNTIF(F2:F36,"ERwMT") -> 0 | G55: =COUNTIF(G2:G36,"ERwMT") -> 0 | H55: =COUNTIF(H2:H36,"ERwMT") -> 0 | I55: =COUNTIF(I2:I36,"ERwMT") -> 0 | ... AS55: =COUNTIF(AS2:AS36,"ERwMT") -> 0
A56: M&ERT | B56: =COUNTIF(B2:B36,"M&ERT") -> 0 | C56: =COUNTIF(C2:C36,"M&ERT") -> 0 | D56: =COUNTIF(D2:D36,"M&ERT") -> 0 | E56: =COUNTIF(E2:E36,"M&ERT") -> 0 | F56: =COUNTIF(F2:F36,"M&ERT") -> 0 | G56: =COUNTIF(G2:G36,"M&ERT") -> 0 | H56: =COUNTIF(H2:H36,"M&ERT") -> 0 | I56: =COUNTIF(I2:I36,"M&ERT") -> 0 | ... AS56: =COUNTIF(AS2:AS36,"M&ERT") -> 0
A57: MwIT | B57: =COUNTIF(B2:B36,"MwIT") -> 0 | C57: =COUNTIF(C2:C36,"MwIT") -> 0 | D57: =COUNTIF(D2:D36,"MwIT") -> 0 | E57: =COUNTIF(E2:E36,"MwIT") -> 0 | F57: =COUNTIF(F2:F36,"MwIT") -> 0 | G57: =COUNTIF(G2:G36,"MwIT") -> 0 | H57: =COUNTIF(H2:H36,"MwIT") -> 0 | I57: =COUNTIF(I2:I36,"MwIT") -> 0 | ... AS57: =COUNTIF(AS2:AS36,"MwIT") -> 0
A58: IwMT | B58: =COUNTIF(B2:B36,"IwMT") -> 0 | C58: =COUNTIF(C2:C36,"IwMT") -> 0 | D58: =COUNTIF(D2:D36,"IwMT") -> 0 | E58: =COUNTIF(E2:E36,"IwMT") -> 0 | F58: =COUNTIF(F2:F36,"IwMT") -> 0 | G58: =COUNTIF(G2:G36,"IwMT") -> 0 | H58: =COUNTIF(H2:H36,"IwMT") -> 0 | I58: =COUNTIF(I2:I36,"IwMT") -> 0 | ... AS58: =COUNTIF(AS2:AS36,"IwMT") -> 0
A59: M&IT | B59: =COUNTIF(B2:B36,"M&IT") -> 0 | C59: =COUNTIF(C2:C36,"M&IT") -> 0 | D59: =COUNTIF(D2:D36,"M&IT") -> 0 | E59: =COUNTIF(E2:E36,"M&IT") -> 0 | F59: =COUNTIF(F2:F36,"M&IT") -> 0 | G59: =COUNTIF(G2:G36,"M&IT") -> 0 | H59: =COUNTIF(H2:H36,"M&IT") -> 0 | I59: =COUNTIF(I2:I36,"M&IT") -> 0 | ... AS59: =COUNTIF(AS2:AS36,"M&IT") -> 0
A60: IwERT | B60: =COUNTIF(B2:B36,"IwERT") -> 0 | C60: =COUNTIF(C2:C36,"IwERT") -> 0 | D60: =COUNTIF(D2:D36,"IwERT") -> 0 | E60: =COUNTIF(E2:E36,"IwERT") -> 0 | F60: =COUNTIF(F2:F36,"IwERT") -> 0 | G60: =COUNTIF(G2:G36,"IwERT") -> 0 | H60: =COUNTIF(H2:H36,"IwERT") -> 0 | I60: =COUNTIF(I2:I36,"IwERT") -> 0 | ... AS60: =COUNTIF(AS2:AS36,"IwERT") -> 0
A61: ERwIT | B61: =COUNTIF(B2:B36,"ERwIT") -> 0 | C61: =COUNTIF(C2:C36,"ERwIT") -> 0 | D61: =COUNTIF(D2:D36,"ERwIT") -> 0 | E61: =COUNTIF(E2:E36,"ERwIT") -> 0 | F61: =COUNTIF(F2:F36,"ERwIT") -> 0 | G61: =COUNTIF(G2:G36,"ERwIT") -> 0 | H61: =COUNTIF(H2:H36,"ERwIT") -> 0 | I61: =COUNTIF(I2:I36,"ERwIT") -> 0 | ... AS61: =COUNTIF(AS2:AS36,"ERwIT") -> 0
A62: I&ERT | B62: =COUNTIF(B2:B36,"I&ERT") -> 0 | C62: =COUNTIF(C2:C36,"I&ERT") -> 0 | D62: =COUNTIF(D2:D36,"I&ERT") -> 0 | E62: =COUNTIF(E2:E36,"I&ERT") -> 0 | F62: =COUNTIF(F2:F36,"I&ERT") -> 0 | G62: =COUNTIF(G2:G36,"I&ERT") -> 0 | H62: =COUNTIF(H2:H36,"I&ERT") -> 0 | I62: =COUNTIF(I2:I36,"I&ERT") -> 0 | ... AS62: =COUNTIF(AS2:AS36,"I&ERT") -> 0
A63: ER&M&IT | B63: =COUNTIF(B2:B36,"ER&M&IT") -> 0 | C63: =COUNTIF(C2:C36,"ER&M&IT") -> 0 | D63: =COUNTIF(D2:D36,"ER&M&IT") -> 0 | E63: =COUNTIF(E2:E36,"ER&M&IT") -> 0 | F63: =COUNTIF(F2:F36,"ER&M&IT") -> 0 | G63: =COUNTIF(G2:G36,"ER&M&IT") -> 0 | H63: =COUNTIF(H2:H36,"ER&M&IT") -> 0 | I63: =COUNTIF(I2:I36,"ER&M&IT") -> 0 | ... AS63: =COUNTIF(AS2:AS36,"ER&M&IT") -> 0
A64: LSD | B64: =COUNTIF(B2:B36,"LSD") -> 2 | C64: =COUNTIF(C2:C36,"LSD") -> 2 | D64: =COUNTIF(D2:D36,"LSD") -> 2 | E64: =COUNTIF(E2:E36,"LSD") -> 3 | F64: =COUNTIF(F2:F36,"LSD") -> 3 | G64: =COUNTIF(G2:G36,"LSD") -> 6 | H64: =COUNTIF(H2:H36,"LSD") -> 6 | I64: =COUNTIF(I2:I36,"LSD") -> 7 | ... AS64: =COUNTIF(AS2:AS36,"LSD") -> 6
A65: UASC | B65: =COUNTIF(B2:B36,"UASC") -> 0 | C65: =COUNTIF(C2:C36,"UASC") -> 0 | D65: =COUNTIF(D2:D36,"UASC") -> 0 | E65: =COUNTIF(E2:E36,"UASC") -> 0 | F65: =COUNTIF(F2:F36,"UASC") -> 0 | G65: =COUNTIF(G2:G36,"UASC") -> 0 | H65: =COUNTIF(H2:H36,"UASC") -> 0 | I65: =COUNTIF(I2:I36,"UASC") -> 0 | ... AS65: =COUNTIF(AS2:AS36,"UASC") -> 0
...

Sheet By target variable
B1: 1974 | C1: 1975 | D1: 1976 | E1: 1977 | F1: 1978 | G1: 1979 | H1: 1980 | I1: 1981 | J1: 1982 | K1: 1983 | L1: 1984 | M1: 1985 | N1: 1986 | O1: 1987 | P1: 1988 | Q1: 1989 | R1: 1990 | S1: 1991 | T1: 1992 | U1: 1993 | V1: 1994 | W1: 1995 | X1: 1996 | Y1: 1997 | Z1: 1998 | AA1: 1999 | AB1: 2000 | AC1: 2001 | AD1: 2002 | AE1: 2003 | AF1: 2004 | AG1: 2005 | AH1: 2006 | AI1: 2007 | AJ1: 2008 | AK1: 2009 | AL1: 2010 | AM1: 2011 | AN1: 2012 | AO1: 2013 | AP1: 2014 | AQ1: 2015 | AR1: 2016 | AS1: 2017
A2: Argentina | B2: =IF('Full menu'!B2="MDC","MDC",IF(OR('Full menu'!B2="PERF",'Full menu'!B2="AERF",'Full menu'!B2="PCB"),"ERfix",IF(OR('Full menu'!B2="ACB", 'Full menu'!B2="LCERT", 'Full menu'!B2="LERT",'Full menu'!B2="FCERT",'Full menu'!B2="FERT"),"ERTs",IF(OR('Full menu'!B2="FCMT",'Full menu'!B2="FMT",'Full menu'!B2="LMT",'Full menu'!B2="LCMT"),"MTs",IF(OR('Full menu'!B2="LCIT",'Full menu'!B2="FCIT",'Full menu'!B2="LIT",'Full menu'!B2="FIT"),"ITs",IF(OR('Full menu'!B2="MwERT", 'Full menu'!B2="ERwMT", 'Full menu'!B2="M&ERT", 'Full menu'!B2="MwIT", 'Full menu'!B2="IwMT", 'Full menu'!B2="M&IT", 'Full menu'!B2="IwERT", 'Full menu'!B2="ERwIT", 'Full menu'!B2="I&ERT", 'Full menu'!B2="ER&M&IT"),"MixedTs",IF('Full menu'!B2="UD","UD",IF('Full menu'!B2="LSD","LSD",IF('Full menu'!B2="WSD","WSD",""))))))))) -> MDC | C2: =IF('Full menu'!C2="MDC","MDC",IF(OR('Full menu'!C2="PERF",'Full menu'!C2="AERF",'Full menu'!C2="PCB"),"ERfix",IF(OR('Full menu'!C2="ACB", 'Full menu'!C2="LCERT", 'Full menu'!C2="LERT",'Full menu'!C2="FCERT",'Full menu'!C2="FERT"),"ERTs",IF(OR('Full menu'!C2="FCMT",'Full menu'!C2="FMT",'Full menu'!C2="LMT",'Full menu'!C2="LCMT"),"MTs",IF(OR('Full menu'!C2="LCIT",'Full menu'!C2="FCIT",'Full menu'!C2="LIT",'Full menu'!C2="FIT"),"ITs",IF(OR('Full menu'!C2="MwERT", 'Full menu'!C2="ERwMT", 'Full menu'!C2="M&ERT", 'Full menu'!C2="MwIT", 'Full menu'!C2="IwMT", 'Full menu'!C2="M&IT", 'Full menu'!C2="IwERT", 'Full menu'!C2="ERwIT", 'Full menu'!C2="I&ERT", 'Full menu'!C2="ER&M&IT"),"MixedTs",IF('Full menu'!C2="UD","UD",IF('Full menu'!C2="LSD","LSD",IF('Full menu'!C2="WSD","WSD",""))))))))) -> MDC | D2: =IF('Full menu'!D2="MDC","MDC",IF(OR('Full menu'!D2="PERF",'Full menu'!D2="AERF",'Full menu'!D2="PCB"),"ERfix",IF(OR('Full menu'!D2="ACB", 'Full menu'!D2="LCERT", 'Full menu'!D2="LERT",'Full menu'!D2="FCERT",'Full menu'!D2="FERT"),"ERTs",IF(OR('Full menu'!D2="FCMT",'Full menu'!D2="FMT",'Full menu'!D2="LMT",'Full menu'!D2="LCMT"),"MTs",IF(OR('Full menu'!D2="LCIT",'Full menu'!D2="FCIT",'Full menu'!D2="LIT",'Full menu'!D2="FIT"),"ITs",IF(OR('Full menu'!D2="MwERT", 'Full menu'!D2="ERwMT", 'Full menu'!D2="M&ERT", 'Full menu'!D2="MwIT", 'Full menu'!D2="IwMT", 'Full menu'!D2="M&IT", 'Full menu'!D2="IwERT", 'Full menu'!D2="ERwIT", 'Full menu'!D2="I&ERT", 'Full menu'!D2="ER&M&IT"),"MixedTs",IF('Full menu'!D2="UD","UD",IF('Full menu'!D2="LSD","LSD",IF('Full menu'!D2="WSD","WSD",""))))))))) -> MDC | E2: =IF('Full menu'!E2="MDC","MDC",IF(OR('Full menu'!E2="PERF",'Full menu'!E2="AERF",'Full menu'!E2="PCB"),"ERfix",IF(OR('Full menu'!E2="ACB", 'Full menu'!E2="LCERT", 'Full menu'!E2="LERT",'Full menu'!E2="FCERT",'Full menu'!E2="FERT"),"ERTs",IF(OR('Full menu'!E2="FCMT",'Full menu'!E2="FMT",'Full menu'!E2="LMT",'Full menu'!E2="LCMT"),"MTs",IF(OR('Full menu'!E2="LCIT",'Full menu'!E2="FCIT",'Full menu'!E2="LIT",'Full menu'!E2="FIT"),"ITs",IF(OR('Full menu'!E2="MwERT", 'Full menu'!E2="ERwMT", 'Full menu'!E2="M&ERT", 'Full menu'!E2="MwIT", 'Full menu'!E2="IwMT", 'Full menu'!E2="M&IT", 'Full menu'!E2="IwERT", 'Full menu'!E2="ERwIT", 'Full menu'!E2="I&ERT", 'Full menu'!E2="ER&M&IT"),"MixedTs",IF('Full menu'!E2="UD","UD",IF('Full menu'!E2="LSD","LSD",IF('Full menu'!E2="WSD","WSD",""))))))))) -> UD | F2: =IF('Full menu'!F2="MDC","MDC",IF(OR('Full menu'!F2="PERF",'Full menu'!F2="AERF",'Full menu'!F2="PCB"),"ERfix",IF(OR('Full menu'!F2="ACB", 'Full menu'!F2="LCERT", 'Full menu'!F2="LERT",'Full menu'!F2="FCERT",'Full menu'!F2="FERT"),"ERTs",IF(OR('Full menu'!F2="FCMT",'Full menu'!F2="FMT",'Full menu'!F2="LMT",'Full menu'!F2="LCMT"),"MTs",IF(OR('Full menu'!F2="LCIT",'Full menu'!F2="FCIT",'Full menu'!F2="LIT",'Full menu'!F2="FIT"),"ITs",IF(OR('Full menu'!F2="MwERT", 'Full menu'!F2="ERwMT", 'Full menu'!F2="M&ERT", 'Full menu'!F2="MwIT", 'Full menu'!F2="IwMT", 'Full menu'!F2="M&IT", 'Full menu'!F2="IwERT", 'Full menu'!F2="ERwIT", 'Full menu'!F2="I&ERT", 'Full menu'!F2="ER&M&IT"),"MixedTs",IF('Full menu'!F2="UD","UD",IF('Full menu'!F2="LSD","LSD",IF('Full menu'!F2="WSD","WSD",""))))))))) -> UD | G2: =IF('Full menu'!G2="MDC","MDC",IF(OR('Full menu'!G2="PERF",'Full menu'!G2="AERF",'Full menu'!G2="PCB"),"ERfix",IF(OR('Full menu'!G2="ACB", 'Full menu'!G2="LCERT", 'Full menu'!G2="LERT",'Full menu'!G2="FCERT",'Full menu'!G2="FERT"),"ERTs",IF(OR('Full menu'!G2="FCMT",'Full menu'!G2="FMT",'Full menu'!G2="LMT",'Full menu'!G2="LCMT"),"MTs",IF(OR('Full menu'!G2="LCIT",'Full menu'!G2="FCIT",'Full menu'!G2="LIT",'Full menu'!G2="FIT"),"ITs",IF(OR('Full menu'!G2="MwERT", 'Full menu'!G2="ERwMT", 'Full menu'!G2="M&ERT", 'Full menu'!G2="MwIT", 'Full menu'!G2="IwMT", 'Full menu'!G2="M&IT", 'Full menu'!G2="IwERT", 'Full menu'!G2="ERwIT", 'Full menu'!G2="I&ERT", 'Full menu'!G2="ER&M&IT"),"MixedTs",IF('Full menu'!G2="UD","UD",IF('Full menu'!G2="LSD","LSD",IF('Full menu'!G2="WSD","WSD",""))))))))) -> UD | H2: =IF('Full menu'!H2="MDC","MDC",IF(OR('Full menu'!H2="PERF",'Full menu'!H2="AERF",'Full menu'!H2="PCB"),"ERfix",IF(OR('Full menu'!H2="ACB", 'Full menu'!H2="LCERT", 'Full menu'!H2="LERT",'Full menu'!H2="FCERT",'Full menu'!H2="FERT"),"ERTs",IF(OR('Full menu'!H2="FCMT",'Full menu'!H2="FMT",'Full menu'!H2="LMT",'Full menu'!H2="LCMT"),"MTs",IF(OR('Full menu'!H2="LCIT",'Full menu'!H2="FCIT",'Full menu'!H2="LIT",'Full menu'!H2="FIT"),"ITs",IF(OR('Full menu'!H2="MwERT", 'Full menu'!H2="ERwMT", 'Full menu'!H2="M&ERT", 'Full menu'!H2="MwIT", 'Full menu'!H2="IwMT", 'Full menu'!H2="M&IT", 'Full menu'!H2="IwERT", 'Full menu'!H2="ERwIT", 'Full menu'!H2="I&ERT", 'Full menu'!H2="ER&M&IT"),"MixedTs",IF('Full menu'!H2="UD","UD",IF('Full menu'!H2="LSD","LSD",IF('Full menu'!H2="WSD","WSD",""))))))))) -> UD | I2: =IF('Full menu'!I2="MDC","MDC",IF(OR('Full menu'!I2="PERF",'Full menu'!I2="AERF",'Full menu'!I2="PCB"),"ERfix",IF(OR('Full menu'!I2="ACB", 'Full menu'!I2="LCERT", 'Full menu'!I2="LERT",'Full menu'!I2="FCERT",'Full menu'!I2="FERT"),"ERTs",IF(OR('Full menu'!I2="FCMT",'Full menu'!I2="FMT",'Full menu'!I2="LMT",'Full menu'!I2="LCMT"),"MTs",IF(OR('Full menu'!I2="LCIT",'Full menu'!I2="FCIT",'Full menu'!I2="LIT",'Full menu'!I2="FIT"),"ITs",IF(OR('Full menu'!I2="MwERT", 'Full menu'!I2="ERwMT", 'Full menu'!I2="M&ERT", 'Full menu'!I2="MwIT", 'Full menu'!I2="IwMT", 'Full menu'!I2="M&IT", 'Full menu'!I2="IwERT", 'Full menu'!I2="ERwIT", 'Full menu'!I2="I&ERT", 'Full menu'!I2="ER&M&IT"),"MixedTs",IF('Full menu'!I2="UD","UD",IF('Full menu'!I2="LSD","LSD",IF('Full menu'!I2="WSD","WSD",""))))))))) -> UD | ... AS2: =IF('Full menu'!AS2="MDC","MDC",IF(OR('Full menu'!AS2="PERF",'Full menu'!AS2="AERF",'Full menu'!AS2="PCB"),"ERfix",IF(OR('Full menu'!AS2="ACB", 'Full menu'!AS2="LCERT", 'Full menu'!AS2="LERT",'Full menu'!AS2="FCERT",'Full menu'!AS2="FERT"),"ERTs",IF(OR('Full menu'!AS2="FCMT",'Full menu'!AS2="FMT",'Full menu'!AS2="LMT",'Full menu'!AS2="LCMT"),"MTs",IF(OR('Full menu'!AS2="LCIT",'Full menu'!AS2="FCIT",'Full menu'!AS2="LIT",'Full menu'!AS2="FIT"),"ITs",IF(OR('Full menu'!AS2="MwERT", 'Full menu'!AS2="ERwMT", 'Full menu'!AS2="M&ERT", 'Full menu'!AS2="MwIT", 'Full menu'!AS2="IwMT", 'Full menu'!AS2="M&IT", 'Full menu'!AS2="IwERT", 'Full menu'!AS2="ERwIT", 'Full menu'!AS2="I&ERT", 'Full menu'!AS2="ER&M&IT"),"MixedTs",IF('Full menu'!AS2="UD","UD",IF('Full menu'!AS2="LSD","LSD",IF('Full menu'!AS2="WSD","WSD",""))))))))) -> LSD | AT2: =IF('Full menu'!AT2="MDC","MDC",IF(OR('Full menu'!AT2="PERF",'Full menu'!AT2="AERF",'Full menu'!AT2="PCB"),"ERfix",IF(OR('Full menu'!AT2="ACB", 'Full menu'!AT2="LCERT", 'Full menu'!AT2="LERT",'Full menu'!AT2="FCERT",'Full menu'!AT2="FERT"),"ERT",IF(OR('Full menu'!AT2="FCMT",'Full menu'!AT2="FMT",'Full menu'!AT2="LMT",'Full menu'!AT2="LCMT"),"MT",IF(OR('Full menu'!AT2="LCIT",'Full menu'!AT2="FCIT",'Full menu'!AT2="LMT",'Full menu'!AT2="FMT"),"IT",IF(OR('Full menu'!AT2="MwERT", 'Full menu'!AT2="ERwMT", 'Full menu'!AT2="M&ERT", 'Full menu'!AT2="MwIT", 'Full menu'!AT2="IwMT", 'Full menu'!AT2="M&IT", 'Full menu'!AT2="IwERT", 'Full menu'!AT2="ERwIT", 'Full menu'!AT2="I&ERT", 'Full menu'!AT2="ER&M&IT"),"MixedT",IF('Full menu'!AT2="UD","UD",IF('Full menu'!AT2="LSD","LSD",IF('Full menu'!AT2="WSD","WSD",""))))))))) | AU2: =IF('Full menu'!AU2="MDC","MDC",IF(OR('Full menu'!AU2="PERF",'Full menu'!AU2="AERF",'Full menu'!AU2="PCB"),"ERfix",IF(OR('Full menu'!AU2="ACB", 'Full menu'!AU2="LCERT", 'Full menu'!AU2="LERT",'Full menu'!AU2="FCERT",'Full menu'!AU2="FERT"),"ERT",IF(OR('Full menu'!AU2="FCMT",'Full menu'!AU2="FMT",'Full menu'!AU2="LMT",'Full menu'!AU2="LCMT"),"MT",IF(OR('Full menu'!AU2="LCIT",'Full menu'!AU2="FCIT",'Full menu'!AU2="LMT",'Full menu'!AU2="FMT"),"IT",IF(OR('Full menu'!AU2="MwERT", 'Full menu'!AU2="ERwMT", 'Full menu'!AU2="M&ERT", 'Full menu'!AU2="MwIT", 'Full menu'!AU2="IwMT", 'Full menu'!AU2="M&IT", 'Full menu'!AU2="IwERT", 'Full menu'!AU2="ERwIT", 'Full menu'!AU2="I&ERT", 'Full menu'!AU2="ER&M&IT"),"MixedT",IF('Full menu'!AU2="UD","UD",IF('Full menu'!AU2="LSD","LSD",IF('Full menu'!AU2="WSD","WSD",""))))))))) | AV2: =IF('Full menu'!AV2="MDC","MDC",IF(OR('Full menu'!AV2="PERF",'Full menu'!AV2="AERF",'Full menu'!AV2="PCB"),"ERfix",IF(OR('Full menu'!AV2="ACB", 'Full menu'!AV2="LCERT", 'Full menu'!AV2="LERT",'Full menu'!AV2="FCERT",'Full menu'!AV2="FERT"),"ERT",IF(OR('Full menu'!AV2="FCMT",'Full menu'!AV2="FMT",'Full menu'!AV2="LMT",'Full menu'!AV2="LCMT"),"MT",IF(OR('Full menu'!AV2="LCIT",'Full menu'!AV2="FCIT",'Full menu'!AV2="LMT",'Full menu'!AV2="FMT"),"IT",IF(OR('Full menu'!AV2="MwERT", 'Full menu'!AV2="ERwMT", 'Full menu'!AV2="M&ERT", 'Full menu'!AV2="MwIT", 'Full menu'!AV2="IwMT", 'Full menu'!AV2="M&IT", 'Full menu'!AV2="IwERT", 'Full menu'!AV2="ERwIT", 'Full menu'!AV2="I&ERT", 'Full menu'!AV2="ER&M&IT"),"MixedT",IF('Full menu'!AV2="UD","UD",IF('Full menu'!AV2="LSD","LSD",IF('Full menu'!AV2="WSD","WSD",""))))))))) | AW2: =IF('Full menu'!AW2="MDC","MDC",IF(OR('Full menu'!AW2="PERF",'Full menu'!AW2="AERF",'Full menu'!AW2="PCB"),"ERfix",IF(OR('Full menu'!AW2="ACB", 'Full menu'!AW2="LCERT", 'Full menu'!AW2="LERT",'Full menu'!AW2="FCERT",'Full menu'!AW2="FERT"),"ERT",IF(OR('Full menu'!AW2="FCMT",'Full menu'!AW2="FMT",'Full menu'!AW2="LMT",'Full menu'!AW2="LCMT"),"MT",IF(OR('Full menu'!AW2="LCIT",'Full menu'!AW2="FCIT",'Full menu'!AW2="LMT",'Full menu'!AW2="FMT"),"IT",IF(OR('Full menu'!AW2="MwERT", 'Full menu'!AW2="ERwMT", 'Full menu'!AW2="M&ERT", 'Full menu'!AW2="MwIT", 'Full menu'!AW2="IwMT", 'Full menu'!AW2="M&IT", 'Full menu'!AW2="IwERT", 'Full menu'!AW2="ERwIT", 'Full menu'!AW2="I&ERT", 'Full menu'!AW2="ER&M&IT"),"MixedT",IF('Full menu'!AW2="UD","UD",IF('Full menu'!AW2="LSD","LSD",IF('Full menu'!AW2="WSD","WSD",""))))))))) | AX2: =IF('Full menu'!AX2="MDC","MDC",IF(OR('Full menu'!AX2="PERF",'Full menu'!AX2="AERF",'Full menu'!AX2="PCB"),"ERfix",IF(OR('Full menu'!AX2="ACB", 'Full menu'!AX2="LCERT", 'Full menu'!AX2="LERT",'Full menu'!AX2="FCERT",'Full menu'!AX2="FERT"),"ERT",IF(OR('Full menu'!AX2="FCMT",'Full menu'!AX2="FMT",'Full menu'!AX2="LMT",'Full menu'!AX2="LCMT"),"MT",IF(OR('Full menu'!AX2="LCIT",'Full menu'!AX2="FCIT",'Full menu'!AX2="LMT",'Full menu'!AX2="FMT"),"IT",IF(OR('Full menu'!AX2="MwERT", 'Full menu'!AX2="ERwMT", 'Full menu'!AX2="M&ERT", 'Full menu'!AX2="MwIT", 'Full menu'!AX2="IwMT", 'Full menu'!AX2="M&IT", 'Full menu'!AX2="IwERT", 'Full menu'!AX2="ERwIT", 'Full menu'!AX2="I&ERT", 'Full menu'!AX2="ER&M&IT"),"MixedT",IF('Full menu'!AX2="UD","UD",IF('Full menu'!AX2="LSD","LSD",IF('Full menu'!AX2="WSD","WSD",""))))))))) | AY2: =IF('Full menu'!AY2="MDC","MDC",IF(OR('Full menu'!AY2="PERF",'Full menu'!AY2="AERF",'Full menu'!AY2="PCB"),"ERfix",IF(OR('Full menu'!AY2="ACB", 'Full menu'!AY2="LCERT", 'Full menu'!AY2="LERT",'Full menu'!AY2="FCERT",'Full menu'!AY2="FERT"),"ERT",IF(OR('Full menu'!AY2="FCMT",'Full menu'!AY2="FMT",'Full menu'!AY2="LMT",'Full menu'!AY2="LCMT"),"MT",IF(OR('Full menu'!AY2="LCIT",'Full menu'!AY2="FCIT",'Full menu'!AY2="LMT",'Full menu'!AY2="FMT"),"IT",IF(OR('Full menu'!AY2="MwERT", 'Full menu'!AY2="ERwMT", 'Full menu'!AY2="M&ERT", 'Full menu'!AY2="MwIT", 'Full menu'!AY2="IwMT", 'Full menu'!AY2="M&IT", 'Full menu'!AY2="IwERT", 'Full menu'!AY2="ERwIT", 'Full menu'!AY2="I&ERT", 'Full menu'!AY2="ER&M&IT"),"MixedT",IF('Full menu'!AY2="UD","UD",IF('Full menu'!AY2="LSD","LSD",IF('Full menu'!AY2="WSD","WSD",""))))))))) | AZ2: =IF('Full menu'!AZ2="MDC","MDC",IF(OR('Full menu'!AZ2="PERF",'Full menu'!AZ2="AERF",'Full menu'!AZ2="PCB"),"ERfix",IF(OR('Full menu'!AZ2="ACB", 'Full menu'!AZ2="LCERT", 'Full menu'!AZ2="LERT",'Full menu'!AZ2="FCERT",'Full menu'!AZ2="FERT"),"ERT",IF(OR('Full menu'!AZ2="FCMT",'Full menu'!AZ2="FMT",'Full menu'!AZ2="LMT",'Full menu'!AZ2="LCMT"),"MT",IF(OR('Full menu'!AZ2="LCIT",'Full menu'!AZ2="FCIT",'Full menu'!AZ2="LMT",'Full menu'!AZ2="FMT"),"IT",IF(OR('Full menu'!AZ2="MwERT", 'Full menu'!AZ2="ERwMT", 'Full menu'!AZ2="M&ERT", 'Full menu'!AZ2="MwIT", 'Full menu'!AZ2="IwMT", 'Full menu'!AZ2="M&IT", 'Full menu'!AZ2="IwERT", 'Full menu'!AZ2="ERwIT", 'Full menu'!AZ2="I&ERT", 'Full menu'!AZ2="ER&M&IT"),"MixedT",IF('Full menu'!AZ2="UD","UD",IF('Full menu'!AZ2="LSD","LSD",IF('Full menu'!AZ2="WSD","WSD",""))))))))) | BA2: =IF('Full menu'!BA2="MDC","MDC",IF(OR('Full menu'!BA2="PERF",'Full menu'!BA2="AERF",'Full menu'!BA2="PCB"),"ERfix",IF(OR('Full menu'!BA2="ACB", 'Full menu'!BA2="LCERT", 'Full menu'!BA2="LERT",'Full menu'!BA2="FCERT",'Full menu'!BA2="FERT"),"ERT",IF(OR('Full menu'!BA2="FCMT",'Full menu'!BA2="FMT",'Full menu'!BA2="LMT",'Full menu'!BA2="LCMT"),"MT",IF(OR('Full menu'!BA2="LCIT",'Full menu'!BA2="FCIT",'Full menu'!BA2="LMT",'Full menu'!BA2="FMT"),"IT",IF(OR('Full menu'!BA2="MwERT", 'Full menu'!BA2="ERwMT", 'Full menu'!BA2="M&ERT", 'Full menu'!BA2="MwIT", 'Full menu'!BA2="IwMT", 'Full menu'!BA2="M&IT", 'Full menu'!BA2="IwERT", 'Full menu'!BA2="ERwIT", 'Full menu'!BA2="I&ERT", 'Full menu'!BA2="ER&M&IT"),"MixedT",IF('Full menu'!BA2="UD","UD",IF('Full menu'!BA2="LSD","LSD",IF('Full menu'!BA2="WSD","WSD",""))))))))) | ... BC2: =IF('Full menu'!BC2="MDC","MDC",IF(OR('Full menu'!BC2="PERF",'Full menu'!BC2="AERF",'Full menu'!BC2="PCB"),"ERfix",IF(OR('Full menu'!BC2="ACB", 'Full menu'!BC2="LCERT", 'Full menu'!BC2="LERT",'Full menu'!BC2="FCERT",'Full menu'!BC2="FERT"),"ERT",IF(OR('Full menu'!BC2="FCMT",'Full menu'!BC2="FMT",'Full menu'!BC2="LMT",'Full menu'!BC2="LCMT"),"MT",IF(OR('Full menu'!BC2="LCIT",'Full menu'!BC2="FCIT",'Full menu'!BC2="LMT",'Full menu'!BC2="FMT"),"IT",IF(OR('Full menu'!BC2="MwERT", 'Full menu'!BC2="ERwMT", 'Full menu'!BC2="M&ERT", 'Full menu'!BC2="MwIT", 'Full menu'!BC2="IwMT", 'Full menu'!BC2="M&IT", 'Full menu'!BC2="IwERT", 'Full menu'!BC2="ERwIT", 'Full menu'!BC2="I&ERT", 'Full menu'!BC2="ER&M&IT"),"MixedT",IF('Full menu'!BC2="UD","UD",IF('Full menu'!BC2="LSD","LSD",IF('Full menu'!BC2="WSD","WSD","")))))))))
A3: Brazil | B3: =IF('Full menu'!B3="MDC","MDC",IF(OR('Full menu'!B3="PERF",'Full menu'!B3="AERF",'Full menu'!B3="PCB"),"ERfix",IF(OR('Full menu'!B3="ACB", 'Full menu'!B3="LCERT", 'Full menu'!B3="LERT",'Full menu'!B3="FCERT",'Full menu'!B3="FERT"),"ERTs",IF(OR('Full menu'!B3="FCMT",'Full menu'!B3="FMT",'Full menu'!B3="LMT",'Full menu'!B3="LCMT"),"MTs",IF(OR('Full menu'!B3="LCIT",'Full menu'!B3="FCIT",'Full menu'!B3="LIT",'Full menu'!B3="FIT"),"ITs",IF(OR('Full menu'!B3="MwERT", 'Full menu'!B3="ERwMT", 'Full menu'!B3="M&ERT", 'Full menu'!B3="MwIT", 'Full menu'!B3="IwMT", 'Full menu'!B3="M&IT", 'Full menu'!B3="IwERT", 'Full menu'!B3="ERwIT", 'Full menu'!B3="I&ERT", 'Full menu'!B3="ER&M&IT"),"MixedTs",IF('Full menu'!B3="UD","UD",IF('Full menu'!B3="LSD","LSD",IF('Full menu'!B3="WSD","WSD",""))))))))) -> UD | C3: =IF('Full menu'!C3="MDC","MDC",IF(OR('Full menu'!C3="PERF",'Full menu'!C3="AERF",'Full menu'!C3="PCB"),"ERfix",IF(OR('Full menu'!C3="ACB", 'Full menu'!C3="LCERT", 'Full menu'!C3="LERT",'Full menu'!C3="FCERT",'Full menu'!C3="FERT"),"ERTs",IF(OR('Full menu'!C3="FCMT",'Full menu'!C3="FMT",'Full menu'!C3="LMT",'Full menu'!C3="LCMT"),"MTs",IF(OR('Full menu'!C3="LCIT",'Full menu'!C3="FCIT",'Full menu'!C3="LIT",'Full menu'!C3="FIT"),"ITs",IF(OR('Full menu'!C3="MwERT", 'Full menu'!C3="ERwMT", 'Full menu'!C3="M&ERT", 'Full menu'!C3="MwIT", 'Full menu'!C3="IwMT", 'Full menu'!C3="M&IT", 'Full menu'!C3="IwERT", 'Full menu'!C3="ERwIT", 'Full menu'!C3="I&ERT", 'Full menu'!C3="ER&M&IT"),"MixedTs",IF('Full menu'!C3="UD","UD",IF('Full menu'!C3="LSD","LSD",IF('Full menu'!C3="WSD","WSD",""))))))))) -> UD | D3: =IF('Full menu'!D3="MDC","MDC",IF(OR('Full menu'!D3="PERF",'Full menu'!D3="AERF",'Full menu'!D3="PCB"),"ERfix",IF(OR('Full menu'!D3="ACB", 'Full menu'!D3="LCERT", 'Full menu'!D3="LERT",'Full menu'!D3="FCERT",'Full menu'!D3="FERT"),"ERTs",IF(OR('Full menu'!D3="FCMT",'Full menu'!D3="FMT",'Full menu'!D3="LMT",'Full menu'!D3="LCMT"),"MTs",IF(OR('Full menu'!D3="LCIT",'Full menu'!D3="FCIT",'Full menu'!D3="LIT",'Full menu'!D3="FIT"),"ITs",IF(OR('Full menu'!D3="MwERT", 'Full menu'!D3="ERwMT", 'Full menu'!D3="M&ERT", 'Full menu'!D3="MwIT", 'Full menu'!D3="IwMT", 'Full menu'!D3="M&IT", 'Full menu'!D3="IwERT", 'Full menu'!D3="ERwIT", 'Full menu'!D3="I&ERT", 'Full menu'!D3="ER&M&IT"),"MixedTs",IF('Full menu'!D3="UD","UD",IF('Full menu'!D3="LSD","LSD",IF('Full menu'!D3="WSD","WSD",""))))))))) -> UD | E3: =IF('Full menu'!E3="MDC","MDC",IF(OR('Full menu'!E3="PERF",'Full menu'!E3="AERF",'Full menu'!E3="PCB"),"ERfix",IF(OR('Full menu'!E3="ACB", 'Full menu'!E3="LCERT", 'Full menu'!E3="LERT",'Full menu'!E3="FCERT",'Full menu'!E3="FERT"),"ERTs",IF(OR('Full menu'!E3="FCMT",'Full menu'!E3="FMT",'Full menu'!E3="LMT",'Full menu'!E3="LCMT"),"MTs",IF(OR('Full menu'!E3="LCIT",'Full menu'!E3="FCIT",'Full menu'!E3="LIT",'Full menu'!E3="FIT"),"ITs",IF(OR('Full menu'!E3="MwERT", 'Full menu'!E3="ERwMT", 'Full menu'!E3="M&ERT", 'Full menu'!E3="MwIT", 'Full menu'!E3="IwMT", 'Full menu'!E3="M&IT", 'Full menu'!E3="IwERT", 'Full menu'!E3="ERwIT", 'Full menu'!E3="I&ERT", 'Full menu'!E3="ER&M&IT"),"MixedTs",IF('Full menu'!E3="UD","UD",IF('Full menu'!E3="LSD","LSD",IF('Full menu'!E3="WSD","WSD",""))))))))) -> UD | F3: =IF('Full menu'!F3="MDC","MDC",IF(OR('Full menu'!F3="PERF",'Full menu'!F3="AERF",'Full menu'!F3="PCB"),"ERfix",IF(OR('Full menu'!F3="ACB", 'Full menu'!F3="LCERT", 'Full menu'!F3="LERT",'Full menu'!F3="FCERT",'Full menu'!F3="FERT"),"ERTs",IF(OR('Full menu'!F3="FCMT",'Full menu'!F3="FMT",'Full menu'!F3="LMT",'Full menu'!F3="LCMT"),"MTs",IF(OR('Full menu'!F3="LCIT",'Full menu'!F3="FCIT",'Full menu'!F3="LIT",'Full menu'!F3="FIT"),"ITs",IF(OR('Full menu'!F3="MwERT", 'Full menu'!F3="ERwMT", 'Full menu'!F3="M&ERT", 'Full menu'!F3="MwIT", 'Full menu'!F3="IwMT", 'Full menu'!F3="M&IT", 'Full menu'!F3="IwERT", 'Full menu'!F3="ERwIT", 'Full menu'!F3="I&ERT", 'Full menu'!F3="ER&M&IT"),"MixedTs",IF('Full menu'!F3="UD","UD",IF('Full menu'!F3="LSD","LSD",IF('Full menu'!F3="WSD","WSD",""))))))))) -> UD | G3: =IF('Full menu'!G3="MDC","MDC",IF(OR('Full menu'!G3="PERF",'Full menu'!G3="AERF",'Full menu'!G3="PCB"),"ERfix",IF(OR('Full menu'!G3="ACB", 'Full menu'!G3="LCERT", 'Full menu'!G3="LERT",'Full menu'!G3="FCERT",'Full menu'!G3="FERT"),"ERTs",IF(OR('Full menu'!G3="FCMT",'Full menu'!G3="FMT",'Full menu'!G3="LMT",'Full menu'!G3="LCMT"),"MTs",IF(OR('Full menu'!G3="LCIT",'Full menu'!G3="FCIT",'Full menu'!G3="LIT",'Full menu'!G3="FIT"),"ITs",IF(OR('Full menu'!G3="MwERT", 'Full menu'!G3="ERwMT", 'Full menu'!G3="M&ERT", 'Full menu'!G3="MwIT", 'Full menu'!G3="IwMT", 'Full menu'!G3="M&IT", 'Full menu'!G3="IwERT", 'Full menu'!G3="ERwIT", 'Full menu'!G3="I&ERT", 'Full menu'!G3="ER&M&IT"),"MixedTs",IF('Full menu'!G3="UD","UD",IF('Full menu'!G3="LSD","LSD",IF('Full menu'!G3="WSD","WSD",""))))))))) -> UD | H3: =IF('Full menu'!H3="MDC","MDC",IF(OR('Full menu'!H3="PERF",'Full menu'!H3="AERF",'Full menu'!H3="PCB"),"ERfix",IF(OR('Full menu'!H3="ACB", 'Full menu'!H3="LCERT", 'Full menu'!H3="LERT",'Full menu'!H3="FCERT",'Full menu'!H3="FERT"),"ERTs",IF(OR('Full menu'!H3="FCMT",'Full menu'!H3="FMT",'Full menu'!H3="LMT",'Full menu'!H3="LCMT"),"MTs",IF(OR('Full menu'!H3="LCIT",'Full menu'!H3="FCIT",'Full menu'!H3="LIT",'Full menu'!H3="FIT"),"ITs",IF(OR('Full menu'!H3="MwERT", 'Full menu'!H3="ERwMT", 'Full menu'!H3="M&ERT", 'Full menu'!H3="MwIT", 'Full menu'!H3="IwMT", 'Full menu'!H3="M&IT", 'Full menu'!H3="IwERT", 'Full menu'!H3="ERwIT", 'Full menu'!H3="I&ERT", 'Full menu'!H3="ER&M&IT"),"MixedTs",IF('Full menu'!H3="UD","UD",IF('Full menu'!H3="LSD","LSD",IF('Full menu'!H3="WSD","WSD",""))))))))) -> UD | I3: =IF('Full menu'!I3="MDC","MDC",IF(OR('Full menu'!I3="PERF",'Full menu'!I3="AERF",'Full menu'!I3="PCB"),"ERfix",IF(OR('Full menu'!I3="ACB", 'Full menu'!I3="LCERT", 'Full menu'!I3="LERT",'Full menu'!I3="FCERT",'Full menu'!I3="FERT"),"ERTs",IF(OR('Full menu'!I3="FCMT",'Full menu'!I3="FMT",'Full menu'!I3="LMT",'Full menu'!I3="LCMT"),"MTs",IF(OR('Full menu'!I3="LCIT",'Full menu'!I3="FCIT",'Full menu'!I3="LIT",'Full menu'!I3="FIT"),"ITs",IF(OR('Full menu'!I3="MwERT", 'Full menu'!I3="ERwMT", 'Full menu'!I3="M&ERT", 'Full menu'!I3="MwIT", 'Full menu'!I3="IwMT", 'Full menu'!I3="M&IT", 'Full menu'!I3="IwERT", 'Full menu'!I3="ERwIT", 'Full menu'!I3="I&ERT", 'Full menu'!I3="ER&M&IT"),"MixedTs",IF('Full menu'!I3="UD","UD",IF('Full menu'!I3="LSD","LSD",IF('Full menu'!I3="WSD","WSD",""))))))))) -> UD | ... AS3: =IF('Full menu'!AS3="MDC","MDC",IF(OR('Full menu'!AS3="PERF",'Full menu'!AS3="AERF",'Full menu'!AS3="PCB"),"ERfix",IF(OR('Full menu'!AS3="ACB", 'Full menu'!AS3="LCERT", 'Full menu'!AS3="LERT",'Full menu'!AS3="FCERT",'Full menu'!AS3="FERT"),"ERTs",IF(OR('Full menu'!AS3="FCMT",'Full menu'!AS3="FMT",'Full menu'!AS3="LMT",'Full menu'!AS3="LCMT"),"MTs",IF(OR('Full menu'!AS3="LCIT",'Full menu'!AS3="FCIT",'Full menu'!AS3="LIT",'Full menu'!AS3="FIT"),"ITs",IF(OR('Full menu'!AS3="MwERT", 'Full menu'!AS3="ERwMT", 'Full menu'!AS3="M&ERT", 'Full menu'!AS3="MwIT", 'Full menu'!AS3="IwMT", 'Full menu'!AS3="M&IT", 'Full menu'!AS3="IwERT", 'Full menu'!AS3="ERwIT", 'Full menu'!AS3="I&ERT", 'Full menu'!AS3="ER&M&IT"),"MixedTs",IF('Full menu'!AS3="UD","UD",IF('Full menu'!AS3="LSD","LSD",IF('Full menu'!AS3="WSD","WSD",""))))))))) -> ITs | AT3: =IF('Full menu'!AT3="MDC","MDC",IF(OR('Full menu'!AT3="PERF",'Full menu'!AT3="AERF",'Full menu'!AT3="PCB"),"ERfix",IF(OR('Full menu'!AT3="ACB", 'Full menu'!AT3="LCERT", 'Full menu'!AT3="LERT",'Full menu'!AT3="FCERT",'Full menu'!AT3="FERT"),"ERT",IF(OR('Full menu'!AT3="FCMT",'Full menu'!AT3="FMT",'Full menu'!AT3="LMT",'Full menu'!AT3="LCMT"),"MT",IF(OR('Full menu'!AT3="LCIT",'Full menu'!AT3="FCIT",'Full menu'!AT3="LMT",'Full menu'!AT3="FMT"),"IT",IF(OR('Full menu'!AT3="MwERT", 'Full menu'!AT3="ERwMT", 'Full menu'!AT3="M&ERT", 'Full menu'!AT3="MwIT", 'Full menu'!AT3="IwMT", 'Full menu'!AT3="M&IT", 'Full menu'!AT3="IwERT", 'Full menu'!AT3="ERwIT", 'Full menu'!AT3="I&ERT", 'Full menu'!AT3="ER&M&IT"),"MixedT",IF('Full menu'!AT3="UD","UD",IF('Full menu'!AT3="LSD","LSD",IF('Full menu'!AT3="WSD","WSD",""))))))))) | AU3: =IF('Full menu'!AU3="MDC","MDC",IF(OR('Full menu'!AU3="PERF",'Full menu'!AU3="AERF",'Full menu'!AU3="PCB"),"ERfix",IF(OR('Full menu'!AU3="ACB", 'Full menu'!AU3="LCERT", 'Full menu'!AU3="LERT",'Full menu'!AU3="FCERT",'Full menu'!AU3="FERT"),"ERT",IF(OR('Full menu'!AU3="FCMT",'Full menu'!AU3="FMT",'Full menu'!AU3="LMT",'Full menu'!AU3="LCMT"),"MT",IF(OR('Full menu'!AU3="LCIT",'Full menu'!AU3="FCIT",'Full menu'!AU3="LMT",'Full menu'!AU3="FMT"),"IT",IF(OR('Full menu'!AU3="MwERT", 'Full menu'!AU3="ERwMT", 'Full menu'!AU3="M&ERT", 'Full menu'!AU3="MwIT", 'Full menu'!AU3="IwMT", 'Full menu'!AU3="M&IT", 'Full menu'!AU3="IwERT", 'Full menu'!AU3="ERwIT", 'Full menu'!AU3="I&ERT", 'Full menu'!AU3="ER&M&IT"),"MixedT",IF('Full menu'!AU3="UD","UD",IF('Full menu'!AU3="LSD","LSD",IF('Full menu'!AU3="WSD","WSD",""))))))))) | AV3: =IF('Full menu'!AV3="MDC","MDC",IF(OR('Full menu'!AV3="PERF",'Full menu'!AV3="AERF",'Full menu'!AV3="PCB"),"ERfix",IF(OR('Full menu'!AV3="ACB", 'Full menu'!AV3="LCERT", 'Full menu'!AV3="LERT",'Full menu'!AV3="FCERT",'Full menu'!AV3="FERT"),"ERT",IF(OR('Full menu'!AV3="FCMT",'Full menu'!AV3="FMT",'Full menu'!AV3="LMT",'Full menu'!AV3="LCMT"),"MT",IF(OR('Full menu'!AV3="LCIT",'Full menu'!AV3="FCIT",'Full menu'!AV3="LMT",'Full menu'!AV3="FMT"),"IT",IF(OR('Full menu'!AV3="MwERT", 'Full menu'!AV3="ERwMT", 'Full menu'!AV3="M&ERT", 'Full menu'!AV3="MwIT", 'Full menu'!AV3="IwMT", 'Full menu'!AV3="M&IT", 'Full menu'!AV3="IwERT", 'Full menu'!AV3="ERwIT", 'Full menu'!AV3="I&ERT", 'Full menu'!AV3="ER&M&IT"),"MixedT",IF('Full menu'!AV3="UD","UD",IF('Full menu'!AV3="LSD","LSD",IF('Full menu'!AV3="WSD","WSD",""))))))))) | AW3: =IF('Full menu'!AW3="MDC","MDC",IF(OR('Full menu'!AW3="PERF",'Full menu'!AW3="AERF",'Full menu'!AW3="PCB"),"ERfix",IF(OR('Full menu'!AW3="ACB", 'Full menu'!AW3="LCERT", 'Full menu'!AW3="LERT",'Full menu'!AW3="FCERT",'Full menu'!AW3="FERT"),"ERT",IF(OR('Full menu'!AW3="FCMT",'Full menu'!AW3="FMT",'Full menu'!AW3="LMT",'Full menu'!AW3="LCMT"),"MT",IF(OR('Full menu'!AW3="LCIT",'Full menu'!AW3="FCIT",'Full menu'!AW3="LMT",'Full menu'!AW3="FMT"),"IT",IF(OR('Full menu'!AW3="MwERT", 'Full menu'!AW3="ERwMT", 'Full menu'!AW3="M&ERT", 'Full menu'!AW3="MwIT", 'Full menu'!AW3="IwMT", 'Full menu'!AW3="M&IT", 'Full menu'!AW3="IwERT", 'Full menu'!AW3="ERwIT", 'Full menu'!AW3="I&ERT", 'Full menu'!AW3="ER&M&IT"),"MixedT",IF('Full menu'!AW3="UD","UD",IF('Full menu'!AW3="LSD","LSD",IF('Full menu'!AW3="WSD","WSD",""))))))))) | AX3: =IF('Full menu'!AX3="MDC","MDC",IF(OR('Full menu'!AX3="PERF",'Full menu'!AX3="AERF",'Full menu'!AX3="PCB"),"ERfix",IF(OR('Full menu'!AX3="ACB", 'Full menu'!AX3="LCERT", 'Full menu'!AX3="LERT",'Full menu'!AX3="FCERT",'Full menu'!AX3="FERT"),"ERT",IF(OR('Full menu'!AX3="FCMT",'Full menu'!AX3="FMT",'Full menu'!AX3="LMT",'Full menu'!AX3="LCMT"),"MT",IF(OR('Full menu'!AX3="LCIT",'Full menu'!AX3="FCIT",'Full menu'!AX3="LMT",'Full menu'!AX3="FMT"),"IT",IF(OR('Full menu'!AX3="MwERT", 'Full menu'!AX3="ERwMT", 'Full menu'!AX3="M&ERT", 'Full menu'!AX3="MwIT", 'Full menu'!AX3="IwMT", 'Full menu'!AX3="M&IT", 'Full menu'!AX3="IwERT", 'Full menu'!AX3="ERwIT", 'Full menu'!AX3="I&ERT", 'Full menu'!AX3="ER&M&IT"),"MixedT",IF('Full menu'!AX3="UD","UD",IF('Full menu'!AX3="LSD","LSD",IF('Full menu'!AX3="WSD","WSD",""))))))))) | AY3: =IF('Full menu'!AY3="MDC","MDC",IF(OR('Full menu'!AY3="PERF",'Full menu'!AY3="AERF",'Full menu'!AY3="PCB"),"ERfix",IF(OR('Full menu'!AY3="ACB", 'Full menu'!AY3="LCERT", 'Full menu'!AY3="LERT",'Full menu'!AY3="FCERT",'Full menu'!AY3="FERT"),"ERT",IF(OR('Full menu'!AY3="FCMT",'Full menu'!AY3="FMT",'Full menu'!AY3="LMT",'Full menu'!AY3="LCMT"),"MT",IF(OR('Full menu'!AY3="LCIT",'Full menu'!AY3="FCIT",'Full menu'!AY3="LMT",'Full menu'!AY3="FMT"),"IT",IF(OR('Full menu'!AY3="MwERT", 'Full menu'!AY3="ERwMT", 'Full menu'!AY3="M&ERT", 'Full menu'!AY3="MwIT", 'Full menu'!AY3="IwMT", 'Full menu'!AY3="M&IT", 'Full menu'!AY3="IwERT", 'Full menu'!AY3="ERwIT", 'Full menu'!AY3="I&ERT", 'Full menu'!AY3="ER&M&IT"),"MixedT",IF('Full menu'!AY3="UD","UD",IF('Full menu'!AY3="LSD","LSD",IF('Full menu'!AY3="WSD","WSD",""))))))))) | AZ3: =IF('Full menu'!AZ3="MDC","MDC",IF(OR('Full menu'!AZ3="PERF",'Full menu'!AZ3="AERF",'Full menu'!AZ3="PCB"),"ERfix",IF(OR('Full menu'!AZ3="ACB", 'Full menu'!AZ3="LCERT", 'Full menu'!AZ3="LERT",'Full menu'!AZ3="FCERT",'Full menu'!AZ3="FERT"),"ERT",IF(OR('Full menu'!AZ3="FCMT",'Full menu'!AZ3="FMT",'Full menu'!AZ3="LMT",'Full menu'!AZ3="LCMT"),"MT",IF(OR('Full menu'!AZ3="LCIT",'Full menu'!AZ3="FCIT",'Full menu'!AZ3="LMT",'Full menu'!AZ3="FMT"),"IT",IF(OR('Full menu'!AZ3="MwERT", 'Full menu'!AZ3="ERwMT", 'Full menu'!AZ3="M&ERT", 'Full menu'!AZ3="MwIT", 'Full menu'!AZ3="IwMT", 'Full menu'!AZ3="M&IT", 'Full menu'!AZ3="IwERT", 'Full menu'!AZ3="ERwIT", 'Full menu'!AZ3="I&ERT", 'Full menu'!AZ3="ER&M&IT"),"MixedT",IF('Full menu'!AZ3="UD","UD",IF('Full menu'!AZ3="LSD","LSD",IF('Full menu'!AZ3="WSD","WSD",""))))))))) | BA3: =IF('Full menu'!BA3="MDC","MDC",IF(OR('Full menu'!BA3="PERF",'Full menu'!BA3="AERF",'Full menu'!BA3="PCB"),"ERfix",IF(OR('Full menu'!BA3="ACB", 'Full menu'!BA3="LCERT", 'Full menu'!BA3="LERT",'Full menu'!BA3="FCERT",'Full menu'!BA3="FERT"),"ERT",IF(OR('Full menu'!BA3="FCMT",'Full menu'!BA3="FMT",'Full menu'!BA3="LMT",'Full menu'!BA3="LCMT"),"MT",IF(OR('Full menu'!BA3="LCIT",'Full menu'!BA3="FCIT",'Full menu'!BA3="LMT",'Full menu'!BA3="FMT"),"IT",IF(OR('Full menu'!BA3="MwERT", 'Full menu'!BA3="ERwMT", 'Full menu'!BA3="M&ERT", 'Full menu'!BA3="MwIT", 'Full menu'!BA3="IwMT", 'Full menu'!BA3="M&IT", 'Full menu'!BA3="IwERT", 'Full menu'!BA3="ERwIT", 'Full menu'!BA3="I&ERT", 'Full menu'!BA3="ER&M&IT"),"MixedT",IF('Full menu'!BA3="UD","UD",IF('Full menu'!BA3="LSD","LSD",IF('Full menu'!BA3="WSD","WSD",""))))))))) | ... BC3: =IF('Full menu'!BC3="MDC","MDC",IF(OR('Full menu'!BC3="PERF",'Full menu'!BC3="AERF",'Full menu'!BC3="PCB"),"ERfix",IF(OR('Full menu'!BC3="ACB", 'Full menu'!BC3="LCERT", 'Full menu'!BC3="LERT",'Full menu'!BC3="FCERT",'Full menu'!BC3="FERT"),"ERT",IF(OR('Full menu'!BC3="FCMT",'Full menu'!BC3="FMT",'Full menu'!BC3="LMT",'Full menu'!BC3="LCMT"),"MT",IF(OR('Full menu'!BC3="LCIT",'Full menu'!BC3="FCIT",'Full menu'!BC3="LMT",'Full menu'!BC3="FMT"),"IT",IF(OR('Full menu'!BC3="MwERT", 'Full menu'!BC3="ERwMT", 'Full menu'!BC3="M&ERT", 'Full menu'!BC3="MwIT", 'Full menu'!BC3="IwMT", 'Full menu'!BC3="M&IT", 'Full menu'!BC3="IwERT", 'Full menu'!BC3="ERwIT", 'Full menu'!BC3="I&ERT", 'Full menu'!BC3="ER&M&IT"),"MixedT",IF('Full menu'!BC3="UD","UD",IF('Full menu'!BC3="LSD","LSD",IF('Full menu'!BC3="WSD","WSD","")))))))))
