Workbook

Sheet Full menu
B1: 1974 | C1: 1975 | D1: 1976 | E1: 1977 | F1: 1978 | G1: 1979 | H1: 1980 | I1: 1981 | J1: 1982 | K1: 1983 | L1: 1984 | M1: 1985 | N1: 1986 | O1: 1987 | P1: 1988 | Q1: 1989 | R1: 1990 | S1: 1991 | T1: 1992 | U1: 1993 | V1: 1994 | W1: 1995 | X1: 1996 | Y1: 1997 | Z1: 1998 | AA1: 1999 | AB1: 2000 | AC1: 2001 | AD1: 2002 | AE1: 2003 | AF1: 2004 | AG1: 2005 | AH1: 2006 | AI1: 2007 | AJ1: 2008 | AK1: 2009 | AL1: 2010 | AM1: 2011 | AN1: 2012 | AO1: 2013 | AP1: 2014 | AQ1: 2015 | AR1: 2016 | AS1: 2017
A2: Argentina | B2: MDC | C2: MDC | D2: MDC | E2: UD | F2: UD | G2: UD | H2: UD | I2: UD | J2: UD | K2: UD | L2: UD | M2: UD | N2: UD | O2: UD | P2: UD | Q2: UD | R2: UD | S2: ACB | T2: ACB | U2: ACB | V2: ACB | W2: ACB | X2: ACB | Y2: ACB | Z2: ACB | AA2: ACB | AB2: ACB | AC2: ACB | AD2: UD | AE2: LSD | AF2: LSD | AG2: LSD | AH2: LSD | AI2: LSD | AJ2: LSD | AK2: LSD | AL2: LSD | AM2: LSD | AN2: LSD | AO2: LSD | AP2: LSD | AQ2: LSD | AR2: LSD | AS2: LSD
A3: Brazil | B3: UD | C3: UD | D3: UD | E3: UD | F3: UD | G3: UD | H3: UD | I3: UD | J3: UD | K3: UD | L3: UD | M3: UD | N3: LSD | O3: LSD | P3: LSD | Q3: LSD | R3: LSD | S3: LSD | T3: LSD | U3: LSD | V3: LSD | W3: LSD | X3: LSD | Y3: LSD | Z3: LSD | AA3: LCIT | AB3: LCIT | AC3: LSD | AD3: LSD | AE3: LSD | AF3: LIT | AG3: LIT | AH3: LIT | AI3: LIT | AJ3: LIT | AK3: LIT | AL3: LIT | AM3: LIT | AN3: LIT | AO3: LIT | AP3: LIT | AQ3: LIT | AR3: LIT | AS3: LIT
A4: Bulgaria | B4: MDC | C4: MDC | D4: MDC | E4: MDC | F4: MDC | G4: MDC | H4: MDC | I4: MDC | J4: MDC | K4: MDC | L4: MDC | M4: MDC | N4: MDC | O4: MDC | P4: MDC | Q4: MDC | R4: UD | S4: UD | T4: UD | U4: UD | V4: UD | W4: UD | X4: UD | Y4: UD | Z4: ACB | AA4: ACB | AB4: ACB | AC4: ACB | AD4: ACB | AE4: ACB | AF4: ACB | AG4: ACB | AH4: ACB | AI4: ACB | AJ4: ACB | AK4: ACB | AL4: ACB | AM4: ACB | AN4: ACB | AO4: ACB | AP4: ACB | AQ4: ACB | AR4: ACB | AS4: ACB
A5: Chile | B5: UD | C5: UD | D5: UD | E5: UD | F5: UD | G5: UD | H5: UD | I5: UD | J5: UD | K5: UD | L5: UD | M5: UD | N5: UD | O5: LSD | P5: LSD | Q5: LSD | R5: LSD | S5: LCIT | T5: LCIT | U5: LCIT | V5: LCIT | W5: LCIT | X5: LCIT | Y5: LCIT | Z5: LCIT | AA5: LCIT | AB5: FIT | AC5: FIT | AD5: FIT | AE5: FIT | AF5: FIT | AG5: FIT | AH5: FIT | AI5: FIT | AJ5: FIT | AK5: FIT | AL5: FIT | AM5: FIT | AN5: FIT | AO5: FIT | AP5: FIT | AQ5: FIT | AR5: FIT | AS5: FIT
A6: China | B6: MDC | C6: MDC | D6: MDC | E6: MDC | F6: MDC | G6: MDC | H6: MDC | I6: MDC | J6: MDC | K6: MDC | L6: UD | M6: UD | N6: UD | O6: UD | P6: UD | Q6: UD | R6: UD | S6: UD | T6: UD | U6: UD | V6: LSD | W6: LSD | X6: LSD | Y6: LSD | Z6: LSD | AA6: LSD | AB6: LSD | AC6: LSD | AD6: LSD | AE6: LSD | AF6: LSD | AG6: LSD | AH6: LSD | AI6: LSD | AJ6: LSD | AK6: LSD | AL6: LSD | AM6: LSD | AN6: LSD | AO6: LSD | AP6: LSD | AQ6: LSD | AR6: LSD | AS6: LSD
A7: Croatia | B7: X | C7: X | D7: X | E7: X | F7: X | G7: X | H7: X | I7: X | J7: X | K7: X | L7: X | M7: X | N7: X | O7: X | P7: X | Q7: X | R7: X | S7: X | T7: UD | U7: UD | V7: LSD | W7: LSD | X7: LSD | Y7: LSD | Z7: LSD | AA7: LSD | AB7: LSD | AC7: LSD | AD7: LSD | AE7: LSD | AF7: LSD | AG7: LSD | AH7: LSD | AI7: LSD | AJ7: LSD | AK7: LSD | AL7: LSD | AM7: LSD | AN7: LSD | AO7: LSD | AP7: LSD | AQ7: LSD | AR7: LSD | AS7: LSD
A8: Cyprus | B8: AERF | C8: AERF | D8: AERF | E8: AERF | F8: AERF | G8: AERF | H8: AERF | I8: AERF | J8: AERF | K8: AERF | L8: AERF | M8: AERF | N8: AERF | O8: AERF | P8: AERF | Q8: AERF | R8: LERT | S8: LERT | T8: FERT | U8: FERT | V8: FERT | W8: FERT | X8: FERT | Y8: FERT | Z8: FERT | AA8: FERT | AB8: FERT | AC8: FERT | AD8: FERT | AE8: FERT | AF8: FERT | AG8: FERT | AH8: FERT | AI8: FERT | AJ8: CU | AK8: CU | AL8: CU | AM8: CU | AN8: CU | AO8: CU | AP8: CU | AQ8: CU | AR8: CU | AS8: CU
A9: Czech Rep | B9: X | C9: X | D9: X | E9: X | F9: X | G9: X | H9: X | I9: X | J9: X | K9: X | L9: X | M9: X | N9: X | O9: X | P9: X | Q9: X | R9: X | S9: X | T9: X | U9: AERF | V9: AERF | W9: AERF | X9: LSD | Y9: LSD | Z9: LCIT | AA9: LCIT | AB9: LCIT | AC9: LCIT | AD9: LCIT | AE9: LCIT | AF9: LCIT | AG9: LCIT | AH9: FIT | AI9: FIT | AJ9: FIT | AK9: FIT | AL9: FIT | AM9: FIT | AN9: FIT | AO9: FIT | AP9: FIT | AQ9: FIT | AR9: FIT | AS9: FIT
A10: Czechoslovakia | B10: MDC | C10: MDC | D10: MDC | E10: MDC | F10: MDC | G10: MDC | H10: MDC | I10: MDC | J10: MDC | K10: MDC | L10: MDC | M10: MDC | N10: MDC | O10: LSD | P10: LSD | Q10: LSD | R10: LSD | S10: LSD | T10: LSD | U10: X | V10: X | W10: X | X10: X | Y10: X | Z10: X | AA10: X | AB10: X | AC10: X | AD10: X | AE10: X | AF10: X | AG10: X | AH10: X | AI10: X | AJ10: X | AK10: X | AL10: X | AM10: X | AN10: X | AO10: X | AP10: X | AQ10: X | AR10: X | AS10: X
A11: Egypt | B11: MDC | C11: MDC | D11: MDC | E11: UD | F11: UD | G11: UD | H11: UD | I11: UD | J11: UD | K11: UD | L11: UD | M11: UD | N11: UD | O11: UD | P11: UD | Q11: UD | R11: UD | S11: UD | T11: LERT | U11: LERT | V11: LERT | W11: LERT | X11: LERT | Y11: LERT | Z11: LERT | AA11: LERT | AB11: LERT | AC11: LERT | AD11: LERT | AE11: LSD | AF11: LSD | AG11: LSD | AH11: LSD | AI11: LSD | AJ11: LSD | AK11: LSD | AL11: LSD | AM11: LSD | AN11: LSD | AO11: LSD | AP11: LSD | AQ11: LSD | AR11: LSD | AS11: LSD
A12: Estonia | B12: X | C12: X | D12: X | E12: X | F12: X | G12: X | H12: X | I12: X | J12: X | K12: X | L12: X | M12: X | N12: X | O12: X | P12: X | Q12: X | R12: X | S12: X | T12: ACB | U12: ACB | V12: ACB | W12: ACB | X12: ACB | Y12: ACB | Z12: ACB | AA12: ACB | AB12: ACB | AC12: ACB | AD12: ACB | AE12: ACB | AF12: ACB | AG12: ACB | AH12: ACB | AI12: ACB | AJ12: ACB | AK12: ACB | AL12: ACB | AM12: CU | AN12: CU | AO12: CU | AP12: CU | AQ12: CU | AR12: CU | AS12: CU
A13: Hungary | B13: MDC | C13: MDC | D13: MDC | E13: MDC | F13: MDC | G13: MDC | H13: MDC | I13: MDC | J13: MDC | K13: MDC | L13: MDC | M13: MDC | N13: MDC | O13: UD | P13: UD | Q13: UD | R13: UD | S13: UD | T13: UD | U13: UD | V13: UD | W13: LSD | X13: LSD | Y13: LSD | Z13: LSD | AA13: LSD | AB13: LSD | AC13: LCIT | AD13: LCIT | AE13: LCIT | AF13: LCIT | AG13: LCIT | AH13: LCIT | AI13: LIT | AJ13: LIT | AK13: LIT | AL13: LIT | AM13: LIT | AN13: LIT | AO13: LIT | AP13: LIT | AQ13: LIT | AR13: LIT | AS13: LIT
... A36: Venezuela | B36: AERF | C36: AERF | D36: AERF | E36: AERF | F36: AERF | G36: AERF | H36: AERF | I36: AERF | J36: AERF | K36: UD | L36: UD | M36: UD | N36: UD | O36: UD | P36: UD | Q36: LSD | R36: LSD | S36: LSD | T36: LSD | U36: LSD | V36: LSD | W36: LSD | X36: LSD | Y36: LSD | Z36: LSD | AA36: LSD | AB36: LSD | AC36: LSD | AD36: LSD | AE36: LSD | AF36: LSD | AG36: LSD | AH36: LSD | AI36: LSD | AJ36: LSD | AK36: LSD | AL36: UD | AM36: UD | AN36: UD | AO36: UD | AP36: UD | AQ36: UD | AR36: UD | AS36: UD
B40: 1974 | C40: 1975 | D40: 1976 | E40: 1977 | F40: 1978 | G40: 1979 | H40: 1980 | I40: 1981 | J40: 1982 | K40: 1983 | L40: 1984 | M40: 1985 | N40: 1986 | O40: 1987 | P40: 1988 | Q40: 1989 | R40: 1990 | S40: 1991 | T40: 1992 | U40: 1993 | V40: 1994 | W40: 1995 | X40: 1996 | Y40: 1997 | Z40: 1998 | AA40: 1999 | AB40: 2000 | AC40: 2001 | AD40: 2002 | AE40: 2003 | AF40: 2004 | AG40: 2005 | AH40: 2006 | AI40: 2007 | AJ40: 2008 | AK40: 2009 | AL40: 2010 | AM40: 2011 | AN40: 2012 | AO40: 2013 | AP40: 2014 | AQ40: 2015 | AR40: 2016 | AS40: 2017
A41: X | B41: =COUNTIF(B2:B36,"X") -> 8 | C41: =COUNTIF(C2:C36,"X") -> 8 | D41: =COUNTIF(D2:D36,"X") -> 8 | E41: =COUNTIF(E2:E36,"X") -> 8 | F41: =COUNTIF(F2:F36,"X") -> 8 | G41: =COUNTIF(G2:G36,"X") -> 8 | H41: =COUNTIF(H2:H36,"X") -> 8 | I41: =COUNTIF(I2:I36,"X") -> 8 | ... AS41: =COUNTIF(AS2:AS36,"X") -> 1
A42: MDC | B42: =COUNTIF(B2:B36,"MDC") -> 8 | C42: =COUNTIF(C2:C36,"MDC") -> 8 | D42: =COUNTIF(D2:D36,"MDC") -> 8 | E42: =COUNTIF(E2:E36,"MDC") -> 6 | F42: =COUNTIF(F2:F36,"MDC") -> 6 | G42: =COUNTIF(G2:G36,"MDC") -> 6 | H42: =COUNTIF(H2:H36,"MDC") -> 6 | I42: =COUNTIF(I2:I36,"MDC") -> 6 | ... AS42: =COUNTIF(AS2:AS36,"MDC") -> 0
A43: PERF | B43: =COUNTIF(B2:B36,"PERF") -> 0 | C43: =COUNTIF(C2:C36,"PERF") -> 0 | D43: =COUNTIF(D2:D36,"PERF") -> 0 | E43: =COUNTIF(E2:E36,"PERF") -> 0 | F43: =COUNTIF(F2:F36,"PERF") -> 0 | G43: =COUNTIF(G2:G36,"PERF") -> 0 | H43: =COUNTIF(H2:H36,"PERF") -> 0 | I43: =COUNTIF(I2:I36,"PERF") -> 0 | ... AS43: =COUNTIF(AS2:AS36,"PERF") -> 0
A44: AERF | B44: =COUNTIF(B2:B36,"AERF") -> 10 | C44: =COUNTIF(C2:C36,"AERF") -> 10 | D44: =COUNTIF(D2:D36,"AERF") -> 10 | E44: =COUNTIF(E2:E36,"AERF") -> 10 | F44: =COUNTIF(F2:F36,"AERF") -> 10 | G44: =COUNTIF(G2:G36,"AERF") -> 7 | H44: =COUNTIF(H2:H36,"AERF") -> 7 | I44: =COUNTIF(I2:I36,"AERF") -> 6 | ... AS44: =COUNTIF(AS2:AS36,"AERF") -> 0
A45: PCB | B45: =COUNTIF(B2:B36,"PCB") -> 0 | C45: =COUNTIF(C2:C36,"PCB") -> 0 | D45: =COUNTIF(D2:D36,"PCB") -> 0 | E45: =COUNTIF(E2:E36,"PCB") -> 0 | F45: =COUNTIF(F2:F36,"PCB") -> 0 | G45: =COUNTIF(G2:G36,"PCB") -> 0 | H45: =COUNTIF(H2:H36,"PCB") -> 0 | I45: =COUNTIF(I2:I36,"PCB") -> 0 | ... AS45: =COUNTIF(AS2:AS36,"PCB") -> 0
A46: ACB | B46: =COUNTIF(B2:B36,"ACB") -> 0 | C46: =COUNTIF(C2:C36,"ACB") -> 0 | D46: =COUNTIF(D2:D36,"ACB") -> 0 | E46: =COUNTIF(E2:E36,"ACB") -> 0 | F46: =COUNTIF(F2:F36,"ACB") -> 0 | G46: =COUNTIF(G2:G36,"ACB") -> 0 | H46: =COUNTIF(H2:H36,"ACB") -> 0 | I46: =COUNTIF(I2:I36,"ACB") -> 0 | ... AS46: =COUNTIF(AS2:AS36,"ACB") -> 1
A47: UD | B47: =COUNTIF(B2:B36,"UD") -> 5 | C47: =COUNTIF(C2:C36,"UD") -> 5 | D47: =COUNTIF(D2:D36,"UD") -> 5 | E47: =COUNTIF(E2:E36,"UD") -> 7 | F47: =COUNTIF(F2:F36,"UD") -> 7 | G47: =COUNTIF(G2:G36,"UD") -> 7 | H47: =COUNTIF(H2:H36,"UD") -> 7 | I47: =COUNTIF(I2:I36,"UD") -> 7 | ... AS47: =COUNTIF(AS2:AS36,"UD") -> 1
A48: LERT | B48: =COUNTIF(B2:B36,"LERT") -> 1 | C48: =COUNTIF(C2:C36,"LERT") -> 1 | D48: =COUNTIF(D2:D36,"LERT") -> 1 | E48: =COUNTIF(E2:E36,"LERT") -> 1 | F48: =COUNTIF(F2:F36,"LERT") -> 1 | G48: =COUNTIF(G2:G36,"LERT") -> 1 | H48: =COUNTIF(H2:H36,"LERT") -> 1 | I48: =COUNTIF(I2:I36,"LERT") -> 1 | ... AS48: =COUNTIF(AS2:AS36,"LERT") -> 0
A49: LCERT | B49: =COUNTIF(B2:B36,"LCERT") -> 0 | C49: =COUNTIF(C2:C36,"LCERT") -> 0 | D49: =COUNTIF(D2:D36,"LCERT") -> 0 | E49: =COUNTIF(E2:E36,"LCERT") -> 0 | F49: =COUNTIF(F2:F36,"LCERT") -> 0 | G49: =COUNTIF(G2:G36,"LCERT") -> 0 | H49: =COUNTIF(H2:H36,"LCERT") -> 0 | I49: =COUNTIF(I2:I36,"LCERT") -> 0 | ... AS49: =COUNTIF(AS2:AS36,"LCERT") -> 0
A50: LMT | B50: =COUNTIF(B2:B36,"LMT") -> 0 | C50: =COUNTIF(C2:C36,"LMT") -> 0 | D50: =COUNTIF(D2:D36,"LMT") -> 0 | E50: =COUNTIF(E2:E36,"LMT") -> 0 | F50: =COUNTIF(F2:F36,"LMT") -> 0 | G50: =COUNTIF(G2:G36,"LMT") -> 0 | H50: =COUNTIF(H2:H36,"LMT") -> 0 | I50: =COUNTIF(I2:I36,"LMT") -> 0 | ... AS50: =COUNTIF(AS2:AS36,"LMT") -> 1
A51: LCMT | B51: =COUNTIF(B2:B36,"LCMT") -> 0 | C51: =COUNTIF(C2:C36,"LCMT") -> 0 | D51: =COUNTIF(D2:D36,"LCMT") -> 0 | E51: =COUNTIF(E2:E36,"LCMT") -> 0 | F51: =COUNTIF(F2:F36,"LCMT") -> 0 | G51: =COUNTIF(G2:G36,"LCMT") -> 0 | H51: =COUNTIF(H2:H36,"LCMT") -> 0 | I51: =COUNTIF(I2:I36,"LCMT") -> 0 | ... AS51: =COUNTIF(AS2:AS36,"LCMT") -> 0
A52: LIT | B52: =COUNTIF(B2:B36,"LIT") -> 0 | C52: =COUNTIF(C2:C36,"LIT") -> 0 | D52: =COUNTIF(D2:D36,"LIT") -> 0 | E52: =COUNTIF(E2:E36,"LIT") -> 0 | F52: =COUNTIF(F2:F36,"LIT") -> 0 | G52: =COUNTIF(G2:G36,"LIT") -> 0 | H52: =COUNTIF(H2:H36,"LIT") -> 0 | I52: =COUNTIF(I2:I36,"LIT") -> 0 | ... AS52: =COUNTIF(AS2:AS36,"LIT") -> 6
A53: LCIT | B53: =COUNTIF(B2:B36,"LCIT") -> 0 | C53: =COUNTIF(C2:C36,"LCIT") -> 0 | D53: =COUNTIF(D2:D36,"LCIT") -> 0 | E53: =COUNTIF(E2:E36,"LCIT") -> 0 | F53: =COUNTIF(F2:F36,"LCIT") -> 0 | G53: =COUNTIF(G2:G36,"LCIT") -> 0 | H53: =COUNTIF(H2:H36,"LCIT") -> 0 | I53: =COUNTIF(I2:I36,"LCIT") -> 0 | ... AS53: =COUNTIF(AS2:AS36,"LCIT") -> 1
A54: MwERT | B54: =COUNTIF(B2:B36,"MwERT") -> 0 | C54: =COUNTIF(C2:C36,"MwERT") -> 0 | D54: =COUNTIF(D2:D36,"MwERT") -> 0 | E54: =COUNTIF(E2:E36,"MwERT") -> 0 | F54: =COUNTIF(F2:F36,"MwERT") -> 0 | G54: =COUNTIF(G2:G36,"MwERT") -> 0 | H54: =COUNTIF(H2:H36,"MwERT") -> 0 | I54: =COUNTIF(I2:I36,"MwERT") -> 0 | ... AS54: =COUNTIF(AS2:AS36,"MwERT") -> 0
A55: ERwMT | B55: =COUNTIF(B2:B36,"ERwMT") -> 0 | C55: =COUNTIF(C2:C36,"ERwMT") -> 0 | D55: =COUNTIF(D2:D36,"ERwMT") -> 0 | E55: =COUNTIF(E2:E36,"ERwMT") -> 0 | F55: =COUNTIF(F2:F36,"ERwMT") -> 0 | G55: =COUNTIF(G2:G36,"ERwMT") -> 0 | H55: =COUNTIF(H2:H36,"ERwMT") -> 0 | I55: =COUNTIF(I2:I36,"ERwMT") -> 0 | ... AS55: =COUNTIF(AS2:AS36,"ERwMT") -> 0
A56: M&ERT | B56: =COUNTIF(B2:B36,"M&ERT") -> 0 | C56: =COUNTIF(C2:C36,"M&ERT") -> 0 | D56: =COUNTIF(D2:D36,"M&ERT") -> 0 | E56: =COUNTIF(E2:E36,"M&ERT") -> 0 | F56: =COUNTIF(F2:F36,"M&ERT") -> 0 | G56: =COUNTIF(G2:G36,"M&ERT") -> 0 | H56: =COUNTIF(H2:H36,"M&ERT") -> 0 | I56: =COUNTIF(I2:I36,"M&ERT") -> 0 | ... AS56: =COUNTIF(AS2:AS36,"M&ERT") -> 0
A57: MwIT | B57: =COUNTIF(B2:B36,"MwIT") -> 0 | C57: =COUNTIF(C2:C36,"MwIT") -> 0 | D57: =COUNTIF(D2:D36,"MwIT") -> 0 | E57: =COUNTIF(E2:E36,"MwIT") -> 0 | F57: =COUNTIF(F2:F36,"MwIT") -> 0 | G57: =COUNTIF(G2:G36,"MwIT") -> 0 | H57: =COUNTIF(H2:H36,"MwIT") -> 0 | I57: =COUNTIF(I2:I36,"MwIT") -> 0 | ... AS57: =COUNTIF(AS2:AS36,"MwIT") -> 0
A58: IwMT | B58: =COUNTIF(B2:B36,"IwMT") -> 0 | C58: =COUNTIF(C2:C36,"IwMT") -> 0 | D58: =COUNTIF(D2:D36,"IwMT") -> 0 | E58: =COUNTIF(E2:E36,"IwMT") -> 0 | F58: =COUNTIF(F2:F36,"IwMT") -> 0 | G58: =COUNTIF(G2:G36,"IwMT") -> 0 | H58: =COUNTIF(H2:H36,"IwMT") -> 0 | I58: =COUNTIF(I2:I36,"IwMT") -> 0 | ... AS58: =COUNTIF(AS2:AS36,"IwMT") -> 0
A59: M&IT | B59: =COUNTIF(B2:B36,"M&IT") -> 0 | C59: =COUNTIF(C2:C36,"M&IT") -> 0 | D59: =COUNTIF(D2:D36,"M&IT") -> 0 | E59: =COUNTIF(E2:E36,"M&IT") -> 0 | F59: =COUNTIF(F2:F36,"M&IT") -> 0 | G59: =COUNTIF(G2:G36,"M&IT") -> 0 | H59: =COUNTIF(H2:H36,"M&IT") -> 0 | I59: =COUNTIF(I2:I36,"M&IT") -> 0 | ... AS59: =COUNTIF(AS2:AS36,"M&IT") -> 0
A60: IwERT | B60: =COUNTIF(B2:B36,"IwERT") -> 0 | C60: =COUNTIF(C2:C36,"IwERT") -> 0 | D60: =COUNTIF(D2:D36,"IwERT") -> 0 | E60: =COUNTIF(E2:E36,"IwERT") -> 0 | F60: =COUNTIF(F2:F36,"IwERT") -> 0 | G60: =COUNTIF(G2:G36,"IwERT") -> 0 | H60: =COUNTIF(H2:H36,"IwERT") -> 0 | I60: =COUNTIF(I2:I36,"IwERT") -> 0 | ... AS60: =COUNTIF(AS2:AS36,"IwERT") -> 0
A61: ERwIT | B61: =COUNTIF(B2:B36,"ERwIT") -> 0 | C61: =COUNTIF(C2:C36,"ERwIT") -> 0 | D61: =COUNTIF(D2:D36,"ERwIT") -> 0 | E61: =COUNTIF(E2:E36,"ERwIT") -> 0 | F61: =COUNTIF(F2:F36,"ERwIT") -> 0 | G61: =COUNTIF(G2:G36,"ERwIT") -> 0 | H61: =COUNTIF(H2:H36,"ERwIT") -> 0 | I61: =COUNTIF(I2:I36,"ERwIT") -> 0 | ... AS61: =COUNTIF(AS2:AS36,"ERwIT") -> 0
A62: I&ERT | B62: =COUNTIF(B2:B36,"I&ERT") -> 0 | C62: =COUNTIF(C2:C36,"I&ERT") -> 0 | D62: =COUNTIF(D2:D36,"I&ERT") -> 0 | E62: =COUNTIF(E2:E36,"I&ERT") -> 0 | F62: =COUNTIF(F2:F36,"I&ERT") -> 0 | G62: =COUNTIF(G2:G36,"I&ERT") -> 0 | H62: =COUNTIF(H2:H36,"I&ERT") -> 0 | I62: =COUNTIF(I2:I36,"I&ERT") -> 0 | ... AS62: =COUNTIF(AS2:AS36,"I&ERT") -> 0
A63: ER&M&IT | B63: =COUNTIF(B2:B36,"ER&M&IT") -> 0 | C63: =COUNTIF(C2:C36,"ER&M&IT") -> 0 | D63: =COUNTIF(D2:D36,"ER&M&IT") -> 0 | E63: =COUNTIF(E2:E36,"ER&M&IT") -> 0 | F63: =COUNTIF(F2:F36,"ER&M&IT") -> 0 | G63: =COUNTIF(G2:G36,"ER&M&IT") -> 0 | H63: =COUNTIF(H2:H36,"ER&M&IT") -> 0 | I63: =COUNTIF(I2:I36,"ER&M&IT") -> 0 | ... AS63: =COUNTIF(AS2:AS36,"ER&M&IT") -> 0
A64: LSD | B64: =COUNTIF(B2:B36,"LSD") -> 2 | C64: =COUNTIF(C2:C36,"LSD") -> 2 | D64: =COUNTIF(D2:D36,"LSD") -> 2 | E64: =COUNTIF(E2:E36,"LSD") -> 3 | F64: =COUNTIF(F2:F36,"LSD") -> 3 | G64: =COUNTIF(G2:G36,"LSD") -> 6 | H64: =COUNTIF(H2:H36,"LSD") -> 6 | I64: =COUNTIF(I2:I36,"LSD") -> 7 | ... AS64: =COUNTIF(AS2:AS36,"LSD") -> 6
A65: UASC | B65: =COUNTIF(B2:B36,"UASC") -> 0 | C65: =COUNTIF(C2:C36,"UASC") -> 0 | D65: =COUNTIF(D2:D36,"UASC") -> 0 | E65: =COUNTIF(E2:E36,"UASC") -> 0 | F65: =COUNTIF(F2:F36,"UASC") -> 0 | G65: =COUNTIF(G2:G36,"UASC") -> 0 | H65: =COUNTIF(H2:H36,"UASC") -> 0 | I65: =COUNTIF(I2:I36,"UASC") -> 0 | ... AS65: =COUNTIF(AS2:AS36,"UASC") -> 0
A66: CU | B66: =COUNTIF(B2:B36,"CU") -> 0 | C66: =COUNTIF(C2:C36,"CU") -> 0 | D66: =COUNTIF(D2:D36,"CU") -> 0 | E66: =COUNTIF(E2:E36,"CU") -> 0 | F66: =COUNTIF(F2:F36,"CU") -> 0 | G66: =COUNTIF(G2:G36,"CU") -> 0 | H66: =COUNTIF(H2:H36,"CU") -> 0 | I66: =COUNTIF(I2:I36,"CU") -> 0 | ... AS66: =COUNTIF(AS2:AS36,"CU") -> 7
A67: FERT | B67: =COUNTIF(B2:B36,"FERT") -> 1 | C67: =COUNTIF(C2:C36,"FERT") -> 1 | D67: =COUNTIF(D2:D36,"FERT") -> 1 | E67: =COUNTIF(E2:E36,"FERT") -> 0 | F67: =COUNTIF(F2:F36,"FERT") -> 0 | G67: =COUNTIF(G2:G36,"FERT") -> 0 | H67: =COUNTIF(H2:H36,"FERT") -> 0 | I67: =COUNTIF(I2:I36,"FERT") -> 0 | ... AS67: =COUNTIF(AS2:AS36,"FERT") -> 2
A68: FCERT | B68: =COUNTIF(B2:B36,"FCERT") -> 0 | C68: =COUNTIF(C2:C36,"FCERT") -> 0 | D68: =COUNTIF(D2:D36,"FCERT") -> 0 | E68: =COUNTIF(E2:E36,"FCERT") -> 0 | F68: =COUNTIF(F2:F36,"FCERT") -> 0 | G68: =COUNTIF(G2:G36,"FCERT") -> 0 | H68: =COUNTIF(H2:H36,"FCERT") -> 0 | I68: =COUNTIF(I2:I36,"FCERT") -> 0 | ... AS68: =COUNTIF(AS2:AS36,"FCERT") -> 0
A69: FMT | B69: =COUNTIF(B2:B36,"FMT") -> 0 | C69: =COUNTIF(C2:C36,"FMT") -> 0 | D69: =COUNTIF(D2:D36,"FMT") -> 0 | E69: =COUNTIF(E2:E36,"FMT") -> 0 | F69: =COUNTIF(F2:F36,"FMT") -> 0 | G69: =COUNTIF(G2:G36,"FMT") -> 0 | H69: =COUNTIF(H2:H36,"FMT") -> 0 | I69: =COUNTIF(I2:I36,"FMT") -> 0 | ... AS69: =COUNTIF(AS2:AS36,"FMT") -> 0
A70: FCMT | B70: =COUNTIF(B2:B36,"FCMT") -> 0 | C70: =COUNTIF(C2:C36,"FCMT") -> 0 | D70: =COUNTIF(D2:D36,"FCMT") -> 0 | E70: =COUNTIF(E2:E36,"FCMT") -> 0 | F70: =COUNTIF(F2:F36,"FCMT") -> 0 | G70: =COUNTIF(G2:G36,"FCMT") -> 0 | H70: =COUNTIF(H2:H36,"FCMT") -> 0 | I70: =COUNTIF(I2:I36,"FCMT") -> 0 | ... AS70: =COUNTIF(AS2:AS36,"FCMT") -> 0
A71: FIT | B71: =COUNTIF(B2:B36,"FIT") -> 0 | C71: =COUNTIF(C2:C36,"FIT") -> 0 | D71: =COUNTIF(D2:D36,"FIT") -> 0 | E71: =COUNTIF(E2:E36,"FIT") -> 0 | F71: =COUNTIF(F2:F36,"FIT") -> 0 | G71: =COUNTIF(G2:G36,"FIT") -> 0 | H71: =COUNTIF(H2:H36,"FIT") -> 0 | I71: =COUNTIF(I2:I36,"FIT") -> 0 | ... AS71: =COUNTIF(AS2:AS36,"FIT") -> 8
A72: FCIT | B72: =COUNTIF(B2:B36,"FCIT") -> 0 | C72: =COUNTIF(C2:C36,"FCIT") -> 0 | D72: =COUNTIF(D2:D36,"FCIT") -> 0 | E72: =COUNTIF(E2:E36,"FCIT") -> 0 | F72: =COUNTIF(F2:F36,"FCIT") -> 0 | G72: =COUNTIF(G2:G36,"FCIT") -> 0 | H72: =COUNTIF(H2:H36,"FCIT") -> 0 | I72: =COUNTIF(I2:I36,"FCIT") -> 0 | ... AS72: =COUNTIF(AS2:AS36,"FCIT") -> 0
A73: WSD | B73: =COUNTIF(B2:B36,"WSD") -> 0 | C73: =COUNTIF(C2:C36,"WSD") -> 0 | D73: =COUNTIF(D2:D36,"WSD") -> 0 | E73: =COUNTIF(E2:E36,"WSD") -> 0 | F73: =COUNTIF(F2:F36,"WSD") -> 0 | G73: =COUNTIF(G2:G36,"WSD") -> 0 | H73: =COUNTIF(H2:H36,"WSD") -> 0 | I73: =COUNTIF(I2:I36,"WSD") -> 0 | ... AS73: =COUNTIF(AS2:AS36,"WSD") -> 1
A75: total | B75: =SUM(B41:B73) -> 35 | C75: =SUM(C41:C73) -> 35 | D75: =SUM(D41:D73) -> 35 | E75: =SUM(E41:E73) -> 35 | F75: =SUM(F41:F73) -> 35 | G75: =SUM(G41:G73) -> 35 | H75: =SUM(H41:H73) -> 35 | I75: =SUM(I41:I73) -> 35 | ... AS75: =SUM(AS41:AS73) -> 35

Sheet By target variable
B1: 1974 | C1: 1975 | D1: 1976 | E1: 1977 | F1: 1978 | G1: 1979 | H1: 1980 | I1: 1981 | J1: 1982 | K1: 1983 | L1: 1984 | M1: 1985 | N1: 1986 | O1: 1987 | P1: 1988 | Q1: 1989 | R1: 1990 | S1: 1991 | T1: 1992 | U1: 1993 | V1: 1994 | W1: 1995 | X1: 1996 | Y1: 1997 | Z1: 1998 | AA1: 1999 | AB1: 2000 | AC1: 2001 | AD1: 2002 | AE1: 2003 | AF1: 2004 | AG1: 2005 | AH1: 2006 | AI1: 2007 | AJ1: 2008 | AK1: 2009 | AL1: 2010 | AM1: 2011 | AN1: 2012 | AO1: 2013 | AP1: 2014 | AQ1: 2015 | AR1: 2016 | AS1: 2017
A2: Argentina | B2: =IF('Full menu'!B2="MDC","MDC",IF(OR('Full menu'!B2="PERF",'Full menu'!B2="AERF",'Full menu'!B2="PCB"),"ERfix",IF(OR('Full menu'!B2="ACB", 'Full menu'!B2="LCERT", 'Full menu'!B2="LERT",'Full menu'!B2="FCERT",'Full menu'!B2="FERT"),"ERTs",IF(OR('Full menu'!B2="FCMT",'Full menu'!B2="FMT",'Full menu'!B2="LMT",'Full menu'!B2="LCMT"),"MTs",IF(OR('Full menu'!B2="LCIT",'Full menu'!B2="FCIT",'Full menu'!B2="LIT",'Full menu'!B2="FIT"),"ITs",IF(OR('Full menu'!B2="MwERT", 'Full menu'!B2="ERwMT", 'Full menu'!B2="M&ERT", 'Full menu'!B2="MwIT", 'Full menu'!B2="IwMT", 'Full menu'!B2="M&IT", 'Full menu'!B2="IwERT", 'Full menu'!B2="ERwIT", 'Full menu'!B2="I&ERT", 'Full menu'!B2="ER&M&IT"),"MixedTs",IF('Full menu'!B2="UD","UD",IF('Full menu'!B2="LSD","LSD",IF('Full menu'!B2="WSD","WSD",""))))))))) -> MDC | C2: =IF('Full menu'!C2="MDC","MDC",IF(OR('Full menu'!C2="PERF",'Full menu'!C2="AERF",'Full menu'!C2="PCB"),"ERfix",IF(OR('Full menu'!C2="ACB", 'Full menu'!C2="LCERT", 'Full menu'!C2="LERT",'Full menu'!C2="FCERT",'Full menu'!C2="FERT"),"ERTs",IF(OR('Full menu'!C2="FCMT",'Full menu'!C2="FMT",'Full menu'!C2="LMT",'Full menu'!C2="LCMT"),"MTs",IF(OR('Full menu'!C2="LCIT",'Full menu'!C2="FCIT",'Full menu'!C2="LIT",'Full menu'!C2="FIT"),"ITs",IF(OR('Full menu'!C2="MwERT", 'Full menu'!C2="ERwMT", 'Full menu'!C2="M&ERT", 'Full menu'!C2="MwIT", 'Full menu'!C2="IwMT", 'Full menu'!C2="M&IT", 'Full menu'!C2="IwERT", 'Full menu'!C2="ERwIT", 'Full menu'!C2="I&ERT", 'Full menu'!C2="ER&M&IT"),"MixedTs",IF('Full menu'!C2="UD","UD",IF('Full menu'!C2="LSD","LSD",IF('Full menu'!C2="WSD","WSD",""))))))))) -> MDC | D2: =IF('Full menu'!D2="MDC","MDC",IF(OR('Full menu'!D2="PERF",'Full menu'!D2="AERF",'Full menu'!D2="PCB"),"ERfix",IF(OR('Full menu'!D2="ACB", 'Full menu'!D2="LCERT", 'Full menu'!D2="LERT",'Full menu'!D2="FCERT",'Full menu'!D2="FERT"),"ERTs",IF(OR('Full menu'!D2="FCMT",'Full menu'!D2="FMT",'Full menu'!D2="LMT",'Full menu'!D2="LCMT"),"MTs",IF(OR('Full menu'!D2="LCIT",'Full menu'!D2="FCIT",'Full menu'!D2="LIT",'Full menu'!D2="FIT"),"ITs",IF(OR('Full menu'!D2="MwERT", 'Full menu'!D2="ERwMT", 'Full menu'!D2="M&ERT", 'Full menu'!D2="MwIT", 'Full menu'!D2="IwMT", 'Full menu'!D2="M&IT", 'Full menu'!D2="IwERT", 'Full menu'!D2="ERwIT", 'Full menu'!D2="I&ERT", 'Full menu'!D2="ER&M&IT"),"MixedTs",IF('Full menu'!D2="UD","UD",IF('Full menu'!D2="LSD","LSD",IF('Full menu'!D2="WSD","WSD",""))))))))) -> MDC | E2: =IF('Full menu'!E2="MDC","MDC",IF(OR('Full menu'!E2="PERF",'Full menu'!E2="AERF",'Full menu'!E2="PCB"),"ERfix",IF(OR('Full menu'!E2="ACB", 'Full menu'!E2="LCERT", 'Full menu'!E2="LERT",'Full menu'!E2="FCERT",'Full menu'!E2="FERT"),"ERTs",IF(OR('Full menu'!E2="FCMT",'Full menu'!E2="FMT",'Full menu'!E2="LMT",'Full menu'!E2="LCMT"),"MTs",IF(OR('Full menu'!E2="LCIT",'Full menu'!E2="FCIT",'Full menu'!E2="LIT",'Full menu'!E2="FIT"),"ITs",IF(OR('Full menu'!E2="MwERT", 'Full menu'!E2="ERwMT", 'Full menu'!E2="M&ERT", 'Full menu'!E2="MwIT", 'Full menu'!E2="IwMT", 'Full menu'!E2="M&IT", 'Full menu'!E2="IwERT", 'Full menu'!E2="ERwIT", 'Full menu'!E2="I&ERT", 'Full menu'!E2="ER&M&IT"),"MixedTs",IF('Full menu'!E2="UD","UD",IF('Full menu'!E2="LSD","LSD",IF('Full menu'!E2="WSD","WSD",""))))))))) -> UD | F2: =IF('Full menu'!F2="MDC","MDC",IF(OR('Full menu'!F2="PERF",'Full menu'!F2="AERF",'Full menu'!F2="PCB"),"ERfix",IF(OR('Full menu'!F2="ACB", 'Full menu'!F2="LCERT", 'Full menu'!F2="LERT",'Full menu'!F2="FCERT",'Full menu'!F2="FERT"),"ERTs",IF(OR('Full menu'!F2="FCMT",'Full menu'!F2="FMT",'Full menu'!F2="LMT",'Full menu'!F2="LCMT"),"MTs",IF(OR('Full menu'!F2="LCIT",'Full menu'!F2="FCIT",'Full menu'!F2="LIT",'Full menu'!F2="FIT"),"ITs",IF(OR('Full menu'!F2="MwERT", 'Full menu'!F2="ERwMT", 'Full menu'!F2="M&ERT", 'Full menu'!F2="MwIT", 'Full menu'!F2="IwMT", 'Full menu'!F2="M&IT", 'Full menu'!F2="IwERT", 'Full menu'!F2="ERwIT", 'Full menu'!F2="I&ERT", 'Full menu'!F2="ER&M&IT"),"MixedTs",IF('Full menu'!F2="UD","UD",IF('Full menu'!F2="LSD","LSD",IF('Full menu'!F2="WSD","WSD",""))))))))) -> UD | G2: =IF('Full menu'!G2="MDC","MDC",IF(OR('Full menu'!G2="PERF",'Full menu'!G2="AERF",'Full menu'!G2="PCB"),"ERfix",IF(OR('Full menu'!G2="ACB", 'Full menu'!G2="LCERT", 'Full menu'!G2="LERT",'Full menu'!G2="FCERT",'Full menu'!G2="FERT"),"ERTs",IF(OR('Full menu'!G2="FCMT",'Full menu'!G2="FMT",'Full menu'!G2="LMT",'Full menu'!G2="LCMT"),"MTs",IF(OR('Full menu'!G2="LCIT",'Full menu'!G2="FCIT",'Full menu'!G2="LIT",'Full menu'!G2="FIT"),"ITs",IF(OR('Full menu'!G2="MwERT", 'Full menu'!G2="ERwMT", 'Full menu'!G2="M&ERT", 'Full menu'!G2="MwIT", 'Full menu'!G2="IwMT", 'Full menu'!G2="M&IT", 'Full menu'!G2="IwERT", 'Full menu'!G2="ERwIT", 'Full menu'!G2="I&ERT", 'Full menu'!G2="ER&M&IT"),"MixedTs",IF('Full menu'!G2="UD","UD",IF('Full menu'!G2="LSD","LSD",IF('Full menu'!G2="WSD","WSD",""))))))))) -> UD | H2: =IF('Full menu'!H2="MDC","MDC",IF(OR('Full menu'!H2="PERF",'Full menu'!H2="AERF",'Full menu'!H2="PCB"),"ERfix",IF(OR('Full menu'!H2="ACB", 'Full menu'!H2="LCERT", 'Full menu'!H2="LERT",'Full menu'!H2="FCERT",'Full menu'!H2="FERT"),"ERTs",IF(OR('Full menu'!H2="FCMT",'Full menu'!H2="FMT",'Full menu'!H2="LMT",'Full menu'!H2="LCMT"),"MTs",IF(OR('Full menu'!H2="LCIT",'Full menu'!H2="FCIT",'Full menu'!H2="LIT",'Full menu'!H2="FIT"),"ITs",IF(OR('Full menu'!H2="MwERT", 'Full menu'!H2="ERwMT", 'Full menu'!H2="M&ERT", 'Full menu'!H2="MwIT", 'Full menu'!H2="IwMT", 'Full menu'!H2="M&IT", 'Full menu'!H2="IwERT", 'Full menu'!H2="ERwIT", 'Full menu'!H2="I&ERT", 'Full menu'!H2="ER&M&IT"),"MixedTs",IF('Full menu'!H2="UD","UD",IF('Full menu'!H2="LSD","LSD",IF('Full menu'!H2="WSD","WSD",""))))))))) -> UD | I2: =IF('Full menu'!I2="MDC","MDC",IF(OR('Full menu'!I2="PERF",'Full menu'!I2="AERF",'Full menu'!I2="PCB"),"ERfix",IF(OR('Full menu'!I2="ACB", 'Full menu'!I2="LCERT", 'Full menu'!I2="LERT",'Full menu'!I2="FCERT",'Full menu'!I2="FERT"),"ERTs",IF(OR('Full menu'!I2="FCMT",'Full menu'!I2="FMT",'Full menu'!I2="LMT",'Full menu'!I2="LCMT"),"MTs",IF(OR('Full menu'!I2="LCIT",'Full menu'!I2="FCIT",'Full menu'!I2="LIT",'Full menu'!I2="FIT"),"ITs",IF(OR('Full menu'!I2="MwERT", 'Full menu'!I2="ERwMT", 'Full menu'!I2="M&ERT", 'Full menu'!I2="MwIT", 'Full menu'!I2="IwMT", 'Full menu'!I2="M&IT", 'Full menu'!I2="IwERT", 'Full menu'!I2="ERwIT", 'Full menu'!I2="I&ERT", 'Full menu'!I2="ER&M&IT"),"MixedTs",IF('Full menu'!I2="UD","UD",IF('Full menu'!I2="LSD","LSD",IF('Full menu'!I2="WSD","WSD",""))))))))) -> UD | ... AS2: =IF('Full menu'!AS2="MDC","MDC",IF(OR('Full menu'!AS2="PERF",'Full menu'!AS2="AERF",'Full menu'!AS2="PCB"),"ERfix",IF(OR('Full menu'!AS2="ACB", 'Full menu'!AS2="LCERT", 'Full menu'!AS2="LERT",'Full menu'!AS2="FCERT",'Full menu'!AS2="FERT"),"ERTs",IF(OR('Full menu'!AS2="FCMT",'Full menu'!AS2="FMT",'Full menu'!AS2="LMT",'Full menu'!AS2="LCMT"),"MTs",IF(OR('Full menu'!AS2="LCIT",'Full menu'!AS2="FCIT",'Full menu'!AS2="LIT",'Full menu'!AS2="FIT"),"ITs",IF(OR('Full menu'!AS2="MwERT", 'Full menu'!AS2="ERwMT", 'Full menu'!AS2="M&ERT", 'Full menu'!AS2="MwIT", 'Full menu'!AS2="IwMT", 'Full menu'!AS2="M&IT", 'Full menu'!AS2="IwERT", 'Full menu'!AS2="ERwIT", 'Full menu'!AS2="I&ERT", 'Full menu'!AS2="ER&M&IT"),"MixedTs",IF('Full menu'!AS2="UD","UD",IF('Full menu'!AS2="LSD","LSD",IF('Full menu'!AS2="WSD","WSD",""))))))))) -> LSD | AT2: =IF('Full menu'!AT2="MDC","MDC",IF(OR('Full menu'!AT2="PERF",'Full menu'!AT2="AERF",'Full menu'!AT2="PCB"),"ERfix",IF(OR('Full menu'!AT2="ACB", 'Full menu'!AT2="LCERT", 'Full menu'!AT2="LERT",'Full menu'!AT2="FCERT",'Full menu'!AT2="FERT"),"ERT",IF(OR('Full menu'!AT2="FCMT",'Full menu'!AT2="FMT",'Full menu'!AT2="LMT",'Full menu'!AT2="LCMT"),"MT",IF(OR('Full menu'!AT2="LCIT",'Full menu'!AT2="FCIT",'Full menu'!AT2="LMT",'Full menu'!AT2="FMT"),"IT",IF(OR('Full menu'!AT2="MwERT", 'Full menu'!AT2="ERwMT", 'Full menu'!AT2="M&ERT", 'Full menu'!AT2="MwIT", 'Full menu'!AT2="IwMT", 'Full menu'!AT2="M&IT", 'Full menu'!AT2="IwERT", 'Full menu'!AT2="ERwIT", 'Full menu'!AT2="I&ERT", 'Full menu'!AT2="ER&M&IT"),"MixedT",IF('Full menu'!AT2="UD","UD",IF('Full menu'!AT2="LSD","LSD",IF('Full menu'!AT2="WSD","WSD",""))))))))) | AU2: =IF('Full menu'!AU2="MDC","MDC",IF(OR('Full menu'!AU2="PERF",'Full menu'!AU2="AERF",'Full menu'!AU2="PCB"),"ERfix",IF(OR('Full menu'!AU2="ACB", 'Full menu'!AU2="LCERT", 'Full menu'!AU2="LERT",'Full menu'!AU2="FCERT",'Full menu'!AU2="FERT"),"ERT",IF(OR('Full menu'!AU2="FCMT",'Full menu'!AU2="FMT",'Full menu'!AU2="LMT",'Full menu'!AU2="LCMT"),"MT",IF(OR('Full menu'!AU2="LCIT",'Full menu'!AU2="FCIT",'Full menu'!AU2="LMT",'Full menu'!AU2="FMT"),"IT",IF(OR('Full menu'!AU2="MwERT", 'Full menu'!AU2="ERwMT", 'Full menu'!AU2="M&ERT", 'Full menu'!AU2="MwIT", 'Full menu'!AU2="IwMT", 'Full menu'!AU2="M&IT", 'Full menu'!AU2="IwERT", 'Full menu'!AU2="ERwIT", 'Full menu'!AU2="I&ERT", 'Full menu'!AU2="ER&M&IT"),"MixedT",IF('Full menu'!AU2="UD","UD",IF('Full menu'!AU2="LSD","LSD",IF('Full menu'!AU2="WSD","WSD",""))))))))) | AV2: =IF('Full menu'!AV2="MDC","MDC",IF(OR('Full menu'!AV2="PERF",'Full menu'!AV2="AERF",'Full menu'!AV2="PCB"),"ERfix",IF(OR('Full menu'!AV2="ACB", 'Full menu'!AV2="LCERT", 'Full menu'!AV2="LERT",'Full menu'!AV2="FCERT",'Full menu'!AV2="FERT"),"ERT",IF(OR('Full menu'!AV2="FCMT",'Full menu'!AV2="FMT",'Full menu'!AV2="LMT",'Full menu'!AV2="LCMT"),"MT",IF(OR('Full menu'!AV2="LCIT",'Full menu'!AV2="FCIT",'Full menu'!AV2="LMT",'Full menu'!AV2="FMT"),"IT",IF(OR('Full menu'!AV2="MwERT", 'Full menu'!AV2="ERwMT", 'Full menu'!AV2="M&ERT", 'Full menu'!AV2="MwIT", 'Full menu'!AV2="IwMT", 'Full menu'!AV2="M&IT", 'Full menu'!AV2="IwERT", 'Full menu'!AV2="ERwIT", 'Full menu'!AV2="I&ERT", 'Full menu'!AV2="ER&M&IT"),"MixedT",IF('Full menu'!AV2="UD","UD",IF('Full menu'!AV2="LSD","LSD",IF('Full menu'!AV2="WSD","WSD",""))))))))) | AW2: =IF('Full menu'!AW2="MDC","MDC",IF(OR('Full menu'!AW2="PERF",'Full menu'!AW2="AERF",'Full menu'!AW2="PCB"),"ERfix",IF(OR('Full menu'!AW2="ACB", 'Full menu'!AW2="LCERT", 'Full menu'!AW2="LERT",'Full menu'!AW2="FCERT",'Full menu'!AW2="FERT"),"ERT",IF(OR('Full menu'!AW2="FCMT",'Full menu'!AW2="FMT",'Full menu'!AW2="LMT",'Full menu'!AW2="LCMT"),"MT",IF(OR('Full menu'!AW2="LCIT",'Full menu'!AW2="FCIT",'Full menu'!AW2="LMT",'Full menu'!AW2="FMT"),"IT",IF(OR('Full menu'!AW2="MwERT", 'Full menu'!AW2="ERwMT", 'Full menu'!AW2="M&ERT", 'Full menu'!AW2="MwIT", 'Full menu'!AW2="IwMT", 'Full menu'!AW2="M&IT", 'Full menu'!AW2="IwERT", 'Full menu'!AW2="ERwIT", 'Full menu'!AW2="I&ERT", 'Full menu'!AW2="ER&M&IT"),"MixedT",IF('Full menu'!AW2="UD","UD",IF('Full menu'!AW2="LSD","LSD",IF('Full menu'!AW2="WSD","WSD",""))))))))) | AX2: =IF('Full menu'!AX2="MDC","MDC",IF(OR('Full menu'!AX2="PERF",'Full menu'!AX2="AERF",'Full menu'!AX2="PCB"),"ERfix",IF(OR('Full menu'!AX2="ACB", 'Full menu'!AX2="LCERT", 'Full menu'!AX2="LERT",'Full menu'!AX2="FCERT",'Full menu'!AX2="FERT"),"ERT",IF(OR('Full menu'!AX2="FCMT",'Full menu'!AX2="FMT",'Full menu'!AX2="LMT",'Full menu'!AX2="LCMT"),"MT",IF(OR('Full menu'!AX2="LCIT",'Full menu'!AX2="FCIT",'Full menu'!AX2="LMT",'Full menu'!AX2="FMT"),"IT",IF(OR('Full menu'!AX2="MwERT", 'Full menu'!AX2="ERwMT", 'Full menu'!AX2="M&ERT", 'Full menu'!AX2="MwIT", 'Full menu'!AX2="IwMT", 'Full menu'!AX2="M&IT", 'Full menu'!AX2="IwERT", 'Full menu'!AX2="ERwIT", 'Full menu'!AX2="I&ERT", 'Full menu'!AX2="ER&M&IT"),"MixedT",IF('Full menu'!AX2="UD","UD",IF('Full menu'!AX2="LSD","LSD",IF('Full menu'!AX2="WSD","WSD",""))))))))) | AY2: =IF('Full menu'!AY2="MDC","MDC",IF(OR('Full menu'!AY2="PERF",'Full menu'!AY2="AERF",'Full menu'!AY2="PCB"),"ERfix",IF(OR('Full menu'!AY2="ACB", 'Full menu'!AY2="LCERT", 'Full menu'!AY2="LERT",'Full menu'!AY2="FCERT",'Full menu'!AY2="FERT"),"ERT",IF(OR('Full menu'!AY2="FCMT",'Full menu'!AY2="FMT",'Full menu'!AY2="LMT",'Full menu'!AY2="LCMT"),"MT",IF(OR('Full menu'!AY2="LCIT",'Full menu'!AY2="FCIT",'Full menu'!AY2="LMT",'Full menu'!AY2="FMT"),"IT",IF(OR('Full menu'!AY2="MwERT", 'Full menu'!AY2="ERwMT", 'Full menu'!AY2="M&ERT", 'Full menu'!AY2="MwIT", 'Full menu'!AY2="IwMT", 'Full menu'!AY2="M&IT", 'Full menu'!AY2="IwERT", 'Full menu'!AY2="ERwIT", 'Full menu'!AY2="I&ERT", 'Full menu'!AY2="ER&M&IT"),"MixedT",IF('Full menu'!AY2="UD","UD",IF('Full menu'!AY2="LSD","LSD",IF('Full menu'!AY2="WSD","WSD",""))))))))) | AZ2: =IF('Full menu'!AZ2="MDC","MDC",IF(OR('Full menu'!AZ2="PERF",'Full menu'!AZ2="AERF",'Full menu'!AZ2="PCB"),"ERfix",IF(OR('Full menu'!AZ2="ACB", 'Full menu'!AZ2="LCERT", 'Full menu'!AZ2="LERT",'Full menu'!AZ2="FCERT",'Full menu'!AZ2="FERT"),"ERT",IF(OR('Full menu'!AZ2="FCMT",'Full menu'!AZ2="FMT",'Full menu'!AZ2="LMT",'Full menu'!AZ2="LCMT"),"MT",IF(OR('Full menu'!AZ2="LCIT",'Full menu'!AZ2="FCIT",'Full menu'!AZ2="LMT",'Full menu'!AZ2="FMT"),"IT",IF(OR('Full menu'!AZ2="MwERT", 'Full menu'!AZ2="ERwMT", 'Full menu'!AZ2="M&ERT", 'Full menu'!AZ2="MwIT", 'Full menu'!AZ2="IwMT", 'Full menu'!AZ2="M&IT", 'Full menu'!AZ2="IwERT", 'Full menu'!AZ2="ERwIT", 'Full menu'!AZ2="I&ERT", 'Full menu'!AZ2="ER&M&IT"),"MixedT",IF('Full menu'!AZ2="UD","UD",IF('Full menu'!AZ2="LSD","LSD",IF('Full menu'!AZ2="WSD","WSD",""))))))))) | BA2: =IF('Full menu'!BA2="MDC","MDC",IF(OR('Full menu'!BA2="PERF",'Full menu'!BA2="AERF",'Full menu'!BA2="PCB"),"ERfix",IF(OR('Full menu'!BA2="ACB", 'Full menu'!BA2="LCERT", 'Full menu'!BA2="LERT",'Full menu'!BA2="FCERT",'Full menu'!BA2="FERT"),"ERT",IF(OR('Full menu'!BA2="FCMT",'Full menu'!BA2="FMT",'Full menu'!BA2="LMT",'Full menu'!BA2="LCMT"),"MT",IF(OR('Full menu'!BA2="LCIT",'Full menu'!BA2="FCIT",'Full menu'!BA2="LMT",'Full menu'!BA2="FMT"),"IT",IF(OR('Full menu'!BA2="MwERT", 'Full menu'!BA2="ERwMT", 'Full menu'!BA2="M&ERT", 'Full menu'!BA2="MwIT", 'Full menu'!BA2="IwMT", 'Full menu'!BA2="M&IT", 'Full menu'!BA2="IwERT", 'Full menu'!BA2="ERwIT", 'Full menu'!BA2="I&ERT", 'Full menu'!BA2="ER&M&IT"),"MixedT",IF('Full menu'!BA2="UD","UD",IF('Full menu'!BA2="LSD","LSD",IF('Full menu'!BA2="WSD","WSD",""))))))))) | ... BC2: =IF('Full menu'!BC2="MDC","MDC",IF(OR('Full menu'!BC2="PERF",'Full menu'!BC2="AERF",'Full menu'!BC2="PCB"),"ERfix",IF(OR('Full menu'!BC2="ACB", 'Full menu'!BC2="LCERT", 'Full menu'!BC2="LERT",'Full menu'!BC2="FCERT",'Full menu'!BC2="FERT"),"ERT",IF(OR('Full menu'!BC2="FCMT",'Full menu'!BC2="FMT",'Full menu'!BC2="LMT",'Full menu'!BC2="LCMT"),"MT",IF(OR('Full menu'!BC2="LCIT",'Full menu'!BC2="FCIT",'Full menu'!BC2="LMT",'Full menu'!BC2="FMT"),"IT",IF(OR('Full menu'!BC2="MwERT", 'Full menu'!BC2="ERwMT", 'Full menu'!BC2="M&ERT", 'Full menu'!BC2="MwIT", 'Full menu'!BC2="IwMT", 'Full menu'!BC2="M&IT", 'Full menu'!BC2="IwERT", 'Full menu'!BC2="ERwIT", 'Full menu'!BC2="I&ERT", 'Full menu'!BC2="ER&M&IT"),"MixedT",IF('Full menu'!BC2="UD","UD",IF('Full menu'!BC2="LSD","LSD",IF('Full menu'!BC2="WSD","WSD","")))))))))
A3: Brazil | B3: =IF('Full menu'!B3="MDC","MDC",IF(OR('Full menu'!B3="PERF",'Full menu'!B3="AERF",'Full menu'!B3="PCB"),"ERfix",IF(OR('Full menu'!B3="ACB", 'Full menu'!B3="LCERT", 'Full menu'!B3="LERT",'Full menu'!B3="FCERT",'Full menu'!B3="FERT"),"ERTs",IF(OR('Full menu'!B3="FCMT",'Full menu'!B3="FMT",'Full menu'!B3="LMT",'Full menu'!B3="LCMT"),"MTs",IF(OR('Full menu'!B3="LCIT",'Full menu'!B3="FCIT",'Full menu'!B3="LIT",'Full menu'!B3="FIT"),"ITs",IF(OR('Full menu'!B3="MwERT", 'Full menu'!B3="ERwMT", 'Full menu'!B3="M&ERT", 'Full menu'!B3="MwIT", 'Full menu'!B3="IwMT", 'Full menu'!B3="M&IT", 'Full menu'!B3="IwERT", 'Full menu'!B3="ERwIT", 'Full menu'!B3="I&ERT", 'Full menu'!B3="ER&M&IT"),"MixedTs",IF('Full menu'!B3="UD","UD",IF('Full menu'!B3="LSD","LSD",IF('Full menu'!B3="WSD","WSD",""))))))))) -> UD | C3: =IF('Full menu'!C3="MDC","MDC",IF(OR('Full menu'!C3="PERF",'Full menu'!C3="AERF",'Full menu'!C3="PCB"),"ERfix",IF(OR('Full menu'!C3="ACB", 'Full menu'!C3="LCERT", 'Full menu'!C3="LERT",'Full menu'!C3="FCERT",'Full menu'!C3="FERT"),"ERTs",IF(OR('Full menu'!C3="FCMT",'Full menu'!C3="FMT",'Full menu'!C3="LMT",'Full menu'!C3="LCMT"),"MTs",IF(OR('Full menu'!C3="LCIT",'Full menu'!C3="FCIT",'Full menu'!C3="LIT",'Full menu'!C3="FIT"),"ITs",IF(OR('Full menu'!C3="MwERT", 'Full menu'!C3="ERwMT", 'Full menu'!C3="M&ERT", 'Full menu'!C3="MwIT", 'Full menu'!C3="IwMT", 'Full menu'!C3="M&IT", 'Full menu'!C3="IwERT", 'Full menu'!C3="ERwIT", 'Full menu'!C3="I&ERT", 'Full menu'!C3="ER&M&IT"),"MixedTs",IF('Full menu'!C3="UD","UD",IF('Full menu'!C3="LSD","LSD",IF('Full menu'!C3="WSD","WSD",""))))))))) -> UD | D3: =IF('Full menu'!D3="MDC","MDC",IF(OR('Full menu'!D3="PERF",'Full menu'!D3="AERF",'Full menu'!D3="PCB"),"ERfix",IF(OR('Full menu'!D3="ACB", 'Full menu'!D3="LCERT", 'Full menu'!D3="LERT",'Full menu'!D3="FCERT",'Full menu'!D3="FERT"),"ERTs",IF(OR('Full menu'!D3="FCMT",'Full menu'!D3="FMT",'Full menu'!D3="LMT",'Full menu'!D3="LCMT"),"MTs",IF(OR('Full menu'!D3="LCIT",'Full menu'!D3="FCIT",'Full menu'!D3="LIT",'Full menu'!D3="FIT"),"ITs",IF(OR('Full menu'!D3="MwERT", 'Full menu'!D3="ERwMT", 'Full menu'!D3="M&ERT", 'Full menu'!D3="MwIT", 'Full menu'!D3="IwMT", 'Full menu'!D3="M&IT", 'Full menu'!D3="IwERT", 'Full menu'!D3="ERwIT", 'Full menu'!D3="I&ERT", 'Full menu'!D3="ER&M&IT"),"MixedTs",IF('Full menu'!D3="UD","UD",IF('Full menu'!D3="LSD","LSD",IF('Full menu'!D3="WSD","WSD",""))))))))) -> UD | E3: =IF('Full menu'!E3="MDC","MDC",IF(OR('Full menu'!E3="PERF",'Full menu'!E3="AERF",'Full menu'!E3="PCB"),"ERfix",IF(OR('Full menu'!E3="ACB", 'Full menu'!E3="LCERT", 'Full menu'!E3="LERT",'Full menu'!E3="FCERT",'Full menu'!E3="FERT"),"ERTs",IF(OR('Full menu'!E3="FCMT",'Full menu'!E3="FMT",'Full menu'!E3="LMT",'Full menu'!E3="LCMT"),"MTs",IF(OR('Full menu'!E3="LCIT",'Full menu'!E3="FCIT",'Full menu'!E3="LIT",'Full menu'!E3="FIT"),"ITs",IF(OR('Full menu'!E3="MwERT", 'Full menu'!E3="ERwMT", 'Full menu'!E3="M&ERT", 'Full menu'!E3="MwIT", 'Full menu'!E3="IwMT", 'Full menu'!E3="M&IT", 'Full menu'!E3="IwERT", 'Full menu'!E3="ERwIT", 'Full menu'!E3="I&ERT", 'Full menu'!E3="ER&M&IT"),"MixedTs",IF('Full menu'!E3="UD","UD",IF('Full menu'!E3="LSD","LSD",IF('Full menu'!E3="WSD","WSD",""))))))))) -> UD | F3: =IF('Full menu'!F3="MDC","MDC",IF(OR('Full menu'!F3="PERF",'Full menu'!F3="AERF",'Full menu'!F3="PCB"),"ERfix",IF(OR('Full menu'!F3="ACB", 'Full menu'!F3="LCERT", 'Full menu'!F3="LERT",'Full menu'!F3="FCERT",'Full menu'!F3="FERT"),"ERTs",IF(OR('Full menu'!F3="FCMT",'Full menu'!F3="FMT",'Full menu'!F3="LMT",'Full menu'!F3="LCMT"),"MTs",IF(OR('Full menu'!F3="LCIT",'Full menu'!F3="FCIT",'Full menu'!F3="LIT",'Full menu'!F3="FIT"),"ITs",IF(OR('Full menu'!F3="MwERT", 'Full menu'!F3="ERwMT", 'Full menu'!F3="M&ERT", 'Full menu'!F3="MwIT", 'Full menu'!F3="IwMT", 'Full menu'!F3="M&IT", 'Full menu'!F3="IwERT", 'Full menu'!F3="ERwIT", 'Full menu'!F3="I&ERT", 'Full menu'!F3="ER&M&IT"),"MixedTs",IF('Full menu'!F3="UD","UD",IF('Full menu'!F3="LSD","LSD",IF('Full menu'!F3="WSD","WSD",""))))))))) -> UD | G3: =IF('Full menu'!G3="MDC","MDC",IF(OR('Full menu'!G3="PERF",'Full menu'!G3="AERF",'Full menu'!G3="PCB"),"ERfix",IF(OR('Full menu'!G3="ACB", 'Full menu'!G3="LCERT", 'Full menu'!G3="LERT",'Full menu'!G3="FCERT",'Full menu'!G3="FERT"),"ERTs",IF(OR('Full menu'!G3="FCMT",'Full menu'!G3="FMT",'Full menu'!G3="LMT",'Full menu'!G3="LCMT"),"MTs",IF(OR('Full menu'!G3="LCIT",'Full menu'!G3="FCIT",'Full menu'!G3="LIT",'Full menu'!G3="FIT"),"ITs",IF(OR('Full menu'!G3="MwERT", 'Full menu'!G3="ERwMT", 'Full menu'!G3="M&ERT", 'Full menu'!G3="MwIT", 'Full menu'!G3="IwMT", 'Full menu'!G3="M&IT", 'Full menu'!G3="IwERT", 'Full menu'!G3="ERwIT", 'Full menu'!G3="I&ERT", 'Full menu'!G3="ER&M&IT"),"MixedTs",IF('Full menu'!G3="UD","UD",IF('Full menu'!G3="LSD","LSD",IF('Full menu'!G3="WSD","WSD",""))))))))) -> UD | H3: =IF('Full menu'!H3="MDC","MDC",IF(OR('Full menu'!H3="PERF",'Full menu'!H3="AERF",'Full menu'!H3="PCB"),"ERfix",IF(OR('Full menu'!H3="ACB", 'Full menu'!H3="LCERT", 'Full menu'!H3="LERT",'Full menu'!H3="FCERT",'Full menu'!H3="FERT"),"ERTs",IF(OR('Full menu'!H3="FCMT",'Full menu'!H3="FMT",'Full menu'!H3="LMT",'Full menu'!H3="LCMT"),"MTs",IF(OR('Full menu'!H3="LCIT",'Full menu'!H3="FCIT",'Full menu'!H3="LIT",'Full menu'!H3="FIT"),"ITs",IF(OR('Full menu'!H3="MwERT", 'Full menu'!H3="ERwMT", 'Full menu'!H3="M&ERT", 'Full menu'!H3="MwIT", 'Full menu'!H3="IwMT", 'Full menu'!H3="M&IT", 'Full menu'!H3="IwERT", 'Full menu'!H3="ERwIT", 'Full menu'!H3="I&ERT", 'Full menu'!H3="ER&M&IT"),"MixedTs",IF('Full menu'!H3="UD","UD",IF('Full menu'!H3="LSD","LSD",IF('Full menu'!H3="WSD","WSD",""))))))))) -> UD | I3: =IF('Full menu'!I3="MDC","MDC",IF(OR('Full menu'!I3="PERF",'Full menu'!I3="AERF",'Full menu'!I3="PCB"),"ERfix",IF(OR('Full menu'!I3="ACB", 'Full menu'!I3="LCERT", 'Full menu'!I3="LERT",'Full menu'!I3="FCERT",'Full menu'!I3="FERT"),"ERTs",IF(OR('Full menu'!I3="FCMT",'Full menu'!I3="FMT",'Full menu'!I3="LMT",'Full menu'!I3="LCMT"),"MTs",IF(OR('Full menu'!I3="LCIT",'Full menu'!I3="FCIT",'Full menu'!I3="LIT",'Full menu'!I3="FIT"),"ITs",IF(OR('Full menu'!I3="MwERT", 'Full menu'!I3="ERwMT", 'Full menu'!I3="M&ERT", 'Full menu'!I3="MwIT", 'Full menu'!I3="IwMT", 'Full menu'!I3="M&IT", 'Full menu'!I3="IwERT", 'Full menu'!I3="ERwIT", 'Full menu'!I3="I&ERT", 'Full menu'!I3="ER&M&IT"),"MixedTs",IF('Full menu'!I3="UD","UD",IF('Full menu'!I3="LSD","LSD",IF('Full menu'!I3="WSD","WSD",""))))))))) -> UD | ... AS3: =IF('Full menu'!AS3="MDC","MDC",IF(OR('Full menu'!AS3="PERF",'Full menu'!AS3="AERF",'Full menu'!AS3="PCB"),"ERfix",IF(OR('Full menu'!AS3="ACB", 'Full menu'!AS3="LCERT", 'Full menu'!AS3="LERT",'Full menu'!AS3="FCERT",'Full menu'!AS3="FERT"),"ERTs",IF(OR('Full menu'!AS3="FCMT",'Full menu'!AS3="FMT",'Full menu'!AS3="LMT",'Full menu'!AS3="LCMT"),"MTs",IF(OR('Full menu'!AS3="LCIT",'Full menu'!AS3="FCIT",'Full menu'!AS3="LIT",'Full menu'!AS3="FIT"),"ITs",IF(OR('Full menu'!AS3="MwERT", 'Full menu'!AS3="ERwMT", 'Full menu'!AS3="M&ERT", 'Full menu'!AS3="MwIT", 'Full menu'!AS3="IwMT", 'Full menu'!AS3="M&IT", 'Full menu'!AS3="IwERT", 'Full menu'!AS3="ERwIT", 'Full menu'!AS3="I&ERT", 'Full menu'!AS3="ER&M&IT"),"MixedTs",IF('Full menu'!AS3="UD","UD",IF('Full menu'!AS3="LSD","LSD",IF('Full menu'!AS3="WSD","WSD",""))))))))) -> ITs | AT3: =IF('Full menu'!AT3="MDC","MDC",IF(OR('Full menu'!AT3="PERF",'Full menu'!AT3="AERF",'Full menu'!AT3="PCB"),"ERfix",IF(OR('Full menu'!AT3="ACB", 'Full menu'!AT3="LCERT", 'Full menu'!AT3="LERT",'Full menu'!AT3="FCERT",'Full menu'!AT3="FERT"),"ERT",IF(OR('Full menu'!AT3="FCMT",'Full menu'!AT3="FMT",'Full menu'!AT3="LMT",'Full menu'!AT3="LCMT"),"MT",IF(OR('Full menu'!AT3="LCIT",'Full menu'!AT3="FCIT",'Full menu'!AT3="LMT",'Full menu'!AT3="FMT"),"IT",IF(OR('Full menu'!AT3="MwERT", 'Full menu'!AT3="ERwMT", 'Full menu'!AT3="M&ERT", 'Full menu'!AT3="MwIT", 'Full menu'!AT3="IwMT", 'Full menu'!AT3="M&IT", 'Full menu'!AT3="IwERT", 'Full menu'!AT3="ERwIT", 'Full menu'!AT3="I&ERT", 'Full menu'!AT3="ER&M&IT"),"MixedT",IF('Full menu'!AT3="UD","UD",IF('Full menu'!AT3="LSD","LSD",IF('Full menu'!AT3="WSD","WSD",""))))))))) | AU3: =IF('Full menu'!AU3="MDC","MDC",IF(OR('Full menu'!AU3="PERF",'Full menu'!AU3="AERF",'Full menu'!AU3="PCB"),"ERfix",IF(OR('Full menu'!AU3="ACB", 'Full menu'!AU3="LCERT", 'Full menu'!AU3="LERT",'Full menu'!AU3="FCERT",'Full menu'!AU3="FERT"),"ERT",IF(OR('Full menu'!AU3="FCMT",'Full menu'!AU3="FMT",'Full menu'!AU3="LMT",'Full menu'!AU3="LCMT"),"MT",IF(OR('Full menu'!AU3="LCIT",'Full menu'!AU3="FCIT",'Full menu'!AU3="LMT",'Full menu'!AU3="FMT"),"IT",IF(OR('Full menu'!AU3="MwERT", 'Full menu'!AU3="ERwMT", 'Full menu'!AU3="M&ERT", 'Full menu'!AU3="MwIT", 'Full menu'!AU3="IwMT", 'Full menu'!AU3="M&IT", 'Full menu'!AU3="IwERT", 'Full menu'!AU3="ERwIT", 'Full menu'!AU3="I&ERT", 'Full menu'!AU3="ER&M&IT"),"MixedT",IF('Full menu'!AU3="UD","UD",IF('Full menu'!AU3="LSD","LSD",IF('Full menu'!AU3="WSD","WSD",""))))))))) | AV3: =IF('Full menu'!AV3="MDC","MDC",IF(OR('Full menu'!AV3="PERF",'Full menu'!AV3="AERF",'Full menu'!AV3="PCB"),"ERfix",IF(OR('Full menu'!AV3="ACB", 'Full menu'!AV3="LCERT", 'Full menu'!AV3="LERT",'Full menu'!AV3="FCERT",'Full menu'!AV3="FERT"),"ERT",IF(OR('Full menu'!AV3="FCMT",'Full menu'!AV3="FMT",'Full menu'!AV3="LMT",'Full menu'!AV3="LCMT"),"MT",IF(OR('Full menu'!AV3="LCIT",'Full menu'!AV3="FCIT",'Full menu'!AV3="LMT",'Full menu'!AV3="FMT"),"IT",IF(OR('Full menu'!AV3="MwERT", 'Full menu'!AV3="ERwMT", 'Full menu'!AV3="M&ERT", 'Full menu'!AV3="MwIT", 'Full menu'!AV3="IwMT", 'Full menu'!AV3="M&IT", 'Full menu'!AV3="IwERT", 'Full menu'!AV3="ERwIT", 'Full menu'!AV3="I&ERT", 'Full menu'!AV3="ER&M&IT"),"MixedT",IF('Full menu'!AV3="UD","UD",IF('Full menu'!AV3="LSD","LSD",IF('Full menu'!AV3="WSD","WSD",""))))))))) | AW3: =IF('Full menu'!AW3="MDC","MDC",IF(OR('Full menu'!AW3="PERF",'Full menu'!AW3="AERF",'Full menu'!AW3="PCB"),"ERfix",IF(OR('Full menu'!AW3="ACB", 'Full menu'!AW3="LCERT", 'Full menu'!AW3="LERT",'Full menu'!AW3="FCERT",'Full menu'!AW3="FERT"),"ERT",IF(OR('Full menu'!AW3="FCMT",'Full menu'!AW3="FMT",'Full menu'!AW3="LMT",'Full menu'!AW3="LCMT"),"MT",IF(OR('Full menu'!AW3="LCIT",'Full menu'!AW3="FCIT",'Full menu'!AW3="LMT",'Full menu'!AW3="FMT"),"IT",IF(OR('Full menu'!AW3="MwERT", 'Full menu'!AW3="ERwMT", 'Full menu'!AW3="M&ERT", 'Full menu'!AW3="MwIT", 'Full menu'!AW3="IwMT", 'Full menu'!AW3="M&IT", 'Full menu'!AW3="IwERT", 'Full menu'!AW3="ERwIT", 'Full menu'!AW3="I&ERT", 'Full menu'!AW3="ER&M&IT"),"MixedT",IF('Full menu'!AW3="UD","UD",IF('Full menu'!AW3="LSD","LSD",IF('Full menu'!AW3="WSD","WSD",""))))))))) | AX3: =IF('Full menu'!AX3="MDC","MDC",IF(OR('Full menu'!AX3="PERF",'Full menu'!AX3="AERF",'Full menu'!AX3="PCB"),"ERfix",IF(OR('Full menu'!AX3="ACB", 'Full menu'!AX3="LCERT", 'Full menu'!AX3="LERT",'Full menu'!AX3="FCERT",'Full menu'!AX3="FERT"),"ERT",IF(OR('Full menu'!AX3="FCMT",'Full menu'!AX3="FMT",'Full menu'!AX3="LMT",'Full menu'!AX3="LCMT"),"MT",IF(OR('Full menu'!AX3="LCIT",'Full menu'!AX3="FCIT",'Full menu'!AX3="LMT",'Full menu'!AX3="FMT"),"IT",IF(OR('Full menu'!AX3="MwERT", 'Full menu'!AX3="ERwMT", 'Full menu'!AX3="M&ERT", 'Full menu'!AX3="MwIT", 'Full menu'!AX3="IwMT", 'Full menu'!AX3="M&IT", 'Full menu'!AX3="IwERT", 'Full menu'!AX3="ERwIT", 'Full menu'!AX3="I&ERT", 'Full menu'!AX3="ER&M&IT"),"MixedT",IF('Full menu'!AX3="UD","UD",IF('Full menu'!AX3="LSD","LSD",IF('Full menu'!AX3="WSD","WSD",""))))))))) | AY3: =IF('Full menu'!AY3="MDC","MDC",IF(OR('Full menu'!AY3="PERF",'Full menu'!AY3="AERF",'Full menu'!AY3="PCB"),"ERfix",IF(OR('Full menu'!AY3="ACB", 'Full menu'!AY3="LCERT", 'Full menu'!AY3="LERT",'Full menu'!AY3="FCERT",'Full menu'!AY3="FERT"),"ERT",IF(OR('Full menu'!AY3="FCMT",'Full menu'!AY3="FMT",'Full menu'!AY3="LMT",'Full menu'!AY3="LCMT"),"MT",IF(OR('Full menu'!AY3="LCIT",'Full menu'!AY3="FCIT",'Full menu'!AY3="LMT",'Full menu'!AY3="FMT"),"IT",IF(OR('Full menu'!AY3="MwERT", 'Full menu'!AY3="ERwMT", 'Full menu'!AY3="M&ERT", 'Full menu'!AY3="MwIT", 'Full menu'!AY3="IwMT", 'Full menu'!AY3="M&IT", 'Full menu'!AY3="IwERT", 'Full menu'!AY3="ERwIT", 'Full menu'!AY3="I&ERT", 'Full menu'!AY3="ER&M&IT"),"MixedT",IF('Full menu'!AY3="UD","UD",IF('Full menu'!AY3="LSD","LSD",IF('Full menu'!AY3="WSD","WSD",""))))))))) | AZ3: =IF('Full menu'!AZ3="MDC","MDC",IF(OR('Full menu'!AZ3="PERF",'Full menu'!AZ3="AERF",'Full menu'!AZ3="PCB"),"ERfix",IF(OR('Full menu'!AZ3="ACB", 'Full menu'!AZ3="LCERT", 'Full menu'!AZ3="LERT",'Full menu'!AZ3="FCERT",'Full menu'!AZ3="FERT"),"ERT",IF(OR('Full menu'!AZ3="FCMT",'Full menu'!AZ3="FMT",'Full menu'!AZ3="LMT",'Full menu'!AZ3="LCMT"),"MT",IF(OR('Full menu'!AZ3="LCIT",'Full menu'!AZ3="FCIT",'Full menu'!AZ3="LMT",'Full menu'!AZ3="FMT"),"IT",IF(OR('Full menu'!AZ3="MwERT", 'Full menu'!AZ3="ERwMT", 'Full menu'!AZ3="M&ERT", 'Full menu'!AZ3="MwIT", 'Full menu'!AZ3="IwMT", 'Full menu'!AZ3="M&IT", 'Full menu'!AZ3="IwERT", 'Full menu'!AZ3="ERwIT", 'Full menu'!AZ3="I&ERT", 'Full menu'!AZ3="ER&M&IT"),"MixedT",IF('Full menu'!AZ3="UD","UD",IF('Full menu'!AZ3="LSD","LSD",IF('Full menu'!AZ3="WSD","WSD",""))))))))) | BA3: =IF('Full menu'!BA3="MDC","MDC",IF(OR('Full menu'!BA3="PERF",'Full menu'!BA3="AERF",'Full menu'!BA3="PCB"),"ERfix",IF(OR('Full menu'!BA3="ACB", 'Full menu'!BA3="LCERT", 'Full menu'!BA3="LERT",'Full menu'!BA3="FCERT",'Full menu'!BA3="FERT"),"ERT",IF(OR('Full menu'!BA3="FCMT",'Full menu'!BA3="FMT",'Full menu'!BA3="LMT",'Full menu'!BA3="LCMT"),"MT",IF(OR('Full menu'!BA3="LCIT",'Full menu'!BA3="FCIT",'Full menu'!BA3="LMT",'Full menu'!BA3="FMT"),"IT",IF(OR('Full menu'!BA3="MwERT", 'Full menu'!BA3="ERwMT", 'Full menu'!BA3="M&ERT", 'Full menu'!BA3="MwIT", 'Full menu'!BA3="IwMT", 'Full menu'!BA3="M&IT", 'Full menu'!BA3="IwERT", 'Full menu'!BA3="ERwIT", 'Full menu'!BA3="I&ERT", 'Full menu'!BA3="ER&M&IT"),"MixedT",IF('Full menu'!BA3="UD","UD",IF('Full menu'!BA3="LSD","LSD",IF('Full menu'!BA3="WSD","WSD",""))))))))) | ... BC3: =IF('Full menu'!BC3="MDC","MDC",IF(OR('Full menu'!BC3="PERF",'Full menu'!BC3="AERF",'Full menu'!BC3="PCB"),"ERfix",IF(OR('Full menu'!BC3="ACB", 'Full menu'!BC3="LCERT", 'Full menu'!BC3="LERT",'Full menu'!BC3="FCERT",'Full menu'!BC3="FERT"),"ERT",IF(OR('Full menu'!BC3="FCMT",'Full menu'!BC3="FMT",'Full menu'!BC3="LMT",'Full menu'!BC3="LCMT"),"MT",IF(OR('Full menu'!BC3="LCIT",'Full menu'!BC3="FCIT",'Full menu'!BC3="LMT",'Full menu'!BC3="FMT"),"IT",IF(OR('Full menu'!BC3="MwERT", 'Full menu'!BC3="ERwMT", 'Full menu'!BC3="M&ERT", 'Full menu'!BC3="MwIT", 'Full menu'!BC3="IwMT", 'Full menu'!BC3="M&IT", 'Full menu'!BC3="IwERT", 'Full menu'!BC3="ERwIT", 'Full menu'!BC3="I&ERT", 'Full menu'!BC3="ER&M&IT"),"MixedT",IF('Full menu'!BC3="UD","UD",IF('Full menu'!BC3="LSD","LSD",IF('Full menu'!BC3="WSD","WSD","")))))))))
A4: Bulgaria | B4: =IF('Full menu'!B4="MDC","MDC",IF(OR('Full menu'!B4="PERF",'Full menu'!B4="AERF",'Full menu'!B4="PCB"),"ERfix",IF(OR('Full menu'!B4="ACB", 'Full menu'!B4="LCERT", 'Full menu'!B4="LERT",'Full menu'!B4="FCERT",'Full menu'!B4="FERT"),"ERTs",IF(OR('Full menu'!B4="FCMT",'Full menu'!B4="FMT",'Full menu'!B4="LMT",'Full menu'!B4="LCMT"),"MTs",IF(OR('Full menu'!B4="LCIT",'Full menu'!B4="FCIT",'Full menu'!B4="LIT",'Full menu'!B4="FIT"),"ITs",IF(OR('Full menu'!B4="MwERT", 'Full menu'!B4="ERwMT", 'Full menu'!B4="M&ERT", 'Full menu'!B4="MwIT", 'Full menu'!B4="IwMT", 'Full menu'!B4="M&IT", 'Full menu'!B4="IwERT", 'Full menu'!B4="ERwIT", 'Full menu'!B4="I&ERT", 'Full menu'!B4="ER&M&IT"),"MixedTs",IF('Full menu'!B4="UD","UD",IF('Full menu'!B4="LSD","LSD",IF('Full menu'!B4="WSD","WSD",""))))))))) -> MDC | C4: =IF('Full menu'!C4="MDC","MDC",IF(OR('Full menu'!C4="PERF",'Full menu'!C4="AERF",'Full menu'!C4="PCB"),"ERfix",IF(OR('Full menu'!C4="ACB", 'Full menu'!C4="LCERT", 'Full menu'!C4="LERT",'Full menu'!C4="FCERT",'Full menu'!C4="FERT"),"ERTs",IF(OR('Full menu'!C4="FCMT",'Full menu'!C4="FMT",'Full menu'!C4="LMT",'Full menu'!C4="LCMT"),"MTs",IF(OR('Full menu'!C4="LCIT",'Full menu'!C4="FCIT",'Full menu'!C4="LIT",'Full menu'!C4="FIT"),"ITs",IF(OR('Full menu'!C4="MwERT", 'Full menu'!C4="ERwMT", 'Full menu'!C4="M&ERT", 'Full menu'!C4="MwIT", 'Full menu'!C4="IwMT", 'Full menu'!C4="M&IT", 'Full menu'!C4="IwERT", 'Full menu'!C4="ERwIT", 'Full menu'!C4="I&ERT", 'Full menu'!C4="ER&M&IT"),"MixedTs",IF('Full menu'!C4="UD","UD",IF('Full menu'!C4="LSD","LSD",IF('Full menu'!C4="WSD","WSD",""))))))))) -> MDC | D4: =IF('Full menu'!D4="MDC","MDC",IF(OR('Full menu'!D4="PERF",'Full menu'!D4="AERF",'Full menu'!D4="PCB"),"ERfix",IF(OR('Full menu'!D4="ACB", 'Full menu'!D4="LCERT", 'Full menu'!D4="LERT",'Full menu'!D4="FCERT",'Full menu'!D4="FERT"),"ERTs",IF(OR('Full menu'!D4="FCMT",'Full menu'!D4="FMT",'Full menu'!D4="LMT",'Full menu'!D4="LCMT"),"MTs",IF(OR('Full menu'!D4="LCIT",'Full menu'!D4="FCIT",'Full menu'!D4="LIT",'Full menu'!D4="FIT"),"ITs",IF(OR('Full menu'!D4="MwERT", 'Full menu'!D4="ERwMT", 'Full menu'!D4="M&ERT", 'Full menu'!D4="MwIT", 'Full menu'!D4="IwMT", 'Full menu'!D4="M&IT", 'Full menu'!D4="IwERT", 'Full menu'!D4="ERwIT", 'Full menu'!D4="I&ERT", 'Full menu'!D4="ER&M&IT"),"MixedTs",IF('Full menu'!D4="UD","UD",IF('Full menu'!D4="LSD","LSD",IF('Full menu'!D4="WSD","WSD",""))))))))) -> MDC | E4: =IF('Full menu'!E4="MDC","MDC",IF(OR('Full menu'!E4="PERF",'Full menu'!E4="AERF",'Full menu'!E4="PCB"),"ERfix",IF(OR('Full menu'!E4="ACB", 'Full menu'!E4="LCERT", 'Full menu'!E4="LERT",'Full menu'!E4="FCERT",'Full menu'!E4="FERT"),"ERTs",IF(OR('Full menu'!E4="FCMT",'Full menu'!E4="FMT",'Full menu'!E4="LMT",'Full menu'!E4="LCMT"),"MTs",IF(OR('Full menu'!E4="LCIT",'Full menu'!E4="FCIT",'Full menu'!E4="LIT",'Full menu'!E4="FIT"),"ITs",IF(OR('Full menu'!E4="MwERT", 'Full menu'!E4="ERwMT", 'Full menu'!E4="M&ERT", 'Full menu'!E4="MwIT", 'Full menu'!E4="IwMT", 'Full menu'!E4="M&IT", 'Full menu'!E4="IwERT", 'Full menu'!E4="ERwIT", 'Full menu'!E4="I&ERT", 'Full menu'!E4="ER&M&IT"),"MixedTs",IF('Full menu'!E4="UD","UD",IF('Full menu'!E4="LSD","LSD",IF('Full menu'!E4="WSD","WSD",""))))))))) -> MDC | F4: =IF('Full menu'!F4="MDC","MDC",IF(OR('Full menu'!F4="PERF",'Full menu'!F4="AERF",'Full menu'!F4="PCB"),"ERfix",IF(OR('Full menu'!F4="ACB", 'Full menu'!F4="LCERT", 'Full menu'!F4="LERT",'Full menu'!F4="FCERT",'Full menu'!F4="FERT"),"ERTs",IF(OR('Full menu'!F4="FCMT",'Full menu'!F4="FMT",'Full menu'!F4="LMT",'Full menu'!F4="LCMT"),"MTs",IF(OR('Full menu'!F4="LCIT",'Full menu'!F4="FCIT",'Full menu'!F4="LIT",'Full menu'!F4="FIT"),"ITs",IF(OR('Full menu'!F4="MwERT", 'Full menu'!F4="ERwMT", 'Full menu'!F4="M&ERT", 'Full menu'!F4="MwIT", 'Full menu'!F4="IwMT", 'Full menu'!F4="M&IT", 'Full menu'!F4="IwERT", 'Full menu'!F4="ERwIT", 'Full menu'!F4="I&ERT", 'Full menu'!F4="ER&M&IT"),"MixedTs",IF('Full menu'!F4="UD","UD",IF('Full menu'!F4="LSD","LSD",IF('Full menu'!F4="WSD","WSD",""))))))))) -> MDC | G4: =IF('Full menu'!G4="MDC","MDC",IF(OR('Full menu'!G4="PERF",'Full menu'!G4="AERF",'Full menu'!G4="PCB"),"ERfix",IF(OR('Full menu'!G4="ACB", 'Full menu'!G4="LCERT", 'Full menu'!G4="LERT",'Full menu'!G4="FCERT",'Full menu'!G4="FERT"),"ERTs",IF(OR('Full menu'!G4="FCMT",'Full menu'!G4="FMT",'Full menu'!G4="LMT",'Full menu'!G4="LCMT"),"MTs",IF(OR('Full menu'!G4="LCIT",'Full menu'!G4="FCIT",'Full menu'!G4="LIT",'Full menu'!G4="FIT"),"ITs",IF(OR('Full menu'!G4="MwERT", 'Full menu'!G4="ERwMT", 'Full menu'!G4="M&ERT", 'Full menu'!G4="MwIT", 'Full menu'!G4="IwMT", 'Full menu'!G4="M&IT", 'Full menu'!G4="IwERT", 'Full menu'!G4="ERwIT", 'Full menu'!G4="I&ERT", 'Full menu'!G4="ER&M&IT"),"MixedTs",IF('Full menu'!G4="UD","UD",IF('Full menu'!G4="LSD","LSD",IF('Full menu'!G4="WSD","WSD",""))))))))) -> MDC | H4: =IF('Full menu'!H4="MDC","MDC",IF(OR('Full menu'!H4="PERF",'Full menu'!H4="AERF",'Full menu'!H4="PCB"),"ERfix",IF(OR('Full menu'!H4="ACB", 'Full menu'!H4="LCERT", 'Full menu'!H4="LERT",'Full menu'!H4="FCERT",'Full menu'!H4="FERT"),"ERTs",IF(OR('Full menu'!H4="FCMT",'Full menu'!H4="FMT",'Full menu'!H4="LMT",'Full menu'!H4="LCMT"),"MTs",IF(OR('Full menu'!H4="LCIT",'Full menu'!H4="FCIT",'Full menu'!H4="LIT",'Full menu'!H4="FIT"),"ITs",IF(OR('Full menu'!H4="MwERT", 'Full menu'!H4="ERwMT", 'Full menu'!H4="M&ERT", 'Full menu'!H4="MwIT", 'Full menu'!H4="IwMT", 'Full menu'!H4="M&IT", 'Full menu'!H4="IwERT", 'Full menu'!H4="ERwIT", 'Full menu'!H4="I&ERT", 'Full menu'!H4="ER&M&IT"),"MixedTs",IF('Full menu'!H4="UD","UD",IF('Full menu'!H4="LSD","LSD",IF('Full menu'!H4="WSD","WSD",""))))))))) -> MDC | I4: =IF('Full menu'!I4="MDC","MDC",IF(OR('Full menu'!I4="PERF",'Full menu'!I4="AERF",'Full menu'!I4="PCB"),"ERfix",IF(OR('Full menu'!I4="ACB", 'Full menu'!I4="LCERT", 'Full menu'!I4="LERT",'Full menu'!I4="FCERT",'Full menu'!I4="FERT"),"ERTs",IF(OR('Full menu'!I4="FCMT",'Full menu'!I4="FMT",'Full menu'!I4="LMT",'Full menu'!I4="LCMT"),"MTs",IF(OR('Full menu'!I4="LCIT",'Full menu'!I4="FCIT",'Full menu'!I4="LIT",'Full menu'!I4="FIT"),"ITs",IF(OR('Full menu'!I4="MwERT", 'Full menu'!I4="ERwMT", 'Full menu'!I4="M&ERT", 'Full menu'!I4="MwIT", 'Full menu'!I4="IwMT", 'Full menu'!I4="M&IT", 'Full menu'!I4="IwERT", 'Full menu'!I4="ERwIT", 'Full menu'!I4="I&ERT", 'Full menu'!I4="ER&M&IT"),"MixedTs",IF('Full menu'!I4="UD","UD",IF('Full menu'!I4="LSD","LSD",IF('Full menu'!I4="WSD","WSD",""))))))))) -> MDC | ... AS4: =IF('Full menu'!AS4="MDC","MDC",IF(OR('Full menu'!AS4="PERF",'Full menu'!AS4="AERF",'Full menu'!AS4="PCB"),"ERfix",IF(OR('Full menu'!AS4="ACB", 'Full menu'!AS4="LCERT", 'Full menu'!AS4="LERT",'Full menu'!AS4="FCERT",'Full menu'!AS4="FERT"),"ERTs",IF(OR('Full menu'!AS4="FCMT",'Full menu'!AS4="FMT",'Full menu'!AS4="LMT",'Full menu'!AS4="LCMT"),"MTs",IF(OR('Full menu'!AS4="LCIT",'Full menu'!AS4="FCIT",'Full menu'!AS4="LIT",'Full menu'!AS4="FIT"),"ITs",IF(OR('Full menu'!AS4="MwERT", 'Full menu'!AS4="ERwMT", 'Full menu'!AS4="M&ERT", 'Full menu'!AS4="MwIT", 'Full menu'!AS4="IwMT", 'Full menu'!AS4="M&IT", 'Full menu'!AS4="IwERT", 'Full menu'!AS4="ERwIT", 'Full menu'!AS4="I&ERT", 'Full menu'!AS4="ER&M&IT"),"MixedTs",IF('Full menu'!AS4="UD","UD",IF('Full menu'!AS4="LSD","LSD",IF('Full menu'!AS4="WSD","WSD",""))))))))) -> ERTs | AT4: =IF('Full menu'!AT4="MDC","MDC",IF(OR('Full menu'!AT4="PERF",'Full menu'!AT4="AERF",'Full menu'!AT4="PCB"),"ERfix",IF(OR('Full menu'!AT4="ACB", 'Full menu'!AT4="LCERT", 'Full menu'!AT4="LERT",'Full menu'!AT4="FCERT",'Full menu'!AT4="FERT"),"ERT",IF(OR('Full menu'!AT4="FCMT",'Full menu'!AT4="FMT",'Full menu'!AT4="LMT",'Full menu'!AT4="LCMT"),"MT",IF(OR('Full menu'!AT4="LCIT",'Full menu'!AT4="FCIT",'Full menu'!AT4="LMT",'Full menu'!AT4="FMT"),"IT",IF(OR('Full menu'!AT4="MwERT", 'Full menu'!AT4="ERwMT", 'Full menu'!AT4="M&ERT", 'Full menu'!AT4="MwIT", 'Full menu'!AT4="IwMT", 'Full menu'!AT4="M&IT", 'Full menu'!AT4="IwERT", 'Full menu'!AT4="ERwIT", 'Full menu'!AT4="I&ERT", 'Full menu'!AT4="ER&M&IT"),"MixedT",IF('Full menu'!AT4="UD","UD",IF('Full menu'!AT4="LSD","LSD",IF('Full menu'!AT4="WSD","WSD",""))))))))) | AU4: =IF('Full menu'!AU4="MDC","MDC",IF(OR('Full menu'!AU4="PERF",'Full menu'!AU4="AERF",'Full menu'!AU4="PCB"),"ERfix",IF(OR('Full menu'!AU4="ACB", 'Full menu'!AU4="LCERT", 'Full menu'!AU4="LERT",'Full menu'!AU4="FCERT",'Full menu'!AU4="FERT"),"ERT",IF(OR('Full menu'!AU4="FCMT",'Full menu'!AU4="FMT",'Full menu'!AU4="LMT",'Full menu'!AU4="LCMT"),"MT",IF(OR('Full menu'!AU4="LCIT",'Full menu'!AU4="FCIT",'Full menu'!AU4="LMT",'Full menu'!AU4="FMT"),"IT",IF(OR('Full menu'!AU4="MwERT", 'Full menu'!AU4="ERwMT", 'Full menu'!AU4="M&ERT", 'Full menu'!AU4="MwIT", 'Full menu'!AU4="IwMT", 'Full menu'!AU4="M&IT", 'Full menu'!AU4="IwERT", 'Full menu'!AU4="ERwIT", 'Full menu'!AU4="I&ERT", 'Full menu'!AU4="ER&M&IT"),"MixedT",IF('Full menu'!AU4="UD","UD",IF('Full menu'!AU4="LSD","LSD",IF('Full menu'!AU4="WSD","WSD",""))))))))) | AV4: =IF('Full menu'!AV4="MDC","MDC",IF(OR('Full menu'!AV4="PERF",'Full menu'!AV4="AERF",'Full menu'!AV4="PCB"),"ERfix",IF(OR('Full menu'!AV4="ACB", 'Full menu'!AV4="LCERT", 'Full menu'!AV4="LERT",'Full menu'!AV4="FCERT",'Full menu'!AV4="FERT"),"ERT",IF(OR('Full menu'!AV4="FCMT",'Full menu'!AV4="FMT",'Full menu'!AV4="LMT",'Full menu'!AV4="LCMT"),"MT",IF(OR('Full menu'!AV4="LCIT",'Full menu'!AV4="FCIT",'Full menu'!AV4="LMT",'Full menu'!AV4="FMT"),"IT",IF(OR('Full menu'!AV4="MwERT", 'Full menu'!AV4="ERwMT", 'Full menu'!AV4="M&ERT", 'Full menu'!AV4="MwIT", 'Full menu'!AV4="IwMT", 'Full menu'!AV4="M&IT", 'Full menu'!AV4="IwERT", 'Full menu'!AV4="ERwIT", 'Full menu'!AV4="I&ERT", 'Full menu'!AV4="ER&M&IT"),"MixedT",IF('Full menu'!AV4="UD","UD",IF('Full menu'!AV4="LSD","LSD",IF('Full menu'!AV4="WSD","WSD",""))))))))) | AW4: =IF('Full menu'!AW4="MDC","MDC",IF(OR('Full menu'!AW4="PERF",'Full menu'!AW4="AERF",'Full menu'!AW4="PCB"),"ERfix",IF(OR('Full menu'!AW4="ACB", 'Full menu'!AW4="LCERT", 'Full menu'!AW4="LERT",'Full menu'!AW4="FCERT",'Full menu'!AW4="FERT"),"ERT",IF(OR('Full menu'!AW4="FCMT",'Full menu'!AW4="FMT",'Full menu'!AW4="LMT",'Full menu'!AW4="LCMT"),"MT",IF(OR('Full menu'!AW4="LCIT",'Full menu'!AW4="FCIT",'Full menu'!AW4="LMT",'Full menu'!AW4="FMT"),"IT",IF(OR('Full menu'!AW4="MwERT", 'Full menu'!AW4="ERwMT", 'Full menu'!AW4="M&ERT", 'Full menu'!AW4="MwIT", 'Full menu'!AW4="IwMT", 'Full menu'!AW4="M&IT", 'Full menu'!AW4="IwERT", 'Full menu'!AW4="ERwIT", 'Full menu'!AW4="I&ERT", 'Full menu'!AW4="ER&M&IT"),"MixedT",IF('Full menu'!AW4="UD","UD",IF('Full menu'!AW4="LSD","LSD",IF('Full menu'!AW4="WSD","WSD",""))))))))) | AX4: =IF('Full menu'!AX4="MDC","MDC",IF(OR('Full menu'!AX4="PERF",'Full menu'!AX4="AERF",'Full menu'!AX4="PCB"),"ERfix",IF(OR('Full menu'!AX4="ACB", 'Full menu'!AX4="LCERT", 'Full menu'!AX4="LERT",'Full menu'!AX4="FCERT",'Full menu'!AX4="FERT"),"ERT",IF(OR('Full menu'!AX4="FCMT",'Full menu'!AX4="FMT",'Full menu'!AX4="LMT",'Full menu'!AX4="LCMT"),"MT",IF(OR('Full menu'!AX4="LCIT",'Full menu'!AX4="FCIT",'Full menu'!AX4="LMT",'Full menu'!AX4="FMT"),"IT",IF(OR('Full menu'!AX4="MwERT", 'Full menu'!AX4="ERwMT", 'Full menu'!AX4="M&ERT", 'Full menu'!AX4="MwIT", 'Full menu'!AX4="IwMT", 'Full menu'!AX4="M&IT", 'Full menu'!AX4="IwERT", 'Full menu'!AX4="ERwIT", 'Full menu'!AX4="I&ERT", 'Full menu'!AX4="ER&M&IT"),"MixedT",IF('Full menu'!AX4="UD","UD",IF('Full menu'!AX4="LSD","LSD",IF('Full menu'!AX4="WSD","WSD",""))))))))) | AY4: =IF('Full menu'!AY4="MDC","MDC",IF(OR('Full menu'!AY4="PERF",'Full menu'!AY4="AERF",'Full menu'!AY4="PCB"),"ERfix",IF(OR('Full menu'!AY4="ACB", 'Full menu'!AY4="LCERT", 'Full menu'!AY4="LERT",'Full menu'!AY4="FCERT",'Full menu'!AY4="FERT"),"ERT",IF(OR('Full menu'!AY4="FCMT",'Full menu'!AY4="FMT",'Full menu'!AY4="LMT",'Full menu'!AY4="LCMT"),"MT",IF(OR('Full menu'!AY4="LCIT",'Full menu'!AY4="FCIT",'Full menu'!AY4="LMT",'Full menu'!AY4="FMT"),"IT",IF(OR('Full menu'!AY4="MwERT", 'Full menu'!AY4="ERwMT", 'Full menu'!AY4="M&ERT", 'Full menu'!AY4="MwIT", 'Full menu'!AY4="IwMT", 'Full menu'!AY4="M&IT", 'Full menu'!AY4="IwERT", 'Full menu'!AY4="ERwIT", 'Full menu'!AY4="I&ERT", 'Full menu'!AY4="ER&M&IT"),"MixedT",IF('Full menu'!AY4="UD","UD",IF('Full menu'!AY4="LSD","LSD",IF('Full menu'!AY4="WSD","WSD",""))))))))) | AZ4: =IF('Full menu'!AZ4="MDC","MDC",IF(OR('Full menu'!AZ4="PERF",'Full menu'!AZ4="AERF",'Full menu'!AZ4="PCB"),"ERfix",IF(OR('Full menu'!AZ4="ACB", 'Full menu'!AZ4="LCERT", 'Full menu'!AZ4="LERT",'Full menu'!AZ4="FCERT",'Full menu'!AZ4="FERT"),"ERT",IF(OR('Full menu'!AZ4="FCMT",'Full menu'!AZ4="FMT",'Full menu'!AZ4="LMT",'Full menu'!AZ4="LCMT"),"MT",IF(OR('Full menu'!AZ4="LCIT",'Full menu'!AZ4="FCIT",'Full menu'!AZ4="LMT",'Full menu'!AZ4="FMT"),"IT",IF(OR('Full menu'!AZ4="MwERT", 'Full menu'!AZ4="ERwMT", 'Full menu'!AZ4="M&ERT", 'Full menu'!AZ4="MwIT", 'Full menu'!AZ4="IwMT", 'Full menu'!AZ4="M&IT", 'Full menu'!AZ4="IwERT", 'Full menu'!AZ4="ERwIT", 'Full menu'!AZ4="I&ERT", 'Full menu'!AZ4="ER&M&IT"),"MixedT",IF('Full menu'!AZ4="UD","UD",IF('Full menu'!AZ4="LSD","LSD",IF('Full menu'!AZ4="WSD","WSD",""))))))))) | BA4: =IF('Full menu'!BA4="MDC","MDC",IF(OR('Full menu'!BA4="PERF",'Full menu'!BA4="AERF",'Full menu'!BA4="PCB"),"ERfix",IF(OR('Full menu'!BA4="ACB", 'Full menu'!BA4="LCERT", 'Full menu'!BA4="LERT",'Full menu'!BA4="FCERT",'Full menu'!BA4="FERT"),"ERT",IF(OR('Full menu'!BA4="FCMT",'Full menu'!BA4="FMT",'Full menu'!BA4="LMT",'Full menu'!BA4="LCMT"),"MT",IF(OR('Full menu'!BA4="LCIT",'Full menu'!BA4="FCIT",'Full menu'!BA4="LMT",'Full menu'!BA4="FMT"),"IT",IF(OR('Full menu'!BA4="MwERT", 'Full menu'!BA4="ERwMT", 'Full menu'!BA4="M&ERT", 'Full menu'!BA4="MwIT", 'Full menu'!BA4="IwMT", 'Full menu'!BA4="M&IT", 'Full menu'!BA4="IwERT", 'Full menu'!BA4="ERwIT", 'Full menu'!BA4="I&ERT", 'Full menu'!BA4="ER&M&IT"),"MixedT",IF('Full menu'!BA4="UD","UD",IF('Full menu'!BA4="LSD","LSD",IF('Full menu'!BA4="WSD","WSD",""))))))))) | ... BC4: =IF('Full menu'!BC4="MDC","MDC",IF(OR('Full menu'!BC4="PERF",'Full menu'!BC4="AERF",'Full menu'!BC4="PCB"),"ERfix",IF(OR('Full menu'!BC4="ACB", 'Full menu'!BC4="LCERT", 'Full menu'!BC4="LERT",'Full menu'!BC4="FCERT",'Full menu'!BC4="FERT"),"ERT",IF(OR('Full menu'!BC4="FCMT",'Full menu'!BC4="FMT",'Full menu'!BC4="LMT",'Full menu'!BC4="LCMT"),"MT",IF(OR('Full menu'!BC4="LCIT",'Full menu'!BC4="FCIT",'Full menu'!BC4="LMT",'Full menu'!BC4="FMT"),"IT",IF(OR('Full menu'!BC4="MwERT", 'Full menu'!BC4="ERwMT", 'Full menu'!BC4="M&ERT", 'Full menu'!BC4="MwIT", 'Full menu'!BC4="IwMT", 'Full menu'!BC4="M&IT", 'Full menu'!BC4="IwERT", 'Full menu'!BC4="ERwIT", 'Full menu'!BC4="I&ERT", 'Full menu'!BC4="ER&M&IT"),"MixedT",IF('Full menu'!BC4="UD","UD",IF('Full menu'!BC4="LSD","LSD",IF('Full menu'!BC4="WSD","WSD","")))))))))
A5: Chile | B5: =IF('Full menu'!B5="MDC","MDC",IF(OR('Full menu'!B5="PERF",'Full menu'!B5="AERF",'Full menu'!B5="PCB"),"ERfix",IF(OR('Full menu'!B5="ACB", 'Full menu'!B5="LCERT", 'Full menu'!B5="LERT",'Full menu'!B5="FCERT",'Full menu'!B5="FERT"),"ERTs",IF(OR('Full menu'!B5="FCMT",'Full menu'!B5="FMT",'Full menu'!B5="LMT",'Full menu'!B5="LCMT"),"MTs",IF(OR('Full menu'!B5="LCIT",'Full menu'!B5="FCIT",'Full menu'!B5="LIT",'Full menu'!B5="FIT"),"ITs",IF(OR('Full menu'!B5="MwERT", 'Full menu'!B5="ERwMT", 'Full menu'!B5="M&ERT", 'Full menu'!B5="MwIT", 'Full menu'!B5="IwMT", 'Full menu'!B5="M&IT", 'Full menu'!B5="IwERT", 'Full menu'!B5="ERwIT", 'Full menu'!B5="I&ERT", 'Full menu'!B5="ER&M&IT"),"MixedTs",IF('Full menu'!B5="UD","UD",IF('Full menu'!B5="LSD","LSD",IF('Full menu'!B5="WSD","WSD",""))))))))) -> UD | C5: =IF('Full menu'!C5="MDC","MDC",IF(OR('Full menu'!C5="PERF",'Full menu'!C5="AERF",'Full menu'!C5="PCB"),"ERfix",IF(OR('Full menu'!C5="ACB", 'Full menu'!C5="LCERT", 'Full menu'!C5="LERT",'Full menu'!C5="FCERT",'Full menu'!C5="FERT"),"ERTs",IF(OR('Full menu'!C5="FCMT",'Full menu'!C5="FMT",'Full menu'!C5="LMT",'Full menu'!C5="LCMT"),"MTs",IF(OR('Full menu'!C5="LCIT",'Full menu'!C5="FCIT",'Full menu'!C5="LIT",'Full menu'!C5="FIT"),"ITs",IF(OR('Full menu'!C5="MwERT", 'Full menu'!C5="ERwMT", 'Full menu'!C5="M&ERT", 'Full menu'!C5="MwIT", 'Full menu'!C5="IwMT", 'Full menu'!C5="M&IT", 'Full menu'!C5="IwERT", 'Full menu'!C5="ERwIT", 'Full menu'!C5="I&ERT", 'Full menu'!C5="ER&M&IT"),"MixedTs",IF('Full menu'!C5="UD","UD",IF('Full menu'!C5="LSD","LSD",IF('Full menu'!C5="WSD","WSD",""))))))))) -> UD | D5: =IF('Full menu'!D5="MDC","MDC",IF(OR('Full menu'!D5="PERF",'Full menu'!D5="AERF",'Full menu'!D5="PCB"),"ERfix",IF(OR('Full menu'!D5="ACB", 'Full menu'!D5="LCERT", 'Full menu'!D5="LERT",'Full menu'!D5="FCERT",'Full menu'!D5="FERT"),"ERTs",IF(OR('Full menu'!D5="FCMT",'Full menu'!D5="FMT",'Full menu'!D5="LMT",'Full menu'!D5="LCMT"),"MTs",IF(OR('Full menu'!D5="LCIT",'Full menu'!D5="FCIT",'Full menu'!D5="LIT",'Full menu'!D5="FIT"),"ITs",IF(OR('Full menu'!D5="MwERT", 'Full menu'!D5="ERwMT", 'Full menu'!D5="M&ERT", 'Full menu'!D5="MwIT", 'Full menu'!D5="IwMT", 'Full menu'!D5="M&IT", 'Full menu'!D5="IwERT", 'Full menu'!D5="ERwIT", 'Full menu'!D5="I&ERT", 'Full menu'!D5="ER&M&IT"),"MixedTs",IF('Full menu'!D5="UD","UD",IF('Full menu'!D5="LSD","LSD",IF('Full menu'!D5="WSD","WSD",""))))))))) -> UD | E5: =IF('Full menu'!E5="MDC","MDC",IF(OR('Full menu'!E5="PERF",'Full menu'!E5="AERF",'Full menu'!E5="PCB"),"ERfix",IF(OR('Full menu'!E5="ACB", 'Full menu'!E5="LCERT", 'Full menu'!E5="LERT",'Full menu'!E5="FCERT",'Full menu'!E5="FERT"),"ERTs",IF(OR('Full menu'!E5="FCMT",'Full menu'!E5="FMT",'Full menu'!E5="LMT",'Full menu'!E5="LCMT"),"MTs",IF(OR('Full menu'!E5="LCIT",'Full menu'!E5="FCIT",'Full menu'!E5="LIT",'Full menu'!E5="FIT"),"ITs",IF(OR('Full menu'!E5="MwERT", 'Full menu'!E5="ERwMT", 'Full menu'!E5="M&ERT", 'Full menu'!E5="MwIT", 'Full menu'!E5="IwMT", 'Full menu'!E5="M&IT", 'Full menu'!E5="IwERT", 'Full menu'!E5="ERwIT", 'Full menu'!E5="I&ERT", 'Full menu'!E5="ER&M&IT"),"MixedTs",IF('Full menu'!E5="UD","UD",IF('Full menu'!E5="LSD","LSD",IF('Full menu'!E5="WSD","WSD",""))))))))) -> UD | F5: =IF('Full menu'!F5="MDC","MDC",IF(OR('Full menu'!F5="PERF",'Full menu'!F5="AERF",'Full menu'!F5="PCB"),"ERfix",IF(OR('Full menu'!F5="ACB", 'Full menu'!F5="LCERT", 'Full menu'!F5="LERT",'Full menu'!F5="FCERT",'Full menu'!F5="FERT"),"ERTs",IF(OR('Full menu'!F5="FCMT",'Full menu'!F5="FMT",'Full menu'!F5="LMT",'Full menu'!F5="LCMT"),"MTs",IF(OR('Full menu'!F5="LCIT",'Full menu'!F5="FCIT",'Full menu'!F5="LIT",'Full menu'!F5="FIT"),"ITs",IF(OR('Full menu'!F5="MwERT", 'Full menu'!F5="ERwMT", 'Full menu'!F5="M&ERT", 'Full menu'!F5="MwIT", 'Full menu'!F5="IwMT", 'Full menu'!F5="M&IT", 'Full menu'!F5="IwERT", 'Full menu'!F5="ERwIT", 'Full menu'!F5="I&ERT", 'Full menu'!F5="ER&M&IT"),"MixedTs",IF('Full menu'!F5="UD","UD",IF('Full menu'!F5="LSD","LSD",IF('Full menu'!F5="WSD","WSD",""))))))))) -> UD | G5: =IF('Full menu'!G5="MDC","MDC",IF(OR('Full menu'!G5="PERF",'Full menu'!G5="AERF",'Full menu'!G5="PCB"),"ERfix",IF(OR('Full menu'!G5="ACB", 'Full menu'!G5="LCERT", 'Full menu'!G5="LERT",'Full menu'!G5="FCERT",'Full menu'!G5="FERT"),"ERTs",IF(OR('Full menu'!G5="FCMT",'Full menu'!G5="FMT",'Full menu'!G5="LMT",'Full menu'!G5="LCMT"),"MTs",IF(OR('Full menu'!G5="LCIT",'Full menu'!G5="FCIT",'Full menu'!G5="LIT",'Full menu'!G5="FIT"),"ITs",IF(OR('Full menu'!G5="MwERT", 'Full menu'!G5="ERwMT", 'Full menu'!G5="M&ERT", 'Full menu'!G5="MwIT", 'Full menu'!G5="IwMT", 'Full menu'!G5="M&IT", 'Full menu'!G5="IwERT", 'Full menu'!G5="ERwIT", 'Full menu'!G5="I&ERT", 'Full menu'!G5="ER&M&IT"),"MixedTs",IF('Full menu'!G5="UD","UD",IF('Full menu'!G5="LSD","LSD",IF('Full menu'!G5="WSD","WSD",""))))))))) -> UD | H5: =IF('Full menu'!H5="MDC","MDC",IF(OR('Full menu'!H5="PERF",'Full menu'!H5="AERF",'Full menu'!H5="PCB"),"ERfix",IF(OR('Full menu'!H5="ACB", 'Full menu'!H5="LCERT", 'Full menu'!H5="LERT",'Full menu'!H5="FCERT",'Full menu'!H5="FERT"),"ERTs",IF(OR('Full menu'!H5="FCMT",'Full menu'!H5="FMT",'Full menu'!H5="LMT",'Full menu'!H5="LCMT"),"MTs",IF(OR('Full menu'!H5="LCIT",'Full menu'!H5="FCIT",'Full menu'!H5="LIT",'Full menu'!H5="FIT"),"ITs",IF(OR('Full menu'!H5="MwERT", 'Full menu'!H5="ERwMT", 'Full menu'!H5="M&ERT", 'Full menu'!H5="MwIT", 'Full menu'!H5="IwMT", 'Full menu'!H5="M&IT", 'Full menu'!H5="IwERT", 'Full menu'!H5="ERwIT", 'Full menu'!H5="I&ERT", 'Full menu'!H5="ER&M&IT"),"MixedTs",IF('Full menu'!H5="UD","UD",IF('Full menu'!H5="LSD","LSD",IF('Full menu'!H5="WSD","WSD",""))))))))) -> UD | I5: =IF('Full menu'!I5="MDC","MDC",IF(OR('Full menu'!I5="PERF",'Full menu'!I5="AERF",'Full menu'!I5="PCB"),"ERfix",IF(OR('Full menu'!I5="ACB", 'Full menu'!I5="LCERT", 'Full menu'!I5="LERT",'Full menu'!I5="FCERT",'Full menu'!I5="FERT"),"ERTs",IF(OR('Full menu'!I5="FCMT",'Full menu'!I5="FMT",'Full menu'!I5="LMT",'Full menu'!I5="LCMT"),"MTs",IF(OR('Full menu'!I5="LCIT",'Full menu'!I5="FCIT",'Full menu'!I5="LIT",'Full menu'!I5="FIT"),"ITs",IF(OR('Full menu'!I5="MwERT", 'Full menu'!I5="ERwMT", 'Full menu'!I5="M&ERT", 'Full menu'!I5="MwIT", 'Full menu'!I5="IwMT", 'Full menu'!I5="M&IT", 'Full menu'!I5="IwERT", 'Full menu'!I5="ERwIT", 'Full menu'!I5="I&ERT", 'Full menu'!I5="ER&M&IT"),"MixedTs",IF('Full menu'!I5="UD","UD",IF('Full menu'!I5="LSD","LSD",IF('Full menu'!I5="WSD","WSD",""))))))))) -> UD | ... AS5: =IF('Full menu'!AS5="MDC","MDC",IF(OR('Full menu'!AS5="PERF",'Full menu'!AS5="AERF",'Full menu'!AS5="PCB"),"ERfix",IF(OR('Full menu'!AS5="ACB", 'Full menu'!AS5="LCERT", 'Full menu'!AS5="LERT",'Full menu'!AS5="FCERT",'Full menu'!AS5="FERT"),"ERTs",IF(OR('Full menu'!AS5="FCMT",'Full menu'!AS5="FMT",'Full menu'!AS5="LMT",'Full menu'!AS5="LCMT"),"MTs",IF(OR('Full menu'!AS5="LCIT",'Full menu'!AS5="FCIT",'Full menu'!AS5="LIT",'Full menu'!AS5="FIT"),"ITs",IF(OR('Full menu'!AS5="MwERT", 'Full menu'!AS5="ERwMT", 'Full menu'!AS5="M&ERT", 'Full menu'!AS5="MwIT", 'Full menu'!AS5="IwMT", 'Full menu'!AS5="M&IT", 'Full menu'!AS5="IwERT", 'Full menu'!AS5="ERwIT", 'Full menu'!AS5="I&ERT", 'Full menu'!AS5="ER&M&IT"),"MixedTs",IF('Full menu'!AS5="UD","UD",IF('Full menu'!AS5="LSD","LSD",IF('Full menu'!AS5="WSD","WSD",""))))))))) -> ITs | AT5: =IF('Full menu'!AT5="MDC","MDC",IF(OR('Full menu'!AT5="PERF",'Full menu'!AT5="AERF",'Full menu'!AT5="PCB"),"ERfix",IF(OR('Full menu'!AT5="ACB", 'Full menu'!AT5="LCERT", 'Full menu'!AT5="LERT",'Full menu'!AT5="FCERT",'Full menu'!AT5="FERT"),"ERT",IF(OR('Full menu'!AT5="FCMT",'Full menu'!AT5="FMT",'Full menu'!AT5="LMT",'Full menu'!AT5="LCMT"),"MT",IF(OR('Full menu'!AT5="LCIT",'Full menu'!AT5="FCIT",'Full menu'!AT5="LMT",'Full menu'!AT5="FMT"),"IT",IF(OR('Full menu'!AT5="MwERT", 'Full menu'!AT5="ERwMT", 'Full menu'!AT5="M&ERT", 'Full menu'!AT5="MwIT", 'Full menu'!AT5="IwMT", 'Full menu'!AT5="M&IT", 'Full menu'!AT5="IwERT", 'Full menu'!AT5="ERwIT", 'Full menu'!AT5="I&ERT", 'Full menu'!AT5="ER&M&IT"),"MixedT",IF('Full menu'!AT5="UD","UD",IF('Full menu'!AT5="LSD","LSD",IF('Full menu'!AT5="WSD","WSD",""))))))))) | AU5: =IF('Full menu'!AU5="MDC","MDC",IF(OR('Full menu'!AU5="PERF",'Full menu'!AU5="AERF",'Full menu'!AU5="PCB"),"ERfix",IF(OR('Full menu'!AU5="ACB", 'Full menu'!AU5="LCERT", 'Full menu'!AU5="LERT",'Full menu'!AU5="FCERT",'Full menu'!AU5="FERT"),"ERT",IF(OR('Full menu'!AU5="FCMT",'Full menu'!AU5="FMT",'Full menu'!AU5="LMT",'Full menu'!AU5="LCMT"),"MT",IF(OR('Full menu'!AU5="LCIT",'Full menu'!AU5="FCIT",'Full menu'!AU5="LMT",'Full menu'!AU5="FMT"),"IT",IF(OR('Full menu'!AU5="MwERT", 'Full menu'!AU5="ERwMT", 'Full menu'!AU5="M&ERT", 'Full menu'!AU5="MwIT", 'Full menu'!AU5="IwMT", 'Full menu'!AU5="M&IT", 'Full menu'!AU5="IwERT", 'Full menu'!AU5="ERwIT", 'Full menu'!AU5="I&ERT", 'Full menu'!AU5="ER&M&IT"),"MixedT",IF('Full menu'!AU5="UD","UD",IF('Full menu'!AU5="LSD","LSD",IF('Full menu'!AU5="WSD","WSD",""))))))))) | AV5: =IF('Full menu'!AV5="MDC","MDC",IF(OR('Full menu'!AV5="PERF",'Full menu'!AV5="AERF",'Full menu'!AV5="PCB"),"ERfix",IF(OR('Full menu'!AV5="ACB", 'Full menu'!AV5="LCERT", 'Full menu'!AV5="LERT",'Full menu'!AV5="FCERT",'Full menu'!AV5="FERT"),"ERT",IF(OR('Full menu'!AV5="FCMT",'Full menu'!AV5="FMT",'Full menu'!AV5="LMT",'Full menu'!AV5="LCMT"),"MT",IF(OR('Full menu'!AV5="LCIT",'Full menu'!AV5="FCIT",'Full menu'!AV5="LMT",'Full menu'!AV5="FMT"),"IT",IF(OR('Full menu'!AV5="MwERT", 'Full menu'!AV5="ERwMT", 'Full menu'!AV5="M&ERT", 'Full menu'!AV5="MwIT", 'Full menu'!AV5="IwMT", 'Full menu'!AV5="M&IT", 'Full menu'!AV5="IwERT", 'Full menu'!AV5="ERwIT", 'Full menu'!AV5="I&ERT", 'Full menu'!AV5="ER&M&IT"),"MixedT",IF('Full menu'!AV5="UD","UD",IF('Full menu'!AV5="LSD","LSD",IF('Full menu'!AV5="WSD","WSD",""))))))))) | AW5: =IF('Full menu'!AW5="MDC","MDC",IF(OR('Full menu'!AW5="PERF",'Full menu'!AW5="AERF",'Full menu'!AW5="PCB"),"ERfix",IF(OR('Full menu'!AW5="ACB", 'Full menu'!AW5="LCERT", 'Full menu'!AW5="LERT",'Full menu'!AW5="FCERT",'Full menu'!AW5="FERT"),"ERT",IF(OR('Full menu'!AW5="FCMT",'Full menu'!AW5="FMT",'Full menu'!AW5="LMT",'Full menu'!AW5="LCMT"),"MT",IF(OR('Full menu'!AW5="LCIT",'Full menu'!AW5="FCIT",'Full menu'!AW5="LMT",'Full menu'!AW5="FMT"),"IT",IF(OR('Full menu'!AW5="MwERT", 'Full menu'!AW5="ERwMT", 'Full menu'!AW5="M&ERT", 'Full menu'!AW5="MwIT", 'Full menu'!AW5="IwMT", 'Full menu'!AW5="M&IT", 'Full menu'!AW5="IwERT", 'Full menu'!AW5="ERwIT", 'Full menu'!AW5="I&ERT", 'Full menu'!AW5="ER&M&IT"),"MixedT",IF('Full menu'!AW5="UD","UD",IF('Full menu'!AW5="LSD","LSD",IF('Full menu'!AW5="WSD","WSD",""))))))))) | AX5: =IF('Full menu'!AX5="MDC","MDC",IF(OR('Full menu'!AX5="PERF",'Full menu'!AX5="AERF",'Full menu'!AX5="PCB"),"ERfix",IF(OR('Full menu'!AX5="ACB", 'Full menu'!AX5="LCERT", 'Full menu'!AX5="LERT",'Full menu'!AX5="FCERT",'Full menu'!AX5="FERT"),"ERT",IF(OR('Full menu'!AX5="FCMT",'Full menu'!AX5="FMT",'Full menu'!AX5="LMT",'Full menu'!AX5="LCMT"),"MT",IF(OR('Full menu'!AX5="LCIT",'Full menu'!AX5="FCIT",'Full menu'!AX5="LMT",'Full menu'!AX5="FMT"),"IT",IF(OR('Full menu'!AX5="MwERT", 'Full menu'!AX5="ERwMT", 'Full menu'!AX5="M&ERT", 'Full menu'!AX5="MwIT", 'Full menu'!AX5="IwMT", 'Full menu'!AX5="M&IT", 'Full menu'!AX5="IwERT", 'Full menu'!AX5="ERwIT", 'Full menu'!AX5="I&ERT", 'Full menu'!AX5="ER&M&IT"),"MixedT",IF('Full menu'!AX5="UD","UD",IF('Full menu'!AX5="LSD","LSD",IF('Full menu'!AX5="WSD","WSD",""))))))))) | AY5: =IF('Full menu'!AY5="MDC","MDC",IF(OR('Full menu'!AY5="PERF",'Full menu'!AY5="AERF",'Full menu'!AY5="PCB"),"ERfix",IF(OR('Full menu'!AY5="ACB", 'Full menu'!AY5="LCERT", 'Full menu'!AY5="LERT",'Full menu'!AY5="FCERT",'Full menu'!AY5="FERT"),"ERT",IF(OR('Full menu'!AY5="FCMT",'Full menu'!AY5="FMT",'Full menu'!AY5="LMT",'Full menu'!AY5="LCMT"),"MT",IF(OR('Full menu'!AY5="LCIT",'Full menu'!AY5="FCIT",'Full menu'!AY5="LMT",'Full menu'!AY5="FMT"),"IT",IF(OR('Full menu'!AY5="MwERT", 'Full menu'!AY5="ERwMT", 'Full menu'!AY5="M&ERT", 'Full menu'!AY5="MwIT", 'Full menu'!AY5="IwMT", 'Full menu'!AY5="M&IT", 'Full menu'!AY5="IwERT", 'Full menu'!AY5="ERwIT", 'Full menu'!AY5="I&ERT", 'Full menu'!AY5="ER&M&IT"),"MixedT",IF('Full menu'!AY5="UD","UD",IF('Full menu'!AY5="LSD","LSD",IF('Full menu'!AY5="WSD","WSD",""))))))))) | AZ5: =IF('Full menu'!AZ5="MDC","MDC",IF(OR('Full menu'!AZ5="PERF",'Full menu'!AZ5="AERF",'Full menu'!AZ5="PCB"),"ERfix",IF(OR('Full menu'!AZ5="ACB", 'Full menu'!AZ5="LCERT", 'Full menu'!AZ5="LERT",'Full menu'!AZ5="FCERT",'Full menu'!AZ5="FERT"),"ERT",IF(OR('Full menu'!AZ5="FCMT",'Full menu'!AZ5="FMT",'Full menu'!AZ5="LMT",'Full menu'!AZ5="LCMT"),"MT",IF(OR('Full menu'!AZ5="LCIT",'Full menu'!AZ5="FCIT",'Full menu'!AZ5="LMT",'Full menu'!AZ5="FMT"),"IT",IF(OR('Full menu'!AZ5="MwERT", 'Full menu'!AZ5="ERwMT", 'Full menu'!AZ5="M&ERT", 'Full menu'!AZ5="MwIT", 'Full menu'!AZ5="IwMT", 'Full menu'!AZ5="M&IT", 'Full menu'!AZ5="IwERT", 'Full menu'!AZ5="ERwIT", 'Full menu'!AZ5="I&ERT", 'Full menu'!AZ5="ER&M&IT"),"MixedT",IF('Full menu'!AZ5="UD","UD",IF('Full menu'!AZ5="LSD","LSD",IF('Full menu'!AZ5="WSD","WSD",""))))))))) | BA5: =IF('Full menu'!BA5="MDC","MDC",IF(OR('Full menu'!BA5="PERF",'Full menu'!BA5="AERF",'Full menu'!BA5="PCB"),"ERfix",IF(OR('Full menu'!BA5="ACB", 'Full menu'!BA5="LCERT", 'Full menu'!BA5="LERT",'Full menu'!BA5="FCERT",'Full menu'!BA5="FERT"),"ERT",IF(OR('Full menu'!BA5="FCMT",'Full menu'!BA5="FMT",'Full menu'!BA5="LMT",'Full menu'!BA5="LCMT"),"MT",IF(OR('Full menu'!BA5="LCIT",'Full menu'!BA5="FCIT",'Full menu'!BA5="LMT",'Full menu'!BA5="FMT"),"IT",IF(OR('Full menu'!BA5="MwERT", 'Full menu'!BA5="ERwMT", 'Full menu'!BA5="M&ERT", 'Full menu'!BA5="MwIT", 'Full menu'!BA5="IwMT", 'Full menu'!BA5="M&IT", 'Full menu'!BA5="IwERT", 'Full menu'!BA5="ERwIT", 'Full menu'!BA5="I&ERT", 'Full menu'!BA5="ER&M&IT"),"MixedT",IF('Full menu'!BA5="UD","UD",IF('Full menu'!BA5="LSD","LSD",IF('Full menu'!BA5="WSD","WSD",""))))))))) | ... BC5: =IF('Full menu'!BC5="MDC","MDC",IF(OR('Full menu'!BC5="PERF",'Full menu'!BC5="AERF",'Full menu'!BC5="PCB"),"ERfix",IF(OR('Full menu'!BC5="ACB", 'Full menu'!BC5="LCERT", 'Full menu'!BC5="LERT",'Full menu'!BC5="FCERT",'Full menu'!BC5="FERT"),"ERT",IF(OR('Full menu'!BC5="FCMT",'Full menu'!BC5="FMT",'Full menu'!BC5="LMT",'Full menu'!BC5="LCMT"),"MT",IF(OR('Full menu'!BC5="LCIT",'Full menu'!BC5="FCIT",'Full menu'!BC5="LMT",'Full menu'!BC5="FMT"),"IT",IF(OR('Full menu'!BC5="MwERT", 'Full menu'!BC5="ERwMT", 'Full menu'!BC5="M&ERT", 'Full menu'!BC5="MwIT", 'Full menu'!BC5="IwMT", 'Full menu'!BC5="M&IT", 'Full menu'!BC5="IwERT", 'Full menu'!BC5="ERwIT", 'Full menu'!BC5="I&ERT", 'Full menu'!BC5="ER&M&IT"),"MixedT",IF('Full menu'!BC5="UD","UD",IF('Full menu'!BC5="LSD","LSD",IF('Full menu'!BC5="WSD","WSD","")))))))))
A6: China | B6: =IF('Full menu'!B6="MDC","MDC",IF(OR('Full menu'!B6="PERF",'Full menu'!B6="AERF",'Full menu'!B6="PCB"),"ERfix",IF(OR('Full menu'!B6="ACB", 'Full menu'!B6="LCERT", 'Full menu'!B6="LERT",'Full menu'!B6="FCERT",'Full menu'!B6="FERT"),"ERTs",IF(OR('Full menu'!B6="FCMT",'Full menu'!B6="FMT",'Full menu'!B6="LMT",'Full menu'!B6="LCMT"),"MTs",IF(OR('Full menu'!B6="LCIT",'Full menu'!B6="FCIT",'Full menu'!B6="LIT",'Full menu'!B6="FIT"),"ITs",IF(OR('Full menu'!B6="MwERT", 'Full menu'!B6="ERwMT", 'Full menu'!B6="M&ERT", 'Full menu'!B6="MwIT", 'Full menu'!B6="IwMT", 'Full menu'!B6="M&IT", 'Full menu'!B6="IwERT", 'Full menu'!B6="ERwIT", 'Full menu'!B6="I&ERT", 'Full menu'!B6="ER&M&IT"),"MixedTs",IF('Full menu'!B6="UD","UD",IF('Full menu'!B6="LSD","LSD",IF('Full menu'!B6="WSD","WSD",""))))))))) -> MDC | C6: =IF('Full menu'!C6="MDC","MDC",IF(OR('Full menu'!C6="PERF",'Full menu'!C6="AERF",'Full menu'!C6="PCB"),"ERfix",IF(OR('Full menu'!C6="ACB", 'Full menu'!C6="LCERT", 'Full menu'!C6="LERT",'Full menu'!C6="FCERT",'Full menu'!C6="FERT"),"ERTs",IF(OR('Full menu'!C6="FCMT",'Full menu'!C6="FMT",'Full menu'!C6="LMT",'Full menu'!C6="LCMT"),"MTs",IF(OR('Full menu'!C6="LCIT",'Full menu'!C6="FCIT",'Full menu'!C6="LIT",'Full menu'!C6="FIT"),"ITs",IF(OR('Full menu'!C6="MwERT", 'Full menu'!C6="ERwMT", 'Full menu'!C6="M&ERT", 'Full menu'!C6="MwIT", 'Full menu'!C6="IwMT", 'Full menu'!C6="M&IT", 'Full menu'!C6="IwERT", 'Full menu'!C6="ERwIT", 'Full menu'!C6="I&ERT", 'Full menu'!C6="ER&M&IT"),"MixedTs",IF('Full menu'!C6="UD","UD",IF('Full menu'!C6="LSD","LSD",IF('Full menu'!C6="WSD","WSD",""))))))))) -> MDC | D6: =IF('Full menu'!D6="MDC","MDC",IF(OR('Full menu'!D6="PERF",'Full menu'!D6="AERF",'Full menu'!D6="PCB"),"ERfix",IF(OR('Full menu'!D6="ACB", 'Full menu'!D6="LCERT", 'Full menu'!D6="LERT",'Full menu'!D6="FCERT",'Full menu'!D6="FERT"),"ERTs",IF(OR('Full menu'!D6="FCMT",'Full menu'!D6="FMT",'Full menu'!D6="LMT",'Full menu'!D6="LCMT"),"MTs",IF(OR('Full menu'!D6="LCIT",'Full menu'!D6="FCIT",'Full menu'!D6="LIT",'Full menu'!D6="FIT"),"ITs",IF(OR('Full menu'!D6="MwERT", 'Full menu'!D6="ERwMT", 'Full menu'!D6="M&ERT", 'Full menu'!D6="MwIT", 'Full menu'!D6="IwMT", 'Full menu'!D6="M&IT", 'Full menu'!D6="IwERT", 'Full menu'!D6="ERwIT", 'Full menu'!D6="I&ERT", 'Full menu'!D6="ER&M&IT"),"MixedTs",IF('Full menu'!D6="UD","UD",IF('Full menu'!D6="LSD","LSD",IF('Full menu'!D6="WSD","WSD",""))))))))) -> MDC | E6: =IF('Full menu'!E6="MDC","MDC",IF(OR('Full menu'!E6="PERF",'Full menu'!E6="AERF",'Full menu'!E6="PCB"),"ERfix",IF(OR('Full menu'!E6="ACB", 'Full menu'!E6="LCERT", 'Full menu'!E6="LERT",'Full menu'!E6="FCERT",'Full menu'!E6="FERT"),"ERTs",IF(OR('Full menu'!E6="FCMT",'Full menu'!E6="FMT",'Full menu'!E6="LMT",'Full menu'!E6="LCMT"),"MTs",IF(OR('Full menu'!E6="LCIT",'Full menu'!E6="FCIT",'Full menu'!E6="LIT",'Full menu'!E6="FIT"),"ITs",IF(OR('Full menu'!E6="MwERT", 'Full menu'!E6="ERwMT", 'Full menu'!E6="M&ERT", 'Full menu'!E6="MwIT", 'Full menu'!E6="IwMT", 'Full menu'!E6="M&IT", 'Full menu'!E6="IwERT", 'Full menu'!E6="ERwIT", 'Full menu'!E6="I&ERT", 'Full menu'!E6="ER&M&IT"),"MixedTs",IF('Full menu'!E6="UD","UD",IF('Full menu'!E6="LSD","LSD",IF('Full menu'!E6="WSD","WSD",""))))))))) -> MDC | F6: =IF('Full menu'!F6="MDC","MDC",IF(OR('Full menu'!F6="PERF",'Full menu'!F6="AERF",'Full menu'!F6="PCB"),"ERfix",IF(OR('Full menu'!F6="ACB", 'Full menu'!F6="LCERT", 'Full menu'!F6="LERT",'Full menu'!F6="FCERT",'Full menu'!F6="FERT"),"ERTs",IF(OR('Full menu'!F6="FCMT",'Full menu'!F6="FMT",'Full menu'!F6="LMT",'Full menu'!F6="LCMT"),"MTs",IF(OR('Full menu'!F6="LCIT",'Full menu'!F6="FCIT",'Full menu'!F6="LIT",'Full menu'!F6="FIT"),"ITs",IF(OR('Full menu'!F6="MwERT", 'Full menu'!F6="ERwMT", 'Full menu'!F6="M&ERT", 'Full menu'!F6="MwIT", 'Full menu'!F6="IwMT", 'Full menu'!F6="M&IT", 'Full menu'!F6="IwERT", 'Full menu'!F6="ERwIT", 'Full menu'!F6="I&ERT", 'Full menu'!F6="ER&M&IT"),"MixedTs",IF('Full menu'!F6="UD","UD",IF('Full menu'!F6="LSD","LSD",IF('Full menu'!F6="WSD","WSD",""))))))))) -> MDC | G6: =IF('Full menu'!G6="MDC","MDC",IF(OR('Full menu'!G6="PERF",'Full menu'!G6="AERF",'Full menu'!G6="PCB"),"ERfix",IF(OR('Full menu'!G6="ACB", 'Full menu'!G6="LCERT", 'Full menu'!G6="LERT",'Full menu'!G6="FCERT",'Full menu'!G6="FERT"),"ERTs",IF(OR('Full menu'!G6="FCMT",'Full menu'!G6="FMT",'Full menu'!G6="LMT",'Full menu'!G6="LCMT"),"MTs",IF(OR('Full menu'!G6="LCIT",'Full menu'!G6="FCIT",'Full menu'!G6="LIT",'Full menu'!G6="FIT"),"ITs",IF(OR('Full menu'!G6="MwERT", 'Full menu'!G6="ERwMT", 'Full menu'!G6="M&ERT", 'Full menu'!G6="MwIT", 'Full menu'!G6="IwMT", 'Full menu'!G6="M&IT", 'Full menu'!G6="IwERT", 'Full menu'!G6="ERwIT", 'Full menu'!G6="I&ERT", 'Full menu'!G6="ER&M&IT"),"MixedTs",IF('Full menu'!G6="UD","UD",IF('Full menu'!G6="LSD","LSD",IF('Full menu'!G6="WSD","WSD",""))))))))) -> MDC | H6: =IF('Full menu'!H6="MDC","MDC",IF(OR('Full menu'!H6="PERF",'Full menu'!H6="AERF",'Full menu'!H6="PCB"),"ERfix",IF(OR('Full menu'!H6="ACB", 'Full menu'!H6="LCERT", 'Full menu'!H6="LERT",'Full menu'!H6="FCERT",'Full menu'!H6="FERT"),"ERTs",IF(OR('Full menu'!H6="FCMT",'Full menu'!H6="FMT",'Full menu'!H6="LMT",'Full menu'!H6="LCMT"),"MTs",IF(OR('Full menu'!H6="LCIT",'Full menu'!H6="FCIT",'Full menu'!H6="LIT",'Full menu'!H6="FIT"),"ITs",IF(OR('Full menu'!H6="MwERT", 'Full menu'!H6="ERwMT", 'Full menu'!H6="M&ERT", 'Full menu'!H6="MwIT", 'Full menu'!H6="IwMT", 'Full menu'!H6="M&IT", 'Full menu'!H6="IwERT", 'Full menu'!H6="ERwIT", 'Full menu'!H6="I&ERT", 'Full menu'!H6="ER&M&IT"),"MixedTs",IF('Full menu'!H6="UD","UD",IF('Full menu'!H6="LSD","LSD",IF('Full menu'!H6="WSD","WSD",""))))))))) -> MDC | I6: =IF('Full menu'!I6="MDC","MDC",IF(OR('Full menu'!I6="PERF",'Full menu'!I6="AERF",'Full menu'!I6="PCB"),"ERfix",IF(OR('Full menu'!I6="ACB", 'Full menu'!I6="LCERT", 'Full menu'!I6="LERT",'Full menu'!I6="FCERT",'Full menu'!I6="FERT"),"ERTs",IF(OR('Full menu'!I6="FCMT",'Full menu'!I6="FMT",'Full menu'!I6="LMT",'Full menu'!I6="LCMT"),"MTs",IF(OR('Full menu'!I6="LCIT",'Full menu'!I6="FCIT",'Full menu'!I6="LIT",'Full menu'!I6="FIT"),"ITs",IF(OR('Full menu'!I6="MwERT", 'Full menu'!I6="ERwMT", 'Full menu'!I6="M&ERT", 'Full menu'!I6="MwIT", 'Full menu'!I6="IwMT", 'Full menu'!I6="M&IT", 'Full menu'!I6="IwERT", 'Full menu'!I6="ERwIT", 'Full menu'!I6="I&ERT", 'Full menu'!I6="ER&M&IT"),"MixedTs",IF('Full menu'!I6="UD","UD",IF('Full menu'!I6="LSD","LSD",IF('Full menu'!I6="WSD","WSD",""))))))))) -> MDC | ... AS6: =IF('Full menu'!AS6="MDC","MDC",IF(OR('Full menu'!AS6="PERF",'Full menu'!AS6="AERF",'Full menu'!AS6="PCB"),"ERfix",IF(OR('Full menu'!AS6="ACB", 'Full menu'!AS6="LCERT", 'Full menu'!AS6="LERT",'Full menu'!AS6="FCERT",'Full menu'!AS6="FERT"),"ERTs",IF(OR('Full menu'!AS6="FCMT",'Full menu'!AS6="FMT",'Full menu'!AS6="LMT",'Full menu'!AS6="LCMT"),"MTs",IF(OR('Full menu'!AS6="LCIT",'Full menu'!AS6="FCIT",'Full menu'!AS6="LIT",'Full menu'!AS6="FIT"),"ITs",IF(OR('Full menu'!AS6="MwERT", 'Full menu'!AS6="ERwMT", 'Full menu'!AS6="M&ERT", 'Full menu'!AS6="MwIT", 'Full menu'!AS6="IwMT", 'Full menu'!AS6="M&IT", 'Full menu'!AS6="IwERT", 'Full menu'!AS6="ERwIT", 'Full menu'!AS6="I&ERT", 'Full menu'!AS6="ER&M&IT"),"MixedTs",IF('Full menu'!AS6="UD","UD",IF('Full menu'!AS6="LSD","LSD",IF('Full menu'!AS6="WSD","WSD",""))))))))) -> LSD | AT6: =IF('Full menu'!AT6="MDC","MDC",IF(OR('Full menu'!AT6="PERF",'Full menu'!AT6="AERF",'Full menu'!AT6="PCB"),"ERfix",IF(OR('Full menu'!AT6="ACB", 'Full menu'!AT6="LCERT", 'Full menu'!AT6="LERT",'Full menu'!AT6="FCERT",'Full menu'!AT6="FERT"),"ERT",IF(OR('Full menu'!AT6="FCMT",'Full menu'!AT6="FMT",'Full menu'!AT6="LMT",'Full menu'!AT6="LCMT"),"MT",IF(OR('Full menu'!AT6="LCIT",'Full menu'!AT6="FCIT",'Full menu'!AT6="LMT",'Full menu'!AT6="FMT"),"IT",IF(OR('Full menu'!AT6="MwERT", 'Full menu'!AT6="ERwMT", 'Full menu'!AT6="M&ERT", 'Full menu'!AT6="MwIT", 'Full menu'!AT6="IwMT", 'Full menu'!AT6="M&IT", 'Full menu'!AT6="IwERT", 'Full menu'!AT6="ERwIT", 'Full menu'!AT6="I&ERT", 'Full menu'!AT6="ER&M&IT"),"MixedT",IF('Full menu'!AT6="UD","UD",IF('Full menu'!AT6="LSD","LSD",IF('Full menu'!AT6="WSD","WSD",""))))))))) | AU6: =IF('Full menu'!AU6="MDC","MDC",IF(OR('Full menu'!AU6="PERF",'Full menu'!AU6="AERF",'Full menu'!AU6="PCB"),"ERfix",IF(OR('Full menu'!AU6="ACB", 'Full menu'!AU6="LCERT", 'Full menu'!AU6="LERT",'Full menu'!AU6="FCERT",'Full menu'!AU6="FERT"),"ERT",IF(OR('Full menu'!AU6="FCMT",'Full menu'!AU6="FMT",'Full menu'!AU6="LMT",'Full menu'!AU6="LCMT"),"MT",IF(OR('Full menu'!AU6="LCIT",'Full menu'!AU6="FCIT",'Full menu'!AU6="LMT",'Full menu'!AU6="FMT"),"IT",IF(OR('Full menu'!AU6="MwERT", 'Full menu'!AU6="ERwMT", 'Full menu'!AU6="M&ERT", 'Full menu'!AU6="MwIT", 'Full menu'!AU6="IwMT", 'Full menu'!AU6="M&IT", 'Full menu'!AU6="IwERT", 'Full menu'!AU6="ERwIT", 'Full menu'!AU6="I&ERT", 'Full menu'!AU6="ER&M&IT"),"MixedT",IF('Full menu'!AU6="UD","UD",IF('Full menu'!AU6="LSD","LSD",IF('Full menu'!AU6="WSD","WSD",""))))))))) | AV6: =IF('Full menu'!AV6="MDC","MDC",IF(OR('Full menu'!AV6="PERF",'Full menu'!AV6="AERF",'Full menu'!AV6="PCB"),"ERfix",IF(OR('Full menu'!AV6="ACB", 'Full menu'!AV6="LCERT", 'Full menu'!AV6="LERT",'Full menu'!AV6="FCERT",'Full menu'!AV6="FERT"),"ERT",IF(OR('Full menu'!AV6="FCMT",'Full menu'!AV6="FMT",'Full menu'!AV6="LMT",'Full menu'!AV6="LCMT"),"MT",IF(OR('Full menu'!AV6="LCIT",'Full menu'!AV6="FCIT",'Full menu'!AV6="LMT",'Full menu'!AV6="FMT"),"IT",IF(OR('Full menu'!AV6="MwERT", 'Full menu'!AV6="ERwMT", 'Full menu'!AV6="M&ERT", 'Full menu'!AV6="MwIT", 'Full menu'!AV6="IwMT", 'Full menu'!AV6="M&IT", 'Full menu'!AV6="IwERT", 'Full menu'!AV6="ERwIT", 'Full menu'!AV6="I&ERT", 'Full menu'!AV6="ER&M&IT"),"MixedT",IF('Full menu'!AV6="UD","UD",IF('Full menu'!AV6="LSD","LSD",IF('Full menu'!AV6="WSD","WSD",""))))))))) | AW6: =IF('Full menu'!AW6="MDC","MDC",IF(OR('Full menu'!AW6="PERF",'Full menu'!AW6="AERF",'Full menu'!AW6="PCB"),"ERfix",IF(OR('Full menu'!AW6="ACB", 'Full menu'!AW6="LCERT", 'Full menu'!AW6="LERT",'Full menu'!AW6="FCERT",'Full menu'!AW6="FERT"),"ERT",IF(OR('Full menu'!AW6="FCMT",'Full menu'!AW6="FMT",'Full menu'!AW6="LMT",'Full menu'!AW6="LCMT"),"MT",IF(OR('Full menu'!AW6="LCIT",'Full menu'!AW6="FCIT",'Full menu'!AW6="LMT",'Full menu'!AW6="FMT"),"IT",IF(OR('Full menu'!AW6="MwERT", 'Full menu'!AW6="ERwMT", 'Full menu'!AW6="M&ERT", 'Full menu'!AW6="MwIT", 'Full menu'!AW6="IwMT", 'Full menu'!AW6="M&IT", 'Full menu'!AW6="IwERT", 'Full menu'!AW6="ERwIT", 'Full menu'!AW6="I&ERT", 'Full menu'!AW6="ER&M&IT"),"MixedT",IF('Full menu'!AW6="UD","UD",IF('Full menu'!AW6="LSD","LSD",IF('Full menu'!AW6="WSD","WSD",""))))))))) | AX6: =IF('Full menu'!AX6="MDC","MDC",IF(OR('Full menu'!AX6="PERF",'Full menu'!AX6="AERF",'Full menu'!AX6="PCB"),"ERfix",IF(OR('Full menu'!AX6="ACB", 'Full menu'!AX6="LCERT", 'Full menu'!AX6="LERT",'Full menu'!AX6="FCERT",'Full menu'!AX6="FERT"),"ERT",IF(OR('Full menu'!AX6="FCMT",'Full menu'!AX6="FMT",'Full menu'!AX6="LMT",'Full menu'!AX6="LCMT"),"MT",IF(OR('Full menu'!AX6="LCIT",'Full menu'!AX6="FCIT",'Full menu'!AX6="LMT",'Full menu'!AX6="FMT"),"IT",IF(OR('Full menu'!AX6="MwERT", 'Full menu'!AX6="ERwMT", 'Full menu'!AX6="M&ERT", 'Full menu'!AX6="MwIT", 'Full menu'!AX6="IwMT", 'Full menu'!AX6="M&IT", 'Full menu'!AX6="IwERT", 'Full menu'!AX6="ERwIT", 'Full menu'!AX6="I&ERT", 'Full menu'!AX6="ER&M&IT"),"MixedT",IF('Full menu'!AX6="UD","UD",IF('Full menu'!AX6="LSD","LSD",IF('Full menu'!AX6="WSD","WSD",""))))))))) | AY6: =IF('Full menu'!AY6="MDC","MDC",IF(OR('Full menu'!AY6="PERF",'Full menu'!AY6="AERF",'Full menu'!AY6="PCB"),"ERfix",IF(OR('Full menu'!AY6="ACB", 'Full menu'!AY6="LCERT", 'Full menu'!AY6="LERT",'Full menu'!AY6="FCERT",'Full menu'!AY6="FERT"),"ERT",IF(OR('Full menu'!AY6="FCMT",'Full menu'!AY6="FMT",'Full menu'!AY6="LMT",'Full menu'!AY6="LCMT"),"MT",IF(OR('Full menu'!AY6="LCIT",'Full menu'!AY6="FCIT",'Full menu'!AY6="LMT",'Full menu'!AY6="FMT"),"IT",IF(OR('Full menu'!AY6="MwERT", 'Full menu'!AY6="ERwMT", 'Full menu'!AY6="M&ERT", 'Full menu'!AY6="MwIT", 'Full menu'!AY6="IwMT", 'Full menu'!AY6="M&IT", 'Full menu'!AY6="IwERT", 'Full menu'!AY6="ERwIT", 'Full menu'!AY6="I&ERT", 'Full menu'!AY6="ER&M&IT"),"MixedT",IF('Full menu'!AY6="UD","UD",IF('Full menu'!AY6="LSD","LSD",IF('Full menu'!AY6="WSD","WSD",""))))))))) | AZ6: =IF('Full menu'!AZ6="MDC","MDC",IF(OR('Full menu'!AZ6="PERF",'Full menu'!AZ6="AERF",'Full menu'!AZ6="PCB"),"ERfix",IF(OR('Full menu'!AZ6="ACB", 'Full menu'!AZ6="LCERT", 'Full menu'!AZ6="LERT",'Full menu'!AZ6="FCERT",'Full menu'!AZ6="FERT"),"ERT",IF(OR('Full menu'!AZ6="FCMT",'Full menu'!AZ6="FMT",'Full menu'!AZ6="LMT",'Full menu'!AZ6="LCMT"),"MT",IF(OR('Full menu'!AZ6="LCIT",'Full menu'!AZ6="FCIT",'Full menu'!AZ6="LMT",'Full menu'!AZ6="FMT"),"IT",IF(OR('Full menu'!AZ6="MwERT", 'Full menu'!AZ6="ERwMT", 'Full menu'!AZ6="M&ERT", 'Full menu'!AZ6="MwIT", 'Full menu'!AZ6="IwMT", 'Full menu'!AZ6="M&IT", 'Full menu'!AZ6="IwERT", 'Full menu'!AZ6="ERwIT", 'Full menu'!AZ6="I&ERT", 'Full menu'!AZ6="ER&M&IT"),"MixedT",IF('Full menu'!AZ6="UD","UD",IF('Full menu'!AZ6="LSD","LSD",IF('Full menu'!AZ6="WSD","WSD",""))))))))) | BA6: =IF('Full menu'!BA6="MDC","MDC",IF(OR('Full menu'!BA6="PERF",'Full menu'!BA6="AERF",'Full menu'!BA6="PCB"),"ERfix",IF(OR('Full menu'!BA6="ACB", 'Full menu'!BA6="LCERT", 'Full menu'!BA6="LERT",'Full menu'!BA6="FCERT",'Full menu'!BA6="FERT"),"ERT",IF(OR('Full menu'!BA6="FCMT",'Full menu'!BA6="FMT",'Full menu'!BA6="LMT",'Full menu'!BA6="LCMT"),"MT",IF(OR('Full menu'!BA6="LCIT",'Full menu'!BA6="FCIT",'Full menu'!BA6="LMT",'Full menu'!BA6="FMT"),"IT",IF(OR('Full menu'!BA6="MwERT", 'Full menu'!BA6="ERwMT", 'Full menu'!BA6="M&ERT", 'Full menu'!BA6="MwIT", 'Full menu'!BA6="IwMT", 'Full menu'!BA6="M&IT", 'Full menu'!BA6="IwERT", 'Full menu'!BA6="ERwIT", 'Full menu'!BA6="I&ERT", 'Full menu'!BA6="ER&M&IT"),"MixedT",IF('Full menu'!BA6="UD","UD",IF('Full menu'!BA6="LSD","LSD",IF('Full menu'!BA6="WSD","WSD",""))))))))) | ... BC6: =IF('Full menu'!BC6="MDC","MDC",IF(OR('Full menu'!BC6="PERF",'Full menu'!BC6="AERF",'Full menu'!BC6="PCB"),"ERfix",IF(OR('Full menu'!BC6="ACB", 'Full menu'!BC6="LCERT", 'Full menu'!BC6="LERT",'Full menu'!BC6="FCERT",'Full menu'!BC6="FERT"),"ERT",IF(OR('Full menu'!BC6="FCMT",'Full menu'!BC6="FMT",'Full menu'!BC6="LMT",'Full menu'!BC6="LCMT"),"MT",IF(OR('Full menu'!BC6="LCIT",'Full menu'!BC6="FCIT",'Full menu'!BC6="LMT",'Full menu'!BC6="FMT"),"IT",IF(OR('Full menu'!BC6="MwERT", 'Full menu'!BC6="ERwMT", 'Full menu'!BC6="M&ERT", 'Full menu'!BC6="MwIT", 'Full menu'!BC6="IwMT", 'Full menu'!BC6="M&IT", 'Full menu'!BC6="IwERT", 'Full menu'!BC6="ERwIT", 'Full menu'!BC6="I&ERT", 'Full menu'!BC6="ER&M&IT"),"MixedT",IF('Full menu'!BC6="UD","UD",IF('Full menu'!BC6="LSD","LSD",IF('Full menu'!BC6="WSD","WSD","")))))))))
A7: Croatia | B7: =IF('Full menu'!B7="MDC","MDC",IF(OR('Full menu'!B7="PERF",'Full menu'!B7="AERF",'Full menu'!B7="PCB"),"ERfix",IF(OR('Full menu'!B7="ACB", 'Full menu'!B7="LCERT", 'Full menu'!B7="LERT",'Full menu'!B7="FCERT",'Full menu'!B7="FERT"),"ERTs",IF(OR('Full menu'!B7="FCMT",'Full menu'!B7="FMT",'Full menu'!B7="LMT",'Full menu'!B7="LCMT"),"MTs",IF(OR('Full menu'!B7="LCIT",'Full menu'!B7="FCIT",'Full menu'!B7="LIT",'Full menu'!B7="FIT"),"ITs",IF(OR('Full menu'!B7="MwERT", 'Full menu'!B7="ERwMT", 'Full menu'!B7="M&ERT", 'Full menu'!B7="MwIT", 'Full menu'!B7="IwMT", 'Full menu'!B7="M&IT", 'Full menu'!B7="IwERT", 'Full menu'!B7="ERwIT", 'Full menu'!B7="I&ERT", 'Full menu'!B7="ER&M&IT"),"MixedTs",IF('Full menu'!B7="UD","UD",IF('Full menu'!B7="LSD","LSD",IF('Full menu'!B7="WSD","WSD",""))))))))) | C7: =IF('Full menu'!C7="MDC","MDC",IF(OR('Full menu'!C7="PERF",'Full menu'!C7="AERF",'Full menu'!C7="PCB"),"ERfix",IF(OR('Full menu'!C7="ACB", 'Full menu'!C7="LCERT", 'Full menu'!C7="LERT",'Full menu'!C7="FCERT",'Full menu'!C7="FERT"),"ERTs",IF(OR('Full menu'!C7="FCMT",'Full menu'!C7="FMT",'Full menu'!C7="LMT",'Full menu'!C7="LCMT"),"MTs",IF(OR('Full menu'!C7="LCIT",'Full menu'!C7="FCIT",'Full menu'!C7="LIT",'Full menu'!C7="FIT"),"ITs",IF(OR('Full menu'!C7="MwERT", 'Full menu'!C7="ERwMT", 'Full menu'!C7="M&ERT", 'Full menu'!C7="MwIT", 'Full menu'!C7="IwMT", 'Full menu'!C7="M&IT", 'Full menu'!C7="IwERT", 'Full menu'!C7="ERwIT", 'Full menu'!C7="I&ERT", 'Full menu'!C7="ER&M&IT"),"MixedTs",IF('Full menu'!C7="UD","UD",IF('Full menu'!C7="LSD","LSD",IF('Full menu'!C7="WSD","WSD",""))))))))) | D7: =IF('Full menu'!D7="MDC","MDC",IF(OR('Full menu'!D7="PERF",'Full menu'!D7="AERF",'Full menu'!D7="PCB"),"ERfix",IF(OR('Full menu'!D7="ACB", 'Full menu'!D7="LCERT", 'Full menu'!D7="LERT",'Full menu'!D7="FCERT",'Full menu'!D7="FERT"),"ERTs",IF(OR('Full menu'!D7="FCMT",'Full menu'!D7="FMT",'Full menu'!D7="LMT",'Full menu'!D7="LCMT"),"MTs",IF(OR('Full menu'!D7="LCIT",'Full menu'!D7="FCIT",'Full menu'!D7="LIT",'Full menu'!D7="FIT"),"ITs",IF(OR('Full menu'!D7="MwERT", 'Full menu'!D7="ERwMT", 'Full menu'!D7="M&ERT", 'Full menu'!D7="MwIT", 'Full menu'!D7="IwMT", 'Full menu'!D7="M&IT", 'Full menu'!D7="IwERT", 'Full menu'!D7="ERwIT", 'Full menu'!D7="I&ERT", 'Full menu'!D7="ER&M&IT"),"MixedTs",IF('Full menu'!D7="UD","UD",IF('Full menu'!D7="LSD","LSD",IF('Full menu'!D7="WSD","WSD",""))))))))) | E7: =IF('Full menu'!E7="MDC","MDC",IF(OR('Full menu'!E7="PERF",'Full menu'!E7="AERF",'Full menu'!E7="PCB"),"ERfix",IF(OR('Full menu'!E7="ACB", 'Full menu'!E7="LCERT", 'Full menu'!E7="LERT",'Full menu'!E7="FCERT",'Full menu'!E7="FERT"),"ERTs",IF(OR('Full menu'!E7="FCMT",'Full menu'!E7="FMT",'Full menu'!E7="LMT",'Full menu'!E7="LCMT"),"MTs",IF(OR('Full menu'!E7="LCIT",'Full menu'!E7="FCIT",'Full menu'!E7="LIT",'Full menu'!E7="FIT"),"ITs",IF(OR('Full menu'!E7="MwERT", 'Full menu'!E7="ERwMT", 'Full menu'!E7="M&ERT", 'Full menu'!E7="MwIT", 'Full menu'!E7="IwMT", 'Full menu'!E7="M&IT", 'Full menu'!E7="IwERT", 'Full menu'!E7="ERwIT", 'Full menu'!E7="I&ERT", 'Full menu'!E7="ER&M&IT"),"MixedTs",IF('Full menu'!E7="UD","UD",IF('Full menu'!E7="LSD","LSD",IF('Full menu'!E7="WSD","WSD",""))))))))) | F7: =IF('Full menu'!F7="MDC","MDC",IF(OR('Full menu'!F7="PERF",'Full menu'!F7="AERF",'Full menu'!F7="PCB"),"ERfix",IF(OR('Full menu'!F7="ACB", 'Full menu'!F7="LCERT", 'Full menu'!F7="LERT",'Full menu'!F7="FCERT",'Full menu'!F7="FERT"),"ERTs",IF(OR('Full menu'!F7="FCMT",'Full menu'!F7="FMT",'Full menu'!F7="LMT",'Full menu'!F7="LCMT"),"MTs",IF(OR('Full menu'!F7="LCIT",'Full menu'!F7="FCIT",'Full menu'!F7="LIT",'Full menu'!F7="FIT"),"ITs",IF(OR('Full menu'!F7="MwERT", 'Full menu'!F7="ERwMT", 'Full menu'!F7="M&ERT", 'Full menu'!F7="MwIT", 'Full menu'!F7="IwMT", 'Full menu'!F7="M&IT", 'Full menu'!F7="IwERT", 'Full menu'!F7="ERwIT", 'Full menu'!F7="I&ERT", 'Full menu'!F7="ER&M&IT"),"MixedTs",IF('Full menu'!F7="UD","UD",IF('Full menu'!F7="LSD","LSD",IF('Full menu'!F7="WSD","WSD",""))))))))) | G7: =IF('Full menu'!G7="MDC","MDC",IF(OR('Full menu'!G7="PERF",'Full menu'!G7="AERF",'Full menu'!G7="PCB"),"ERfix",IF(OR('Full menu'!G7="ACB", 'Full menu'!G7="LCERT", 'Full menu'!G7="LERT",'Full menu'!G7="FCERT",'Full menu'!G7="FERT"),"ERTs",IF(OR('Full menu'!G7="FCMT",'Full menu'!G7="FMT",'Full menu'!G7="LMT",'Full menu'!G7="LCMT"),"MTs",IF(OR('Full menu'!G7="LCIT",'Full menu'!G7="FCIT",'Full menu'!G7="LIT",'Full menu'!G7="FIT"),"ITs",IF(OR('Full menu'!G7="MwERT", 'Full menu'!G7="ERwMT", 'Full menu'!G7="M&ERT", 'Full menu'!G7="MwIT", 'Full menu'!G7="IwMT", 'Full menu'!G7="M&IT", 'Full menu'!G7="IwERT", 'Full menu'!G7="ERwIT", 'Full menu'!G7="I&ERT", 'Full menu'!G7="ER&M&IT"),"MixedTs",IF('Full menu'!G7="UD","UD",IF('Full menu'!G7="LSD","LSD",IF('Full menu'!G7="WSD","WSD",""))))))))) | H7: =IF('Full menu'!H7="MDC","MDC",IF(OR('Full menu'!H7="PERF",'Full menu'!H7="AERF",'Full menu'!H7="PCB"),"ERfix",IF(OR('Full menu'!H7="ACB", 'Full menu'!H7="LCERT", 'Full menu'!H7="LERT",'Full menu'!H7="FCERT",'Full menu'!H7="FERT"),"ERTs",IF(OR('Full menu'!H7="FCMT",'Full menu'!H7="FMT",'Full menu'!H7="LMT",'Full menu'!H7="LCMT"),"MTs",IF(OR('Full menu'!H7="LCIT",'Full menu'!H7="FCIT",'Full menu'!H7="LIT",'Full menu'!H7="FIT"),"ITs",IF(OR('Full menu'!H7="MwERT", 'Full menu'!H7="ERwMT", 'Full menu'!H7="M&ERT", 'Full menu'!H7="MwIT", 'Full menu'!H7="IwMT", 'Full menu'!H7="M&IT", 'Full menu'!H7="IwERT", 'Full menu'!H7="ERwIT", 'Full menu'!H7="I&ERT", 'Full menu'!H7="ER&M&IT"),"MixedTs",IF('Full menu'!H7="UD","UD",IF('Full menu'!H7="LSD","LSD",IF('Full menu'!H7="WSD","WSD",""))))))))) | I7: =IF('Full menu'!I7="MDC","MDC",IF(OR('Full menu'!I7="PERF",'Full menu'!I7="AERF",'Full menu'!I7="PCB"),"ERfix",IF(OR('Full menu'!I7="ACB", 'Full menu'!I7="LCERT", 'Full menu'!I7="LERT",'Full menu'!I7="FCERT",'Full menu'!I7="FERT"),"ERTs",IF(OR('Full menu'!I7="FCMT",'Full menu'!I7="FMT",'Full menu'!I7="LMT",'Full menu'!I7="LCMT"),"MTs",IF(OR('Full menu'!I7="LCIT",'Full menu'!I7="FCIT",'Full menu'!I7="LIT",'Full menu'!I7="FIT"),"ITs",IF(OR('Full menu'!I7="MwERT", 'Full menu'!I7="ERwMT", 'Full menu'!I7="M&ERT", 'Full menu'!I7="MwIT", 'Full menu'!I7="IwMT", 'Full menu'!I7="M&IT", 'Full menu'!I7="IwERT", 'Full menu'!I7="ERwIT", 'Full menu'!I7="I&ERT", 'Full menu'!I7="ER&M&IT"),"MixedTs",IF('Full menu'!I7="UD","UD",IF('Full menu'!I7="LSD","LSD",IF('Full menu'!I7="WSD","WSD",""))))))))) | ... AS7: =IF('Full menu'!AS7="MDC","MDC",IF(OR('Full menu'!AS7="PERF",'Full menu'!AS7="AERF",'Full menu'!AS7="PCB"),"ERfix",IF(OR('Full menu'!AS7="ACB", 'Full menu'!AS7="LCERT", 'Full menu'!AS7="LERT",'Full menu'!AS7="FCERT",'Full menu'!AS7="FERT"),"ERTs",IF(OR('Full menu'!AS7="FCMT",'Full menu'!AS7="FMT",'Full menu'!AS7="LMT",'Full menu'!AS7="LCMT"),"MTs",IF(OR('Full menu'!AS7="LCIT",'Full menu'!AS7="FCIT",'Full menu'!AS7="LIT",'Full menu'!AS7="FIT"),"ITs",IF(OR('Full menu'!AS7="MwERT", 'Full menu'!AS7="ERwMT", 'Full menu'!AS7="M&ERT", 'Full menu'!AS7="MwIT", 'Full menu'!AS7="IwMT", 'Full menu'!AS7="M&IT", 'Full menu'!AS7="IwERT", 'Full menu'!AS7="ERwIT", 'Full menu'!AS7="I&ERT", 'Full menu'!AS7="ER&M&IT"),"MixedTs",IF('Full menu'!AS7="UD","UD",IF('Full menu'!AS7="LSD","LSD",IF('Full menu'!AS7="WSD","WSD",""))))))))) -> LSD | AT7: =IF('Full menu'!AT7="MDC","MDC",IF(OR('Full menu'!AT7="PERF",'Full menu'!AT7="AERF",'Full menu'!AT7="PCB"),"ERfix",IF(OR('Full menu'!AT7="ACB", 'Full menu'!AT7="LCERT", 'Full menu'!AT7="LERT",'Full menu'!AT7="FCERT",'Full menu'!AT7="FERT"),"ERT",IF(OR('Full menu'!AT7="FCMT",'Full menu'!AT7="FMT",'Full menu'!AT7="LMT",'Full menu'!AT7="LCMT"),"MT",IF(OR('Full menu'!AT7="LCIT",'Full menu'!AT7="FCIT",'Full menu'!AT7="LMT",'Full menu'!AT7="FMT"),"IT",IF(OR('Full menu'!AT7="MwERT", 'Full menu'!AT7="ERwMT", 'Full menu'!AT7="M&ERT", 'Full menu'!AT7="MwIT", 'Full menu'!AT7="IwMT", 'Full menu'!AT7="M&IT", 'Full menu'!AT7="IwERT", 'Full menu'!AT7="ERwIT", 'Full menu'!AT7="I&ERT", 'Full menu'!AT7="ER&M&IT"),"MixedT",IF('Full menu'!AT7="UD","UD",IF('Full menu'!AT7="LSD","LSD",IF('Full menu'!AT7="WSD","WSD",""))))))))) | AU7: =IF('Full menu'!AU7="MDC","MDC",IF(OR('Full menu'!AU7="PERF",'Full menu'!AU7="AERF",'Full menu'!AU7="PCB"),"ERfix",IF(OR('Full menu'!AU7="ACB", 'Full menu'!AU7="LCERT", 'Full menu'!AU7="LERT",'Full menu'!AU7="FCERT",'Full menu'!AU7="FERT"),"ERT",IF(OR('Full menu'!AU7="FCMT",'Full menu'!AU7="FMT",'Full menu'!AU7="LMT",'Full menu'!AU7="LCMT"),"MT",IF(OR('Full menu'!AU7="LCIT",'Full menu'!AU7="FCIT",'Full menu'!AU7="LMT",'Full menu'!AU7="FMT"),"IT",IF(OR('Full menu'!AU7="MwERT", 'Full menu'!AU7="ERwMT", 'Full menu'!AU7="M&ERT", 'Full menu'!AU7="MwIT", 'Full menu'!AU7="IwMT", 'Full menu'!AU7="M&IT", 'Full menu'!AU7="IwERT", 'Full menu'!AU7="ERwIT", 'Full menu'!AU7="I&ERT", 'Full menu'!AU7="ER&M&IT"),"MixedT",IF('Full menu'!AU7="UD","UD",IF('Full menu'!AU7="LSD","LSD",IF('Full menu'!AU7="WSD","WSD",""))))))))) | AV7: =IF('Full menu'!AV7="MDC","MDC",IF(OR('Full menu'!AV7="PERF",'Full menu'!AV7="AERF",'Full menu'!AV7="PCB"),"ERfix",IF(OR('Full menu'!AV7="ACB", 'Full menu'!AV7="LCERT", 'Full menu'!AV7="LERT",'Full menu'!AV7="FCERT",'Full menu'!AV7="FERT"),"ERT",IF(OR('Full menu'!AV7="FCMT",'Full menu'!AV7="FMT",'Full menu'!AV7="LMT",'Full menu'!AV7="LCMT"),"MT",IF(OR('Full menu'!AV7="LCIT",'Full menu'!AV7="FCIT",'Full menu'!AV7="LMT",'Full menu'!AV7="FMT"),"IT",IF(OR('Full menu'!AV7="MwERT", 'Full menu'!AV7="ERwMT", 'Full menu'!AV7="M&ERT", 'Full menu'!AV7="MwIT", 'Full menu'!AV7="IwMT", 'Full menu'!AV7="M&IT", 'Full menu'!AV7="IwERT", 'Full menu'!AV7="ERwIT", 'Full menu'!AV7="I&ERT", 'Full menu'!AV7="ER&M&IT"),"MixedT",IF('Full menu'!AV7="UD","UD",IF('Full menu'!AV7="LSD","LSD",IF('Full menu'!AV7="WSD","WSD",""))))))))) | AW7: =IF('Full menu'!AW7="MDC","MDC",IF(OR('Full menu'!AW7="PERF",'Full menu'!AW7="AERF",'Full menu'!AW7="PCB"),"ERfix",IF(OR('Full menu'!AW7="ACB", 'Full menu'!AW7="LCERT", 'Full menu'!AW7="LERT",'Full menu'!AW7="FCERT",'Full menu'!AW7="FERT"),"ERT",IF(OR('Full menu'!AW7="FCMT",'Full menu'!AW7="FMT",'Full menu'!AW7="LMT",'Full menu'!AW7="LCMT"),"MT",IF(OR('Full menu'!AW7="LCIT",'Full menu'!AW7="FCIT",'Full menu'!AW7="LMT",'Full menu'!AW7="FMT"),"IT",IF(OR('Full menu'!AW7="MwERT", 'Full menu'!AW7="ERwMT", 'Full menu'!AW7="M&ERT", 'Full menu'!AW7="MwIT", 'Full menu'!AW7="IwMT", 'Full menu'!AW7="M&IT", 'Full menu'!AW7="IwERT", 'Full menu'!AW7="ERwIT", 'Full menu'!AW7="I&ERT", 'Full menu'!AW7="ER&M&IT"),"MixedT",IF('Full menu'!AW7="UD","UD",IF('Full menu'!AW7="LSD","LSD",IF('Full menu'!AW7="WSD","WSD",""))))))))) | AX7: =IF('Full menu'!AX7="MDC","MDC",IF(OR('Full menu'!AX7="PERF",'Full menu'!AX7="AERF",'Full menu'!AX7="PCB"),"ERfix",IF(OR('Full menu'!AX7="ACB", 'Full menu'!AX7="LCERT", 'Full menu'!AX7="LERT",'Full menu'!AX7="FCERT",'Full menu'!AX7="FERT"),"ERT",IF(OR('Full menu'!AX7="FCMT",'Full menu'!AX7="FMT",'Full menu'!AX7="LMT",'Full menu'!AX7="LCMT"),"MT",IF(OR('Full menu'!AX7="LCIT",'Full menu'!AX7="FCIT",'Full menu'!AX7="LMT",'Full menu'!AX7="FMT"),"IT",IF(OR('Full menu'!AX7="MwERT", 'Full menu'!AX7="ERwMT", 'Full menu'!AX7="M&ERT", 'Full menu'!AX7="MwIT", 'Full menu'!AX7="IwMT", 'Full menu'!AX7="M&IT", 'Full menu'!AX7="IwERT", 'Full menu'!AX7="ERwIT", 'Full menu'!AX7="I&ERT", 'Full menu'!AX7="ER&M&IT"),"MixedT",IF('Full menu'!AX7="UD","UD",IF('Full menu'!AX7="LSD","LSD",IF('Full menu'!AX7="WSD","WSD",""))))))))) | AY7: =IF('Full menu'!AY7="MDC","MDC",IF(OR('Full menu'!AY7="PERF",'Full menu'!AY7="AERF",'Full menu'!AY7="PCB"),"ERfix",IF(OR('Full menu'!AY7="ACB", 'Full menu'!AY7="LCERT", 'Full menu'!AY7="LERT",'Full menu'!AY7="FCERT",'Full menu'!AY7="FERT"),"ERT",IF(OR('Full menu'!AY7="FCMT",'Full menu'!AY7="FMT",'Full menu'!AY7="LMT",'Full menu'!AY7="LCMT"),"MT",IF(OR('Full menu'!AY7="LCIT",'Full menu'!AY7="FCIT",'Full menu'!AY7="LMT",'Full menu'!AY7="FMT"),"IT",IF(OR('Full menu'!AY7="MwERT", 'Full menu'!AY7="ERwMT", 'Full menu'!AY7="M&ERT", 'Full menu'!AY7="MwIT", 'Full menu'!AY7="IwMT", 'Full menu'!AY7="M&IT", 'Full menu'!AY7="IwERT", 'Full menu'!AY7="ERwIT", 'Full menu'!AY7="I&ERT", 'Full menu'!AY7="ER&M&IT"),"MixedT",IF('Full menu'!AY7="UD","UD",IF('Full menu'!AY7="LSD","LSD",IF('Full menu'!AY7="WSD","WSD",""))))))))) | AZ7: =IF('Full menu'!AZ7="MDC","MDC",IF(OR('Full menu'!AZ7="PERF",'Full menu'!AZ7="AERF",'Full menu'!AZ7="PCB"),"ERfix",IF(OR('Full menu'!AZ7="ACB", 'Full menu'!AZ7="LCERT", 'Full menu'!AZ7="LERT",'Full menu'!AZ7="FCERT",'Full menu'!AZ7="FERT"),"ERT",IF(OR('Full menu'!AZ7="FCMT",'Full menu'!AZ7="FMT",'Full menu'!AZ7="LMT",'Full menu'!AZ7="LCMT"),"MT",IF(OR('Full menu'!AZ7="LCIT",'Full menu'!AZ7="FCIT",'Full menu'!AZ7="LMT",'Full menu'!AZ7="FMT"),"IT",IF(OR('Full menu'!AZ7="MwERT", 'Full menu'!AZ7="ERwMT", 'Full menu'!AZ7="M&ERT", 'Full menu'!AZ7="MwIT", 'Full menu'!AZ7="IwMT", 'Full menu'!AZ7="M&IT", 'Full menu'!AZ7="IwERT", 'Full menu'!AZ7="ERwIT", 'Full menu'!AZ7="I&ERT", 'Full menu'!AZ7="ER&M&IT"),"MixedT",IF('Full menu'!AZ7="UD","UD",IF('Full menu'!AZ7="LSD","LSD",IF('Full menu'!AZ7="WSD","WSD",""))))))))) | BA7: =IF('Full menu'!BA7="MDC","MDC",IF(OR('Full menu'!BA7="PERF",'Full menu'!BA7="AERF",'Full menu'!BA7="PCB"),"ERfix",IF(OR('Full menu'!BA7="ACB", 'Full menu'!BA7="LCERT", 'Full menu'!BA7="LERT",'Full menu'!BA7="FCERT",'Full menu'!BA7="FERT"),"ERT",IF(OR('Full menu'!BA7="FCMT",'Full menu'!BA7="FMT",'Full menu'!BA7="LMT",'Full menu'!BA7="LCMT"),"MT",IF(OR('Full menu'!BA7="LCIT",'Full menu'!BA7="FCIT",'Full menu'!BA7="LMT",'Full menu'!BA7="FMT"),"IT",IF(OR('Full menu'!BA7="MwERT", 'Full menu'!BA7="ERwMT", 'Full menu'!BA7="M&ERT", 'Full menu'!BA7="MwIT", 'Full menu'!BA7="IwMT", 'Full menu'!BA7="M&IT", 'Full menu'!BA7="IwERT", 'Full menu'!BA7="ERwIT", 'Full menu'!BA7="I&ERT", 'Full menu'!BA7="ER&M&IT"),"MixedT",IF('Full menu'!BA7="UD","UD",IF('Full menu'!BA7="LSD","LSD",IF('Full menu'!BA7="WSD","WSD",""))))))))) | ... BC7: =IF('Full menu'!BC7="MDC","MDC",IF(OR('Full menu'!BC7="PERF",'Full menu'!BC7="AERF",'Full menu'!BC7="PCB"),"ERfix",IF(OR('Full menu'!BC7="ACB", 'Full menu'!BC7="LCERT", 'Full menu'!BC7="LERT",'Full menu'!BC7="FCERT",'Full menu'!BC7="FERT"),"ERT",IF(OR('Full menu'!BC7="FCMT",'Full menu'!BC7="FMT",'Full menu'!BC7="LMT",'Full menu'!BC7="LCMT"),"MT",IF(OR('Full menu'!BC7="LCIT",'Full menu'!BC7="FCIT",'Full menu'!BC7="LMT",'Full menu'!BC7="FMT"),"IT",IF(OR('Full menu'!BC7="MwERT", 'Full menu'!BC7="ERwMT", 'Full menu'!BC7="M&ERT", 'Full menu'!BC7="MwIT", 'Full menu'!BC7="IwMT", 'Full menu'!BC7="M&IT", 'Full menu'!BC7="IwERT", 'Full menu'!BC7="ERwIT", 'Full menu'!BC7="I&ERT", 'Full menu'!BC7="ER&M&IT"),"MixedT",IF('Full menu'!BC7="UD","UD",IF('Full menu'!BC7="LSD","LSD",IF('Full menu'!BC7="WSD","WSD","")))))))))
A8: Cyprus | B8: =IF('Full menu'!B8="MDC","MDC",IF(OR('Full menu'!B8="PERF",'Full menu'!B8="AERF",'Full menu'!B8="PCB"),"ERfix",IF(OR('Full menu'!B8="ACB", 'Full menu'!B8="LCERT", 'Full menu'!B8="LERT",'Full menu'!B8="FCERT",'Full menu'!B8="FERT"),"ERTs",IF(OR('Full menu'!B8="FCMT",'Full menu'!B8="FMT",'Full menu'!B8="LMT",'Full menu'!B8="LCMT"),"MTs",IF(OR('Full menu'!B8="LCIT",'Full menu'!B8="FCIT",'Full menu'!B8="LIT",'Full menu'!B8="FIT"),"ITs",IF(OR('Full menu'!B8="MwERT", 'Full menu'!B8="ERwMT", 'Full menu'!B8="M&ERT", 'Full menu'!B8="MwIT", 'Full menu'!B8="IwMT", 'Full menu'!B8="M&IT", 'Full menu'!B8="IwERT", 'Full menu'!B8="ERwIT", 'Full menu'!B8="I&ERT", 'Full menu'!B8="ER&M&IT"),"MixedTs",IF('Full menu'!B8="UD","UD",IF('Full menu'!B8="LSD","LSD",IF('Full menu'!B8="WSD","WSD",""))))))))) -> ERfix | C8: =IF('Full menu'!C8="MDC","MDC",IF(OR('Full menu'!C8="PERF",'Full menu'!C8="AERF",'Full menu'!C8="PCB"),"ERfix",IF(OR('Full menu'!C8="ACB", 'Full menu'!C8="LCERT", 'Full menu'!C8="LERT",'Full menu'!C8="FCERT",'Full menu'!C8="FERT"),"ERTs",IF(OR('Full menu'!C8="FCMT",'Full menu'!C8="FMT",'Full menu'!C8="LMT",'Full menu'!C8="LCMT"),"MTs",IF(OR('Full menu'!C8="LCIT",'Full menu'!C8="FCIT",'Full menu'!C8="LIT",'Full menu'!C8="FIT"),"ITs",IF(OR('Full menu'!C8="MwERT", 'Full menu'!C8="ERwMT", 'Full menu'!C8="M&ERT", 'Full menu'!C8="MwIT", 'Full menu'!C8="IwMT", 'Full menu'!C8="M&IT", 'Full menu'!C8="IwERT", 'Full menu'!C8="ERwIT", 'Full menu'!C8="I&ERT", 'Full menu'!C8="ER&M&IT"),"MixedTs",IF('Full menu'!C8="UD","UD",IF('Full menu'!C8="LSD","LSD",IF('Full menu'!C8="WSD","WSD",""))))))))) -> ERfix | D8: =IF('Full menu'!D8="MDC","MDC",IF(OR('Full menu'!D8="PERF",'Full menu'!D8="AERF",'Full menu'!D8="PCB"),"ERfix",IF(OR('Full menu'!D8="ACB", 'Full menu'!D8="LCERT", 'Full menu'!D8="LERT",'Full menu'!D8="FCERT",'Full menu'!D8="FERT"),"ERTs",IF(OR('Full menu'!D8="FCMT",'Full menu'!D8="FMT",'Full menu'!D8="LMT",'Full menu'!D8="LCMT"),"MTs",IF(OR('Full menu'!D8="LCIT",'Full menu'!D8="FCIT",'Full menu'!D8="LIT",'Full menu'!D8="FIT"),"ITs",IF(OR('Full menu'!D8="MwERT", 'Full menu'!D8="ERwMT", 'Full menu'!D8="M&ERT", 'Full menu'!D8="MwIT", 'Full menu'!D8="IwMT", 'Full menu'!D8="M&IT", 'Full menu'!D8="IwERT", 'Full menu'!D8="ERwIT", 'Full menu'!D8="I&ERT", 'Full menu'!D8="ER&M&IT"),"MixedTs",IF('Full menu'!D8="UD","UD",IF('Full menu'!D8="LSD","LSD",IF('Full menu'!D8="WSD","WSD",""))))))))) -> ERfix | E8: =IF('Full menu'!E8="MDC","MDC",IF(OR('Full menu'!E8="PERF",'Full menu'!E8="AERF",'Full menu'!E8="PCB"),"ERfix",IF(OR('Full menu'!E8="ACB", 'Full menu'!E8="LCERT", 'Full menu'!E8="LERT",'Full menu'!E8="FCERT",'Full menu'!E8="FERT"),"ERTs",IF(OR('Full menu'!E8="FCMT",'Full menu'!E8="FMT",'Full menu'!E8="LMT",'Full menu'!E8="LCMT"),"MTs",IF(OR('Full menu'!E8="LCIT",'Full menu'!E8="FCIT",'Full menu'!E8="LIT",'Full menu'!E8="FIT"),"ITs",IF(OR('Full menu'!E8="MwERT", 'Full menu'!E8="ERwMT", 'Full menu'!E8="M&ERT", 'Full menu'!E8="MwIT", 'Full menu'!E8="IwMT", 'Full menu'!E8="M&IT", 'Full menu'!E8="IwERT", 'Full menu'!E8="ERwIT", 'Full menu'!E8="I&ERT", 'Full menu'!E8="ER&M&IT"),"MixedTs",IF('Full menu'!E8="UD","UD",IF('Full menu'!E8="LSD","LSD",IF('Full menu'!E8="WSD","WSD",""))))))))) -> ERfix | F8: =IF('Full menu'!F8="MDC","MDC",IF(OR('Full menu'!F8="PERF",'Full menu'!F8="AERF",'Full menu'!F8="PCB"),"ERfix",IF(OR('Full menu'!F8="ACB", 'Full menu'!F8="LCERT", 'Full menu'!F8="LERT",'Full menu'!F8="FCERT",'Full menu'!F8="FERT"),"ERTs",IF(OR('Full menu'!F8="FCMT",'Full menu'!F8="FMT",'Full menu'!F8="LMT",'Full menu'!F8="LCMT"),"MTs",IF(OR('Full menu'!F8="LCIT",'Full menu'!F8="FCIT",'Full menu'!F8="LIT",'Full menu'!F8="FIT"),"ITs",IF(OR('Full menu'!F8="MwERT", 'Full menu'!F8="ERwMT", 'Full menu'!F8="M&ERT", 'Full menu'!F8="MwIT", 'Full menu'!F8="IwMT", 'Full menu'!F8="M&IT", 'Full menu'!F8="IwERT", 'Full menu'!F8="ERwIT", 'Full menu'!F8="I&ERT", 'Full menu'!F8="ER&M&IT"),"MixedTs",IF('Full menu'!F8="UD","UD",IF('Full menu'!F8="LSD","LSD",IF('Full menu'!F8="WSD","WSD",""))))))))) -> ERfix | G8: =IF('Full menu'!G8="MDC","MDC",IF(OR('Full menu'!G8="PERF",'Full menu'!G8="AERF",'Full menu'!G8="PCB"),"ERfix",IF(OR('Full menu'!G8="ACB", 'Full menu'!G8="LCERT", 'Full menu'!G8="LERT",'Full menu'!G8="FCERT",'Full menu'!G8="FERT"),"ERTs",IF(OR('Full menu'!G8="FCMT",'Full menu'!G8="FMT",'Full menu'!G8="LMT",'Full menu'!G8="LCMT"),"MTs",IF(OR('Full menu'!G8="LCIT",'Full menu'!G8="FCIT",'Full menu'!G8="LIT",'Full menu'!G8="FIT"),"ITs",IF(OR('Full menu'!G8="MwERT", 'Full menu'!G8="ERwMT", 'Full menu'!G8="M&ERT", 'Full menu'!G8="MwIT", 'Full menu'!G8="IwMT", 'Full menu'!G8="M&IT", 'Full menu'!G8="IwERT", 'Full menu'!G8="ERwIT", 'Full menu'!G8="I&ERT", 'Full menu'!G8="ER&M&IT"),"MixedTs",IF('Full menu'!G8="UD","UD",IF('Full menu'!G8="LSD","LSD",IF('Full menu'!G8="WSD","WSD",""))))))))) -> ERfix | H8: =IF('Full menu'!H8="MDC","MDC",IF(OR('Full menu'!H8="PERF",'Full menu'!H8="AERF",'Full menu'!H8="PCB"),"ERfix",IF(OR('Full menu'!H8="ACB", 'Full menu'!H8="LCERT", 'Full menu'!H8="LERT",'Full menu'!H8="FCERT",'Full menu'!H8="FERT"),"ERTs",IF(OR('Full menu'!H8="FCMT",'Full menu'!H8="FMT",'Full menu'!H8="LMT",'Full menu'!H8="LCMT"),"MTs",IF(OR('Full menu'!H8="LCIT",'Full menu'!H8="FCIT",'Full menu'!H8="LIT",'Full menu'!H8="FIT"),"ITs",IF(OR('Full menu'!H8="MwERT", 'Full menu'!H8="ERwMT", 'Full menu'!H8="M&ERT", 'Full menu'!H8="MwIT", 'Full menu'!H8="IwMT", 'Full menu'!H8="M&IT", 'Full menu'!H8="IwERT", 'Full menu'!H8="ERwIT", 'Full menu'!H8="I&ERT", 'Full menu'!H8="ER&M&IT"),"MixedTs",IF('Full menu'!H8="UD","UD",IF('Full menu'!H8="LSD","LSD",IF('Full menu'!H8="WSD","WSD",""))))))))) -> ERfix | I8: =IF('Full menu'!I8="MDC","MDC",IF(OR('Full menu'!I8="PERF",'Full menu'!I8="AERF",'Full menu'!I8="PCB"),"ERfix",IF(OR('Full menu'!I8="ACB", 'Full menu'!I8="LCERT", 'Full menu'!I8="LERT",'Full menu'!I8="FCERT",'Full menu'!I8="FERT"),"ERTs",IF(OR('Full menu'!I8="FCMT",'Full menu'!I8="FMT",'Full menu'!I8="LMT",'Full menu'!I8="LCMT"),"MTs",IF(OR('Full menu'!I8="LCIT",'Full menu'!I8="FCIT",'Full menu'!I8="LIT",'Full menu'!I8="FIT"),"ITs",IF(OR('Full menu'!I8="MwERT", 'Full menu'!I8="ERwMT", 'Full menu'!I8="M&ERT", 'Full menu'!I8="MwIT", 'Full menu'!I8="IwMT", 'Full menu'!I8="M&IT", 'Full menu'!I8="IwERT", 'Full menu'!I8="ERwIT", 'Full menu'!I8="I&ERT", 'Full menu'!I8="ER&M&IT"),"MixedTs",IF('Full menu'!I8="UD","UD",IF('Full menu'!I8="LSD","LSD",IF('Full menu'!I8="WSD","WSD",""))))))))) -> ERfix | ... AS8: =IF('Full menu'!AS8="MDC","MDC",IF(OR('Full menu'!AS8="PERF",'Full menu'!AS8="AERF",'Full menu'!AS8="PCB"),"ERfix",IF(OR('Full menu'!AS8="ACB", 'Full menu'!AS8="LCERT", 'Full menu'!AS8="LERT",'Full menu'!AS8="FCERT",'Full menu'!AS8="FERT"),"ERTs",IF(OR('Full menu'!AS8="FCMT",'Full menu'!AS8="FMT",'Full menu'!AS8="LMT",'Full menu'!AS8="LCMT"),"MTs",IF(OR('Full menu'!AS8="LCIT",'Full menu'!AS8="FCIT",'Full menu'!AS8="LIT",'Full menu'!AS8="FIT"),"ITs",IF(OR('Full menu'!AS8="MwERT", 'Full menu'!AS8="ERwMT", 'Full menu'!AS8="M&ERT", 'Full menu'!AS8="MwIT", 'Full menu'!AS8="IwMT", 'Full menu'!AS8="M&IT", 'Full menu'!AS8="IwERT", 'Full menu'!AS8="ERwIT", 'Full menu'!AS8="I&ERT", 'Full menu'!AS8="ER&M&IT"),"MixedTs",IF('Full menu'!AS8="UD","UD",IF('Full menu'!AS8="LSD","LSD",IF('Full menu'!AS8="WSD","WSD",""))))))))) | AT8: =IF('Full menu'!AT8="MDC","MDC",IF(OR('Full menu'!AT8="PERF",'Full menu'!AT8="AERF",'Full menu'!AT8="PCB"),"ERfix",IF(OR('Full menu'!AT8="ACB", 'Full menu'!AT8="LCERT", 'Full menu'!AT8="LERT",'Full menu'!AT8="FCERT",'Full menu'!AT8="FERT"),"ERT",IF(OR('Full menu'!AT8="FCMT",'Full menu'!AT8="FMT",'Full menu'!AT8="LMT",'Full menu'!AT8="LCMT"),"MT",IF(OR('Full menu'!AT8="LCIT",'Full menu'!AT8="FCIT",'Full menu'!AT8="LMT",'Full menu'!AT8="FMT"),"IT",IF(OR('Full menu'!AT8="MwERT", 'Full menu'!AT8="ERwMT", 'Full menu'!AT8="M&ERT", 'Full menu'!AT8="MwIT", 'Full menu'!AT8="IwMT", 'Full menu'!AT8="M&IT", 'Full menu'!AT8="IwERT", 'Full menu'!AT8="ERwIT", 'Full menu'!AT8="I&ERT", 'Full menu'!AT8="ER&M&IT"),"MixedT",IF('Full menu'!AT8="UD","UD",IF('Full menu'!AT8="LSD","LSD",IF('Full menu'!AT8="WSD","WSD",""))))))))) | AU8: =IF('Full menu'!AU8="MDC","MDC",IF(OR('Full menu'!AU8="PERF",'Full menu'!AU8="AERF",'Full menu'!AU8="PCB"),"ERfix",IF(OR('Full menu'!AU8="ACB", 'Full menu'!AU8="LCERT", 'Full menu'!AU8="LERT",'Full menu'!AU8="FCERT",'Full menu'!AU8="FERT"),"ERT",IF(OR('Full menu'!AU8="FCMT",'Full menu'!AU8="FMT",'Full menu'!AU8="LMT",'Full menu'!AU8="LCMT"),"MT",IF(OR('Full menu'!AU8="LCIT",'Full menu'!AU8="FCIT",'Full menu'!AU8="LMT",'Full menu'!AU8="FMT"),"IT",IF(OR('Full menu'!AU8="MwERT", 'Full menu'!AU8="ERwMT", 'Full menu'!AU8="M&ERT", 'Full menu'!AU8="MwIT", 'Full menu'!AU8="IwMT", 'Full menu'!AU8="M&IT", 'Full menu'!AU8="IwERT", 'Full menu'!AU8="ERwIT", 'Full menu'!AU8="I&ERT", 'Full menu'!AU8="ER&M&IT"),"MixedT",IF('Full menu'!AU8="UD","UD",IF('Full menu'!AU8="LSD","LSD",IF('Full menu'!AU8="WSD","WSD",""))))))))) | AV8: =IF('Full menu'!AV8="MDC","MDC",IF(OR('Full menu'!AV8="PERF",'Full menu'!AV8="AERF",'Full menu'!AV8="PCB"),"ERfix",IF(OR('Full menu'!AV8="ACB", 'Full menu'!AV8="LCERT", 'Full menu'!AV8="LERT",'Full menu'!AV8="FCERT",'Full menu'!AV8="FERT"),"ERT",IF(OR('Full menu'!AV8="FCMT",'Full menu'!AV8="FMT",'Full menu'!AV8="LMT",'Full menu'!AV8="LCMT"),"MT",IF(OR('Full menu'!AV8="LCIT",'Full menu'!AV8="FCIT",'Full menu'!AV8="LMT",'Full menu'!AV8="FMT"),"IT",IF(OR('Full menu'!AV8="MwERT", 'Full menu'!AV8="ERwMT", 'Full menu'!AV8="M&ERT", 'Full menu'!AV8="MwIT", 'Full menu'!AV8="IwMT", 'Full menu'!AV8="M&IT", 'Full menu'!AV8="IwERT", 'Full menu'!AV8="ERwIT", 'Full menu'!AV8="I&ERT", 'Full menu'!AV8="ER&M&IT"),"MixedT",IF('Full menu'!AV8="UD","UD",IF('Full menu'!AV8="LSD","LSD",IF('Full menu'!AV8="WSD","WSD",""))))))))) | AW8: =IF('Full menu'!AW8="MDC","MDC",IF(OR('Full menu'!AW8="PERF",'Full menu'!AW8="AERF",'Full menu'!AW8="PCB"),"ERfix",IF(OR('Full menu'!AW8="ACB", 'Full menu'!AW8="LCERT", 'Full menu'!AW8="LERT",'Full menu'!AW8="FCERT",'Full menu'!AW8="FERT"),"ERT",IF(OR('Full menu'!AW8="FCMT",'Full menu'!AW8="FMT",'Full menu'!AW8="LMT",'Full menu'!AW8="LCMT"),"MT",IF(OR('Full menu'!AW8="LCIT",'Full menu'!AW8="FCIT",'Full menu'!AW8="LMT",'Full menu'!AW8="FMT"),"IT",IF(OR('Full menu'!AW8="MwERT", 'Full menu'!AW8="ERwMT", 'Full menu'!AW8="M&ERT", 'Full menu'!AW8="MwIT", 'Full menu'!AW8="IwMT", 'Full menu'!AW8="M&IT", 'Full menu'!AW8="IwERT", 'Full menu'!AW8="ERwIT", 'Full menu'!AW8="I&ERT", 'Full menu'!AW8="ER&M&IT"),"MixedT",IF('Full menu'!AW8="UD","UD",IF('Full menu'!AW8="LSD","LSD",IF('Full menu'!AW8="WSD","WSD",""))))))))) | AX8: =IF('Full menu'!AX8="MDC","MDC",IF(OR('Full menu'!AX8="PERF",'Full menu'!AX8="AERF",'Full menu'!AX8="PCB"),"ERfix",IF(OR('Full menu'!AX8="ACB", 'Full menu'!AX8="LCERT", 'Full menu'!AX8="LERT",'Full menu'!AX8="FCERT",'Full menu'!AX8="FERT"),"ERT",IF(OR('Full menu'!AX8="FCMT",'Full menu'!AX8="FMT",'Full menu'!AX8="LMT",'Full menu'!AX8="LCMT"),"MT",IF(OR('Full menu'!AX8="LCIT",'Full menu'!AX8="FCIT",'Full menu'!AX8="LMT",'Full menu'!AX8="FMT"),"IT",IF(OR('Full menu'!AX8="MwERT", 'Full menu'!AX8="ERwMT", 'Full menu'!AX8="M&ERT", 'Full menu'!AX8="MwIT", 'Full menu'!AX8="IwMT", 'Full menu'!AX8="M&IT", 'Full menu'!AX8="IwERT", 'Full menu'!AX8="ERwIT", 'Full menu'!AX8="I&ERT", 'Full menu'!AX8="ER&M&IT"),"MixedT",IF('Full menu'!AX8="UD","UD",IF('Full menu'!AX8="LSD","LSD",IF('Full menu'!AX8="WSD","WSD",""))))))))) | AY8: =IF('Full menu'!AY8="MDC","MDC",IF(OR('Full menu'!AY8="PERF",'Full menu'!AY8="AERF",'Full menu'!AY8="PCB"),"ERfix",IF(OR('Full menu'!AY8="ACB", 'Full menu'!AY8="LCERT", 'Full menu'!AY8="LERT",'Full menu'!AY8="FCERT",'Full menu'!AY8="FERT"),"ERT",IF(OR('Full menu'!AY8="FCMT",'Full menu'!AY8="FMT",'Full menu'!AY8="LMT",'Full menu'!AY8="LCMT"),"MT",IF(OR('Full menu'!AY8="LCIT",'Full menu'!AY8="FCIT",'Full menu'!AY8="LMT",'Full menu'!AY8="FMT"),"IT",IF(OR('Full menu'!AY8="MwERT", 'Full menu'!AY8="ERwMT", 'Full menu'!AY8="M&ERT", 'Full menu'!AY8="MwIT", 'Full menu'!AY8="IwMT", 'Full menu'!AY8="M&IT", 'Full menu'!AY8="IwERT", 'Full menu'!AY8="ERwIT", 'Full menu'!AY8="I&ERT", 'Full menu'!AY8="ER&M&IT"),"MixedT",IF('Full menu'!AY8="UD","UD",IF('Full menu'!AY8="LSD","LSD",IF('Full menu'!AY8="WSD","WSD",""))))))))) | AZ8: =IF('Full menu'!AZ8="MDC","MDC",IF(OR('Full menu'!AZ8="PERF",'Full menu'!AZ8="AERF",'Full menu'!AZ8="PCB"),"ERfix",IF(OR('Full menu'!AZ8="ACB", 'Full menu'!AZ8="LCERT", 'Full menu'!AZ8="LERT",'Full menu'!AZ8="FCERT",'Full menu'!AZ8="FERT"),"ERT",IF(OR('Full menu'!AZ8="FCMT",'Full menu'!AZ8="FMT",'Full menu'!AZ8="LMT",'Full menu'!AZ8="LCMT"),"MT",IF(OR('Full menu'!AZ8="LCIT",'Full menu'!AZ8="FCIT",'Full menu'!AZ8="LMT",'Full menu'!AZ8="FMT"),"IT",IF(OR('Full menu'!AZ8="MwERT", 'Full menu'!AZ8="ERwMT", 'Full menu'!AZ8="M&ERT", 'Full menu'!AZ8="MwIT", 'Full menu'!AZ8="IwMT", 'Full menu'!AZ8="M&IT", 'Full menu'!AZ8="IwERT", 'Full menu'!AZ8="ERwIT", 'Full menu'!AZ8="I&ERT", 'Full menu'!AZ8="ER&M&IT"),"MixedT",IF('Full menu'!AZ8="UD","UD",IF('Full menu'!AZ8="LSD","LSD",IF('Full menu'!AZ8="WSD","WSD",""))))))))) | BA8: =IF('Full menu'!BA8="MDC","MDC",IF(OR('Full menu'!BA8="PERF",'Full menu'!BA8="AERF",'Full menu'!BA8="PCB"),"ERfix",IF(OR('Full menu'!BA8="ACB", 'Full menu'!BA8="LCERT", 'Full menu'!BA8="LERT",'Full menu'!BA8="FCERT",'Full menu'!BA8="FERT"),"ERT",IF(OR('Full menu'!BA8="FCMT",'Full menu'!BA8="FMT",'Full menu'!BA8="LMT",'Full menu'!BA8="LCMT"),"MT",IF(OR('Full menu'!BA8="LCIT",'Full menu'!BA8="FCIT",'Full menu'!BA8="LMT",'Full menu'!BA8="FMT"),"IT",IF(OR('Full menu'!BA8="MwERT", 'Full menu'!BA8="ERwMT", 'Full menu'!BA8="M&ERT", 'Full menu'!BA8="MwIT", 'Full menu'!BA8="IwMT", 'Full menu'!BA8="M&IT", 'Full menu'!BA8="IwERT", 'Full menu'!BA8="ERwIT", 'Full menu'!BA8="I&ERT", 'Full menu'!BA8="ER&M&IT"),"MixedT",IF('Full menu'!BA8="UD","UD",IF('Full menu'!BA8="LSD","LSD",IF('Full menu'!BA8="WSD","WSD",""))))))))) | ... BC8: =IF('Full menu'!BC8="MDC","MDC",IF(OR('Full menu'!BC8="PERF",'Full menu'!BC8="AERF",'Full menu'!BC8="PCB"),"ERfix",IF(OR('Full menu'!BC8="ACB", 'Full menu'!BC8="LCERT", 'Full menu'!BC8="LERT",'Full menu'!BC8="FCERT",'Full menu'!BC8="FERT"),"ERT",IF(OR('Full menu'!BC8="FCMT",'Full menu'!BC8="FMT",'Full menu'!BC8="LMT",'Full menu'!BC8="LCMT"),"MT",IF(OR('Full menu'!BC8="LCIT",'Full menu'!BC8="FCIT",'Full menu'!BC8="LMT",'Full menu'!BC8="FMT"),"IT",IF(OR('Full menu'!BC8="MwERT", 'Full menu'!BC8="ERwMT", 'Full menu'!BC8="M&ERT", 'Full menu'!BC8="MwIT", 'Full menu'!BC8="IwMT", 'Full menu'!BC8="M&IT", 'Full menu'!BC8="IwERT", 'Full menu'!BC8="ERwIT", 'Full menu'!BC8="I&ERT", 'Full menu'!BC8="ER&M&IT"),"MixedT",IF('Full menu'!BC8="UD","UD",IF('Full menu'!BC8="LSD","LSD",IF('Full menu'!BC8="WSD","WSD","")))))))))
A9: Czech Rep | B9: =IF('Full menu'!B9="MDC","MDC",IF(OR('Full menu'!B9="PERF",'Full menu'!B9="AERF",'Full menu'!B9="PCB"),"ERfix",IF(OR('Full menu'!B9="ACB", 'Full menu'!B9="LCERT", 'Full menu'!B9="LERT",'Full menu'!B9="FCERT",'Full menu'!B9="FERT"),"ERTs",IF(OR('Full menu'!B9="FCMT",'Full menu'!B9="FMT",'Full menu'!B9="LMT",'Full menu'!B9="LCMT"),"MTs",IF(OR('Full menu'!B9="LCIT",'Full menu'!B9="FCIT",'Full menu'!B9="LIT",'Full menu'!B9="FIT"),"ITs",IF(OR('Full menu'!B9="MwERT", 'Full menu'!B9="ERwMT", 'Full menu'!B9="M&ERT", 'Full menu'!B9="MwIT", 'Full menu'!B9="IwMT", 'Full menu'!B9="M&IT", 'Full menu'!B9="IwERT", 'Full menu'!B9="ERwIT", 'Full menu'!B9="I&ERT", 'Full menu'!B9="ER&M&IT"),"MixedTs",IF('Full menu'!B9="UD","UD",IF('Full menu'!B9="LSD","LSD",IF('Full menu'!B9="WSD","WSD",""))))))))) | C9: =IF('Full menu'!C9="MDC","MDC",IF(OR('Full menu'!C9="PERF",'Full menu'!C9="AERF",'Full menu'!C9="PCB"),"ERfix",IF(OR('Full menu'!C9="ACB", 'Full menu'!C9="LCERT", 'Full menu'!C9="LERT",'Full menu'!C9="FCERT",'Full menu'!C9="FERT"),"ERTs",IF(OR('Full menu'!C9="FCMT",'Full menu'!C9="FMT",'Full menu'!C9="LMT",'Full menu'!C9="LCMT"),"MTs",IF(OR('Full menu'!C9="LCIT",'Full menu'!C9="FCIT",'Full menu'!C9="LIT",'Full menu'!C9="FIT"),"ITs",IF(OR('Full menu'!C9="MwERT", 'Full menu'!C9="ERwMT", 'Full menu'!C9="M&ERT", 'Full menu'!C9="MwIT", 'Full menu'!C9="IwMT", 'Full menu'!C9="M&IT", 'Full menu'!C9="IwERT", 'Full menu'!C9="ERwIT", 'Full menu'!C9="I&ERT", 'Full menu'!C9="ER&M&IT"),"MixedTs",IF('Full menu'!C9="UD","UD",IF('Full menu'!C9="LSD","LSD",IF('Full menu'!C9="WSD","WSD",""))))))))) | D9: =IF('Full menu'!D9="MDC","MDC",IF(OR('Full menu'!D9="PERF",'Full menu'!D9="AERF",'Full menu'!D9="PCB"),"ERfix",IF(OR('Full menu'!D9="ACB", 'Full menu'!D9="LCERT", 'Full menu'!D9="LERT",'Full menu'!D9="FCERT",'Full menu'!D9="FERT"),"ERTs",IF(OR('Full menu'!D9="FCMT",'Full menu'!D9="FMT",'Full menu'!D9="LMT",'Full menu'!D9="LCMT"),"MTs",IF(OR('Full menu'!D9="LCIT",'Full menu'!D9="FCIT",'Full menu'!D9="LIT",'Full menu'!D9="FIT"),"ITs",IF(OR('Full menu'!D9="MwERT", 'Full menu'!D9="ERwMT", 'Full menu'!D9="M&ERT", 'Full menu'!D9="MwIT", 'Full menu'!D9="IwMT", 'Full menu'!D9="M&IT", 'Full menu'!D9="IwERT", 'Full menu'!D9="ERwIT", 'Full menu'!D9="I&ERT", 'Full menu'!D9="ER&M&IT"),"MixedTs",IF('Full menu'!D9="UD","UD",IF('Full menu'!D9="LSD","LSD",IF('Full menu'!D9="WSD","WSD",""))))))))) | E9: =IF('Full menu'!E9="MDC","MDC",IF(OR('Full menu'!E9="PERF",'Full menu'!E9="AERF",'Full menu'!E9="PCB"),"ERfix",IF(OR('Full menu'!E9="ACB", 'Full menu'!E9="LCERT", 'Full menu'!E9="LERT",'Full menu'!E9="FCERT",'Full menu'!E9="FERT"),"ERTs",IF(OR('Full menu'!E9="FCMT",'Full menu'!E9="FMT",'Full menu'!E9="LMT",'Full menu'!E9="LCMT"),"MTs",IF(OR('Full menu'!E9="LCIT",'Full menu'!E9="FCIT",'Full menu'!E9="LIT",'Full menu'!E9="FIT"),"ITs",IF(OR('Full menu'!E9="MwERT", 'Full menu'!E9="ERwMT", 'Full menu'!E9="M&ERT", 'Full menu'!E9="MwIT", 'Full menu'!E9="IwMT", 'Full menu'!E9="M&IT", 'Full menu'!E9="IwERT", 'Full menu'!E9="ERwIT", 'Full menu'!E9="I&ERT", 'Full menu'!E9="ER&M&IT"),"MixedTs",IF('Full menu'!E9="UD","UD",IF('Full menu'!E9="LSD","LSD",IF('Full menu'!E9="WSD","WSD",""))))))))) | F9: =IF('Full menu'!F9="MDC","MDC",IF(OR('Full menu'!F9="PERF",'Full menu'!F9="AERF",'Full menu'!F9="PCB"),"ERfix",IF(OR('Full menu'!F9="ACB", 'Full menu'!F9="LCERT", 'Full menu'!F9="LERT",'Full menu'!F9="FCERT",'Full menu'!F9="FERT"),"ERTs",IF(OR('Full menu'!F9="FCMT",'Full menu'!F9="FMT",'Full menu'!F9="LMT",'Full menu'!F9="LCMT"),"MTs",IF(OR('Full menu'!F9="LCIT",'Full menu'!F9="FCIT",'Full menu'!F9="LIT",'Full menu'!F9="FIT"),"ITs",IF(OR('Full menu'!F9="MwERT", 'Full menu'!F9="ERwMT", 'Full menu'!F9="M&ERT", 'Full menu'!F9="MwIT", 'Full menu'!F9="IwMT", 'Full menu'!F9="M&IT", 'Full menu'!F9="IwERT", 'Full menu'!F9="ERwIT", 'Full menu'!F9="I&ERT", 'Full menu'!F9="ER&M&IT"),"MixedTs",IF('Full menu'!F9="UD","UD",IF('Full menu'!F9="LSD","LSD",IF('Full menu'!F9="WSD","WSD",""))))))))) | G9: =IF('Full menu'!G9="MDC","MDC",IF(OR('Full menu'!G9="PERF",'Full menu'!G9="AERF",'Full menu'!G9="PCB"),"ERfix",IF(OR('Full menu'!G9="ACB", 'Full menu'!G9="LCERT", 'Full menu'!G9="LERT",'Full menu'!G9="FCERT",'Full menu'!G9="FERT"),"ERTs",IF(OR('Full menu'!G9="FCMT",'Full menu'!G9="FMT",'Full menu'!G9="LMT",'Full menu'!G9="LCMT"),"MTs",IF(OR('Full menu'!G9="LCIT",'Full menu'!G9="FCIT",'Full menu'!G9="LIT",'Full menu'!G9="FIT"),"ITs",IF(OR('Full menu'!G9="MwERT", 'Full menu'!G9="ERwMT", 'Full menu'!G9="M&ERT", 'Full menu'!G9="MwIT", 'Full menu'!G9="IwMT", 'Full menu'!G9="M&IT", 'Full menu'!G9="IwERT", 'Full menu'!G9="ERwIT", 'Full menu'!G9="I&ERT", 'Full menu'!G9="ER&M&IT"),"MixedTs",IF('Full menu'!G9="UD","UD",IF('Full menu'!G9="LSD","LSD",IF('Full menu'!G9="WSD","WSD",""))))))))) | H9: =IF('Full menu'!H9="MDC","MDC",IF(OR('Full menu'!H9="PERF",'Full menu'!H9="AERF",'Full menu'!H9="PCB"),"ERfix",IF(OR('Full menu'!H9="ACB", 'Full menu'!H9="LCERT", 'Full menu'!H9="LERT",'Full menu'!H9="FCERT",'Full menu'!H9="FERT"),"ERTs",IF(OR('Full menu'!H9="FCMT",'Full menu'!H9="FMT",'Full menu'!H9="LMT",'Full menu'!H9="LCMT"),"MTs",IF(OR('Full menu'!H9="LCIT",'Full menu'!H9="FCIT",'Full menu'!H9="LIT",'Full menu'!H9="FIT"),"ITs",IF(OR('Full menu'!H9="MwERT", 'Full menu'!H9="ERwMT", 'Full menu'!H9="M&ERT", 'Full menu'!H9="MwIT", 'Full menu'!H9="IwMT", 'Full menu'!H9="M&IT", 'Full menu'!H9="IwERT", 'Full menu'!H9="ERwIT", 'Full menu'!H9="I&ERT", 'Full menu'!H9="ER&M&IT"),"MixedTs",IF('Full menu'!H9="UD","UD",IF('Full menu'!H9="LSD","LSD",IF('Full menu'!H9="WSD","WSD",""))))))))) | I9: =IF('Full menu'!I9="MDC","MDC",IF(OR('Full menu'!I9="PERF",'Full menu'!I9="AERF",'Full menu'!I9="PCB"),"ERfix",IF(OR('Full menu'!I9="ACB", 'Full menu'!I9="LCERT", 'Full menu'!I9="LERT",'Full menu'!I9="FCERT",'Full menu'!I9="FERT"),"ERTs",IF(OR('Full menu'!I9="FCMT",'Full menu'!I9="FMT",'Full menu'!I9="LMT",'Full menu'!I9="LCMT"),"MTs",IF(OR('Full menu'!I9="LCIT",'Full menu'!I9="FCIT",'Full menu'!I9="LIT",'Full menu'!I9="FIT"),"ITs",IF(OR('Full menu'!I9="MwERT", 'Full menu'!I9="ERwMT", 'Full menu'!I9="M&ERT", 'Full menu'!I9="MwIT", 'Full menu'!I9="IwMT", 'Full menu'!I9="M&IT", 'Full menu'!I9="IwERT", 'Full menu'!I9="ERwIT", 'Full menu'!I9="I&ERT", 'Full menu'!I9="ER&M&IT"),"MixedTs",IF('Full menu'!I9="UD","UD",IF('Full menu'!I9="LSD","LSD",IF('Full menu'!I9="WSD","WSD",""))))))))) | ... AS9: =IF('Full menu'!AS9="MDC","MDC",IF(OR('Full menu'!AS9="PERF",'Full menu'!AS9="AERF",'Full menu'!AS9="PCB"),"ERfix",IF(OR('Full menu'!AS9="ACB", 'Full menu'!AS9="LCERT", 'Full menu'!AS9="LERT",'Full menu'!AS9="FCERT",'Full menu'!AS9="FERT"),"ERTs",IF(OR('Full menu'!AS9="FCMT",'Full menu'!AS9="FMT",'Full menu'!AS9="LMT",'Full menu'!AS9="LCMT"),"MTs",IF(OR('Full menu'!AS9="LCIT",'Full menu'!AS9="FCIT",'Full menu'!AS9="LIT",'Full menu'!AS9="FIT"),"ITs",IF(OR('Full menu'!AS9="MwERT", 'Full menu'!AS9="ERwMT", 'Full menu'!AS9="M&ERT", 'Full menu'!AS9="MwIT", 'Full menu'!AS9="IwMT", 'Full menu'!AS9="M&IT", 'Full menu'!AS9="IwERT", 'Full menu'!AS9="ERwIT", 'Full menu'!AS9="I&ERT", 'Full menu'!AS9="ER&M&IT"),"MixedTs",IF('Full menu'!AS9="UD","UD",IF('Full menu'!AS9="LSD","LSD",IF('Full menu'!AS9="WSD","WSD",""))))))))) -> ITs | AT9: =IF('Full menu'!AT9="MDC","MDC",IF(OR('Full menu'!AT9="PERF",'Full menu'!AT9="AERF",'Full menu'!AT9="PCB"),"ERfix",IF(OR('Full menu'!AT9="ACB", 'Full menu'!AT9="LCERT", 'Full menu'!AT9="LERT",'Full menu'!AT9="FCERT",'Full menu'!AT9="FERT"),"ERT",IF(OR('Full menu'!AT9="FCMT",'Full menu'!AT9="FMT",'Full menu'!AT9="LMT",'Full menu'!AT9="LCMT"),"MT",IF(OR('Full menu'!AT9="LCIT",'Full menu'!AT9="FCIT",'Full menu'!AT9="LMT",'Full menu'!AT9="FMT"),"IT",IF(OR('Full menu'!AT9="MwERT", 'Full menu'!AT9="ERwMT", 'Full menu'!AT9="M&ERT", 'Full menu'!AT9="MwIT", 'Full menu'!AT9="IwMT", 'Full menu'!AT9="M&IT", 'Full menu'!AT9="IwERT", 'Full menu'!AT9="ERwIT", 'Full menu'!AT9="I&ERT", 'Full menu'!AT9="ER&M&IT"),"MixedT",IF('Full menu'!AT9="UD","UD",IF('Full menu'!AT9="LSD","LSD",IF('Full menu'!AT9="WSD","WSD",""))))))))) | AU9: =IF('Full menu'!AU9="MDC","MDC",IF(OR('Full menu'!AU9="PERF",'Full menu'!AU9="AERF",'Full menu'!AU9="PCB"),"ERfix",IF(OR('Full menu'!AU9="ACB", 'Full menu'!AU9="LCERT", 'Full menu'!AU9="LERT",'Full menu'!AU9="FCERT",'Full menu'!AU9="FERT"),"ERT",IF(OR('Full menu'!AU9="FCMT",'Full menu'!AU9="FMT",'Full menu'!AU9="LMT",'Full menu'!AU9="LCMT"),"MT",IF(OR('Full menu'!AU9="LCIT",'Full menu'!AU9="FCIT",'Full menu'!AU9="LMT",'Full menu'!AU9="FMT"),"IT",IF(OR('Full menu'!AU9="MwERT", 'Full menu'!AU9="ERwMT", 'Full menu'!AU9="M&ERT", 'Full menu'!AU9="MwIT", 'Full menu'!AU9="IwMT", 'Full menu'!AU9="M&IT", 'Full menu'!AU9="IwERT", 'Full menu'!AU9="ERwIT", 'Full menu'!AU9="I&ERT", 'Full menu'!AU9="ER&M&IT"),"MixedT",IF('Full menu'!AU9="UD","UD",IF('Full menu'!AU9="LSD","LSD",IF('Full menu'!AU9="WSD","WSD",""))))))))) | AV9: =IF('Full menu'!AV9="MDC","MDC",IF(OR('Full menu'!AV9="PERF",'Full menu'!AV9="AERF",'Full menu'!AV9="PCB"),"ERfix",IF(OR('Full menu'!AV9="ACB", 'Full menu'!AV9="LCERT", 'Full menu'!AV9="LERT",'Full menu'!AV9="FCERT",'Full menu'!AV9="FERT"),"ERT",IF(OR('Full menu'!AV9="FCMT",'Full menu'!AV9="FMT",'Full menu'!AV9="LMT",'Full menu'!AV9="LCMT"),"MT",IF(OR('Full menu'!AV9="LCIT",'Full menu'!AV9="FCIT",'Full menu'!AV9="LMT",'Full menu'!AV9="FMT"),"IT",IF(OR('Full menu'!AV9="MwERT", 'Full menu'!AV9="ERwMT", 'Full menu'!AV9="M&ERT", 'Full menu'!AV9="MwIT", 'Full menu'!AV9="IwMT", 'Full menu'!AV9="M&IT", 'Full menu'!AV9="IwERT", 'Full menu'!AV9="ERwIT", 'Full menu'!AV9="I&ERT", 'Full menu'!AV9="ER&M&IT"),"MixedT",IF('Full menu'!AV9="UD","UD",IF('Full menu'!AV9="LSD","LSD",IF('Full menu'!AV9="WSD","WSD",""))))))))) | AW9: =IF('Full menu'!AW9="MDC","MDC",IF(OR('Full menu'!AW9="PERF",'Full menu'!AW9="AERF",'Full menu'!AW9="PCB"),"ERfix",IF(OR('Full menu'!AW9="ACB", 'Full menu'!AW9="LCERT", 'Full menu'!AW9="LERT",'Full menu'!AW9="FCERT",'Full menu'!AW9="FERT"),"ERT",IF(OR('Full menu'!AW9="FCMT",'Full menu'!AW9="FMT",'Full menu'!AW9="LMT",'Full menu'!AW9="LCMT"),"MT",IF(OR('Full menu'!AW9="LCIT",'Full menu'!AW9="FCIT",'Full menu'!AW9="LMT",'Full menu'!AW9="FMT"),"IT",IF(OR('Full menu'!AW9="MwERT", 'Full menu'!AW9="ERwMT", 'Full menu'!AW9="M&ERT", 'Full menu'!AW9="MwIT", 'Full menu'!AW9="IwMT", 'Full menu'!AW9="M&IT", 'Full menu'!AW9="IwERT", 'Full menu'!AW9="ERwIT", 'Full menu'!AW9="I&ERT", 'Full menu'!AW9="ER&M&IT"),"MixedT",IF('Full menu'!AW9="UD","UD",IF('Full menu'!AW9="LSD","LSD",IF('Full menu'!AW9="WSD","WSD",""))))))))) | AX9: =IF('Full menu'!AX9="MDC","MDC",IF(OR('Full menu'!AX9="PERF",'Full menu'!AX9="AERF",'Full menu'!AX9="PCB"),"ERfix",IF(OR('Full menu'!AX9="ACB", 'Full menu'!AX9="LCERT", 'Full menu'!AX9="LERT",'Full menu'!AX9="FCERT",'Full menu'!AX9="FERT"),"ERT",IF(OR('Full menu'!AX9="FCMT",'Full menu'!AX9="FMT",'Full menu'!AX9="LMT",'Full menu'!AX9="LCMT"),"MT",IF(OR('Full menu'!AX9="LCIT",'Full menu'!AX9="FCIT",'Full menu'!AX9="LMT",'Full menu'!AX9="FMT"),"IT",IF(OR('Full menu'!AX9="MwERT", 'Full menu'!AX9="ERwMT", 'Full menu'!AX9="M&ERT", 'Full menu'!AX9="MwIT", 'Full menu'!AX9="IwMT", 'Full menu'!AX9="M&IT", 'Full menu'!AX9="IwERT", 'Full menu'!AX9="ERwIT", 'Full menu'!AX9="I&ERT", 'Full menu'!AX9="ER&M&IT"),"MixedT",IF('Full menu'!AX9="UD","UD",IF('Full menu'!AX9="LSD","LSD",IF('Full menu'!AX9="WSD","WSD",""))))))))) | AY9: =IF('Full menu'!AY9="MDC","MDC",IF(OR('Full menu'!AY9="PERF",'Full menu'!AY9="AERF",'Full menu'!AY9="PCB"),"ERfix",IF(OR('Full menu'!AY9="ACB", 'Full menu'!AY9="LCERT", 'Full menu'!AY9="LERT",'Full menu'!AY9="FCERT",'Full menu'!AY9="FERT"),"ERT",IF(OR('Full menu'!AY9="FCMT",'Full menu'!AY9="FMT",'Full menu'!AY9="LMT",'Full menu'!AY9="LCMT"),"MT",IF(OR('Full menu'!AY9="LCIT",'Full menu'!AY9="FCIT",'Full menu'!AY9="LMT",'Full menu'!AY9="FMT"),"IT",IF(OR('Full menu'!AY9="MwERT", 'Full menu'!AY9="ERwMT", 'Full menu'!AY9="M&ERT", 'Full menu'!AY9="MwIT", 'Full menu'!AY9="IwMT", 'Full menu'!AY9="M&IT", 'Full menu'!AY9="IwERT", 'Full menu'!AY9="ERwIT", 'Full menu'!AY9="I&ERT", 'Full menu'!AY9="ER&M&IT"),"MixedT",IF('Full menu'!AY9="UD","UD",IF('Full menu'!AY9="LSD","LSD",IF('Full menu'!AY9="WSD","WSD",""))))))))) | AZ9: =IF('Full menu'!AZ9="MDC","MDC",IF(OR('Full menu'!AZ9="PERF",'Full menu'!AZ9="AERF",'Full menu'!AZ9="PCB"),"ERfix",IF(OR('Full menu'!AZ9="ACB", 'Full menu'!AZ9="LCERT", 'Full menu'!AZ9="LERT",'Full menu'!AZ9="FCERT",'Full menu'!AZ9="FERT"),"ERT",IF(OR('Full menu'!AZ9="FCMT",'Full menu'!AZ9="FMT",'Full menu'!AZ9="LMT",'Full menu'!AZ9="LCMT"),"MT",IF(OR('Full menu'!AZ9="LCIT",'Full menu'!AZ9="FCIT",'Full menu'!AZ9="LMT",'Full menu'!AZ9="FMT"),"IT",IF(OR('Full menu'!AZ9="MwERT", 'Full menu'!AZ9="ERwMT", 'Full menu'!AZ9="M&ERT", 'Full menu'!AZ9="MwIT", 'Full menu'!AZ9="IwMT", 'Full menu'!AZ9="M&IT", 'Full menu'!AZ9="IwERT", 'Full menu'!AZ9="ERwIT", 'Full menu'!AZ9="I&ERT", 'Full menu'!AZ9="ER&M&IT"),"MixedT",IF('Full menu'!AZ9="UD","UD",IF('Full menu'!AZ9="LSD","LSD",IF('Full menu'!AZ9="WSD","WSD",""))))))))) | BA9: =IF('Full menu'!BA9="MDC","MDC",IF(OR('Full menu'!BA9="PERF",'Full menu'!BA9="AERF",'Full menu'!BA9="PCB"),"ERfix",IF(OR('Full menu'!BA9="ACB", 'Full menu'!BA9="LCERT", 'Full menu'!BA9="LERT",'Full menu'!BA9="FCERT",'Full menu'!BA9="FERT"),"ERT",IF(OR('Full menu'!BA9="FCMT",'Full menu'!BA9="FMT",'Full menu'!BA9="LMT",'Full menu'!BA9="LCMT"),"MT",IF(OR('Full menu'!BA9="LCIT",'Full menu'!BA9="FCIT",'Full menu'!BA9="LMT",'Full menu'!BA9="FMT"),"IT",IF(OR('Full menu'!BA9="MwERT", 'Full menu'!BA9="ERwMT", 'Full menu'!BA9="M&ERT", 'Full menu'!BA9="MwIT", 'Full menu'!BA9="IwMT", 'Full menu'!BA9="M&IT", 'Full menu'!BA9="IwERT", 'Full menu'!BA9="ERwIT", 'Full menu'!BA9="I&ERT", 'Full menu'!BA9="ER&M&IT"),"MixedT",IF('Full menu'!BA9="UD","UD",IF('Full menu'!BA9="LSD","LSD",IF('Full menu'!BA9="WSD","WSD",""))))))))) | ... BC9: =IF('Full menu'!BC9="MDC","MDC",IF(OR('Full menu'!BC9="PERF",'Full menu'!BC9="AERF",'Full menu'!BC9="PCB"),"ERfix",IF(OR('Full menu'!BC9="ACB", 'Full menu'!BC9="LCERT", 'Full menu'!BC9="LERT",'Full menu'!BC9="FCERT",'Full menu'!BC9="FERT"),"ERT",IF(OR('Full menu'!BC9="FCMT",'Full menu'!BC9="FMT",'Full menu'!BC9="LMT",'Full menu'!BC9="LCMT"),"MT",IF(OR('Full menu'!BC9="LCIT",'Full menu'!BC9="FCIT",'Full menu'!BC9="LMT",'Full menu'!BC9="FMT"),"IT",IF(OR('Full menu'!BC9="MwERT", 'Full menu'!BC9="ERwMT", 'Full menu'!BC9="M&ERT", 'Full menu'!BC9="MwIT", 'Full menu'!BC9="IwMT", 'Full menu'!BC9="M&IT", 'Full menu'!BC9="IwERT", 'Full menu'!BC9="ERwIT", 'Full menu'!BC9="I&ERT", 'Full menu'!BC9="ER&M&IT"),"MixedT",IF('Full menu'!BC9="UD","UD",IF('Full menu'!BC9="LSD","LSD",IF('Full menu'!BC9="WSD","WSD","")))))))))
A10: Czechoslovakia | B10: =IF('Full menu'!B10="MDC","MDC",IF(OR('Full menu'!B10="PERF",'Full menu'!B10="AERF",'Full menu'!B10="PCB"),"ERfix",IF(OR('Full menu'!B10="ACB", 'Full menu'!B10="LCERT", 'Full menu'!B10="LERT",'Full menu'!B10="FCERT",'Full menu'!B10="FERT"),"ERTs",IF(OR('Full menu'!B10="FCMT",'Full menu'!B10="FMT",'Full menu'!B10="LMT",'Full menu'!B10="LCMT"),"MTs",IF(OR('Full menu'!B10="LCIT",'Full menu'!B10="FCIT",'Full menu'!B10="LIT",'Full menu'!B10="FIT"),"ITs",IF(OR('Full menu'!B10="MwERT", 'Full menu'!B10="ERwMT", 'Full menu'!B10="M&ERT", 'Full menu'!B10="MwIT", 'Full menu'!B10="IwMT", 'Full menu'!B10="M&IT", 'Full menu'!B10="IwERT", 'Full menu'!B10="ERwIT", 'Full menu'!B10="I&ERT", 'Full menu'!B10="ER&M&IT"),"MixedTs",IF('Full menu'!B10="UD","UD",IF('Full menu'!B10="LSD","LSD",IF('Full menu'!B10="WSD","WSD",""))))))))) -> MDC | C10: =IF('Full menu'!C10="MDC","MDC",IF(OR('Full menu'!C10="PERF",'Full menu'!C10="AERF",'Full menu'!C10="PCB"),"ERfix",IF(OR('Full menu'!C10="ACB", 'Full menu'!C10="LCERT", 'Full menu'!C10="LERT",'Full menu'!C10="FCERT",'Full menu'!C10="FERT"),"ERTs",IF(OR('Full menu'!C10="FCMT",'Full menu'!C10="FMT",'Full menu'!C10="LMT",'Full menu'!C10="LCMT"),"MTs",IF(OR('Full menu'!C10="LCIT",'Full menu'!C10="FCIT",'Full menu'!C10="LIT",'Full menu'!C10="FIT"),"ITs",IF(OR('Full menu'!C10="MwERT", 'Full menu'!C10="ERwMT", 'Full menu'!C10="M&ERT", 'Full menu'!C10="MwIT", 'Full menu'!C10="IwMT", 'Full menu'!C10="M&IT", 'Full menu'!C10="IwERT", 'Full menu'!C10="ERwIT", 'Full menu'!C10="I&ERT", 'Full menu'!C10="ER&M&IT"),"MixedTs",IF('Full menu'!C10="UD","UD",IF('Full menu'!C10="LSD","LSD",IF('Full menu'!C10="WSD","WSD",""))))))))) -> MDC | D10: =IF('Full menu'!D10="MDC","MDC",IF(OR('Full menu'!D10="PERF",'Full menu'!D10="AERF",'Full menu'!D10="PCB"),"ERfix",IF(OR('Full menu'!D10="ACB", 'Full menu'!D10="LCERT", 'Full menu'!D10="LERT",'Full menu'!D10="FCERT",'Full menu'!D10="FERT"),"ERTs",IF(OR('Full menu'!D10="FCMT",'Full menu'!D10="FMT",'Full menu'!D10="LMT",'Full menu'!D10="LCMT"),"MTs",IF(OR('Full menu'!D10="LCIT",'Full menu'!D10="FCIT",'Full menu'!D10="LIT",'Full menu'!D10="FIT"),"ITs",IF(OR('Full menu'!D10="MwERT", 'Full menu'!D10="ERwMT", 'Full menu'!D10="M&ERT", 'Full menu'!D10="MwIT", 'Full menu'!D10="IwMT", 'Full menu'!D10="M&IT", 'Full menu'!D10="IwERT", 'Full menu'!D10="ERwIT", 'Full menu'!D10="I&ERT", 'Full menu'!D10="ER&M&IT"),"MixedTs",IF('Full menu'!D10="UD","UD",IF('Full menu'!D10="LSD","LSD",IF('Full menu'!D10="WSD","WSD",""))))))))) -> MDC | E10: =IF('Full menu'!E10="MDC","MDC",IF(OR('Full menu'!E10="PERF",'Full menu'!E10="AERF",'Full menu'!E10="PCB"),"ERfix",IF(OR('Full menu'!E10="ACB", 'Full menu'!E10="LCERT", 'Full menu'!E10="LERT",'Full menu'!E10="FCERT",'Full menu'!E10="FERT"),"ERTs",IF(OR('Full menu'!E10="FCMT",'Full menu'!E10="FMT",'Full menu'!E10="LMT",'Full menu'!E10="LCMT"),"MTs",IF(OR('Full menu'!E10="LCIT",'Full menu'!E10="FCIT",'Full menu'!E10="LIT",'Full menu'!E10="FIT"),"ITs",IF(OR('Full menu'!E10="MwERT", 'Full menu'!E10="ERwMT", 'Full menu'!E10="M&ERT", 'Full menu'!E10="MwIT", 'Full menu'!E10="IwMT", 'Full menu'!E10="M&IT", 'Full menu'!E10="IwERT", 'Full menu'!E10="ERwIT", 'Full menu'!E10="I&ERT", 'Full menu'!E10="ER&M&IT"),"MixedTs",IF('Full menu'!E10="UD","UD",IF('Full menu'!E10="LSD","LSD",IF('Full menu'!E10="WSD","WSD",""))))))))) -> MDC | F10: =IF('Full menu'!F10="MDC","MDC",IF(OR('Full menu'!F10="PERF",'Full menu'!F10="AERF",'Full menu'!F10="PCB"),"ERfix",IF(OR('Full menu'!F10="ACB", 'Full menu'!F10="LCERT", 'Full menu'!F10="LERT",'Full menu'!F10="FCERT",'Full menu'!F10="FERT"),"ERTs",IF(OR('Full menu'!F10="FCMT",'Full menu'!F10="FMT",'Full menu'!F10="LMT",'Full menu'!F10="LCMT"),"MTs",IF(OR('Full menu'!F10="LCIT",'Full menu'!F10="FCIT",'Full menu'!F10="LIT",'Full menu'!F10="FIT"),"ITs",IF(OR('Full menu'!F10="MwERT", 'Full menu'!F10="ERwMT", 'Full menu'!F10="M&ERT", 'Full menu'!F10="MwIT", 'Full menu'!F10="IwMT", 'Full menu'!F10="M&IT", 'Full menu'!F10="IwERT", 'Full menu'!F10="ERwIT", 'Full menu'!F10="I&ERT", 'Full menu'!F10="ER&M&IT"),"MixedTs",IF('Full menu'!F10="UD","UD",IF('Full menu'!F10="LSD","LSD",IF('Full menu'!F10="WSD","WSD",""))))))))) -> MDC | G10: =IF('Full menu'!G10="MDC","MDC",IF(OR('Full menu'!G10="PERF",'Full menu'!G10="AERF",'Full menu'!G10="PCB"),"ERfix",IF(OR('Full menu'!G10="ACB", 'Full menu'!G10="LCERT", 'Full menu'!G10="LERT",'Full menu'!G10="FCERT",'Full menu'!G10="FERT"),"ERTs",IF(OR('Full menu'!G10="FCMT",'Full menu'!G10="FMT",'Full menu'!G10="LMT",'Full menu'!G10="LCMT"),"MTs",IF(OR('Full menu'!G10="LCIT",'Full menu'!G10="FCIT",'Full menu'!G10="LIT",'Full menu'!G10="FIT"),"ITs",IF(OR('Full menu'!G10="MwERT", 'Full menu'!G10="ERwMT", 'Full menu'!G10="M&ERT", 'Full menu'!G10="MwIT", 'Full menu'!G10="IwMT", 'Full menu'!G10="M&IT", 'Full menu'!G10="IwERT", 'Full menu'!G10="ERwIT", 'Full menu'!G10="I&ERT", 'Full menu'!G10="ER&M&IT"),"MixedTs",IF('Full menu'!G10="UD","UD",IF('Full menu'!G10="LSD","LSD",IF('Full menu'!G10="WSD","WSD",""))))))))) -> MDC | H10: =IF('Full menu'!H10="MDC","MDC",IF(OR('Full menu'!H10="PERF",'Full menu'!H10="AERF",'Full menu'!H10="PCB"),"ERfix",IF(OR('Full menu'!H10="ACB", 'Full menu'!H10="LCERT", 'Full menu'!H10="LERT",'Full menu'!H10="FCERT",'Full menu'!H10="FERT"),"ERTs",IF(OR('Full menu'!H10="FCMT",'Full menu'!H10="FMT",'Full menu'!H10="LMT",'Full menu'!H10="LCMT"),"MTs",IF(OR('Full menu'!H10="LCIT",'Full menu'!H10="FCIT",'Full menu'!H10="LIT",'Full menu'!H10="FIT"),"ITs",IF(OR('Full menu'!H10="MwERT", 'Full menu'!H10="ERwMT", 'Full menu'!H10="M&ERT", 'Full menu'!H10="MwIT", 'Full menu'!H10="IwMT", 'Full menu'!H10="M&IT", 'Full menu'!H10="IwERT", 'Full menu'!H10="ERwIT", 'Full menu'!H10="I&ERT", 'Full menu'!H10="ER&M&IT"),"MixedTs",IF('Full menu'!H10="UD","UD",IF('Full menu'!H10="LSD","LSD",IF('Full menu'!H10="WSD","WSD",""))))))))) -> MDC | I10: =IF('Full menu'!I10="MDC","MDC",IF(OR('Full menu'!I10="PERF",'Full menu'!I10="AERF",'Full menu'!I10="PCB"),"ERfix",IF(OR('Full menu'!I10="ACB", 'Full menu'!I10="LCERT", 'Full menu'!I10="LERT",'Full menu'!I10="FCERT",'Full menu'!I10="FERT"),"ERTs",IF(OR('Full menu'!I10="FCMT",'Full menu'!I10="FMT",'Full menu'!I10="LMT",'Full menu'!I10="LCMT"),"MTs",IF(OR('Full menu'!I10="LCIT",'Full menu'!I10="FCIT",'Full menu'!I10="LIT",'Full menu'!I10="FIT"),"ITs",IF(OR('Full menu'!I10="MwERT", 'Full menu'!I10="ERwMT", 'Full menu'!I10="M&ERT", 'Full menu'!I10="MwIT", 'Full menu'!I10="IwMT", 'Full menu'!I10="M&IT", 'Full menu'!I10="IwERT", 'Full menu'!I10="ERwIT", 'Full menu'!I10="I&ERT", 'Full menu'!I10="ER&M&IT"),"MixedTs",IF('Full menu'!I10="UD","UD",IF('Full menu'!I10="LSD","LSD",IF('Full menu'!I10="WSD","WSD",""))))))))) -> MDC | ... AS10: =IF('Full menu'!AS10="MDC","MDC",IF(OR('Full menu'!AS10="PERF",'Full menu'!AS10="AERF",'Full menu'!AS10="PCB"),"ERfix",IF(OR('Full menu'!AS10="ACB", 'Full menu'!AS10="LCERT", 'Full menu'!AS10="LERT",'Full menu'!AS10="FCERT",'Full menu'!AS10="FERT"),"ERTs",IF(OR('Full menu'!AS10="FCMT",'Full menu'!AS10="FMT",'Full menu'!AS10="LMT",'Full menu'!AS10="LCMT"),"MTs",IF(OR('Full menu'!AS10="LCIT",'Full menu'!AS10="FCIT",'Full menu'!AS10="LIT",'Full menu'!AS10="FIT"),"ITs",IF(OR('Full menu'!AS10="MwERT", 'Full menu'!AS10="ERwMT", 'Full menu'!AS10="M&ERT", 'Full menu'!AS10="MwIT", 'Full menu'!AS10="IwMT", 'Full menu'!AS10="M&IT", 'Full menu'!AS10="IwERT", 'Full menu'!AS10="ERwIT", 'Full menu'!AS10="I&ERT", 'Full menu'!AS10="ER&M&IT"),"MixedTs",IF('Full menu'!AS10="UD","UD",IF('Full menu'!AS10="LSD","LSD",IF('Full menu'!AS10="WSD","WSD","")))))))))
A11: Egypt | B11: =IF('Full menu'!B11="MDC","MDC",IF(OR('Full menu'!B11="PERF",'Full menu'!B11="AERF",'Full menu'!B11="PCB"),"ERfix",IF(OR('Full menu'!B11="ACB", 'Full menu'!B11="LCERT", 'Full menu'!B11="LERT",'Full menu'!B11="FCERT",'Full menu'!B11="FERT"),"ERTs",IF(OR('Full menu'!B11="FCMT",'Full menu'!B11="FMT",'Full menu'!B11="LMT",'Full menu'!B11="LCMT"),"MTs",IF(OR('Full menu'!B11="LCIT",'Full menu'!B11="FCIT",'Full menu'!B11="LIT",'Full menu'!B11="FIT"),"ITs",IF(OR('Full menu'!B11="MwERT", 'Full menu'!B11="ERwMT", 'Full menu'!B11="M&ERT", 'Full menu'!B11="MwIT", 'Full menu'!B11="IwMT", 'Full menu'!B11="M&IT", 'Full menu'!B11="IwERT", 'Full menu'!B11="ERwIT", 'Full menu'!B11="I&ERT", 'Full menu'!B11="ER&M&IT"),"MixedTs",IF('Full menu'!B11="UD","UD",IF('Full menu'!B11="LSD","LSD",IF('Full menu'!B11="WSD","WSD",""))))))))) -> MDC | C11: =IF('Full menu'!C11="MDC","MDC",IF(OR('Full menu'!C11="PERF",'Full menu'!C11="AERF",'Full menu'!C11="PCB"),"ERfix",IF(OR('Full menu'!C11="ACB", 'Full menu'!C11="LCERT", 'Full menu'!C11="LERT",'Full menu'!C11="FCERT",'Full menu'!C11="FERT"),"ERTs",IF(OR('Full menu'!C11="FCMT",'Full menu'!C11="FMT",'Full menu'!C11="LMT",'Full menu'!C11="LCMT"),"MTs",IF(OR('Full menu'!C11="LCIT",'Full menu'!C11="FCIT",'Full menu'!C11="LIT",'Full menu'!C11="FIT"),"ITs",IF(OR('Full menu'!C11="MwERT", 'Full menu'!C11="ERwMT", 'Full menu'!C11="M&ERT", 'Full menu'!C11="MwIT", 'Full menu'!C11="IwMT", 'Full menu'!C11="M&IT", 'Full menu'!C11="IwERT", 'Full menu'!C11="ERwIT", 'Full menu'!C11="I&ERT", 'Full menu'!C11="ER&M&IT"),"MixedTs",IF('Full menu'!C11="UD","UD",IF('Full menu'!C11="LSD","LSD",IF('Full menu'!C11="WSD","WSD",""))))))))) -> MDC | D11: =IF('Full menu'!D11="MDC","MDC",IF(OR('Full menu'!D11="PERF",'Full menu'!D11="AERF",'Full menu'!D11="PCB"),"ERfix",IF(OR('Full menu'!D11="ACB", 'Full menu'!D11="LCERT", 'Full menu'!D11="LERT",'Full menu'!D11="FCERT",'Full menu'!D11="FERT"),"ERTs",IF(OR('Full menu'!D11="FCMT",'Full menu'!D11="FMT",'Full menu'!D11="LMT",'Full menu'!D11="LCMT"),"MTs",IF(OR('Full menu'!D11="LCIT",'Full menu'!D11="FCIT",'Full menu'!D11="LIT",'Full menu'!D11="FIT"),"ITs",IF(OR('Full menu'!D11="MwERT", 'Full menu'!D11="ERwMT", 'Full menu'!D11="M&ERT", 'Full menu'!D11="MwIT", 'Full menu'!D11="IwMT", 'Full menu'!D11="M&IT", 'Full menu'!D11="IwERT", 'Full menu'!D11="ERwIT", 'Full menu'!D11="I&ERT", 'Full menu'!D11="ER&M&IT"),"MixedTs",IF('Full menu'!D11="UD","UD",IF('Full menu'!D11="LSD","LSD",IF('Full menu'!D11="WSD","WSD",""))))))))) -> MDC | E11: =IF('Full menu'!E11="MDC","MDC",IF(OR('Full menu'!E11="PERF",'Full menu'!E11="AERF",'Full menu'!E11="PCB"),"ERfix",IF(OR('Full menu'!E11="ACB", 'Full menu'!E11="LCERT", 'Full menu'!E11="LERT",'Full menu'!E11="FCERT",'Full menu'!E11="FERT"),"ERTs",IF(OR('Full menu'!E11="FCMT",'Full menu'!E11="FMT",'Full menu'!E11="LMT",'Full menu'!E11="LCMT"),"MTs",IF(OR('Full menu'!E11="LCIT",'Full menu'!E11="FCIT",'Full menu'!E11="LIT",'Full menu'!E11="FIT"),"ITs",IF(OR('Full menu'!E11="MwERT", 'Full menu'!E11="ERwMT", 'Full menu'!E11="M&ERT", 'Full menu'!E11="MwIT", 'Full menu'!E11="IwMT", 'Full menu'!E11="M&IT", 'Full menu'!E11="IwERT", 'Full menu'!E11="ERwIT", 'Full menu'!E11="I&ERT", 'Full menu'!E11="ER&M&IT"),"MixedTs",IF('Full menu'!E11="UD","UD",IF('Full menu'!E11="LSD","LSD",IF('Full menu'!E11="WSD","WSD",""))))))))) -> UD | F11: =IF('Full menu'!F11="MDC","MDC",IF(OR('Full menu'!F11="PERF",'Full menu'!F11="AERF",'Full menu'!F11="PCB"),"ERfix",IF(OR('Full menu'!F11="ACB", 'Full menu'!F11="LCERT", 'Full menu'!F11="LERT",'Full menu'!F11="FCERT",'Full menu'!F11="FERT"),"ERTs",IF(OR('Full menu'!F11="FCMT",'Full menu'!F11="FMT",'Full menu'!F11="LMT",'Full menu'!F11="LCMT"),"MTs",IF(OR('Full menu'!F11="LCIT",'Full menu'!F11="FCIT",'Full menu'!F11="LIT",'Full menu'!F11="FIT"),"ITs",IF(OR('Full menu'!F11="MwERT", 'Full menu'!F11="ERwMT", 'Full menu'!F11="M&ERT", 'Full menu'!F11="MwIT", 'Full menu'!F11="IwMT", 'Full menu'!F11="M&IT", 'Full menu'!F11="IwERT", 'Full menu'!F11="ERwIT", 'Full menu'!F11="I&ERT", 'Full menu'!F11="ER&M&IT"),"MixedTs",IF('Full menu'!F11="UD","UD",IF('Full menu'!F11="LSD","LSD",IF('Full menu'!F11="WSD","WSD",""))))))))) -> UD | G11: =IF('Full menu'!G11="MDC","MDC",IF(OR('Full menu'!G11="PERF",'Full menu'!G11="AERF",'Full menu'!G11="PCB"),"ERfix",IF(OR('Full menu'!G11="ACB", 'Full menu'!G11="LCERT", 'Full menu'!G11="LERT",'Full menu'!G11="FCERT",'Full menu'!G11="FERT"),"ERTs",IF(OR('Full menu'!G11="FCMT",'Full menu'!G11="FMT",'Full menu'!G11="LMT",'Full menu'!G11="LCMT"),"MTs",IF(OR('Full menu'!G11="LCIT",'Full menu'!G11="FCIT",'Full menu'!G11="LIT",'Full menu'!G11="FIT"),"ITs",IF(OR('Full menu'!G11="MwERT", 'Full menu'!G11="ERwMT", 'Full menu'!G11="M&ERT", 'Full menu'!G11="MwIT", 'Full menu'!G11="IwMT", 'Full menu'!G11="M&IT", 'Full menu'!G11="IwERT", 'Full menu'!G11="ERwIT", 'Full menu'!G11="I&ERT", 'Full menu'!G11="ER&M&IT"),"MixedTs",IF('Full menu'!G11="UD","UD",IF('Full menu'!G11="LSD","LSD",IF('Full menu'!G11="WSD","WSD",""))))))))) -> UD | H11: =IF('Full menu'!H11="MDC","MDC",IF(OR('Full menu'!H11="PERF",'Full menu'!H11="AERF",'Full menu'!H11="PCB"),"ERfix",IF(OR('Full menu'!H11="ACB", 'Full menu'!H11="LCERT", 'Full menu'!H11="LERT",'Full menu'!H11="FCERT",'Full menu'!H11="FERT"),"ERTs",IF(OR('Full menu'!H11="FCMT",'Full menu'!H11="FMT",'Full menu'!H11="LMT",'Full menu'!H11="LCMT"),"MTs",IF(OR('Full menu'!H11="LCIT",'Full menu'!H11="FCIT",'Full menu'!H11="LIT",'Full menu'!H11="FIT"),"ITs",IF(OR('Full menu'!H11="MwERT", 'Full menu'!H11="ERwMT", 'Full menu'!H11="M&ERT", 'Full menu'!H11="MwIT", 'Full menu'!H11="IwMT", 'Full menu'!H11="M&IT", 'Full menu'!H11="IwERT", 'Full menu'!H11="ERwIT", 'Full menu'!H11="I&ERT", 'Full menu'!H11="ER&M&IT"),"MixedTs",IF('Full menu'!H11="UD","UD",IF('Full menu'!H11="LSD","LSD",IF('Full menu'!H11="WSD","WSD",""))))))))) -> UD | I11: =IF('Full menu'!I11="MDC","MDC",IF(OR('Full menu'!I11="PERF",'Full menu'!I11="AERF",'Full menu'!I11="PCB"),"ERfix",IF(OR('Full menu'!I11="ACB", 'Full menu'!I11="LCERT", 'Full menu'!I11="LERT",'Full menu'!I11="FCERT",'Full menu'!I11="FERT"),"ERTs",IF(OR('Full menu'!I11="FCMT",'Full menu'!I11="FMT",'Full menu'!I11="LMT",'Full menu'!I11="LCMT"),"MTs",IF(OR('Full menu'!I11="LCIT",'Full menu'!I11="FCIT",'Full menu'!I11="LIT",'Full menu'!I11="FIT"),"ITs",IF(OR('Full menu'!I11="MwERT", 'Full menu'!I11="ERwMT", 'Full menu'!I11="M&ERT", 'Full menu'!I11="MwIT", 'Full menu'!I11="IwMT", 'Full menu'!I11="M&IT", 'Full menu'!I11="IwERT", 'Full menu'!I11="ERwIT", 'Full menu'!I11="I&ERT", 'Full menu'!I11="ER&M&IT"),"MixedTs",IF('Full menu'!I11="UD","UD",IF('Full menu'!I11="LSD","LSD",IF('Full menu'!I11="WSD","WSD",""))))))))) -> UD | ... AS11: =IF('Full menu'!AS11="MDC","MDC",IF(OR('Full menu'!AS11="PERF",'Full menu'!AS11="AERF",'Full menu'!AS11="PCB"),"ERfix",IF(OR('Full menu'!AS11="ACB", 'Full menu'!AS11="LCERT", 'Full menu'!AS11="LERT",'Full menu'!AS11="FCERT",'Full menu'!AS11="FERT"),"ERTs",IF(OR('Full menu'!AS11="FCMT",'Full menu'!AS11="FMT",'Full menu'!AS11="LMT",'Full menu'!AS11="LCMT"),"MTs",IF(OR('Full menu'!AS11="LCIT",'Full menu'!AS11="FCIT",'Full menu'!AS11="LIT",'Full menu'!AS11="FIT"),"ITs",IF(OR('Full menu'!AS11="MwERT", 'Full menu'!AS11="ERwMT", 'Full menu'!AS11="M&ERT", 'Full menu'!AS11="MwIT", 'Full menu'!AS11="IwMT", 'Full menu'!AS11="M&IT", 'Full menu'!AS11="IwERT", 'Full menu'!AS11="ERwIT", 'Full menu'!AS11="I&ERT", 'Full menu'!AS11="ER&M&IT"),"MixedTs",IF('Full menu'!AS11="UD","UD",IF('Full menu'!AS11="LSD","LSD",IF('Full menu'!AS11="WSD","WSD",""))))))))) -> LSD | AT11: =IF('Full menu'!AT11="MDC","MDC",IF(OR('Full menu'!AT11="PERF",'Full menu'!AT11="AERF",'Full menu'!AT11="PCB"),"ERfix",IF(OR('Full menu'!AT11="ACB", 'Full menu'!AT11="LCERT", 'Full menu'!AT11="LERT",'Full menu'!AT11="FCERT",'Full menu'!AT11="FERT"),"ERT",IF(OR('Full menu'!AT11="FCMT",'Full menu'!AT11="FMT",'Full menu'!AT11="LMT",'Full menu'!AT11="LCMT"),"MT",IF(OR('Full menu'!AT11="LCIT",'Full menu'!AT11="FCIT",'Full menu'!AT11="LMT",'Full menu'!AT11="FMT"),"IT",IF(OR('Full menu'!AT11="MwERT", 'Full menu'!AT11="ERwMT", 'Full menu'!AT11="M&ERT", 'Full menu'!AT11="MwIT", 'Full menu'!AT11="IwMT", 'Full menu'!AT11="M&IT", 'Full menu'!AT11="IwERT", 'Full menu'!AT11="ERwIT", 'Full menu'!AT11="I&ERT", 'Full menu'!AT11="ER&M&IT"),"MixedT",IF('Full menu'!AT11="UD","UD",IF('Full menu'!AT11="LSD","LSD",IF('Full menu'!AT11="WSD","WSD",""))))))))) | AU11: =IF('Full menu'!AU11="MDC","MDC",IF(OR('Full menu'!AU11="PERF",'Full menu'!AU11="AERF",'Full menu'!AU11="PCB"),"ERfix",IF(OR('Full menu'!AU11="ACB", 'Full menu'!AU11="LCERT", 'Full menu'!AU11="LERT",'Full menu'!AU11="FCERT",'Full menu'!AU11="FERT"),"ERT",IF(OR('Full menu'!AU11="FCMT",'Full menu'!AU11="FMT",'Full menu'!AU11="LMT",'Full menu'!AU11="LCMT"),"MT",IF(OR('Full menu'!AU11="LCIT",'Full menu'!AU11="FCIT",'Full menu'!AU11="LMT",'Full menu'!AU11="FMT"),"IT",IF(OR('Full menu'!AU11="MwERT", 'Full menu'!AU11="ERwMT", 'Full menu'!AU11="M&ERT", 'Full menu'!AU11="MwIT", 'Full menu'!AU11="IwMT", 'Full menu'!AU11="M&IT", 'Full menu'!AU11="IwERT", 'Full menu'!AU11="ERwIT", 'Full menu'!AU11="I&ERT", 'Full menu'!AU11="ER&M&IT"),"MixedT",IF('Full menu'!AU11="UD","UD",IF('Full menu'!AU11="LSD","LSD",IF('Full menu'!AU11="WSD","WSD",""))))))))) | AV11: =IF('Full menu'!AV11="MDC","MDC",IF(OR('Full menu'!AV11="PERF",'Full menu'!AV11="AERF",'Full menu'!AV11="PCB"),"ERfix",IF(OR('Full menu'!AV11="ACB", 'Full menu'!AV11="LCERT", 'Full menu'!AV11="LERT",'Full menu'!AV11="FCERT",'Full menu'!AV11="FERT"),"ERT",IF(OR('Full menu'!AV11="FCMT",'Full menu'!AV11="FMT",'Full menu'!AV11="LMT",'Full menu'!AV11="LCMT"),"MT",IF(OR('Full menu'!AV11="LCIT",'Full menu'!AV11="FCIT",'Full menu'!AV11="LMT",'Full menu'!AV11="FMT"),"IT",IF(OR('Full menu'!AV11="MwERT", 'Full menu'!AV11="ERwMT", 'Full menu'!AV11="M&ERT", 'Full menu'!AV11="MwIT", 'Full menu'!AV11="IwMT", 'Full menu'!AV11="M&IT", 'Full menu'!AV11="IwERT", 'Full menu'!AV11="ERwIT", 'Full menu'!AV11="I&ERT", 'Full menu'!AV11="ER&M&IT"),"MixedT",IF('Full menu'!AV11="UD","UD",IF('Full menu'!AV11="LSD","LSD",IF('Full menu'!AV11="WSD","WSD",""))))))))) | AW11: =IF('Full menu'!AW11="MDC","MDC",IF(OR('Full menu'!AW11="PERF",'Full menu'!AW11="AERF",'Full menu'!AW11="PCB"),"ERfix",IF(OR('Full menu'!AW11="ACB", 'Full menu'!AW11="LCERT", 'Full menu'!AW11="LERT",'Full menu'!AW11="FCERT",'Full menu'!AW11="FERT"),"ERT",IF(OR('Full menu'!AW11="FCMT",'Full menu'!AW11="FMT",'Full menu'!AW11="LMT",'Full menu'!AW11="LCMT"),"MT",IF(OR('Full menu'!AW11="LCIT",'Full menu'!AW11="FCIT",'Full menu'!AW11="LMT",'Full menu'!AW11="FMT"),"IT",IF(OR('Full menu'!AW11="MwERT", 'Full menu'!AW11="ERwMT", 'Full menu'!AW11="M&ERT", 'Full menu'!AW11="MwIT", 'Full menu'!AW11="IwMT", 'Full menu'!AW11="M&IT", 'Full menu'!AW11="IwERT", 'Full menu'!AW11="ERwIT", 'Full menu'!AW11="I&ERT", 'Full menu'!AW11="ER&M&IT"),"MixedT",IF('Full menu'!AW11="UD","UD",IF('Full menu'!AW11="LSD","LSD",IF('Full menu'!AW11="WSD","WSD",""))))))))) | AX11: =IF('Full menu'!AX11="MDC","MDC",IF(OR('Full menu'!AX11="PERF",'Full menu'!AX11="AERF",'Full menu'!AX11="PCB"),"ERfix",IF(OR('Full menu'!AX11="ACB", 'Full menu'!AX11="LCERT", 'Full menu'!AX11="LERT",'Full menu'!AX11="FCERT",'Full menu'!AX11="FERT"),"ERT",IF(OR('Full menu'!AX11="FCMT",'Full menu'!AX11="FMT",'Full menu'!AX11="LMT",'Full menu'!AX11="LCMT"),"MT",IF(OR('Full menu'!AX11="LCIT",'Full menu'!AX11="FCIT",'Full menu'!AX11="LMT",'Full menu'!AX11="FMT"),"IT",IF(OR('Full menu'!AX11="MwERT", 'Full menu'!AX11="ERwMT", 'Full menu'!AX11="M&ERT", 'Full menu'!AX11="MwIT", 'Full menu'!AX11="IwMT", 'Full menu'!AX11="M&IT", 'Full menu'!AX11="IwERT", 'Full menu'!AX11="ERwIT", 'Full menu'!AX11="I&ERT", 'Full menu'!AX11="ER&M&IT"),"MixedT",IF('Full menu'!AX11="UD","UD",IF('Full menu'!AX11="LSD","LSD",IF('Full menu'!AX11="WSD","WSD",""))))))))) | AY11: =IF('Full menu'!AY11="MDC","MDC",IF(OR('Full menu'!AY11="PERF",'Full menu'!AY11="AERF",'Full menu'!AY11="PCB"),"ERfix",IF(OR('Full menu'!AY11="ACB", 'Full menu'!AY11="LCERT", 'Full menu'!AY11="LERT",'Full menu'!AY11="FCERT",'Full menu'!AY11="FERT"),"ERT",IF(OR('Full menu'!AY11="FCMT",'Full menu'!AY11="FMT",'Full menu'!AY11="LMT",'Full menu'!AY11="LCMT"),"MT",IF(OR('Full menu'!AY11="LCIT",'Full menu'!AY11="FCIT",'Full menu'!AY11="LMT",'Full menu'!AY11="FMT"),"IT",IF(OR('Full menu'!AY11="MwERT", 'Full menu'!AY11="ERwMT", 'Full menu'!AY11="M&ERT", 'Full menu'!AY11="MwIT", 'Full menu'!AY11="IwMT", 'Full menu'!AY11="M&IT", 'Full menu'!AY11="IwERT", 'Full menu'!AY11="ERwIT", 'Full menu'!AY11="I&ERT", 'Full menu'!AY11="ER&M&IT"),"MixedT",IF('Full menu'!AY11="UD","UD",IF('Full menu'!AY11="LSD","LSD",IF('Full menu'!AY11="WSD","WSD",""))))))))) | AZ11: =IF('Full menu'!AZ11="MDC","MDC",IF(OR('Full menu'!AZ11="PERF",'Full menu'!AZ11="AERF",'Full menu'!AZ11="PCB"),"ERfix",IF(OR('Full menu'!AZ11="ACB", 'Full menu'!AZ11="LCERT", 'Full menu'!AZ11="LERT",'Full menu'!AZ11="FCERT",'Full menu'!AZ11="FERT"),"ERT",IF(OR('Full menu'!AZ11="FCMT",'Full menu'!AZ11="FMT",'Full menu'!AZ11="LMT",'Full menu'!AZ11="LCMT"),"MT",IF(OR('Full menu'!AZ11="LCIT",'Full menu'!AZ11="FCIT",'Full menu'!AZ11="LMT",'Full menu'!AZ11="FMT"),"IT",IF(OR('Full menu'!AZ11="MwERT", 'Full menu'!AZ11="ERwMT", 'Full menu'!AZ11="M&ERT", 'Full menu'!AZ11="MwIT", 'Full menu'!AZ11="IwMT", 'Full menu'!AZ11="M&IT", 'Full menu'!AZ11="IwERT", 'Full menu'!AZ11="ERwIT", 'Full menu'!AZ11="I&ERT", 'Full menu'!AZ11="ER&M&IT"),"MixedT",IF('Full menu'!AZ11="UD","UD",IF('Full menu'!AZ11="LSD","LSD",IF('Full menu'!AZ11="WSD","WSD",""))))))))) | BA11: =IF('Full menu'!BA11="MDC","MDC",IF(OR('Full menu'!BA11="PERF",'Full menu'!BA11="AERF",'Full menu'!BA11="PCB"),"ERfix",IF(OR('Full menu'!BA11="ACB", 'Full menu'!BA11="LCERT", 'Full menu'!BA11="LERT",'Full menu'!BA11="FCERT",'Full menu'!BA11="FERT"),"ERT",IF(OR('Full menu'!BA11="FCMT",'Full menu'!BA11="FMT",'Full menu'!BA11="LMT",'Full menu'!BA11="LCMT"),"MT",IF(OR('Full menu'!BA11="LCIT",'Full menu'!BA11="FCIT",'Full menu'!BA11="LMT",'Full menu'!BA11="FMT"),"IT",IF(OR('Full menu'!BA11="MwERT", 'Full menu'!BA11="ERwMT", 'Full menu'!BA11="M&ERT", 'Full menu'!BA11="MwIT", 'Full menu'!BA11="IwMT", 'Full menu'!BA11="M&IT", 'Full menu'!BA11="IwERT", 'Full menu'!BA11="ERwIT", 'Full menu'!BA11="I&ERT", 'Full menu'!BA11="ER&M&IT"),"MixedT",IF('Full menu'!BA11="UD","UD",IF('Full menu'!BA11="LSD","LSD",IF('Full menu'!BA11="WSD","WSD",""))))))))) | ... BC11: =IF('Full menu'!BC11="MDC","MDC",IF(OR('Full menu'!BC11="PERF",'Full menu'!BC11="AERF",'Full menu'!BC11="PCB"),"ERfix",IF(OR('Full menu'!BC11="ACB", 'Full menu'!BC11="LCERT", 'Full menu'!BC11="LERT",'Full menu'!BC11="FCERT",'Full menu'!BC11="FERT"),"ERT",IF(OR('Full menu'!BC11="FCMT",'Full menu'!BC11="FMT",'Full menu'!BC11="LMT",'Full menu'!BC11="LCMT"),"MT",IF(OR('Full menu'!BC11="LCIT",'Full menu'!BC11="FCIT",'Full menu'!BC11="LMT",'Full menu'!BC11="FMT"),"IT",IF(OR('Full menu'!BC11="MwERT", 'Full menu'!BC11="ERwMT", 'Full menu'!BC11="M&ERT", 'Full menu'!BC11="MwIT", 'Full menu'!BC11="IwMT", 'Full menu'!BC11="M&IT", 'Full menu'!BC11="IwERT", 'Full menu'!BC11="ERwIT", 'Full menu'!BC11="I&ERT", 'Full menu'!BC11="ER&M&IT"),"MixedT",IF('Full menu'!BC11="UD","UD",IF('Full menu'!BC11="LSD","LSD",IF('Full menu'!BC11="WSD","WSD","")))))))))
A12: Estonia | B12: =IF('Full menu'!B12="MDC","MDC",IF(OR('Full menu'!B12="PERF",'Full menu'!B12="AERF",'Full menu'!B12="PCB"),"ERfix",IF(OR('Full menu'!B12="ACB", 'Full menu'!B12="LCERT", 'Full menu'!B12="LERT",'Full menu'!B12="FCERT",'Full menu'!B12="FERT"),"ERTs",IF(OR('Full menu'!B12="FCMT",'Full menu'!B12="FMT",'Full menu'!B12="LMT",'Full menu'!B12="LCMT"),"MTs",IF(OR('Full menu'!B12="LCIT",'Full menu'!B12="FCIT",'Full menu'!B12="LIT",'Full menu'!B12="FIT"),"ITs",IF(OR('Full menu'!B12="MwERT", 'Full menu'!B12="ERwMT", 'Full menu'!B12="M&ERT", 'Full menu'!B12="MwIT", 'Full menu'!B12="IwMT", 'Full menu'!B12="M&IT", 'Full menu'!B12="IwERT", 'Full menu'!B12="ERwIT", 'Full menu'!B12="I&ERT", 'Full menu'!B12="ER&M&IT"),"MixedTs",IF('Full menu'!B12="UD","UD",IF('Full menu'!B12="LSD","LSD",IF('Full menu'!B12="WSD","WSD",""))))))))) | C12: =IF('Full menu'!C12="MDC","MDC",IF(OR('Full menu'!C12="PERF",'Full menu'!C12="AERF",'Full menu'!C12="PCB"),"ERfix",IF(OR('Full menu'!C12="ACB", 'Full menu'!C12="LCERT", 'Full menu'!C12="LERT",'Full menu'!C12="FCERT",'Full menu'!C12="FERT"),"ERTs",IF(OR('Full menu'!C12="FCMT",'Full menu'!C12="FMT",'Full menu'!C12="LMT",'Full menu'!C12="LCMT"),"MTs",IF(OR('Full menu'!C12="LCIT",'Full menu'!C12="FCIT",'Full menu'!C12="LIT",'Full menu'!C12="FIT"),"ITs",IF(OR('Full menu'!C12="MwERT", 'Full menu'!C12="ERwMT", 'Full menu'!C12="M&ERT", 'Full menu'!C12="MwIT", 'Full menu'!C12="IwMT", 'Full menu'!C12="M&IT", 'Full menu'!C12="IwERT", 'Full menu'!C12="ERwIT", 'Full menu'!C12="I&ERT", 'Full menu'!C12="ER&M&IT"),"MixedTs",IF('Full menu'!C12="UD","UD",IF('Full menu'!C12="LSD","LSD",IF('Full menu'!C12="WSD","WSD",""))))))))) | D12: =IF('Full menu'!D12="MDC","MDC",IF(OR('Full menu'!D12="PERF",'Full menu'!D12="AERF",'Full menu'!D12="PCB"),"ERfix",IF(OR('Full menu'!D12="ACB", 'Full menu'!D12="LCERT", 'Full menu'!D12="LERT",'Full menu'!D12="FCERT",'Full menu'!D12="FERT"),"ERTs",IF(OR('Full menu'!D12="FCMT",'Full menu'!D12="FMT",'Full menu'!D12="LMT",'Full menu'!D12="LCMT"),"MTs",IF(OR('Full menu'!D12="LCIT",'Full menu'!D12="FCIT",'Full menu'!D12="LIT",'Full menu'!D12="FIT"),"ITs",IF(OR('Full menu'!D12="MwERT", 'Full menu'!D12="ERwMT", 'Full menu'!D12="M&ERT", 'Full menu'!D12="MwIT", 'Full menu'!D12="IwMT", 'Full menu'!D12="M&IT", 'Full menu'!D12="IwERT", 'Full menu'!D12="ERwIT", 'Full menu'!D12="I&ERT", 'Full menu'!D12="ER&M&IT"),"MixedTs",IF('Full menu'!D12="UD","UD",IF('Full menu'!D12="LSD","LSD",IF('Full menu'!D12="WSD","WSD",""))))))))) | E12: =IF('Full menu'!E12="MDC","MDC",IF(OR('Full menu'!E12="PERF",'Full menu'!E12="AERF",'Full menu'!E12="PCB"),"ERfix",IF(OR('Full menu'!E12="ACB", 'Full menu'!E12="LCERT", 'Full menu'!E12="LERT",'Full menu'!E12="FCERT",'Full menu'!E12="FERT"),"ERTs",IF(OR('Full menu'!E12="FCMT",'Full menu'!E12="FMT",'Full menu'!E12="LMT",'Full menu'!E12="LCMT"),"MTs",IF(OR('Full menu'!E12="LCIT",'Full menu'!E12="FCIT",'Full menu'!E12="LIT",'Full menu'!E12="FIT"),"ITs",IF(OR('Full menu'!E12="MwERT", 'Full menu'!E12="ERwMT", 'Full menu'!E12="M&ERT", 'Full menu'!E12="MwIT", 'Full menu'!E12="IwMT", 'Full menu'!E12="M&IT", 'Full menu'!E12="IwERT", 'Full menu'!E12="ERwIT", 'Full menu'!E12="I&ERT", 'Full menu'!E12="ER&M&IT"),"MixedTs",IF('Full menu'!E12="UD","UD",IF('Full menu'!E12="LSD","LSD",IF('Full menu'!E12="WSD","WSD",""))))))))) | F12: =IF('Full menu'!F12="MDC","MDC",IF(OR('Full menu'!F12="PERF",'Full menu'!F12="AERF",'Full menu'!F12="PCB"),"ERfix",IF(OR('Full menu'!F12="ACB", 'Full menu'!F12="LCERT", 'Full menu'!F12="LERT",'Full menu'!F12="FCERT",'Full menu'!F12="FERT"),"ERTs",IF(OR('Full menu'!F12="FCMT",'Full menu'!F12="FMT",'Full menu'!F12="LMT",'Full menu'!F12="LCMT"),"MTs",IF(OR('Full menu'!F12="LCIT",'Full menu'!F12="FCIT",'Full menu'!F12="LIT",'Full menu'!F12="FIT"),"ITs",IF(OR('Full menu'!F12="MwERT", 'Full menu'!F12="ERwMT", 'Full menu'!F12="M&ERT", 'Full menu'!F12="MwIT", 'Full menu'!F12="IwMT", 'Full menu'!F12="M&IT", 'Full menu'!F12="IwERT", 'Full menu'!F12="ERwIT", 'Full menu'!F12="I&ERT", 'Full menu'!F12="ER&M&IT"),"MixedTs",IF('Full menu'!F12="UD","UD",IF('Full menu'!F12="LSD","LSD",IF('Full menu'!F12="WSD","WSD",""))))))))) | G12: =IF('Full menu'!G12="MDC","MDC",IF(OR('Full menu'!G12="PERF",'Full menu'!G12="AERF",'Full menu'!G12="PCB"),"ERfix",IF(OR('Full menu'!G12="ACB", 'Full menu'!G12="LCERT", 'Full menu'!G12="LERT",'Full menu'!G12="FCERT",'Full menu'!G12="FERT"),"ERTs",IF(OR('Full menu'!G12="FCMT",'Full menu'!G12="FMT",'Full menu'!G12="LMT",'Full menu'!G12="LCMT"),"MTs",IF(OR('Full menu'!G12="LCIT",'Full menu'!G12="FCIT",'Full menu'!G12="LIT",'Full menu'!G12="FIT"),"ITs",IF(OR('Full menu'!G12="MwERT", 'Full menu'!G12="ERwMT", 'Full menu'!G12="M&ERT", 'Full menu'!G12="MwIT", 'Full menu'!G12="IwMT", 'Full menu'!G12="M&IT", 'Full menu'!G12="IwERT", 'Full menu'!G12="ERwIT", 'Full menu'!G12="I&ERT", 'Full menu'!G12="ER&M&IT"),"MixedTs",IF('Full menu'!G12="UD","UD",IF('Full menu'!G12="LSD","LSD",IF('Full menu'!G12="WSD","WSD",""))))))))) | H12: =IF('Full menu'!H12="MDC","MDC",IF(OR('Full menu'!H12="PERF",'Full menu'!H12="AERF",'Full menu'!H12="PCB"),"ERfix",IF(OR('Full menu'!H12="ACB", 'Full menu'!H12="LCERT", 'Full menu'!H12="LERT",'Full menu'!H12="FCERT",'Full menu'!H12="FERT"),"ERTs",IF(OR('Full menu'!H12="FCMT",'Full menu'!H12="FMT",'Full menu'!H12="LMT",'Full menu'!H12="LCMT"),"MTs",IF(OR('Full menu'!H12="LCIT",'Full menu'!H12="FCIT",'Full menu'!H12="LIT",'Full menu'!H12="FIT"),"ITs",IF(OR('Full menu'!H12="MwERT", 'Full menu'!H12="ERwMT", 'Full menu'!H12="M&ERT", 'Full menu'!H12="MwIT", 'Full menu'!H12="IwMT", 'Full menu'!H12="M&IT", 'Full menu'!H12="IwERT", 'Full menu'!H12="ERwIT", 'Full menu'!H12="I&ERT", 'Full menu'!H12="ER&M&IT"),"MixedTs",IF('Full menu'!H12="UD","UD",IF('Full menu'!H12="LSD","LSD",IF('Full menu'!H12="WSD","WSD",""))))))))) | I12: =IF('Full menu'!I12="MDC","MDC",IF(OR('Full menu'!I12="PERF",'Full menu'!I12="AERF",'Full menu'!I12="PCB"),"ERfix",IF(OR('Full menu'!I12="ACB", 'Full menu'!I12="LCERT", 'Full menu'!I12="LERT",'Full menu'!I12="FCERT",'Full menu'!I12="FERT"),"ERTs",IF(OR('Full menu'!I12="FCMT",'Full menu'!I12="FMT",'Full menu'!I12="LMT",'Full menu'!I12="LCMT"),"MTs",IF(OR('Full menu'!I12="LCIT",'Full menu'!I12="FCIT",'Full menu'!I12="LIT",'Full menu'!I12="FIT"),"ITs",IF(OR('Full menu'!I12="MwERT", 'Full menu'!I12="ERwMT", 'Full menu'!I12="M&ERT", 'Full menu'!I12="MwIT", 'Full menu'!I12="IwMT", 'Full menu'!I12="M&IT", 'Full menu'!I12="IwERT", 'Full menu'!I12="ERwIT", 'Full menu'!I12="I&ERT", 'Full menu'!I12="ER&M&IT"),"MixedTs",IF('Full menu'!I12="UD","UD",IF('Full menu'!I12="LSD","LSD",IF('Full menu'!I12="WSD","WSD",""))))))))) | ... AS12: =IF('Full menu'!AS12="MDC","MDC",IF(OR('Full menu'!AS12="PERF",'Full menu'!AS12="AERF",'Full menu'!AS12="PCB"),"ERfix",IF(OR('Full menu'!AS12="ACB", 'Full menu'!AS12="LCERT", 'Full menu'!AS12="LERT",'Full menu'!AS12="FCERT",'Full menu'!AS12="FERT"),"ERTs",IF(OR('Full menu'!AS12="FCMT",'Full menu'!AS12="FMT",'Full menu'!AS12="LMT",'Full menu'!AS12="LCMT"),"MTs",IF(OR('Full menu'!AS12="LCIT",'Full menu'!AS12="FCIT",'Full menu'!AS12="LIT",'Full menu'!AS12="FIT"),"ITs",IF(OR('Full menu'!AS12="MwERT", 'Full menu'!AS12="ERwMT", 'Full menu'!AS12="M&ERT", 'Full menu'!AS12="MwIT", 'Full menu'!AS12="IwMT", 'Full menu'!AS12="M&IT", 'Full menu'!AS12="IwERT", 'Full menu'!AS12="ERwIT", 'Full menu'!AS12="I&ERT", 'Full menu'!AS12="ER&M&IT"),"MixedTs",IF('Full menu'!AS12="UD","UD",IF('Full menu'!AS12="LSD","LSD",IF('Full menu'!AS12="WSD","WSD",""))))))))) | AV12: =IF('Full menu'!AV12="MDC","MDC",IF(OR('Full menu'!AV12="PERF",'Full menu'!AV12="AERF",'Full menu'!AV12="PCB"),"ERfix",IF(OR('Full menu'!AV12="ACB", 'Full menu'!AV12="LCERT", 'Full menu'!AV12="LERT",'Full menu'!AV12="FCERT",'Full menu'!AV12="FERT"),"ERT",IF(OR('Full menu'!AV12="FCMT",'Full menu'!AV12="FMT",'Full menu'!AV12="LMT",'Full menu'!AV12="LCMT"),"MT",IF(OR('Full menu'!AV12="LCIT",'Full menu'!AV12="FCIT",'Full menu'!AV12="LMT",'Full menu'!AV12="FMT"),"IT",IF(OR('Full menu'!AV12="MwERT", 'Full menu'!AV12="ERwMT", 'Full menu'!AV12="M&ERT", 'Full menu'!AV12="MwIT", 'Full menu'!AV12="IwMT", 'Full menu'!AV12="M&IT", 'Full menu'!AV12="IwERT", 'Full menu'!AV12="ERwIT", 'Full menu'!AV12="I&ERT", 'Full menu'!AV12="ER&M&IT"),"MixedT",IF('Full menu'!AV12="UD","UD",IF('Full menu'!AV12="LSD","LSD",IF('Full menu'!AV12="WSD","WSD",""))))))))) | AW12: =IF('Full menu'!AW12="MDC","MDC",IF(OR('Full menu'!AW12="PERF",'Full menu'!AW12="AERF",'Full menu'!AW12="PCB"),"ERfix",IF(OR('Full menu'!AW12="ACB", 'Full menu'!AW12="LCERT", 'Full menu'!AW12="LERT",'Full menu'!AW12="FCERT",'Full menu'!AW12="FERT"),"ERT",IF(OR('Full menu'!AW12="FCMT",'Full menu'!AW12="FMT",'Full menu'!AW12="LMT",'Full menu'!AW12="LCMT"),"MT",IF(OR('Full menu'!AW12="LCIT",'Full menu'!AW12="FCIT",'Full menu'!AW12="LMT",'Full menu'!AW12="FMT"),"IT",IF(OR('Full menu'!AW12="MwERT", 'Full menu'!AW12="ERwMT", 'Full menu'!AW12="M&ERT", 'Full menu'!AW12="MwIT", 'Full menu'!AW12="IwMT", 'Full menu'!AW12="M&IT", 'Full menu'!AW12="IwERT", 'Full menu'!AW12="ERwIT", 'Full menu'!AW12="I&ERT", 'Full menu'!AW12="ER&M&IT"),"MixedT",IF('Full menu'!AW12="UD","UD",IF('Full menu'!AW12="LSD","LSD",IF('Full menu'!AW12="WSD","WSD",""))))))))) | AX12: =IF('Full menu'!AX12="MDC","MDC",IF(OR('Full menu'!AX12="PERF",'Full menu'!AX12="AERF",'Full menu'!AX12="PCB"),"ERfix",IF(OR('Full menu'!AX12="ACB", 'Full menu'!AX12="LCERT", 'Full menu'!AX12="LERT",'Full menu'!AX12="FCERT",'Full menu'!AX12="FERT"),"ERT",IF(OR('Full menu'!AX12="FCMT",'Full menu'!AX12="FMT",'Full menu'!AX12="LMT",'Full menu'!AX12="LCMT"),"MT",IF(OR('Full menu'!AX12="LCIT",'Full menu'!AX12="FCIT",'Full menu'!AX12="LMT",'Full menu'!AX12="FMT"),"IT",IF(OR('Full menu'!AX12="MwERT", 'Full menu'!AX12="ERwMT", 'Full menu'!AX12="M&ERT", 'Full menu'!AX12="MwIT", 'Full menu'!AX12="IwMT", 'Full menu'!AX12="M&IT", 'Full menu'!AX12="IwERT", 'Full menu'!AX12="ERwIT", 'Full menu'!AX12="I&ERT", 'Full menu'!AX12="ER&M&IT"),"MixedT",IF('Full menu'!AX12="UD","UD",IF('Full menu'!AX12="LSD","LSD",IF('Full menu'!AX12="WSD","WSD",""))))))))) | AY12: =IF('Full menu'!AY12="MDC","MDC",IF(OR('Full menu'!AY12="PERF",'Full menu'!AY12="AERF",'Full menu'!AY12="PCB"),"ERfix",IF(OR('Full menu'!AY12="ACB", 'Full menu'!AY12="LCERT", 'Full menu'!AY12="LERT",'Full menu'!AY12="FCERT",'Full menu'!AY12="FERT"),"ERT",IF(OR('Full menu'!AY12="FCMT",'Full menu'!AY12="FMT",'Full menu'!AY12="LMT",'Full menu'!AY12="LCMT"),"MT",IF(OR('Full menu'!AY12="LCIT",'Full menu'!AY12="FCIT",'Full menu'!AY12="LMT",'Full menu'!AY12="FMT"),"IT",IF(OR('Full menu'!AY12="MwERT", 'Full menu'!AY12="ERwMT", 'Full menu'!AY12="M&ERT", 'Full menu'!AY12="MwIT", 'Full menu'!AY12="IwMT", 'Full menu'!AY12="M&IT", 'Full menu'!AY12="IwERT", 'Full menu'!AY12="ERwIT", 'Full menu'!AY12="I&ERT", 'Full menu'!AY12="ER&M&IT"),"MixedT",IF('Full menu'!AY12="UD","UD",IF('Full menu'!AY12="LSD","LSD",IF('Full menu'!AY12="WSD","WSD",""))))))))) | AZ12: =IF('Full menu'!AZ12="MDC","MDC",IF(OR('Full menu'!AZ12="PERF",'Full menu'!AZ12="AERF",'Full menu'!AZ12="PCB"),"ERfix",IF(OR('Full menu'!AZ12="ACB", 'Full menu'!AZ12="LCERT", 'Full menu'!AZ12="LERT",'Full menu'!AZ12="FCERT",'Full menu'!AZ12="FERT"),"ERT",IF(OR('Full menu'!AZ12="FCMT",'Full menu'!AZ12="FMT",'Full menu'!AZ12="LMT",'Full menu'!AZ12="LCMT"),"MT",IF(OR('Full menu'!AZ12="LCIT",'Full menu'!AZ12="FCIT",'Full menu'!AZ12="LMT",'Full menu'!AZ12="FMT"),"IT",IF(OR('Full menu'!AZ12="MwERT", 'Full menu'!AZ12="ERwMT", 'Full menu'!AZ12="M&ERT", 'Full menu'!AZ12="MwIT", 'Full menu'!AZ12="IwMT", 'Full menu'!AZ12="M&IT", 'Full menu'!AZ12="IwERT", 'Full menu'!AZ12="ERwIT", 'Full menu'!AZ12="I&ERT", 'Full menu'!AZ12="ER&M&IT"),"MixedT",IF('Full menu'!AZ12="UD","UD",IF('Full menu'!AZ12="LSD","LSD",IF('Full menu'!AZ12="WSD","WSD",""))))))))) | BA12: =IF('Full menu'!BA12="MDC","MDC",IF(OR('Full menu'!BA12="PERF",'Full menu'!BA12="AERF",'Full menu'!BA12="PCB"),"ERfix",IF(OR('Full menu'!BA12="ACB", 'Full menu'!BA12="LCERT", 'Full menu'!BA12="LERT",'Full menu'!BA12="FCERT",'Full menu'!BA12="FERT"),"ERT",IF(OR('Full menu'!BA12="FCMT",'Full menu'!BA12="FMT",'Full menu'!BA12="LMT",'Full menu'!BA12="LCMT"),"MT",IF(OR('Full menu'!BA12="LCIT",'Full menu'!BA12="FCIT",'Full menu'!BA12="LMT",'Full menu'!BA12="FMT"),"IT",IF(OR('Full menu'!BA12="MwERT", 'Full menu'!BA12="ERwMT", 'Full menu'!BA12="M&ERT", 'Full menu'!BA12="MwIT", 'Full menu'!BA12="IwMT", 'Full menu'!BA12="M&IT", 'Full menu'!BA12="IwERT", 'Full menu'!BA12="ERwIT", 'Full menu'!BA12="I&ERT", 'Full menu'!BA12="ER&M&IT"),"MixedT",IF('Full menu'!BA12="UD","UD",IF('Full menu'!BA12="LSD","LSD",IF('Full menu'!BA12="WSD","WSD",""))))))))) | BB12: =IF('Full menu'!BB12="MDC","MDC",IF(OR('Full menu'!BB12="PERF",'Full menu'!BB12="AERF",'Full menu'!BB12="PCB"),"ERfix",IF(OR('Full menu'!BB12="ACB", 'Full menu'!BB12="LCERT", 'Full menu'!BB12="LERT",'Full menu'!BB12="FCERT",'Full menu'!BB12="FERT"),"ERT",IF(OR('Full menu'!BB12="FCMT",'Full menu'!BB12="FMT",'Full menu'!BB12="LMT",'Full menu'!BB12="LCMT"),"MT",IF(OR('Full menu'!BB12="LCIT",'Full menu'!BB12="FCIT",'Full menu'!BB12="LMT",'Full menu'!BB12="FMT"),"IT",IF(OR('Full menu'!BB12="MwERT", 'Full menu'!BB12="ERwMT", 'Full menu'!BB12="M&ERT", 'Full menu'!BB12="MwIT", 'Full menu'!BB12="IwMT", 'Full menu'!BB12="M&IT", 'Full menu'!BB12="IwERT", 'Full menu'!BB12="ERwIT", 'Full menu'!BB12="I&ERT", 'Full menu'!BB12="ER&M&IT"),"MixedT",IF('Full menu'!BB12="UD","UD",IF('Full menu'!BB12="LSD","LSD",IF('Full menu'!BB12="WSD","WSD",""))))))))) | BC12: =IF('Full menu'!BC12="MDC","MDC",IF(OR('Full menu'!BC12="PERF",'Full menu'!BC12="AERF",'Full menu'!BC12="PCB"),"ERfix",IF(OR('Full menu'!BC12="ACB", 'Full menu'!BC12="LCERT", 'Full menu'!BC12="LERT",'Full menu'!BC12="FCERT",'Full menu'!BC12="FERT"),"ERT",IF(OR('Full menu'!BC12="FCMT",'Full menu'!BC12="FMT",'Full menu'!BC12="LMT",'Full menu'!BC12="LCMT"),"MT",IF(OR('Full menu'!BC12="LCIT",'Full menu'!BC12="FCIT",'Full menu'!BC12="LMT",'Full menu'!BC12="FMT"),"IT",IF(OR('Full menu'!BC12="MwERT", 'Full menu'!BC12="ERwMT", 'Full menu'!BC12="M&ERT", 'Full menu'!BC12="MwIT", 'Full menu'!BC12="IwMT", 'Full menu'!BC12="M&IT", 'Full menu'!BC12="IwERT", 'Full menu'!BC12="ERwIT", 'Full menu'!BC12="I&ERT", 'Full menu'!BC12="ER&M&IT"),"MixedT",IF('Full menu'!BC12="UD","UD",IF('Full menu'!BC12="LSD","LSD",IF('Full menu'!BC12="WSD","WSD","")))))))))
A13: Hungary | B13: =IF('Full menu'!B13="MDC","MDC",IF(OR('Full menu'!B13="PERF",'Full menu'!B13="AERF",'Full menu'!B13="PCB"),"ERfix",IF(OR('Full menu'!B13="ACB", 'Full menu'!B13="LCERT", 'Full menu'!B13="LERT",'Full menu'!B13="FCERT",'Full menu'!B13="FERT"),"ERTs",IF(OR('Full menu'!B13="FCMT",'Full menu'!B13="FMT",'Full menu'!B13="LMT",'Full menu'!B13="LCMT"),"MTs",IF(OR('Full menu'!B13="LCIT",'Full menu'!B13="FCIT",'Full menu'!B13="LIT",'Full menu'!B13="FIT"),"ITs",IF(OR('Full menu'!B13="MwERT", 'Full menu'!B13="ERwMT", 'Full menu'!B13="M&ERT", 'Full menu'!B13="MwIT", 'Full menu'!B13="IwMT", 'Full menu'!B13="M&IT", 'Full menu'!B13="IwERT", 'Full menu'!B13="ERwIT", 'Full menu'!B13="I&ERT", 'Full menu'!B13="ER&M&IT"),"MixedTs",IF('Full menu'!B13="UD","UD",IF('Full menu'!B13="LSD","LSD",IF('Full menu'!B13="WSD","WSD",""))))))))) -> MDC | C13: =IF('Full menu'!C13="MDC","MDC",IF(OR('Full menu'!C13="PERF",'Full menu'!C13="AERF",'Full menu'!C13="PCB"),"ERfix",IF(OR('Full menu'!C13="ACB", 'Full menu'!C13="LCERT", 'Full menu'!C13="LERT",'Full menu'!C13="FCERT",'Full menu'!C13="FERT"),"ERTs",IF(OR('Full menu'!C13="FCMT",'Full menu'!C13="FMT",'Full menu'!C13="LMT",'Full menu'!C13="LCMT"),"MTs",IF(OR('Full menu'!C13="LCIT",'Full menu'!C13="FCIT",'Full menu'!C13="LIT",'Full menu'!C13="FIT"),"ITs",IF(OR('Full menu'!C13="MwERT", 'Full menu'!C13="ERwMT", 'Full menu'!C13="M&ERT", 'Full menu'!C13="MwIT", 'Full menu'!C13="IwMT", 'Full menu'!C13="M&IT", 'Full menu'!C13="IwERT", 'Full menu'!C13="ERwIT", 'Full menu'!C13="I&ERT", 'Full menu'!C13="ER&M&IT"),"MixedTs",IF('Full menu'!C13="UD","UD",IF('Full menu'!C13="LSD","LSD",IF('Full menu'!C13="WSD","WSD",""))))))))) -> MDC | D13: =IF('Full menu'!D13="MDC","MDC",IF(OR('Full menu'!D13="PERF",'Full menu'!D13="AERF",'Full menu'!D13="PCB"),"ERfix",IF(OR('Full menu'!D13="ACB", 'Full menu'!D13="LCERT", 'Full menu'!D13="LERT",'Full menu'!D13="FCERT",'Full menu'!D13="FERT"),"ERTs",IF(OR('Full menu'!D13="FCMT",'Full menu'!D13="FMT",'Full menu'!D13="LMT",'Full menu'!D13="LCMT"),"MTs",IF(OR('Full menu'!D13="LCIT",'Full menu'!D13="FCIT",'Full menu'!D13="LIT",'Full menu'!D13="FIT"),"ITs",IF(OR('Full menu'!D13="MwERT", 'Full menu'!D13="ERwMT", 'Full menu'!D13="M&ERT", 'Full menu'!D13="MwIT", 'Full menu'!D13="IwMT", 'Full menu'!D13="M&IT", 'Full menu'!D13="IwERT", 'Full menu'!D13="ERwIT", 'Full menu'!D13="I&ERT", 'Full menu'!D13="ER&M&IT"),"MixedTs",IF('Full menu'!D13="UD","UD",IF('Full menu'!D13="LSD","LSD",IF('Full menu'!D13="WSD","WSD",""))))))))) -> MDC | E13: =IF('Full menu'!E13="MDC","MDC",IF(OR('Full menu'!E13="PERF",'Full menu'!E13="AERF",'Full menu'!E13="PCB"),"ERfix",IF(OR('Full menu'!E13="ACB", 'Full menu'!E13="LCERT", 'Full menu'!E13="LERT",'Full menu'!E13="FCERT",'Full menu'!E13="FERT"),"ERTs",IF(OR('Full menu'!E13="FCMT",'Full menu'!E13="FMT",'Full menu'!E13="LMT",'Full menu'!E13="LCMT"),"MTs",IF(OR('Full menu'!E13="LCIT",'Full menu'!E13="FCIT",'Full menu'!E13="LIT",'Full menu'!E13="FIT"),"ITs",IF(OR('Full menu'!E13="MwERT", 'Full menu'!E13="ERwMT", 'Full menu'!E13="M&ERT", 'Full menu'!E13="MwIT", 'Full menu'!E13="IwMT", 'Full menu'!E13="M&IT", 'Full menu'!E13="IwERT", 'Full menu'!E13="ERwIT", 'Full menu'!E13="I&ERT", 'Full menu'!E13="ER&M&IT"),"MixedTs",IF('Full menu'!E13="UD","UD",IF('Full menu'!E13="LSD","LSD",IF('Full menu'!E13="WSD","WSD",""))))))))) -> MDC | F13: =IF('Full menu'!F13="MDC","MDC",IF(OR('Full menu'!F13="PERF",'Full menu'!F13="AERF",'Full menu'!F13="PCB"),"ERfix",IF(OR('Full menu'!F13="ACB", 'Full menu'!F13="LCERT", 'Full menu'!F13="LERT",'Full menu'!F13="FCERT",'Full menu'!F13="FERT"),"ERTs",IF(OR('Full menu'!F13="FCMT",'Full menu'!F13="FMT",'Full menu'!F13="LMT",'Full menu'!F13="LCMT"),"MTs",IF(OR('Full menu'!F13="LCIT",'Full menu'!F13="FCIT",'Full menu'!F13="LIT",'Full menu'!F13="FIT"),"ITs",IF(OR('Full menu'!F13="MwERT", 'Full menu'!F13="ERwMT", 'Full menu'!F13="M&ERT", 'Full menu'!F13="MwIT", 'Full menu'!F13="IwMT", 'Full menu'!F13="M&IT", 'Full menu'!F13="IwERT", 'Full menu'!F13="ERwIT", 'Full menu'!F13="I&ERT", 'Full menu'!F13="ER&M&IT"),"MixedTs",IF('Full menu'!F13="UD","UD",IF('Full menu'!F13="LSD","LSD",IF('Full menu'!F13="WSD","WSD",""))))))))) -> MDC | G13: =IF('Full menu'!G13="MDC","MDC",IF(OR('Full menu'!G13="PERF",'Full menu'!G13="AERF",'Full menu'!G13="PCB"),"ERfix",IF(OR('Full menu'!G13="ACB", 'Full menu'!G13="LCERT", 'Full menu'!G13="LERT",'Full menu'!G13="FCERT",'Full menu'!G13="FERT"),"ERTs",IF(OR('Full menu'!G13="FCMT",'Full menu'!G13="FMT",'Full menu'!G13="LMT",'Full menu'!G13="LCMT"),"MTs",IF(OR('Full menu'!G13="LCIT",'Full menu'!G13="FCIT",'Full menu'!G13="LIT",'Full menu'!G13="FIT"),"ITs",IF(OR('Full menu'!G13="MwERT", 'Full menu'!G13="ERwMT", 'Full menu'!G13="M&ERT", 'Full menu'!G13="MwIT", 'Full menu'!G13="IwMT", 'Full menu'!G13="M&IT", 'Full menu'!G13="IwERT", 'Full menu'!G13="ERwIT", 'Full menu'!G13="I&ERT", 'Full menu'!G13="ER&M&IT"),"MixedTs",IF('Full menu'!G13="UD","UD",IF('Full menu'!G13="LSD","LSD",IF('Full menu'!G13="WSD","WSD",""))))))))) -> MDC | H13: =IF('Full menu'!H13="MDC","MDC",IF(OR('Full menu'!H13="PERF",'Full menu'!H13="AERF",'Full menu'!H13="PCB"),"ERfix",IF(OR('Full menu'!H13="ACB", 'Full menu'!H13="LCERT", 'Full menu'!H13="LERT",'Full menu'!H13="FCERT",'Full menu'!H13="FERT"),"ERTs",IF(OR('Full menu'!H13="FCMT",'Full menu'!H13="FMT",'Full menu'!H13="LMT",'Full menu'!H13="LCMT"),"MTs",IF(OR('Full menu'!H13="LCIT",'Full menu'!H13="FCIT",'Full menu'!H13="LIT",'Full menu'!H13="FIT"),"ITs",IF(OR('Full menu'!H13="MwERT", 'Full menu'!H13="ERwMT", 'Full menu'!H13="M&ERT", 'Full menu'!H13="MwIT", 'Full menu'!H13="IwMT", 'Full menu'!H13="M&IT", 'Full menu'!H13="IwERT", 'Full menu'!H13="ERwIT", 'Full menu'!H13="I&ERT", 'Full menu'!H13="ER&M&IT"),"MixedTs",IF('Full menu'!H13="UD","UD",IF('Full menu'!H13="LSD","LSD",IF('Full menu'!H13="WSD","WSD",""))))))))) -> MDC | I13: =IF('Full menu'!I13="MDC","MDC",IF(OR('Full menu'!I13="PERF",'Full menu'!I13="AERF",'Full menu'!I13="PCB"),"ERfix",IF(OR('Full menu'!I13="ACB", 'Full menu'!I13="LCERT", 'Full menu'!I13="LERT",'Full menu'!I13="FCERT",'Full menu'!I13="FERT"),"ERTs",IF(OR('Full menu'!I13="FCMT",'Full menu'!I13="FMT",'Full menu'!I13="LMT",'Full menu'!I13="LCMT"),"MTs",IF(OR('Full menu'!I13="LCIT",'Full menu'!I13="FCIT",'Full menu'!I13="LIT",'Full menu'!I13="FIT"),"ITs",IF(OR('Full menu'!I13="MwERT", 'Full menu'!I13="ERwMT", 'Full menu'!I13="M&ERT", 'Full menu'!I13="MwIT", 'Full menu'!I13="IwMT", 'Full menu'!I13="M&IT", 'Full menu'!I13="IwERT", 'Full menu'!I13="ERwIT", 'Full menu'!I13="I&ERT", 'Full menu'!I13="ER&M&IT"),"MixedTs",IF('Full menu'!I13="UD","UD",IF('Full menu'!I13="LSD","LSD",IF('Full menu'!I13="WSD","WSD",""))))))))) -> MDC | ... AS13: =IF('Full menu'!AS13="MDC","MDC",IF(OR('Full menu'!AS13="PERF",'Full menu'!AS13="AERF",'Full menu'!AS13="PCB"),"ERfix",IF(OR('Full menu'!AS13="ACB", 'Full menu'!AS13="LCERT", 'Full menu'!AS13="LERT",'Full menu'!AS13="FCERT",'Full menu'!AS13="FERT"),"ERTs",IF(OR('Full menu'!AS13="FCMT",'Full menu'!AS13="FMT",'Full menu'!AS13="LMT",'Full menu'!AS13="LCMT"),"MTs",IF(OR('Full menu'!AS13="LCIT",'Full menu'!AS13="FCIT",'Full menu'!AS13="LIT",'Full menu'!AS13="FIT"),"ITs",IF(OR('Full menu'!AS13="MwERT", 'Full menu'!AS13="ERwMT", 'Full menu'!AS13="M&ERT", 'Full menu'!AS13="MwIT", 'Full menu'!AS13="IwMT", 'Full menu'!AS13="M&IT", 'Full menu'!AS13="IwERT", 'Full menu'!AS13="ERwIT", 'Full menu'!AS13="I&ERT", 'Full menu'!AS13="ER&M&IT"),"MixedTs",IF('Full menu'!AS13="UD","UD",IF('Full menu'!AS13="LSD","LSD",IF('Full menu'!AS13="WSD","WSD",""))))))))) -> ITs | AV13: =IF('Full menu'!AV13="MDC","MDC",IF(OR('Full menu'!AV13="PERF",'Full menu'!AV13="AERF",'Full menu'!AV13="PCB"),"ERfix",IF(OR('Full menu'!AV13="ACB", 'Full menu'!AV13="LCERT", 'Full menu'!AV13="LERT",'Full menu'!AV13="FCERT",'Full menu'!AV13="FERT"),"ERT",IF(OR('Full menu'!AV13="FCMT",'Full menu'!AV13="FMT",'Full menu'!AV13="LMT",'Full menu'!AV13="LCMT"),"MT",IF(OR('Full menu'!AV13="LCIT",'Full menu'!AV13="FCIT",'Full menu'!AV13="LMT",'Full menu'!AV13="FMT"),"IT",IF(OR('Full menu'!AV13="MwERT", 'Full menu'!AV13="ERwMT", 'Full menu'!AV13="M&ERT", 'Full menu'!AV13="MwIT", 'Full menu'!AV13="IwMT", 'Full menu'!AV13="M&IT", 'Full menu'!AV13="IwERT", 'Full menu'!AV13="ERwIT", 'Full menu'!AV13="I&ERT", 'Full menu'!AV13="ER&M&IT"),"MixedT",IF('Full menu'!AV13="UD","UD",IF('Full menu'!AV13="LSD","LSD",IF('Full menu'!AV13="WSD","WSD",""))))))))) | AW13: =IF('Full menu'!AW13="MDC","MDC",IF(OR('Full menu'!AW13="PERF",'Full menu'!AW13="AERF",'Full menu'!AW13="PCB"),"ERfix",IF(OR('Full menu'!AW13="ACB", 'Full menu'!AW13="LCERT", 'Full menu'!AW13="LERT",'Full menu'!AW13="FCERT",'Full menu'!AW13="FERT"),"ERT",IF(OR('Full menu'!AW13="FCMT",'Full menu'!AW13="FMT",'Full menu'!AW13="LMT",'Full menu'!AW13="LCMT"),"MT",IF(OR('Full menu'!AW13="LCIT",'Full menu'!AW13="FCIT",'Full menu'!AW13="LMT",'Full menu'!AW13="FMT"),"IT",IF(OR('Full menu'!AW13="MwERT", 'Full menu'!AW13="ERwMT", 'Full menu'!AW13="M&ERT", 'Full menu'!AW13="MwIT", 'Full menu'!AW13="IwMT", 'Full menu'!AW13="M&IT", 'Full menu'!AW13="IwERT", 'Full menu'!AW13="ERwIT", 'Full menu'!AW13="I&ERT", 'Full menu'!AW13="ER&M&IT"),"MixedT",IF('Full menu'!AW13="UD","UD",IF('Full menu'!AW13="LSD","LSD",IF('Full menu'!AW13="WSD","WSD",""))))))))) | AX13: =IF('Full menu'!AX13="MDC","MDC",IF(OR('Full menu'!AX13="PERF",'Full menu'!AX13="AERF",'Full menu'!AX13="PCB"),"ERfix",IF(OR('Full menu'!AX13="ACB", 'Full menu'!AX13="LCERT", 'Full menu'!AX13="LERT",'Full menu'!AX13="FCERT",'Full menu'!AX13="FERT"),"ERT",IF(OR('Full menu'!AX13="FCMT",'Full menu'!AX13="FMT",'Full menu'!AX13="LMT",'Full menu'!AX13="LCMT"),"MT",IF(OR('Full menu'!AX13="LCIT",'Full menu'!AX13="FCIT",'Full menu'!AX13="LMT",'Full menu'!AX13="FMT"),"IT",IF(OR('Full menu'!AX13="MwERT", 'Full menu'!AX13="ERwMT", 'Full menu'!AX13="M&ERT", 'Full menu'!AX13="MwIT", 'Full menu'!AX13="IwMT", 'Full menu'!AX13="M&IT", 'Full menu'!AX13="IwERT", 'Full menu'!AX13="ERwIT", 'Full menu'!AX13="I&ERT", 'Full menu'!AX13="ER&M&IT"),"MixedT",IF('Full menu'!AX13="UD","UD",IF('Full menu'!AX13="LSD","LSD",IF('Full menu'!AX13="WSD","WSD",""))))))))) | AY13: =IF('Full menu'!AY13="MDC","MDC",IF(OR('Full menu'!AY13="PERF",'Full menu'!AY13="AERF",'Full menu'!AY13="PCB"),"ERfix",IF(OR('Full menu'!AY13="ACB", 'Full menu'!AY13="LCERT", 'Full menu'!AY13="LERT",'Full menu'!AY13="FCERT",'Full menu'!AY13="FERT"),"ERT",IF(OR('Full menu'!AY13="FCMT",'Full menu'!AY13="FMT",'Full menu'!AY13="LMT",'Full menu'!AY13="LCMT"),"MT",IF(OR('Full menu'!AY13="LCIT",'Full menu'!AY13="FCIT",'Full menu'!AY13="LMT",'Full menu'!AY13="FMT"),"IT",IF(OR('Full menu'!AY13="MwERT", 'Full menu'!AY13="ERwMT", 'Full menu'!AY13="M&ERT", 'Full menu'!AY13="MwIT", 'Full menu'!AY13="IwMT", 'Full menu'!AY13="M&IT", 'Full menu'!AY13="IwERT", 'Full menu'!AY13="ERwIT", 'Full menu'!AY13="I&ERT", 'Full menu'!AY13="ER&M&IT"),"MixedT",IF('Full menu'!AY13="UD","UD",IF('Full menu'!AY13="LSD","LSD",IF('Full menu'!AY13="WSD","WSD",""))))))))) | AZ13: =IF('Full menu'!AZ13="MDC","MDC",IF(OR('Full menu'!AZ13="PERF",'Full menu'!AZ13="AERF",'Full menu'!AZ13="PCB"),"ERfix",IF(OR('Full menu'!AZ13="ACB", 'Full menu'!AZ13="LCERT", 'Full menu'!AZ13="LERT",'Full menu'!AZ13="FCERT",'Full menu'!AZ13="FERT"),"ERT",IF(OR('Full menu'!AZ13="FCMT",'Full menu'!AZ13="FMT",'Full menu'!AZ13="LMT",'Full menu'!AZ13="LCMT"),"MT",IF(OR('Full menu'!AZ13="LCIT",'Full menu'!AZ13="FCIT",'Full menu'!AZ13="LMT",'Full menu'!AZ13="FMT"),"IT",IF(OR('Full menu'!AZ13="MwERT", 'Full menu'!AZ13="ERwMT", 'Full menu'!AZ13="M&ERT", 'Full menu'!AZ13="MwIT", 'Full menu'!AZ13="IwMT", 'Full menu'!AZ13="M&IT", 'Full menu'!AZ13="IwERT", 'Full menu'!AZ13="ERwIT", 'Full menu'!AZ13="I&ERT", 'Full menu'!AZ13="ER&M&IT"),"MixedT",IF('Full menu'!AZ13="UD","UD",IF('Full menu'!AZ13="LSD","LSD",IF('Full menu'!AZ13="WSD","WSD",""))))))))) | BA13: =IF('Full menu'!BA13="MDC","MDC",IF(OR('Full menu'!BA13="PERF",'Full menu'!BA13="AERF",'Full menu'!BA13="PCB"),"ERfix",IF(OR('Full menu'!BA13="ACB", 'Full menu'!BA13="LCERT", 'Full menu'!BA13="LERT",'Full menu'!BA13="FCERT",'Full menu'!BA13="FERT"),"ERT",IF(OR('Full menu'!BA13="FCMT",'Full menu'!BA13="FMT",'Full menu'!BA13="LMT",'Full menu'!BA13="LCMT"),"MT",IF(OR('Full menu'!BA13="LCIT",'Full menu'!BA13="FCIT",'Full menu'!BA13="LMT",'Full menu'!BA13="FMT"),"IT",IF(OR('Full menu'!BA13="MwERT", 'Full menu'!BA13="ERwMT", 'Full menu'!BA13="M&ERT", 'Full menu'!BA13="MwIT", 'Full menu'!BA13="IwMT", 'Full menu'!BA13="M&IT", 'Full menu'!BA13="IwERT", 'Full menu'!BA13="ERwIT", 'Full menu'!BA13="I&ERT", 'Full menu'!BA13="ER&M&IT"),"MixedT",IF('Full menu'!BA13="UD","UD",IF('Full menu'!BA13="LSD","LSD",IF('Full menu'!BA13="WSD","WSD",""))))))))) | BB13: =IF('Full menu'!BB13="MDC","MDC",IF(OR('Full menu'!BB13="PERF",'Full menu'!BB13="AERF",'Full menu'!BB13="PCB"),"ERfix",IF(OR('Full menu'!BB13="ACB", 'Full menu'!BB13="LCERT", 'Full menu'!BB13="LERT",'Full menu'!BB13="FCERT",'Full menu'!BB13="FERT"),"ERT",IF(OR('Full menu'!BB13="FCMT",'Full menu'!BB13="FMT",'Full menu'!BB13="LMT",'Full menu'!BB13="LCMT"),"MT",IF(OR('Full menu'!BB13="LCIT",'Full menu'!BB13="FCIT",'Full menu'!BB13="LMT",'Full menu'!BB13="FMT"),"IT",IF(OR('Full menu'!BB13="MwERT", 'Full menu'!BB13="ERwMT", 'Full menu'!BB13="M&ERT", 'Full menu'!BB13="MwIT", 'Full menu'!BB13="IwMT", 'Full menu'!BB13="M&IT", 'Full menu'!BB13="IwERT", 'Full menu'!BB13="ERwIT", 'Full menu'!BB13="I&ERT", 'Full menu'!BB13="ER&M&IT"),"MixedT",IF('Full menu'!BB13="UD","UD",IF('Full menu'!BB13="LSD","LSD",IF('Full menu'!BB13="WSD","WSD",""))))))))) | BC13: =IF('Full menu'!BC13="MDC","MDC",IF(OR('Full menu'!BC13="PERF",'Full menu'!BC13="AERF",'Full menu'!BC13="PCB"),"ERfix",IF(OR('Full menu'!BC13="ACB", 'Full menu'!BC13="LCERT", 'Full menu'!BC13="LERT",'Full menu'!BC13="FCERT",'Full menu'!BC13="FERT"),"ERT",IF(OR('Full menu'!BC13="FCMT",'Full menu'!BC13="FMT",'Full menu'!BC13="LMT",'Full menu'!BC13="LCMT"),"MT",IF(OR('Full menu'!BC13="LCIT",'Full menu'!BC13="FCIT",'Full menu'!BC13="LMT",'Full menu'!BC13="FMT"),"IT",IF(OR('Full menu'!BC13="MwERT", 'Full menu'!BC13="ERwMT", 'Full menu'!BC13="M&ERT", 'Full menu'!BC13="MwIT", 'Full menu'!BC13="IwMT", 'Full menu'!BC13="M&IT", 'Full menu'!BC13="IwERT", 'Full menu'!BC13="ERwIT", 'Full menu'!BC13="I&ERT", 'Full menu'!BC13="ER&M&IT"),"MixedT",IF('Full menu'!BC13="UD","UD",IF('Full menu'!BC13="LSD","LSD",IF('Full menu'!BC13="WSD","WSD","")))))))))
