Workbook

Sheet full menu
B1: 1974 | C1: 1975 | D1: 1976 | E1: 1977 | F1: 1978 | G1: 1979 | H1: 1980 | I1: 1981 | J1: 1982 | K1: 1983 | L1: 1984 | M1: 1985 | N1: 1986 | O1: 1987 | P1: 1988 | Q1: 1989 | R1: 1990 | S1: 1991 | T1: 1992 | U1: 1993 | V1: 1994 | W1: 1995 | X1: 1996 | Y1: 1997 | Z1: 1998 | AA1: 1999 | AB1: 2000 | AC1: 2001 | AD1: 2002 | AE1: 2003 | AF1: 2004 | AG1: 2005 | AH1: 2006 | AI1: 2007 | AJ1: 2008 | AK1: 2009 | AL1: 2010 | AM1: 2011 | AN1: 2012 | AO1: 2013 | AP1: 2014 | AQ1: 2015 | AR1: 2016 | AS1: 2017
A2: Armenia | B2: X | C2: X | D2: X | E2: X | F2: X | G2: X | H2: X | I2: X | J2: X | K2: X | L2: X | M2: X | N2: X | O2: X | P2: X | Q2: X | R2: X | S2: X | T2: UD | U2: UD | V2: UD | W2: LSD | X2: LSD | Y2: LSD | Z2: LSD | AA2: LSD | AB2: LSD | AC2: LSD | AD2: LSD | AE2: LSD | AF2: LSD | AG2: LSD | AH2: LSD | AI2: LSD | AJ2: LSD | AK2: LSD | AL2: LSD | AM2: LIT | AN2: LIT | AO2: LIT | AP2: LIT | AQ2: LIT | AR2: LIT | AS2: LIT
A3: Azerbaijan | B3: X | C3: X | D3: X | E3: X | F3: X | G3: X | H3: X | I3: X | J3: X | K3: X | L3: X | M3: X | N3: X | O3: X | P3: X | Q3: X | R3: X | S3: X | T3: UD | U3: UD | V3: UD | W3: LSD | X3: LSD | Y3: LSD | Z3: LSD | AA3: LSD | AB3: LSD | AC3: LSD | AD3: LSD | AE3: LSD | AF3: LSD | AG3: LSD | AH3: LSD | AI3: LSD | AJ3: LSD | AK3: LSD | AL3: LSD | AM3: LSD | AN3: LSD | AO3: LSD | AP3: LSD | AQ3: LSD | AR3: LSD | AS3: LSD
A4: Georgia | B4: X | C4: X | D4: X | E4: X | F4: X | G4: X | H4: X | I4: X | J4: X | K4: X | L4: X | M4: X | N4: X | O4: X | P4: X | Q4: X | R4: X | S4: UD | T4: UD | U4: UD | V4: UD | W4: LSD | X4: LSD | Y4: LSD | Z4: LSD | AA4: LSD | AB4: LSD | AC4: LSD | AD4: LSD | AE4: LSD | AF4: LSD | AG4: LSD | AH4: LSD | AI4: LSD | AJ4: LSD | AK4: LSD | AL4: LSD | AM4: LSD | AN4: LSD | AO4: LSD | AP4: LSD | AQ4: LSD | AR4: LSD | AS4: LSD
A5: Kazakhstan | B5: X | C5: X | D5: X | E5: X | F5: X | G5: X | H5: X | I5: X | J5: X | K5: X | L5: X | M5: X | N5: X | O5: X | P5: X | Q5: X | R5: X | S5: X | T5: UD | U5: UD | V5: LSD | W5: LSD | X5: LSD | Y5: LSD | Z5: LSD | AA5: LSD | AB5: LSD | AC5: LSD | AD5: LSD | AE5: LSD | AF5: LSD | AG5: LSD | AH5: LSD | AI5: LSD | AJ5: LSD | AK5: LSD | AL5: LSD | AM5: LSD | AN5: LSD | AO5: LSD | AP5: LSD | AQ5: LSD | AR5: LSD | AS5: LIT
A6: Kyrgyz Republic | B6: X | C6: X | D6: X | E6: X | F6: X | G6: X | H6: X | I6: X | J6: X | K6: X | L6: X | M6: X | N6: X | O6: X | P6: X | Q6: X | R6: X | S6: X | T6: UD | U6: UD | V6: LSD | W6: LSD | X6: LSD | Y6: LSD | Z6: LSD | AA6: LSD | AB6: LSD | AC6: LSD | AD6: LSD | AE6: LSD | AF6: LSD | AG6: LSD | AH6: LSD | AI6: LSD | AJ6: LSD | AK6: LSD | AL6: LSD | AM6: LSD | AN6: LSD | AO6: LSD | AP6: LSD | AQ6: LSD | AR6: LSD | AS6: LSD
A7: Tajikistan | B7: X | C7: X | D7: X | E7: X | F7: X | G7: X | H7: X | I7: X | J7: X | K7: X | L7: X | M7: X | N7: X | O7: X | P7: X | Q7: X | R7: X | S7: X | T7: UD | U7: UD | V7: UD | W7: UD | X7: UD | Y7: LSD | Z7: LSD | AA7: LSD | AB7: LSD | AC7: LSD | AD7: LSD | AE7: LSD | AF7: LSD | AG7: LSD | AH7: LSD | AI7: LSD | AJ7: LSD | AK7: LSD | AL7: LSD | AM7: LSD | AN7: LSD | AO7: LSD | AP7: LSD | AQ7: LSD | AR7: LSD | AS7: LSD
A8: Turkmenistan | B8: X | C8: X | D8: X | E8: X | F8: X | G8: X | H8: X | I8: X | J8: X | K8: X | L8: X | M8: X | N8: X | O8: X | P8: X | Q8: X | R8: X | S8: X | T8: UD | U8: UD | V8: UD | W8: UD | X8: LSD | Y8: LSD | Z8: LSD | AA8: LSD | AB8: LSD | AC8: LSD | AD8: LSD | AE8: LSD | AF8: LSD | AG8: LSD | AH8: LSD | AI8: LSD | AJ8: AERF | AK8: AERF | AL8: AERF | AM8: AERF | AN8: AERF | AO8: AERF | AP8: AERF | AQ8: AERF | AR8: AERF | AS8: AERF
A9: Uzbekistan | B9: X | C9: X | D9: X | E9: X | F9: X | G9: X | H9: X | I9: X | J9: X | K9: X | L9: X | M9: X | N9: X | O9: X | P9: X | Q9: X | R9: X | S9: X | T9: UD | U9: UD | V9: UD | W9: LSD | X9: LSD | Y9: LSD | Z9: LSD | AA9: LSD | AB9: LSD | AC9: LSD | AD9: LSD | AE9: LSD | AF9: LSD | AG9: LSD | AH9: LSD | AI9: LSD | AJ9: LSD | AK9: LSD | AL9: LSD | AM9: LSD | AN9: LSD | AO9: LSD | AP9: LSD | AQ9: LSD | AR9: LSD | AS9: LSD
B14: 1974 | C14: 1975 | D14: 1976 | E14: 1977 | F14: 1978 | G14: 1979 | H14: 1980 | I14: 1981 | J14: 1982 | K14: 1983 | L14: 1984 | M14: 1985 | N14: 1986 | O14: 1987 | P14: 1988 | Q14: 1989 | R14: 1990 | S14: 1991 | T14: 1992 | U14: 1993 | V14: 1994 | W14: 1995 | X14: 1996 | Y14: 1997 | Z14: 1998 | AA14: 1999 | AB14: 2000 | AC14: 2001 | AD14: 2002 | AE14: 2003 | AF14: 2004 | AG14: 2005 | AH14: 2006 | AI14: 2007 | AJ14: 2008 | AK14: 2009 | AL14: 2010 | AM14: 2011 | AN14: 2012 | AO14: 2013 | AP14: 2014 | AQ14: 2015 | AR14: 2016 | AS14: 2017 | AU14: 74-17 | AV14: 74-84 | AW14: 85-98 | AX14: 99-07 | AY14: 08-17
A15: X | B15: =COUNTIF(B2:B8,"X") -> 7 | C15: =COUNTIF(C2:C8,"X") -> 7 | D15: =COUNTIF(D2:D8,"X") -> 7 | E15: =COUNTIF(E2:E8,"X") -> 7 | F15: =COUNTIF(F2:F8,"X") -> 7 | G15: =COUNTIF(G2:G8,"X") -> 7 | H15: =COUNTIF(H2:H8,"X") -> 7 | I15: =COUNTIF(I2:I8,"X") -> 7 | ... AS15: =COUNTIF(AS2:AS8,"X") -> 0 | AU15: =SUM(B15:AS15) -> 125 | AV15: =SUM(B15:L15) -> 77 | AW15: =SUM(M15:Z15) -> 48 | AX15: =SUM(AA15:AI15) -> 0 | AY15: =SUM(AJ15:AS15) -> 0
A16: MDC | B16: =COUNTIF(B2:B8,"MDC") -> 0 | C16: =COUNTIF(C2:C8,"MDC") -> 0 | D16: =COUNTIF(D2:D8,"MDC") -> 0 | E16: =COUNTIF(E2:E8,"MDC") -> 0 | F16: =COUNTIF(F2:F8,"MDC") -> 0 | G16: =COUNTIF(G2:G8,"MDC") -> 0 | H16: =COUNTIF(H2:H8,"MDC") -> 0 | I16: =COUNTIF(I2:I8,"MDC") -> 0 | ... AS16: =COUNTIF(AS2:AS8,"MDC") -> 0 | AU16: =SUM(B16:AS16) -> 0 | AV16: =SUM(B16:L16) -> 0 | AW16: =SUM(M16:Z16) -> 0 | AX16: =SUM(AA16:AI16) -> 0 | AY16: =SUM(AJ16:AS16) -> 0
A17: PERF | B17: =COUNTIF(B2:B8,"PERF") -> 0 | C17: =COUNTIF(C2:C8,"PERF") -> 0 | D17: =COUNTIF(D2:D8,"PERF") -> 0 | E17: =COUNTIF(E2:E8,"PERF") -> 0 | F17: =COUNTIF(F2:F8,"PERF") -> 0 | G17: =COUNTIF(G2:G8,"PERF") -> 0 | H17: =COUNTIF(H2:H8,"PERF") -> 0 | I17: =COUNTIF(I2:I8,"PERF") -> 0 | ... AS17: =COUNTIF(AS2:AS8,"PERF") -> 0 | AU17: =SUM(B17:AS17) -> 0 | AV17: =SUM(B17:L17) -> 0 | AW17: =SUM(M17:Z17) -> 0 | AX17: =SUM(AA17:AI17) -> 0 | AY17: =SUM(AJ17:AS17) -> 0
A18: AERF | B18: =COUNTIF(B2:B8,"AERF") -> 0 | C18: =COUNTIF(C2:C8,"AERF") -> 0 | D18: =COUNTIF(D2:D8,"AERF") -> 0 | E18: =COUNTIF(E2:E8,"AERF") -> 0 | F18: =COUNTIF(F2:F8,"AERF") -> 0 | G18: =COUNTIF(G2:G8,"AERF") -> 0 | H18: =COUNTIF(H2:H8,"AERF") -> 0 | I18: =COUNTIF(I2:I8,"AERF") -> 0 | ... AS18: =COUNTIF(AS2:AS8,"AERF") -> 1 | AU18: =SUM(B18:AS18) -> 10 | AV18: =SUM(B18:L18) -> 0 | AW18: =SUM(M18:Z18) -> 0 | AX18: =SUM(AA18:AI18) -> 0 | AY18: =SUM(AJ18:AS18) -> 10
A19: PCB | B19: =COUNTIF(B2:B8,"PCB") -> 0 | C19: =COUNTIF(C2:C8,"PCB") -> 0 | D19: =COUNTIF(D2:D8,"PCB") -> 0 | E19: =COUNTIF(E2:E8,"PCB") -> 0 | F19: =COUNTIF(F2:F8,"PCB") -> 0 | G19: =COUNTIF(G2:G8,"PCB") -> 0 | H19: =COUNTIF(H2:H8,"PCB") -> 0 | I19: =COUNTIF(I2:I8,"PCB") -> 0 | ... AS19: =COUNTIF(AS2:AS8,"PCB") -> 0 | AU19: =SUM(B19:AS19) -> 0 | AV19: =SUM(B19:L19) -> 0 | AW19: =SUM(M19:Z19) -> 0 | AX19: =SUM(AA19:AI19) -> 0 | AY19: =SUM(AJ19:AS19) -> 0
A20: ACB | B20: =COUNTIF(B2:B8,"ACB") -> 0 | C20: =COUNTIF(C2:C8,"ACB") -> 0 | D20: =COUNTIF(D2:D8,"ACB") -> 0 | E20: =COUNTIF(E2:E8,"ACB") -> 0 | F20: =COUNTIF(F2:F8,"ACB") -> 0 | G20: =COUNTIF(G2:G8,"ACB") -> 0 | H20: =COUNTIF(H2:H8,"ACB") -> 0 | I20: =COUNTIF(I2:I8,"ACB") -> 0 | ... AS20: =COUNTIF(AS2:AS8,"ACB") -> 0 | AU20: =SUM(B20:AS20) -> 0 | AV20: =SUM(B20:L20) -> 0 | AW20: =SUM(M20:Z20) -> 0 | AX20: =SUM(AA20:AI20) -> 0 | AY20: =SUM(AJ20:AS20) -> 0
A21: UD | B21: =COUNTIF(B2:B8,"UD") -> 0 | C21: =COUNTIF(C2:C8,"UD") -> 0 | D21: =COUNTIF(D2:D8,"UD") -> 0 | E21: =COUNTIF(E2:E8,"UD") -> 0 | F21: =COUNTIF(F2:F8,"UD") -> 0 | G21: =COUNTIF(G2:G8,"UD") -> 0 | H21: =COUNTIF(H2:H8,"UD") -> 0 | I21: =COUNTIF(I2:I8,"UD") -> 0 | ... AS21: =COUNTIF(AS2:AS8,"UD") -> 0 | AU21: =SUM(B21:AS21) -> 23 | AV21: =SUM(B21:L21) -> 0 | AW21: =SUM(M21:Z21) -> 23 | AX21: =SUM(AA21:AI21) -> 0 | AY21: =SUM(AJ21:AS21) -> 0
A22: LERT | B22: =COUNTIF(B2:B8,"LERT") -> 0 | C22: =COUNTIF(C2:C8,"LERT") -> 0 | D22: =COUNTIF(D2:D8,"LERT") -> 0 | E22: =COUNTIF(E2:E8,"LERT") -> 0 | F22: =COUNTIF(F2:F8,"LERT") -> 0 | G22: =COUNTIF(G2:G8,"LERT") -> 0 | H22: =COUNTIF(H2:H8,"LERT") -> 0 | I22: =COUNTIF(I2:I8,"LERT") -> 0 | ... AS22: =COUNTIF(AS2:AS8,"LERT") -> 0 | AU22: =SUM(B22:AS22) -> 0 | AV22: =SUM(B22:L22) -> 0 | AW22: =SUM(M22:Z22) -> 0 | AX22: =SUM(AA22:AI22) -> 0 | AY22: =SUM(AJ22:AS22) -> 0
A23: LCERT | B23: =COUNTIF(B2:B8,"LCERT") -> 0 | C23: =COUNTIF(C2:C8,"LCERT") -> 0 | D23: =COUNTIF(D2:D8,"LCERT") -> 0 | E23: =COUNTIF(E2:E8,"LCERT") -> 0 | F23: =COUNTIF(F2:F8,"LCERT") -> 0 | G23: =COUNTIF(G2:G8,"LCERT") -> 0 | H23: =COUNTIF(H2:H8,"LCERT") -> 0 | I23: =COUNTIF(I2:I8,"LCERT") -> 0 | ... AS23: =COUNTIF(AS2:AS8,"LCERT") -> 0 | AU23: =SUM(B23:AS23) -> 0 | AV23: =SUM(B23:L23) -> 0 | AW23: =SUM(M23:Z23) -> 0 | AX23: =SUM(AA23:AI23) -> 0 | AY23: =SUM(AJ23:AS23) -> 0
A24: LMT | B24: =COUNTIF(B2:B8,"LMT") -> 0 | C24: =COUNTIF(C2:C8,"LMT") -> 0 | D24: =COUNTIF(D2:D8,"LMT") -> 0 | E24: =COUNTIF(E2:E8,"LMT") -> 0 | F24: =COUNTIF(F2:F8,"LMT") -> 0 | G24: =COUNTIF(G2:G8,"LMT") -> 0 | H24: =COUNTIF(H2:H8,"LMT") -> 0 | I24: =COUNTIF(I2:I8,"LMT") -> 0 | ... AS24: =COUNTIF(AS2:AS8,"LMT") -> 0 | AU24: =SUM(B24:AS24) -> 0 | AV24: =SUM(B24:L24) -> 0 | AW24: =SUM(M24:Z24) -> 0 | AX24: =SUM(AA24:AI24) -> 0 | AY24: =SUM(AJ24:AS24) -> 0
A25: LCMT | B25: =COUNTIF(B2:B8,"LCMT") -> 0 | C25: =COUNTIF(C2:C8,"LCMT") -> 0 | D25: =COUNTIF(D2:D8,"LCMT") -> 0 | E25: =COUNTIF(E2:E8,"LCMT") -> 0 | F25: =COUNTIF(F2:F8,"LCMT") -> 0 | G25: =COUNTIF(G2:G8,"LCMT") -> 0 | H25: =COUNTIF(H2:H8,"LCMT") -> 0 | I25: =COUNTIF(I2:I8,"LCMT") -> 0 | ... AS25: =COUNTIF(AS2:AS8,"LCMT") -> 0 | AU25: =SUM(B25:AS25) -> 0 | AV25: =SUM(B25:L25) -> 0 | AW25: =SUM(M25:Z25) -> 0 | AX25: =SUM(AA25:AI25) -> 0 | AY25: =SUM(AJ25:AS25) -> 0
A26: LIT | B26: =COUNTIF(B2:B8,"LIT") -> 0 | C26: =COUNTIF(C2:C8,"LIT") -> 0 | D26: =COUNTIF(D2:D8,"LIT") -> 0 | E26: =COUNTIF(E2:E8,"LIT") -> 0 | F26: =COUNTIF(F2:F8,"LIT") -> 0 | G26: =COUNTIF(G2:G8,"LIT") -> 0 | H26: =COUNTIF(H2:H8,"LIT") -> 0 | I26: =COUNTIF(I2:I8,"LIT") -> 0 | ... AS26: =COUNTIF(AS2:AS8,"LIT") -> 2 | AU26: =SUM(B26:AS26) -> 8 | AV26: =SUM(B26:L26) -> 0 | AW26: =SUM(M26:Z26) -> 0 | AX26: =SUM(AA26:AI26) -> 0 | AY26: =SUM(AJ26:AS26) -> 8
A27: LCIT | B27: =COUNTIF(B2:B8,"LCIT") -> 0 | C27: =COUNTIF(C2:C8,"LCIT") -> 0 | D27: =COUNTIF(D2:D8,"LCIT") -> 0 | E27: =COUNTIF(E2:E8,"LCIT") -> 0 | F27: =COUNTIF(F2:F8,"LCIT") -> 0 | G27: =COUNTIF(G2:G8,"LCIT") -> 0 | H27: =COUNTIF(H2:H8,"LCIT") -> 0 | I27: =COUNTIF(I2:I8,"LCIT") -> 0 | ... AS27: =COUNTIF(AS2:AS8,"LCIT") -> 0 | AU27: =SUM(B27:AS27) -> 0 | AV27: =SUM(B27:L27) -> 0 | AW27: =SUM(M27:Z27) -> 0 | AX27: =SUM(AA27:AI27) -> 0 | AY27: =SUM(AJ27:AS27) -> 0
A28: MwERT | B28: =COUNTIF(B2:B8,"MwERT") -> 0 | C28: =COUNTIF(C2:C8,"MwERT") -> 0 | D28: =COUNTIF(D2:D8,"MwERT") -> 0 | E28: =COUNTIF(E2:E8,"MwERT") -> 0 | F28: =COUNTIF(F2:F8,"MwERT") -> 0 | G28: =COUNTIF(G2:G8,"MwERT") -> 0 | H28: =COUNTIF(H2:H8,"MwERT") -> 0 | I28: =COUNTIF(I2:I8,"MwERT") -> 0 | ... AS28: =COUNTIF(AS2:AS8,"MwERT") -> 0 | AU28: =SUM(B28:AS28) -> 0 | AV28: =SUM(B28:L28) -> 0 | AW28: =SUM(M28:Z28) -> 0 | AX28: =SUM(AA28:AI28) -> 0 | AY28: =SUM(AJ28:AS28) -> 0
A29: ERwMT | B29: =COUNTIF(B2:B8,"ERwMT") -> 0 | C29: =COUNTIF(C2:C8,"ERwMT") -> 0 | D29: =COUNTIF(D2:D8,"ERwMT") -> 0 | E29: =COUNTIF(E2:E8,"ERwMT") -> 0 | F29: =COUNTIF(F2:F8,"ERwMT") -> 0 | G29: =COUNTIF(G2:G8,"ERwMT") -> 0 | H29: =COUNTIF(H2:H8,"ERwMT") -> 0 | I29: =COUNTIF(I2:I8,"ERwMT") -> 0 | ... AS29: =COUNTIF(AS2:AS8,"ERwMT") -> 0 | AU29: =SUM(B29:AS29) -> 0 | AV29: =SUM(B29:L29) -> 0 | AW29: =SUM(M29:Z29) -> 0 | AX29: =SUM(AA29:AI29) -> 0 | AY29: =SUM(AJ29:AS29) -> 0
A30: M&ERT | B30: =COUNTIF(B2:B8,"M&ERT") -> 0 | C30: =COUNTIF(C2:C8,"M&ERT") -> 0 | D30: =COUNTIF(D2:D8,"M&ERT") -> 0 | E30: =COUNTIF(E2:E8,"M&ERT") -> 0 | F30: =COUNTIF(F2:F8,"M&ERT") -> 0 | G30: =COUNTIF(G2:G8,"M&ERT") -> 0 | H30: =COUNTIF(H2:H8,"M&ERT") -> 0 | I30: =COUNTIF(I2:I8,"M&ERT") -> 0 | ... AS30: =COUNTIF(AS2:AS8,"M&ERT") -> 0 | AU30: =SUM(B30:AS30) -> 0 | AV30: =SUM(B30:L30) -> 0 | AW30: =SUM(M30:Z30) -> 0 | AX30: =SUM(AA30:AI30) -> 0 | AY30: =SUM(AJ30:AS30) -> 0
A31: MwIT | B31: =COUNTIF(B2:B8,"MwIT") -> 0 | C31: =COUNTIF(C2:C8,"MwIT") -> 0 | D31: =COUNTIF(D2:D8,"MwIT") -> 0 | E31: =COUNTIF(E2:E8,"MwIT") -> 0 | F31: =COUNTIF(F2:F8,"MwIT") -> 0 | G31: =COUNTIF(G2:G8,"MwIT") -> 0 | H31: =COUNTIF(H2:H8,"MwIT") -> 0 | I31: =COUNTIF(I2:I8,"MwIT") -> 0 | ... AS31: =COUNTIF(AS2:AS8,"MwIT") -> 0 | AU31: =SUM(B31:AS31) -> 0 | AV31: =SUM(B31:L31) -> 0 | AW31: =SUM(M31:Z31) -> 0 | AX31: =SUM(AA31:AI31) -> 0 | AY31: =SUM(AJ31:AS31) -> 0
A32: IwMT | B32: =COUNTIF(B2:B8,"IwMT") -> 0 | C32: =COUNTIF(C2:C8,"IwMT") -> 0 | D32: =COUNTIF(D2:D8,"IwMT") -> 0 | E32: =COUNTIF(E2:E8,"IwMT") -> 0 | F32: =COUNTIF(F2:F8,"IwMT") -> 0 | G32: =COUNTIF(G2:G8,"IwMT") -> 0 | H32: =COUNTIF(H2:H8,"IwMT") -> 0 | I32: =COUNTIF(I2:I8,"IwMT") -> 0 | ... AS32: =COUNTIF(AS2:AS8,"IwMT") -> 0 | AU32: =SUM(B32:AS32) -> 0 | AV32: =SUM(B32:L32) -> 0 | AW32: =SUM(M32:Z32) -> 0 | AX32: =SUM(AA32:AI32) -> 0 | AY32: =SUM(AJ32:AS32) -> 0
A33: M&IT | B33: =COUNTIF(B2:B8,"M&IT") -> 0 | C33: =COUNTIF(C2:C8,"M&IT") -> 0 | D33: =COUNTIF(D2:D8,"M&IT") -> 0 | E33: =COUNTIF(E2:E8,"M&IT") -> 0 | F33: =COUNTIF(F2:F8,"M&IT") -> 0 | G33: =COUNTIF(G2:G8,"M&IT") -> 0 | H33: =COUNTIF(H2:H8,"M&IT") -> 0 | I33: =COUNTIF(I2:I8,"M&IT") -> 0 | ... AS33: =COUNTIF(AS2:AS8,"M&IT") -> 0 | AU33: =SUM(B33:AS33) -> 0 | AV33: =SUM(B33:L33) -> 0 | AW33: =SUM(M33:Z33) -> 0 | AX33: =SUM(AA33:AI33) -> 0 | AY33: =SUM(AJ33:AS33) -> 0
A34: IwERT | B34: =COUNTIF(B2:B8,"IwERT") -> 0 | C34: =COUNTIF(C2:C8,"IwERT") -> 0 | D34: =COUNTIF(D2:D8,"IwERT") -> 0 | E34: =COUNTIF(E2:E8,"IwERT") -> 0 | F34: =COUNTIF(F2:F8,"IwERT") -> 0 | G34: =COUNTIF(G2:G8,"IwERT") -> 0 | H34: =COUNTIF(H2:H8,"IwERT") -> 0 | I34: =COUNTIF(I2:I8,"IwERT") -> 0 | ... AS34: =COUNTIF(AS2:AS8,"IwERT") -> 0 | AU34: =SUM(B34:AS34) -> 0 | AV34: =SUM(B34:L34) -> 0 | AW34: =SUM(M34:Z34) -> 0 | AX34: =SUM(AA34:AI34) -> 0 | AY34: =SUM(AJ34:AS34) -> 0
A35: ERwIT | B35: =COUNTIF(B2:B8,"ERwIT") -> 0 | C35: =COUNTIF(C2:C8,"ERwIT") -> 0 | D35: =COUNTIF(D2:D8,"ERwIT") -> 0 | E35: =COUNTIF(E2:E8,"ERwIT") -> 0 | F35: =COUNTIF(F2:F8,"ERwIT") -> 0 | G35: =COUNTIF(G2:G8,"ERwIT") -> 0 | H35: =COUNTIF(H2:H8,"ERwIT") -> 0 | I35: =COUNTIF(I2:I8,"ERwIT") -> 0 | ... AS35: =COUNTIF(AS2:AS8,"ERwIT") -> 0 | AU35: =SUM(B35:AS35) -> 0 | AV35: =SUM(B35:L35) -> 0 | AW35: =SUM(M35:Z35) -> 0 | AX35: =SUM(AA35:AI35) -> 0 | AY35: =SUM(AJ35:AS35) -> 0
A36: I&ERT | B36: =COUNTIF(B2:B8,"I&ERT") -> 0 | C36: =COUNTIF(C2:C8,"I&ERT") -> 0 | D36: =COUNTIF(D2:D8,"I&ERT") -> 0 | E36: =COUNTIF(E2:E8,"I&ERT") -> 0 | F36: =COUNTIF(F2:F8,"I&ERT") -> 0 | G36: =COUNTIF(G2:G8,"I&ERT") -> 0 | H36: =COUNTIF(H2:H8,"I&ERT") -> 0 | I36: =COUNTIF(I2:I8,"I&ERT") -> 0 | ... AS36: =COUNTIF(AS2:AS8,"I&ERT") -> 0 | AU36: =SUM(B36:AS36) -> 0 | AV36: =SUM(B36:L36) -> 0 | AW36: =SUM(M36:Z36) -> 0 | AX36: =SUM(AA36:AI36) -> 0 | AY36: =SUM(AJ36:AS36) -> 0
A37: ER&M&IT | B37: =COUNTIF(B2:B8,"ER&M&IT") -> 0 | C37: =COUNTIF(C2:C8,"ER&M&IT") -> 0 | D37: =COUNTIF(D2:D8,"ER&M&IT") -> 0 | E37: =COUNTIF(E2:E8,"ER&M&IT") -> 0 | F37: =COUNTIF(F2:F8,"ER&M&IT") -> 0 | G37: =COUNTIF(G2:G8,"ER&M&IT") -> 0 | H37: =COUNTIF(H2:H8,"ER&M&IT") -> 0 | I37: =COUNTIF(I2:I8,"ER&M&IT") -> 0 | ... AS37: =COUNTIF(AS2:AS8,"ER&M&IT") -> 0 | AU37: =SUM(B37:AS37) -> 0 | AV37: =SUM(B37:L37) -> 0 | AW37: =SUM(M37:Z37) -> 0 | AX37: =SUM(AA37:AI37) -> 0 | AY37: =SUM(AJ37:AS37) -> 0
A38: LSD | B38: =COUNTIF(B2:B8,"LSD") -> 0 | C38: =COUNTIF(C2:C8,"LSD") -> 0 | D38: =COUNTIF(D2:D8,"LSD") -> 0 | E38: =COUNTIF(E2:E8,"LSD") -> 0 | F38: =COUNTIF(F2:F8,"LSD") -> 0 | G38: =COUNTIF(G2:G8,"LSD") -> 0 | H38: =COUNTIF(H2:H8,"LSD") -> 0 | I38: =COUNTIF(I2:I8,"LSD") -> 0 | ... AS38: =COUNTIF(AS2:AS8,"LSD") -> 4 | AU38: =SUM(B38:AS38) -> 142 | AV38: =SUM(B38:L38) -> 0 | AW38: =SUM(M38:Z38) -> 27 | AX38: =SUM(AA38:AI38) -> 63 | AY38: =SUM(AJ38:AS38) -> 52
A39: UASC | B39: =COUNTIF(B2:B8,"UASC") -> 0 | C39: =COUNTIF(C2:C8,"UASC") -> 0 | D39: =COUNTIF(D2:D8,"UASC") -> 0 | E39: =COUNTIF(E2:E8,"UASC") -> 0 | F39: =COUNTIF(F2:F8,"UASC") -> 0 | G39: =COUNTIF(G2:G8,"UASC") -> 0 | H39: =COUNTIF(H2:H8,"UASC") -> 0 | I39: =COUNTIF(I2:I8,"UASC") -> 0 | ... AS39: =COUNTIF(AS2:AS8,"UASC") -> 0 | AU39: =SUM(B39:AS39) -> 0 | AV39: =SUM(B39:L39) -> 0 | AW39: =SUM(M39:Z39) -> 0 | AX39: =SUM(AA39:AI39) -> 0 | AY39: =SUM(AJ39:AS39) -> 0
A40: CU | B40: =COUNTIF(B2:B8,"CU") -> 0 | C40: =COUNTIF(C2:C8,"CU") -> 0 | D40: =COUNTIF(D2:D8,"CU") -> 0 | E40: =COUNTIF(E2:E8,"CU") -> 0 | F40: =COUNTIF(F2:F8,"CU") -> 0 | G40: =COUNTIF(G2:G8,"CU") -> 0 | H40: =COUNTIF(H2:H8,"CU") -> 0 | I40: =COUNTIF(I2:I8,"CU") -> 0 | ... AS40: =COUNTIF(AS2:AS8,"CU") -> 0 | AU40: =SUM(B40:AS40) -> 0 | AV40: =SUM(B40:L40) -> 0 | AW40: =SUM(M40:Z40) -> 0 | AX40: =SUM(AA40:AI40) -> 0 | AY40: =SUM(AJ40:AS40) -> 0
A41: FERT | B41: =COUNTIF(B2:B8,"FERT") -> 0 | C41: =COUNTIF(C2:C8,"FERT") -> 0 | D41: =COUNTIF(D2:D8,"FERT") -> 0 | E41: =COUNTIF(E2:E8,"FERT") -> 0 | F41: =COUNTIF(F2:F8,"FERT") -> 0 | G41: =COUNTIF(G2:G8,"FERT") -> 0 | H41: =COUNTIF(H2:H8,"FERT") -> 0 | I41: =COUNTIF(I2:I8,"FERT") -> 0 | ... AS41: =COUNTIF(AS2:AS8,"FERT") -> 0 | AU41: =SUM(B41:AS41) -> 0 | AV41: =SUM(B41:L41) -> 0 | AW41: =SUM(M41:Z41) -> 0 | AX41: =SUM(AA41:AI41) -> 0 | AY41: =SUM(AJ41:AS41) -> 0
A42: FCERT | B42: =COUNTIF(B2:B8,"FCERT") -> 0 | C42: =COUNTIF(C2:C8,"FCERT") -> 0 | D42: =COUNTIF(D2:D8,"FCERT") -> 0 | E42: =COUNTIF(E2:E8,"FCERT") -> 0 | F42: =COUNTIF(F2:F8,"FCERT") -> 0 | G42: =COUNTIF(G2:G8,"FCERT") -> 0 | H42: =COUNTIF(H2:H8,"FCERT") -> 0 | I42: =COUNTIF(I2:I8,"FCERT") -> 0 | ... AS42: =COUNTIF(AS2:AS8,"FCERT") -> 0 | AU42: =SUM(B42:AS42) -> 0 | AV42: =SUM(B42:L42) -> 0 | AW42: =SUM(M42:Z42) -> 0 | AX42: =SUM(AA42:AI42) -> 0 | AY42: =SUM(AJ42:AS42) -> 0
A43: FMT | B43: =COUNTIF(B2:B8,"FMT") -> 0 | C43: =COUNTIF(C2:C8,"FMT") -> 0 | D43: =COUNTIF(D2:D8,"FMT") -> 0 | E43: =COUNTIF(E2:E8,"FMT") -> 0 | F43: =COUNTIF(F2:F8,"FMT") -> 0 | G43: =COUNTIF(G2:G8,"FMT") -> 0 | H43: =COUNTIF(H2:H8,"FMT") -> 0 | I43: =COUNTIF(I2:I8,"FMT") -> 0 | ... AS43: =COUNTIF(AS2:AS8,"FMT") -> 0 | AU43: =SUM(B43:AS43) -> 0 | AV43: =SUM(B43:L43) -> 0 | AW43: =SUM(M43:Z43) -> 0 | AX43: =SUM(AA43:AI43) -> 0 | AY43: =SUM(AJ43:AS43) -> 0
A44: FCMT | B44: =COUNTIF(B2:B8,"FCMT") -> 0 | C44: =COUNTIF(C2:C8,"FCMT") -> 0 | D44: =COUNTIF(D2:D8,"FCMT") -> 0 | E44: =COUNTIF(E2:E8,"FCMT") -> 0 | F44: =COUNTIF(F2:F8,"FCMT") -> 0 | G44: =COUNTIF(G2:G8,"FCMT") -> 0 | H44: =COUNTIF(H2:H8,"FCMT") -> 0 | I44: =COUNTIF(I2:I8,"FCMT") -> 0 | ... AS44: =COUNTIF(AS2:AS8,"FCMT") -> 0 | AU44: =SUM(B44:AS44) -> 0 | AV44: =SUM(B44:L44) -> 0 | AW44: =SUM(M44:Z44) -> 0 | AX44: =SUM(AA44:AI44) -> 0 | AY44: =SUM(AJ44:AS44) -> 0
...

Sheet targvar
B1: 1974 | C1: 1975 | D1: 1976 | E1: 1977 | F1: 1978 | G1: 1979 | H1: 1980 | I1: 1981 | J1: 1982 | K1: 1983 | L1: 1984 | M1: 1985 | N1: 1986 | O1: 1987 | P1: 1988 | Q1: 1989 | R1: 1990 | S1: 1991 | T1: 1992 | U1: 1993 | V1: 1994 | W1: 1995 | X1: 1996 | Y1: 1997 | Z1: 1998 | AA1: 1999 | AB1: 2000 | AC1: 2001 | AD1: 2002 | AE1: 2003 | AF1: 2004 | AG1: 2005 | AH1: 2006 | AI1: 2007 | AJ1: 2008 | AK1: 2009 | AL1: 2010 | AM1: 2011 | AN1: 2012 | AO1: 2013 | AP1: 2014 | AQ1: 2015 | AR1: 2016 | AS1: 2017
A2: Armenia | B2: =IF('full menu'!B2="MDC","MDC",IF(OR('full menu'!B2="PERF",'full menu'!B2="AERF",'full menu'!B2="PCB"),"ERfix",IF(OR('full menu'!B2="ACB",'full menu'!B2="LCERT",'full menu'!B2="LERT",'full menu'!B2="FCERT",'full menu'!B2="FERT"),"ERTs",IF(OR('full menu'!B2="FCMT",'full menu'!B2="FMT",'full menu'!B2="LMT",'full menu'!B2="LCMT"),"MTs",IF(OR('full menu'!B2="LCIT",'full menu'!B2="FCIT",'full menu'!B2="LIT",'full menu'!B2="FIT"),"ITs",IF(OR('full menu'!B2="MwERT",'full menu'!B2="ERwMT",'full menu'!B2="M&ERT",'full menu'!B2="MwIT",'full menu'!B2="IwMT",'full menu'!B2="M&IT",'full menu'!B2="IwERT",'full menu'!B2="ERwIT",'full menu'!B2="I&ERT",'full menu'!B2="ER&M&IT"),"MixedTs",IF('full menu'!B2="UD","UD",IF('full menu'!B2="LSD","LSD",IF('full menu'!B2="WSD","WSD",IF('full menu'!B2="UASC","nonat",IF('full menu'!B2="X","X",""))))))))))) -> X | C2: =IF('full menu'!C2="MDC","MDC",IF(OR('full menu'!C2="PERF",'full menu'!C2="AERF",'full menu'!C2="PCB"),"ERfix",IF(OR('full menu'!C2="ACB",'full menu'!C2="LCERT",'full menu'!C2="LERT",'full menu'!C2="FCERT",'full menu'!C2="FERT"),"ERTs",IF(OR('full menu'!C2="FCMT",'full menu'!C2="FMT",'full menu'!C2="LMT",'full menu'!C2="LCMT"),"MTs",IF(OR('full menu'!C2="LCIT",'full menu'!C2="FCIT",'full menu'!C2="LIT",'full menu'!C2="FIT"),"ITs",IF(OR('full menu'!C2="MwERT",'full menu'!C2="ERwMT",'full menu'!C2="M&ERT",'full menu'!C2="MwIT",'full menu'!C2="IwMT",'full menu'!C2="M&IT",'full menu'!C2="IwERT",'full menu'!C2="ERwIT",'full menu'!C2="I&ERT",'full menu'!C2="ER&M&IT"),"MixedTs",IF('full menu'!C2="UD","UD",IF('full menu'!C2="LSD","LSD",IF('full menu'!C2="WSD","WSD",IF('full menu'!C2="UASC","nonat",IF('full menu'!C2="X","X",""))))))))))) -> X | D2: =IF('full menu'!D2="MDC","MDC",IF(OR('full menu'!D2="PERF",'full menu'!D2="AERF",'full menu'!D2="PCB"),"ERfix",IF(OR('full menu'!D2="ACB",'full menu'!D2="LCERT",'full menu'!D2="LERT",'full menu'!D2="FCERT",'full menu'!D2="FERT"),"ERTs",IF(OR('full menu'!D2="FCMT",'full menu'!D2="FMT",'full menu'!D2="LMT",'full menu'!D2="LCMT"),"MTs",IF(OR('full menu'!D2="LCIT",'full menu'!D2="FCIT",'full menu'!D2="LIT",'full menu'!D2="FIT"),"ITs",IF(OR('full menu'!D2="MwERT",'full menu'!D2="ERwMT",'full menu'!D2="M&ERT",'full menu'!D2="MwIT",'full menu'!D2="IwMT",'full menu'!D2="M&IT",'full menu'!D2="IwERT",'full menu'!D2="ERwIT",'full menu'!D2="I&ERT",'full menu'!D2="ER&M&IT"),"MixedTs",IF('full menu'!D2="UD","UD",IF('full menu'!D2="LSD","LSD",IF('full menu'!D2="WSD","WSD",IF('full menu'!D2="UASC","nonat",IF('full menu'!D2="X","X",""))))))))))) -> X | E2: =IF('full menu'!E2="MDC","MDC",IF(OR('full menu'!E2="PERF",'full menu'!E2="AERF",'full menu'!E2="PCB"),"ERfix",IF(OR('full menu'!E2="ACB",'full menu'!E2="LCERT",'full menu'!E2="LERT",'full menu'!E2="FCERT",'full menu'!E2="FERT"),"ERTs",IF(OR('full menu'!E2="FCMT",'full menu'!E2="FMT",'full menu'!E2="LMT",'full menu'!E2="LCMT"),"MTs",IF(OR('full menu'!E2="LCIT",'full menu'!E2="FCIT",'full menu'!E2="LIT",'full menu'!E2="FIT"),"ITs",IF(OR('full menu'!E2="MwERT",'full menu'!E2="ERwMT",'full menu'!E2="M&ERT",'full menu'!E2="MwIT",'full menu'!E2="IwMT",'full menu'!E2="M&IT",'full menu'!E2="IwERT",'full menu'!E2="ERwIT",'full menu'!E2="I&ERT",'full menu'!E2="ER&M&IT"),"MixedTs",IF('full menu'!E2="UD","UD",IF('full menu'!E2="LSD","LSD",IF('full menu'!E2="WSD","WSD",IF('full menu'!E2="UASC","nonat",IF('full menu'!E2="X","X",""))))))))))) -> X | F2: =IF('full menu'!F2="MDC","MDC",IF(OR('full menu'!F2="PERF",'full menu'!F2="AERF",'full menu'!F2="PCB"),"ERfix",IF(OR('full menu'!F2="ACB",'full menu'!F2="LCERT",'full menu'!F2="LERT",'full menu'!F2="FCERT",'full menu'!F2="FERT"),"ERTs",IF(OR('full menu'!F2="FCMT",'full menu'!F2="FMT",'full menu'!F2="LMT",'full menu'!F2="LCMT"),"MTs",IF(OR('full menu'!F2="LCIT",'full menu'!F2="FCIT",'full menu'!F2="LIT",'full menu'!F2="FIT"),"ITs",IF(OR('full menu'!F2="MwERT",'full menu'!F2="ERwMT",'full menu'!F2="M&ERT",'full menu'!F2="MwIT",'full menu'!F2="IwMT",'full menu'!F2="M&IT",'full menu'!F2="IwERT",'full menu'!F2="ERwIT",'full menu'!F2="I&ERT",'full menu'!F2="ER&M&IT"),"MixedTs",IF('full menu'!F2="UD","UD",IF('full menu'!F2="LSD","LSD",IF('full menu'!F2="WSD","WSD",IF('full menu'!F2="UASC","nonat",IF('full menu'!F2="X","X",""))))))))))) -> X | G2: =IF('full menu'!G2="MDC","MDC",IF(OR('full menu'!G2="PERF",'full menu'!G2="AERF",'full menu'!G2="PCB"),"ERfix",IF(OR('full menu'!G2="ACB",'full menu'!G2="LCERT",'full menu'!G2="LERT",'full menu'!G2="FCERT",'full menu'!G2="FERT"),"ERTs",IF(OR('full menu'!G2="FCMT",'full menu'!G2="FMT",'full menu'!G2="LMT",'full menu'!G2="LCMT"),"MTs",IF(OR('full menu'!G2="LCIT",'full menu'!G2="FCIT",'full menu'!G2="LIT",'full menu'!G2="FIT"),"ITs",IF(OR('full menu'!G2="MwERT",'full menu'!G2="ERwMT",'full menu'!G2="M&ERT",'full menu'!G2="MwIT",'full menu'!G2="IwMT",'full menu'!G2="M&IT",'full menu'!G2="IwERT",'full menu'!G2="ERwIT",'full menu'!G2="I&ERT",'full menu'!G2="ER&M&IT"),"MixedTs",IF('full menu'!G2="UD","UD",IF('full menu'!G2="LSD","LSD",IF('full menu'!G2="WSD","WSD",IF('full menu'!G2="UASC","nonat",IF('full menu'!G2="X","X",""))))))))))) -> X | H2: =IF('full menu'!H2="MDC","MDC",IF(OR('full menu'!H2="PERF",'full menu'!H2="AERF",'full menu'!H2="PCB"),"ERfix",IF(OR('full menu'!H2="ACB",'full menu'!H2="LCERT",'full menu'!H2="LERT",'full menu'!H2="FCERT",'full menu'!H2="FERT"),"ERTs",IF(OR('full menu'!H2="FCMT",'full menu'!H2="FMT",'full menu'!H2="LMT",'full menu'!H2="LCMT"),"MTs",IF(OR('full menu'!H2="LCIT",'full menu'!H2="FCIT",'full menu'!H2="LIT",'full menu'!H2="FIT"),"ITs",IF(OR('full menu'!H2="MwERT",'full menu'!H2="ERwMT",'full menu'!H2="M&ERT",'full menu'!H2="MwIT",'full menu'!H2="IwMT",'full menu'!H2="M&IT",'full menu'!H2="IwERT",'full menu'!H2="ERwIT",'full menu'!H2="I&ERT",'full menu'!H2="ER&M&IT"),"MixedTs",IF('full menu'!H2="UD","UD",IF('full menu'!H2="LSD","LSD",IF('full menu'!H2="WSD","WSD",IF('full menu'!H2="UASC","nonat",IF('full menu'!H2="X","X",""))))))))))) -> X | I2: =IF('full menu'!I2="MDC","MDC",IF(OR('full menu'!I2="PERF",'full menu'!I2="AERF",'full menu'!I2="PCB"),"ERfix",IF(OR('full menu'!I2="ACB",'full menu'!I2="LCERT",'full menu'!I2="LERT",'full menu'!I2="FCERT",'full menu'!I2="FERT"),"ERTs",IF(OR('full menu'!I2="FCMT",'full menu'!I2="FMT",'full menu'!I2="LMT",'full menu'!I2="LCMT"),"MTs",IF(OR('full menu'!I2="LCIT",'full menu'!I2="FCIT",'full menu'!I2="LIT",'full menu'!I2="FIT"),"ITs",IF(OR('full menu'!I2="MwERT",'full menu'!I2="ERwMT",'full menu'!I2="M&ERT",'full menu'!I2="MwIT",'full menu'!I2="IwMT",'full menu'!I2="M&IT",'full menu'!I2="IwERT",'full menu'!I2="ERwIT",'full menu'!I2="I&ERT",'full menu'!I2="ER&M&IT"),"MixedTs",IF('full menu'!I2="UD","UD",IF('full menu'!I2="LSD","LSD",IF('full menu'!I2="WSD","WSD",IF('full menu'!I2="UASC","nonat",IF('full menu'!I2="X","X",""))))))))))) -> X | ... AS2: =IF('full menu'!AS2="MDC","MDC",IF(OR('full menu'!AS2="PERF",'full menu'!AS2="AERF",'full menu'!AS2="PCB"),"ERfix",IF(OR('full menu'!AS2="ACB",'full menu'!AS2="LCERT",'full menu'!AS2="LERT",'full menu'!AS2="FCERT",'full menu'!AS2="FERT"),"ERTs",IF(OR('full menu'!AS2="FCMT",'full menu'!AS2="FMT",'full menu'!AS2="LMT",'full menu'!AS2="LCMT"),"MTs",IF(OR('full menu'!AS2="LCIT",'full menu'!AS2="FCIT",'full menu'!AS2="LIT",'full menu'!AS2="FIT"),"ITs",IF(OR('full menu'!AS2="MwERT",'full menu'!AS2="ERwMT",'full menu'!AS2="M&ERT",'full menu'!AS2="MwIT",'full menu'!AS2="IwMT",'full menu'!AS2="M&IT",'full menu'!AS2="IwERT",'full menu'!AS2="ERwIT",'full menu'!AS2="I&ERT",'full menu'!AS2="ER&M&IT"),"MixedTs",IF('full menu'!AS2="UD","UD",IF('full menu'!AS2="LSD","LSD",IF('full menu'!AS2="WSD","WSD",IF('full menu'!AS2="UASC","nonat",IF('full menu'!AS2="X","X",""))))))))))) -> ITs
A3: Azerbaijan | B3: =IF('full menu'!B3="MDC","MDC",IF(OR('full menu'!B3="PERF",'full menu'!B3="AERF",'full menu'!B3="PCB"),"ERfix",IF(OR('full menu'!B3="ACB",'full menu'!B3="LCERT",'full menu'!B3="LERT",'full menu'!B3="FCERT",'full menu'!B3="FERT"),"ERTs",IF(OR('full menu'!B3="FCMT",'full menu'!B3="FMT",'full menu'!B3="LMT",'full menu'!B3="LCMT"),"MTs",IF(OR('full menu'!B3="LCIT",'full menu'!B3="FCIT",'full menu'!B3="LIT",'full menu'!B3="FIT"),"ITs",IF(OR('full menu'!B3="MwERT",'full menu'!B3="ERwMT",'full menu'!B3="M&ERT",'full menu'!B3="MwIT",'full menu'!B3="IwMT",'full menu'!B3="M&IT",'full menu'!B3="IwERT",'full menu'!B3="ERwIT",'full menu'!B3="I&ERT",'full menu'!B3="ER&M&IT"),"MixedTs",IF('full menu'!B3="UD","UD",IF('full menu'!B3="LSD","LSD",IF('full menu'!B3="WSD","WSD",IF('full menu'!B3="UASC","nonat",IF('full menu'!B3="X","X",""))))))))))) -> X | C3: =IF('full menu'!C3="MDC","MDC",IF(OR('full menu'!C3="PERF",'full menu'!C3="AERF",'full menu'!C3="PCB"),"ERfix",IF(OR('full menu'!C3="ACB",'full menu'!C3="LCERT",'full menu'!C3="LERT",'full menu'!C3="FCERT",'full menu'!C3="FERT"),"ERTs",IF(OR('full menu'!C3="FCMT",'full menu'!C3="FMT",'full menu'!C3="LMT",'full menu'!C3="LCMT"),"MTs",IF(OR('full menu'!C3="LCIT",'full menu'!C3="FCIT",'full menu'!C3="LIT",'full menu'!C3="FIT"),"ITs",IF(OR('full menu'!C3="MwERT",'full menu'!C3="ERwMT",'full menu'!C3="M&ERT",'full menu'!C3="MwIT",'full menu'!C3="IwMT",'full menu'!C3="M&IT",'full menu'!C3="IwERT",'full menu'!C3="ERwIT",'full menu'!C3="I&ERT",'full menu'!C3="ER&M&IT"),"MixedTs",IF('full menu'!C3="UD","UD",IF('full menu'!C3="LSD","LSD",IF('full menu'!C3="WSD","WSD",IF('full menu'!C3="UASC","nonat",IF('full menu'!C3="X","X",""))))))))))) -> X | D3: =IF('full menu'!D3="MDC","MDC",IF(OR('full menu'!D3="PERF",'full menu'!D3="AERF",'full menu'!D3="PCB"),"ERfix",IF(OR('full menu'!D3="ACB",'full menu'!D3="LCERT",'full menu'!D3="LERT",'full menu'!D3="FCERT",'full menu'!D3="FERT"),"ERTs",IF(OR('full menu'!D3="FCMT",'full menu'!D3="FMT",'full menu'!D3="LMT",'full menu'!D3="LCMT"),"MTs",IF(OR('full menu'!D3="LCIT",'full menu'!D3="FCIT",'full menu'!D3="LIT",'full menu'!D3="FIT"),"ITs",IF(OR('full menu'!D3="MwERT",'full menu'!D3="ERwMT",'full menu'!D3="M&ERT",'full menu'!D3="MwIT",'full menu'!D3="IwMT",'full menu'!D3="M&IT",'full menu'!D3="IwERT",'full menu'!D3="ERwIT",'full menu'!D3="I&ERT",'full menu'!D3="ER&M&IT"),"MixedTs",IF('full menu'!D3="UD","UD",IF('full menu'!D3="LSD","LSD",IF('full menu'!D3="WSD","WSD",IF('full menu'!D3="UASC","nonat",IF('full menu'!D3="X","X",""))))))))))) -> X | E3: =IF('full menu'!E3="MDC","MDC",IF(OR('full menu'!E3="PERF",'full menu'!E3="AERF",'full menu'!E3="PCB"),"ERfix",IF(OR('full menu'!E3="ACB",'full menu'!E3="LCERT",'full menu'!E3="LERT",'full menu'!E3="FCERT",'full menu'!E3="FERT"),"ERTs",IF(OR('full menu'!E3="FCMT",'full menu'!E3="FMT",'full menu'!E3="LMT",'full menu'!E3="LCMT"),"MTs",IF(OR('full menu'!E3="LCIT",'full menu'!E3="FCIT",'full menu'!E3="LIT",'full menu'!E3="FIT"),"ITs",IF(OR('full menu'!E3="MwERT",'full menu'!E3="ERwMT",'full menu'!E3="M&ERT",'full menu'!E3="MwIT",'full menu'!E3="IwMT",'full menu'!E3="M&IT",'full menu'!E3="IwERT",'full menu'!E3="ERwIT",'full menu'!E3="I&ERT",'full menu'!E3="ER&M&IT"),"MixedTs",IF('full menu'!E3="UD","UD",IF('full menu'!E3="LSD","LSD",IF('full menu'!E3="WSD","WSD",IF('full menu'!E3="UASC","nonat",IF('full menu'!E3="X","X",""))))))))))) -> X | F3: =IF('full menu'!F3="MDC","MDC",IF(OR('full menu'!F3="PERF",'full menu'!F3="AERF",'full menu'!F3="PCB"),"ERfix",IF(OR('full menu'!F3="ACB",'full menu'!F3="LCERT",'full menu'!F3="LERT",'full menu'!F3="FCERT",'full menu'!F3="FERT"),"ERTs",IF(OR('full menu'!F3="FCMT",'full menu'!F3="FMT",'full menu'!F3="LMT",'full menu'!F3="LCMT"),"MTs",IF(OR('full menu'!F3="LCIT",'full menu'!F3="FCIT",'full menu'!F3="LIT",'full menu'!F3="FIT"),"ITs",IF(OR('full menu'!F3="MwERT",'full menu'!F3="ERwMT",'full menu'!F3="M&ERT",'full menu'!F3="MwIT",'full menu'!F3="IwMT",'full menu'!F3="M&IT",'full menu'!F3="IwERT",'full menu'!F3="ERwIT",'full menu'!F3="I&ERT",'full menu'!F3="ER&M&IT"),"MixedTs",IF('full menu'!F3="UD","UD",IF('full menu'!F3="LSD","LSD",IF('full menu'!F3="WSD","WSD",IF('full menu'!F3="UASC","nonat",IF('full menu'!F3="X","X",""))))))))))) -> X | G3: =IF('full menu'!G3="MDC","MDC",IF(OR('full menu'!G3="PERF",'full menu'!G3="AERF",'full menu'!G3="PCB"),"ERfix",IF(OR('full menu'!G3="ACB",'full menu'!G3="LCERT",'full menu'!G3="LERT",'full menu'!G3="FCERT",'full menu'!G3="FERT"),"ERTs",IF(OR('full menu'!G3="FCMT",'full menu'!G3="FMT",'full menu'!G3="LMT",'full menu'!G3="LCMT"),"MTs",IF(OR('full menu'!G3="LCIT",'full menu'!G3="FCIT",'full menu'!G3="LIT",'full menu'!G3="FIT"),"ITs",IF(OR('full menu'!G3="MwERT",'full menu'!G3="ERwMT",'full menu'!G3="M&ERT",'full menu'!G3="MwIT",'full menu'!G3="IwMT",'full menu'!G3="M&IT",'full menu'!G3="IwERT",'full menu'!G3="ERwIT",'full menu'!G3="I&ERT",'full menu'!G3="ER&M&IT"),"MixedTs",IF('full menu'!G3="UD","UD",IF('full menu'!G3="LSD","LSD",IF('full menu'!G3="WSD","WSD",IF('full menu'!G3="UASC","nonat",IF('full menu'!G3="X","X",""))))))))))) -> X | H3: =IF('full menu'!H3="MDC","MDC",IF(OR('full menu'!H3="PERF",'full menu'!H3="AERF",'full menu'!H3="PCB"),"ERfix",IF(OR('full menu'!H3="ACB",'full menu'!H3="LCERT",'full menu'!H3="LERT",'full menu'!H3="FCERT",'full menu'!H3="FERT"),"ERTs",IF(OR('full menu'!H3="FCMT",'full menu'!H3="FMT",'full menu'!H3="LMT",'full menu'!H3="LCMT"),"MTs",IF(OR('full menu'!H3="LCIT",'full menu'!H3="FCIT",'full menu'!H3="LIT",'full menu'!H3="FIT"),"ITs",IF(OR('full menu'!H3="MwERT",'full menu'!H3="ERwMT",'full menu'!H3="M&ERT",'full menu'!H3="MwIT",'full menu'!H3="IwMT",'full menu'!H3="M&IT",'full menu'!H3="IwERT",'full menu'!H3="ERwIT",'full menu'!H3="I&ERT",'full menu'!H3="ER&M&IT"),"MixedTs",IF('full menu'!H3="UD","UD",IF('full menu'!H3="LSD","LSD",IF('full menu'!H3="WSD","WSD",IF('full menu'!H3="UASC","nonat",IF('full menu'!H3="X","X",""))))))))))) -> X | I3: =IF('full menu'!I3="MDC","MDC",IF(OR('full menu'!I3="PERF",'full menu'!I3="AERF",'full menu'!I3="PCB"),"ERfix",IF(OR('full menu'!I3="ACB",'full menu'!I3="LCERT",'full menu'!I3="LERT",'full menu'!I3="FCERT",'full menu'!I3="FERT"),"ERTs",IF(OR('full menu'!I3="FCMT",'full menu'!I3="FMT",'full menu'!I3="LMT",'full menu'!I3="LCMT"),"MTs",IF(OR('full menu'!I3="LCIT",'full menu'!I3="FCIT",'full menu'!I3="LIT",'full menu'!I3="FIT"),"ITs",IF(OR('full menu'!I3="MwERT",'full menu'!I3="ERwMT",'full menu'!I3="M&ERT",'full menu'!I3="MwIT",'full menu'!I3="IwMT",'full menu'!I3="M&IT",'full menu'!I3="IwERT",'full menu'!I3="ERwIT",'full menu'!I3="I&ERT",'full menu'!I3="ER&M&IT"),"MixedTs",IF('full menu'!I3="UD","UD",IF('full menu'!I3="LSD","LSD",IF('full menu'!I3="WSD","WSD",IF('full menu'!I3="UASC","nonat",IF('full menu'!I3="X","X",""))))))))))) -> X | ... AS3: =IF('full menu'!AS3="MDC","MDC",IF(OR('full menu'!AS3="PERF",'full menu'!AS3="AERF",'full menu'!AS3="PCB"),"ERfix",IF(OR('full menu'!AS3="ACB",'full menu'!AS3="LCERT",'full menu'!AS3="LERT",'full menu'!AS3="FCERT",'full menu'!AS3="FERT"),"ERTs",IF(OR('full menu'!AS3="FCMT",'full menu'!AS3="FMT",'full menu'!AS3="LMT",'full menu'!AS3="LCMT"),"MTs",IF(OR('full menu'!AS3="LCIT",'full menu'!AS3="FCIT",'full menu'!AS3="LIT",'full menu'!AS3="FIT"),"ITs",IF(OR('full menu'!AS3="MwERT",'full menu'!AS3="ERwMT",'full menu'!AS3="M&ERT",'full menu'!AS3="MwIT",'full menu'!AS3="IwMT",'full menu'!AS3="M&IT",'full menu'!AS3="IwERT",'full menu'!AS3="ERwIT",'full menu'!AS3="I&ERT",'full menu'!AS3="ER&M&IT"),"MixedTs",IF('full menu'!AS3="UD","UD",IF('full menu'!AS3="LSD","LSD",IF('full menu'!AS3="WSD","WSD",IF('full menu'!AS3="UASC","nonat",IF('full menu'!AS3="X","X",""))))))))))) -> LSD
A4: Georgia | B4: =IF('full menu'!B4="MDC","MDC",IF(OR('full menu'!B4="PERF",'full menu'!B4="AERF",'full menu'!B4="PCB"),"ERfix",IF(OR('full menu'!B4="ACB",'full menu'!B4="LCERT",'full menu'!B4="LERT",'full menu'!B4="FCERT",'full menu'!B4="FERT"),"ERTs",IF(OR('full menu'!B4="FCMT",'full menu'!B4="FMT",'full menu'!B4="LMT",'full menu'!B4="LCMT"),"MTs",IF(OR('full menu'!B4="LCIT",'full menu'!B4="FCIT",'full menu'!B4="LIT",'full menu'!B4="FIT"),"ITs",IF(OR('full menu'!B4="MwERT",'full menu'!B4="ERwMT",'full menu'!B4="M&ERT",'full menu'!B4="MwIT",'full menu'!B4="IwMT",'full menu'!B4="M&IT",'full menu'!B4="IwERT",'full menu'!B4="ERwIT",'full menu'!B4="I&ERT",'full menu'!B4="ER&M&IT"),"MixedTs",IF('full menu'!B4="UD","UD",IF('full menu'!B4="LSD","LSD",IF('full menu'!B4="WSD","WSD",IF('full menu'!B4="UASC","nonat",IF('full menu'!B4="X","X",""))))))))))) -> X | C4: =IF('full menu'!C4="MDC","MDC",IF(OR('full menu'!C4="PERF",'full menu'!C4="AERF",'full menu'!C4="PCB"),"ERfix",IF(OR('full menu'!C4="ACB",'full menu'!C4="LCERT",'full menu'!C4="LERT",'full menu'!C4="FCERT",'full menu'!C4="FERT"),"ERTs",IF(OR('full menu'!C4="FCMT",'full menu'!C4="FMT",'full menu'!C4="LMT",'full menu'!C4="LCMT"),"MTs",IF(OR('full menu'!C4="LCIT",'full menu'!C4="FCIT",'full menu'!C4="LIT",'full menu'!C4="FIT"),"ITs",IF(OR('full menu'!C4="MwERT",'full menu'!C4="ERwMT",'full menu'!C4="M&ERT",'full menu'!C4="MwIT",'full menu'!C4="IwMT",'full menu'!C4="M&IT",'full menu'!C4="IwERT",'full menu'!C4="ERwIT",'full menu'!C4="I&ERT",'full menu'!C4="ER&M&IT"),"MixedTs",IF('full menu'!C4="UD","UD",IF('full menu'!C4="LSD","LSD",IF('full menu'!C4="WSD","WSD",IF('full menu'!C4="UASC","nonat",IF('full menu'!C4="X","X",""))))))))))) -> X | D4: =IF('full menu'!D4="MDC","MDC",IF(OR('full menu'!D4="PERF",'full menu'!D4="AERF",'full menu'!D4="PCB"),"ERfix",IF(OR('full menu'!D4="ACB",'full menu'!D4="LCERT",'full menu'!D4="LERT",'full menu'!D4="FCERT",'full menu'!D4="FERT"),"ERTs",IF(OR('full menu'!D4="FCMT",'full menu'!D4="FMT",'full menu'!D4="LMT",'full menu'!D4="LCMT"),"MTs",IF(OR('full menu'!D4="LCIT",'full menu'!D4="FCIT",'full menu'!D4="LIT",'full menu'!D4="FIT"),"ITs",IF(OR('full menu'!D4="MwERT",'full menu'!D4="ERwMT",'full menu'!D4="M&ERT",'full menu'!D4="MwIT",'full menu'!D4="IwMT",'full menu'!D4="M&IT",'full menu'!D4="IwERT",'full menu'!D4="ERwIT",'full menu'!D4="I&ERT",'full menu'!D4="ER&M&IT"),"MixedTs",IF('full menu'!D4="UD","UD",IF('full menu'!D4="LSD","LSD",IF('full menu'!D4="WSD","WSD",IF('full menu'!D4="UASC","nonat",IF('full menu'!D4="X","X",""))))))))))) -> X | E4: =IF('full menu'!E4="MDC","MDC",IF(OR('full menu'!E4="PERF",'full menu'!E4="AERF",'full menu'!E4="PCB"),"ERfix",IF(OR('full menu'!E4="ACB",'full menu'!E4="LCERT",'full menu'!E4="LERT",'full menu'!E4="FCERT",'full menu'!E4="FERT"),"ERTs",IF(OR('full menu'!E4="FCMT",'full menu'!E4="FMT",'full menu'!E4="LMT",'full menu'!E4="LCMT"),"MTs",IF(OR('full menu'!E4="LCIT",'full menu'!E4="FCIT",'full menu'!E4="LIT",'full menu'!E4="FIT"),"ITs",IF(OR('full menu'!E4="MwERT",'full menu'!E4="ERwMT",'full menu'!E4="M&ERT",'full menu'!E4="MwIT",'full menu'!E4="IwMT",'full menu'!E4="M&IT",'full menu'!E4="IwERT",'full menu'!E4="ERwIT",'full menu'!E4="I&ERT",'full menu'!E4="ER&M&IT"),"MixedTs",IF('full menu'!E4="UD","UD",IF('full menu'!E4="LSD","LSD",IF('full menu'!E4="WSD","WSD",IF('full menu'!E4="UASC","nonat",IF('full menu'!E4="X","X",""))))))))))) -> X | F4: =IF('full menu'!F4="MDC","MDC",IF(OR('full menu'!F4="PERF",'full menu'!F4="AERF",'full menu'!F4="PCB"),"ERfix",IF(OR('full menu'!F4="ACB",'full menu'!F4="LCERT",'full menu'!F4="LERT",'full menu'!F4="FCERT",'full menu'!F4="FERT"),"ERTs",IF(OR('full menu'!F4="FCMT",'full menu'!F4="FMT",'full menu'!F4="LMT",'full menu'!F4="LCMT"),"MTs",IF(OR('full menu'!F4="LCIT",'full menu'!F4="FCIT",'full menu'!F4="LIT",'full menu'!F4="FIT"),"ITs",IF(OR('full menu'!F4="MwERT",'full menu'!F4="ERwMT",'full menu'!F4="M&ERT",'full menu'!F4="MwIT",'full menu'!F4="IwMT",'full menu'!F4="M&IT",'full menu'!F4="IwERT",'full menu'!F4="ERwIT",'full menu'!F4="I&ERT",'full menu'!F4="ER&M&IT"),"MixedTs",IF('full menu'!F4="UD","UD",IF('full menu'!F4="LSD","LSD",IF('full menu'!F4="WSD","WSD",IF('full menu'!F4="UASC","nonat",IF('full menu'!F4="X","X",""))))))))))) -> X | G4: =IF('full menu'!G4="MDC","MDC",IF(OR('full menu'!G4="PERF",'full menu'!G4="AERF",'full menu'!G4="PCB"),"ERfix",IF(OR('full menu'!G4="ACB",'full menu'!G4="LCERT",'full menu'!G4="LERT",'full menu'!G4="FCERT",'full menu'!G4="FERT"),"ERTs",IF(OR('full menu'!G4="FCMT",'full menu'!G4="FMT",'full menu'!G4="LMT",'full menu'!G4="LCMT"),"MTs",IF(OR('full menu'!G4="LCIT",'full menu'!G4="FCIT",'full menu'!G4="LIT",'full menu'!G4="FIT"),"ITs",IF(OR('full menu'!G4="MwERT",'full menu'!G4="ERwMT",'full menu'!G4="M&ERT",'full menu'!G4="MwIT",'full menu'!G4="IwMT",'full menu'!G4="M&IT",'full menu'!G4="IwERT",'full menu'!G4="ERwIT",'full menu'!G4="I&ERT",'full menu'!G4="ER&M&IT"),"MixedTs",IF('full menu'!G4="UD","UD",IF('full menu'!G4="LSD","LSD",IF('full menu'!G4="WSD","WSD",IF('full menu'!G4="UASC","nonat",IF('full menu'!G4="X","X",""))))))))))) -> X | H4: =IF('full menu'!H4="MDC","MDC",IF(OR('full menu'!H4="PERF",'full menu'!H4="AERF",'full menu'!H4="PCB"),"ERfix",IF(OR('full menu'!H4="ACB",'full menu'!H4="LCERT",'full menu'!H4="LERT",'full menu'!H4="FCERT",'full menu'!H4="FERT"),"ERTs",IF(OR('full menu'!H4="FCMT",'full menu'!H4="FMT",'full menu'!H4="LMT",'full menu'!H4="LCMT"),"MTs",IF(OR('full menu'!H4="LCIT",'full menu'!H4="FCIT",'full menu'!H4="LIT",'full menu'!H4="FIT"),"ITs",IF(OR('full menu'!H4="MwERT",'full menu'!H4="ERwMT",'full menu'!H4="M&ERT",'full menu'!H4="MwIT",'full menu'!H4="IwMT",'full menu'!H4="M&IT",'full menu'!H4="IwERT",'full menu'!H4="ERwIT",'full menu'!H4="I&ERT",'full menu'!H4="ER&M&IT"),"MixedTs",IF('full menu'!H4="UD","UD",IF('full menu'!H4="LSD","LSD",IF('full menu'!H4="WSD","WSD",IF('full menu'!H4="UASC","nonat",IF('full menu'!H4="X","X",""))))))))))) -> X | I4: =IF('full menu'!I4="MDC","MDC",IF(OR('full menu'!I4="PERF",'full menu'!I4="AERF",'full menu'!I4="PCB"),"ERfix",IF(OR('full menu'!I4="ACB",'full menu'!I4="LCERT",'full menu'!I4="LERT",'full menu'!I4="FCERT",'full menu'!I4="FERT"),"ERTs",IF(OR('full menu'!I4="FCMT",'full menu'!I4="FMT",'full menu'!I4="LMT",'full menu'!I4="LCMT"),"MTs",IF(OR('full menu'!I4="LCIT",'full menu'!I4="FCIT",'full menu'!I4="LIT",'full menu'!I4="FIT"),"ITs",IF(OR('full menu'!I4="MwERT",'full menu'!I4="ERwMT",'full menu'!I4="M&ERT",'full menu'!I4="MwIT",'full menu'!I4="IwMT",'full menu'!I4="M&IT",'full menu'!I4="IwERT",'full menu'!I4="ERwIT",'full menu'!I4="I&ERT",'full menu'!I4="ER&M&IT"),"MixedTs",IF('full menu'!I4="UD","UD",IF('full menu'!I4="LSD","LSD",IF('full menu'!I4="WSD","WSD",IF('full menu'!I4="UASC","nonat",IF('full menu'!I4="X","X",""))))))))))) -> X | ... AS4: =IF('full menu'!AS4="MDC","MDC",IF(OR('full menu'!AS4="PERF",'full menu'!AS4="AERF",'full menu'!AS4="PCB"),"ERfix",IF(OR('full menu'!AS4="ACB",'full menu'!AS4="LCERT",'full menu'!AS4="LERT",'full menu'!AS4="FCERT",'full menu'!AS4="FERT"),"ERTs",IF(OR('full menu'!AS4="FCMT",'full menu'!AS4="FMT",'full menu'!AS4="LMT",'full menu'!AS4="LCMT"),"MTs",IF(OR('full menu'!AS4="LCIT",'full menu'!AS4="FCIT",'full menu'!AS4="LIT",'full menu'!AS4="FIT"),"ITs",IF(OR('full menu'!AS4="MwERT",'full menu'!AS4="ERwMT",'full menu'!AS4="M&ERT",'full menu'!AS4="MwIT",'full menu'!AS4="IwMT",'full menu'!AS4="M&IT",'full menu'!AS4="IwERT",'full menu'!AS4="ERwIT",'full menu'!AS4="I&ERT",'full menu'!AS4="ER&M&IT"),"MixedTs",IF('full menu'!AS4="UD","UD",IF('full menu'!AS4="LSD","LSD",IF('full menu'!AS4="WSD","WSD",IF('full menu'!AS4="UASC","nonat",IF('full menu'!AS4="X","X",""))))))))))) -> LSD
A5: Kazakhstan | B5: =IF('full menu'!B5="MDC","MDC",IF(OR('full menu'!B5="PERF",'full menu'!B5="AERF",'full menu'!B5="PCB"),"ERfix",IF(OR('full menu'!B5="ACB",'full menu'!B5="LCERT",'full menu'!B5="LERT",'full menu'!B5="FCERT",'full menu'!B5="FERT"),"ERTs",IF(OR('full menu'!B5="FCMT",'full menu'!B5="FMT",'full menu'!B5="LMT",'full menu'!B5="LCMT"),"MTs",IF(OR('full menu'!B5="LCIT",'full menu'!B5="FCIT",'full menu'!B5="LIT",'full menu'!B5="FIT"),"ITs",IF(OR('full menu'!B5="MwERT",'full menu'!B5="ERwMT",'full menu'!B5="M&ERT",'full menu'!B5="MwIT",'full menu'!B5="IwMT",'full menu'!B5="M&IT",'full menu'!B5="IwERT",'full menu'!B5="ERwIT",'full menu'!B5="I&ERT",'full menu'!B5="ER&M&IT"),"MixedTs",IF('full menu'!B5="UD","UD",IF('full menu'!B5="LSD","LSD",IF('full menu'!B5="WSD","WSD",IF('full menu'!B5="UASC","nonat",IF('full menu'!B5="X","X",""))))))))))) -> X | C5: =IF('full menu'!C5="MDC","MDC",IF(OR('full menu'!C5="PERF",'full menu'!C5="AERF",'full menu'!C5="PCB"),"ERfix",IF(OR('full menu'!C5="ACB",'full menu'!C5="LCERT",'full menu'!C5="LERT",'full menu'!C5="FCERT",'full menu'!C5="FERT"),"ERTs",IF(OR('full menu'!C5="FCMT",'full menu'!C5="FMT",'full menu'!C5="LMT",'full menu'!C5="LCMT"),"MTs",IF(OR('full menu'!C5="LCIT",'full menu'!C5="FCIT",'full menu'!C5="LIT",'full menu'!C5="FIT"),"ITs",IF(OR('full menu'!C5="MwERT",'full menu'!C5="ERwMT",'full menu'!C5="M&ERT",'full menu'!C5="MwIT",'full menu'!C5="IwMT",'full menu'!C5="M&IT",'full menu'!C5="IwERT",'full menu'!C5="ERwIT",'full menu'!C5="I&ERT",'full menu'!C5="ER&M&IT"),"MixedTs",IF('full menu'!C5="UD","UD",IF('full menu'!C5="LSD","LSD",IF('full menu'!C5="WSD","WSD",IF('full menu'!C5="UASC","nonat",IF('full menu'!C5="X","X",""))))))))))) -> X | D5: =IF('full menu'!D5="MDC","MDC",IF(OR('full menu'!D5="PERF",'full menu'!D5="AERF",'full menu'!D5="PCB"),"ERfix",IF(OR('full menu'!D5="ACB",'full menu'!D5="LCERT",'full menu'!D5="LERT",'full menu'!D5="FCERT",'full menu'!D5="FERT"),"ERTs",IF(OR('full menu'!D5="FCMT",'full menu'!D5="FMT",'full menu'!D5="LMT",'full menu'!D5="LCMT"),"MTs",IF(OR('full menu'!D5="LCIT",'full menu'!D5="FCIT",'full menu'!D5="LIT",'full menu'!D5="FIT"),"ITs",IF(OR('full menu'!D5="MwERT",'full menu'!D5="ERwMT",'full menu'!D5="M&ERT",'full menu'!D5="MwIT",'full menu'!D5="IwMT",'full menu'!D5="M&IT",'full menu'!D5="IwERT",'full menu'!D5="ERwIT",'full menu'!D5="I&ERT",'full menu'!D5="ER&M&IT"),"MixedTs",IF('full menu'!D5="UD","UD",IF('full menu'!D5="LSD","LSD",IF('full menu'!D5="WSD","WSD",IF('full menu'!D5="UASC","nonat",IF('full menu'!D5="X","X",""))))))))))) -> X | E5: =IF('full menu'!E5="MDC","MDC",IF(OR('full menu'!E5="PERF",'full menu'!E5="AERF",'full menu'!E5="PCB"),"ERfix",IF(OR('full menu'!E5="ACB",'full menu'!E5="LCERT",'full menu'!E5="LERT",'full menu'!E5="FCERT",'full menu'!E5="FERT"),"ERTs",IF(OR('full menu'!E5="FCMT",'full menu'!E5="FMT",'full menu'!E5="LMT",'full menu'!E5="LCMT"),"MTs",IF(OR('full menu'!E5="LCIT",'full menu'!E5="FCIT",'full menu'!E5="LIT",'full menu'!E5="FIT"),"ITs",IF(OR('full menu'!E5="MwERT",'full menu'!E5="ERwMT",'full menu'!E5="M&ERT",'full menu'!E5="MwIT",'full menu'!E5="IwMT",'full menu'!E5="M&IT",'full menu'!E5="IwERT",'full menu'!E5="ERwIT",'full menu'!E5="I&ERT",'full menu'!E5="ER&M&IT"),"MixedTs",IF('full menu'!E5="UD","UD",IF('full menu'!E5="LSD","LSD",IF('full menu'!E5="WSD","WSD",IF('full menu'!E5="UASC","nonat",IF('full menu'!E5="X","X",""))))))))))) -> X | F5: =IF('full menu'!F5="MDC","MDC",IF(OR('full menu'!F5="PERF",'full menu'!F5="AERF",'full menu'!F5="PCB"),"ERfix",IF(OR('full menu'!F5="ACB",'full menu'!F5="LCERT",'full menu'!F5="LERT",'full menu'!F5="FCERT",'full menu'!F5="FERT"),"ERTs",IF(OR('full menu'!F5="FCMT",'full menu'!F5="FMT",'full menu'!F5="LMT",'full menu'!F5="LCMT"),"MTs",IF(OR('full menu'!F5="LCIT",'full menu'!F5="FCIT",'full menu'!F5="LIT",'full menu'!F5="FIT"),"ITs",IF(OR('full menu'!F5="MwERT",'full menu'!F5="ERwMT",'full menu'!F5="M&ERT",'full menu'!F5="MwIT",'full menu'!F5="IwMT",'full menu'!F5="M&IT",'full menu'!F5="IwERT",'full menu'!F5="ERwIT",'full menu'!F5="I&ERT",'full menu'!F5="ER&M&IT"),"MixedTs",IF('full menu'!F5="UD","UD",IF('full menu'!F5="LSD","LSD",IF('full menu'!F5="WSD","WSD",IF('full menu'!F5="UASC","nonat",IF('full menu'!F5="X","X",""))))))))))) -> X | G5: =IF('full menu'!G5="MDC","MDC",IF(OR('full menu'!G5="PERF",'full menu'!G5="AERF",'full menu'!G5="PCB"),"ERfix",IF(OR('full menu'!G5="ACB",'full menu'!G5="LCERT",'full menu'!G5="LERT",'full menu'!G5="FCERT",'full menu'!G5="FERT"),"ERTs",IF(OR('full menu'!G5="FCMT",'full menu'!G5="FMT",'full menu'!G5="LMT",'full menu'!G5="LCMT"),"MTs",IF(OR('full menu'!G5="LCIT",'full menu'!G5="FCIT",'full menu'!G5="LIT",'full menu'!G5="FIT"),"ITs",IF(OR('full menu'!G5="MwERT",'full menu'!G5="ERwMT",'full menu'!G5="M&ERT",'full menu'!G5="MwIT",'full menu'!G5="IwMT",'full menu'!G5="M&IT",'full menu'!G5="IwERT",'full menu'!G5="ERwIT",'full menu'!G5="I&ERT",'full menu'!G5="ER&M&IT"),"MixedTs",IF('full menu'!G5="UD","UD",IF('full menu'!G5="LSD","LSD",IF('full menu'!G5="WSD","WSD",IF('full menu'!G5="UASC","nonat",IF('full menu'!G5="X","X",""))))))))))) -> X | H5: =IF('full menu'!H5="MDC","MDC",IF(OR('full menu'!H5="PERF",'full menu'!H5="AERF",'full menu'!H5="PCB"),"ERfix",IF(OR('full menu'!H5="ACB",'full menu'!H5="LCERT",'full menu'!H5="LERT",'full menu'!H5="FCERT",'full menu'!H5="FERT"),"ERTs",IF(OR('full menu'!H5="FCMT",'full menu'!H5="FMT",'full menu'!H5="LMT",'full menu'!H5="LCMT"),"MTs",IF(OR('full menu'!H5="LCIT",'full menu'!H5="FCIT",'full menu'!H5="LIT",'full menu'!H5="FIT"),"ITs",IF(OR('full menu'!H5="MwERT",'full menu'!H5="ERwMT",'full menu'!H5="M&ERT",'full menu'!H5="MwIT",'full menu'!H5="IwMT",'full menu'!H5="M&IT",'full menu'!H5="IwERT",'full menu'!H5="ERwIT",'full menu'!H5="I&ERT",'full menu'!H5="ER&M&IT"),"MixedTs",IF('full menu'!H5="UD","UD",IF('full menu'!H5="LSD","LSD",IF('full menu'!H5="WSD","WSD",IF('full menu'!H5="UASC","nonat",IF('full menu'!H5="X","X",""))))))))))) -> X | I5: =IF('full menu'!I5="MDC","MDC",IF(OR('full menu'!I5="PERF",'full menu'!I5="AERF",'full menu'!I5="PCB"),"ERfix",IF(OR('full menu'!I5="ACB",'full menu'!I5="LCERT",'full menu'!I5="LERT",'full menu'!I5="FCERT",'full menu'!I5="FERT"),"ERTs",IF(OR('full menu'!I5="FCMT",'full menu'!I5="FMT",'full menu'!I5="LMT",'full menu'!I5="LCMT"),"MTs",IF(OR('full menu'!I5="LCIT",'full menu'!I5="FCIT",'full menu'!I5="LIT",'full menu'!I5="FIT"),"ITs",IF(OR('full menu'!I5="MwERT",'full menu'!I5="ERwMT",'full menu'!I5="M&ERT",'full menu'!I5="MwIT",'full menu'!I5="IwMT",'full menu'!I5="M&IT",'full menu'!I5="IwERT",'full menu'!I5="ERwIT",'full menu'!I5="I&ERT",'full menu'!I5="ER&M&IT"),"MixedTs",IF('full menu'!I5="UD","UD",IF('full menu'!I5="LSD","LSD",IF('full menu'!I5="WSD","WSD",IF('full menu'!I5="UASC","nonat",IF('full menu'!I5="X","X",""))))))))))) -> X | ... AS5: =IF('full menu'!AS5="MDC","MDC",IF(OR('full menu'!AS5="PERF",'full menu'!AS5="AERF",'full menu'!AS5="PCB"),"ERfix",IF(OR('full menu'!AS5="ACB",'full menu'!AS5="LCERT",'full menu'!AS5="LERT",'full menu'!AS5="FCERT",'full menu'!AS5="FERT"),"ERTs",IF(OR('full menu'!AS5="FCMT",'full menu'!AS5="FMT",'full menu'!AS5="LMT",'full menu'!AS5="LCMT"),"MTs",IF(OR('full menu'!AS5="LCIT",'full menu'!AS5="FCIT",'full menu'!AS5="LIT",'full menu'!AS5="FIT"),"ITs",IF(OR('full menu'!AS5="MwERT",'full menu'!AS5="ERwMT",'full menu'!AS5="M&ERT",'full menu'!AS5="MwIT",'full menu'!AS5="IwMT",'full menu'!AS5="M&IT",'full menu'!AS5="IwERT",'full menu'!AS5="ERwIT",'full menu'!AS5="I&ERT",'full menu'!AS5="ER&M&IT"),"MixedTs",IF('full menu'!AS5="UD","UD",IF('full menu'!AS5="LSD","LSD",IF('full menu'!AS5="WSD","WSD",IF('full menu'!AS5="UASC","nonat",IF('full menu'!AS5="X","X",""))))))))))) -> ITs
A6: Kyrgyz Republic | B6: =IF('full menu'!B6="MDC","MDC",IF(OR('full menu'!B6="PERF",'full menu'!B6="AERF",'full menu'!B6="PCB"),"ERfix",IF(OR('full menu'!B6="ACB",'full menu'!B6="LCERT",'full menu'!B6="LERT",'full menu'!B6="FCERT",'full menu'!B6="FERT"),"ERTs",IF(OR('full menu'!B6="FCMT",'full menu'!B6="FMT",'full menu'!B6="LMT",'full menu'!B6="LCMT"),"MTs",IF(OR('full menu'!B6="LCIT",'full menu'!B6="FCIT",'full menu'!B6="LIT",'full menu'!B6="FIT"),"ITs",IF(OR('full menu'!B6="MwERT",'full menu'!B6="ERwMT",'full menu'!B6="M&ERT",'full menu'!B6="MwIT",'full menu'!B6="IwMT",'full menu'!B6="M&IT",'full menu'!B6="IwERT",'full menu'!B6="ERwIT",'full menu'!B6="I&ERT",'full menu'!B6="ER&M&IT"),"MixedTs",IF('full menu'!B6="UD","UD",IF('full menu'!B6="LSD","LSD",IF('full menu'!B6="WSD","WSD",IF('full menu'!B6="UASC","nonat",IF('full menu'!B6="X","X",""))))))))))) -> X | C6: =IF('full menu'!C6="MDC","MDC",IF(OR('full menu'!C6="PERF",'full menu'!C6="AERF",'full menu'!C6="PCB"),"ERfix",IF(OR('full menu'!C6="ACB",'full menu'!C6="LCERT",'full menu'!C6="LERT",'full menu'!C6="FCERT",'full menu'!C6="FERT"),"ERTs",IF(OR('full menu'!C6="FCMT",'full menu'!C6="FMT",'full menu'!C6="LMT",'full menu'!C6="LCMT"),"MTs",IF(OR('full menu'!C6="LCIT",'full menu'!C6="FCIT",'full menu'!C6="LIT",'full menu'!C6="FIT"),"ITs",IF(OR('full menu'!C6="MwERT",'full menu'!C6="ERwMT",'full menu'!C6="M&ERT",'full menu'!C6="MwIT",'full menu'!C6="IwMT",'full menu'!C6="M&IT",'full menu'!C6="IwERT",'full menu'!C6="ERwIT",'full menu'!C6="I&ERT",'full menu'!C6="ER&M&IT"),"MixedTs",IF('full menu'!C6="UD","UD",IF('full menu'!C6="LSD","LSD",IF('full menu'!C6="WSD","WSD",IF('full menu'!C6="UASC","nonat",IF('full menu'!C6="X","X",""))))))))))) -> X | D6: =IF('full menu'!D6="MDC","MDC",IF(OR('full menu'!D6="PERF",'full menu'!D6="AERF",'full menu'!D6="PCB"),"ERfix",IF(OR('full menu'!D6="ACB",'full menu'!D6="LCERT",'full menu'!D6="LERT",'full menu'!D6="FCERT",'full menu'!D6="FERT"),"ERTs",IF(OR('full menu'!D6="FCMT",'full menu'!D6="FMT",'full menu'!D6="LMT",'full menu'!D6="LCMT"),"MTs",IF(OR('full menu'!D6="LCIT",'full menu'!D6="FCIT",'full menu'!D6="LIT",'full menu'!D6="FIT"),"ITs",IF(OR('full menu'!D6="MwERT",'full menu'!D6="ERwMT",'full menu'!D6="M&ERT",'full menu'!D6="MwIT",'full menu'!D6="IwMT",'full menu'!D6="M&IT",'full menu'!D6="IwERT",'full menu'!D6="ERwIT",'full menu'!D6="I&ERT",'full menu'!D6="ER&M&IT"),"MixedTs",IF('full menu'!D6="UD","UD",IF('full menu'!D6="LSD","LSD",IF('full menu'!D6="WSD","WSD",IF('full menu'!D6="UASC","nonat",IF('full menu'!D6="X","X",""))))))))))) -> X | E6: =IF('full menu'!E6="MDC","MDC",IF(OR('full menu'!E6="PERF",'full menu'!E6="AERF",'full menu'!E6="PCB"),"ERfix",IF(OR('full menu'!E6="ACB",'full menu'!E6="LCERT",'full menu'!E6="LERT",'full menu'!E6="FCERT",'full menu'!E6="FERT"),"ERTs",IF(OR('full menu'!E6="FCMT",'full menu'!E6="FMT",'full menu'!E6="LMT",'full menu'!E6="LCMT"),"MTs",IF(OR('full menu'!E6="LCIT",'full menu'!E6="FCIT",'full menu'!E6="LIT",'full menu'!E6="FIT"),"ITs",IF(OR('full menu'!E6="MwERT",'full menu'!E6="ERwMT",'full menu'!E6="M&ERT",'full menu'!E6="MwIT",'full menu'!E6="IwMT",'full menu'!E6="M&IT",'full menu'!E6="IwERT",'full menu'!E6="ERwIT",'full menu'!E6="I&ERT",'full menu'!E6="ER&M&IT"),"MixedTs",IF('full menu'!E6="UD","UD",IF('full menu'!E6="LSD","LSD",IF('full menu'!E6="WSD","WSD",IF('full menu'!E6="UASC","nonat",IF('full menu'!E6="X","X",""))))))))))) -> X | F6: =IF('full menu'!F6="MDC","MDC",IF(OR('full menu'!F6="PERF",'full menu'!F6="AERF",'full menu'!F6="PCB"),"ERfix",IF(OR('full menu'!F6="ACB",'full menu'!F6="LCERT",'full menu'!F6="LERT",'full menu'!F6="FCERT",'full menu'!F6="FERT"),"ERTs",IF(OR('full menu'!F6="FCMT",'full menu'!F6="FMT",'full menu'!F6="LMT",'full menu'!F6="LCMT"),"MTs",IF(OR('full menu'!F6="LCIT",'full menu'!F6="FCIT",'full menu'!F6="LIT",'full menu'!F6="FIT"),"ITs",IF(OR('full menu'!F6="MwERT",'full menu'!F6="ERwMT",'full menu'!F6="M&ERT",'full menu'!F6="MwIT",'full menu'!F6="IwMT",'full menu'!F6="M&IT",'full menu'!F6="IwERT",'full menu'!F6="ERwIT",'full menu'!F6="I&ERT",'full menu'!F6="ER&M&IT"),"MixedTs",IF('full menu'!F6="UD","UD",IF('full menu'!F6="LSD","LSD",IF('full menu'!F6="WSD","WSD",IF('full menu'!F6="UASC","nonat",IF('full menu'!F6="X","X",""))))))))))) -> X | G6: =IF('full menu'!G6="MDC","MDC",IF(OR('full menu'!G6="PERF",'full menu'!G6="AERF",'full menu'!G6="PCB"),"ERfix",IF(OR('full menu'!G6="ACB",'full menu'!G6="LCERT",'full menu'!G6="LERT",'full menu'!G6="FCERT",'full menu'!G6="FERT"),"ERTs",IF(OR('full menu'!G6="FCMT",'full menu'!G6="FMT",'full menu'!G6="LMT",'full menu'!G6="LCMT"),"MTs",IF(OR('full menu'!G6="LCIT",'full menu'!G6="FCIT",'full menu'!G6="LIT",'full menu'!G6="FIT"),"ITs",IF(OR('full menu'!G6="MwERT",'full menu'!G6="ERwMT",'full menu'!G6="M&ERT",'full menu'!G6="MwIT",'full menu'!G6="IwMT",'full menu'!G6="M&IT",'full menu'!G6="IwERT",'full menu'!G6="ERwIT",'full menu'!G6="I&ERT",'full menu'!G6="ER&M&IT"),"MixedTs",IF('full menu'!G6="UD","UD",IF('full menu'!G6="LSD","LSD",IF('full menu'!G6="WSD","WSD",IF('full menu'!G6="UASC","nonat",IF('full menu'!G6="X","X",""))))))))))) -> X | H6: =IF('full menu'!H6="MDC","MDC",IF(OR('full menu'!H6="PERF",'full menu'!H6="AERF",'full menu'!H6="PCB"),"ERfix",IF(OR('full menu'!H6="ACB",'full menu'!H6="LCERT",'full menu'!H6="LERT",'full menu'!H6="FCERT",'full menu'!H6="FERT"),"ERTs",IF(OR('full menu'!H6="FCMT",'full menu'!H6="FMT",'full menu'!H6="LMT",'full menu'!H6="LCMT"),"MTs",IF(OR('full menu'!H6="LCIT",'full menu'!H6="FCIT",'full menu'!H6="LIT",'full menu'!H6="FIT"),"ITs",IF(OR('full menu'!H6="MwERT",'full menu'!H6="ERwMT",'full menu'!H6="M&ERT",'full menu'!H6="MwIT",'full menu'!H6="IwMT",'full menu'!H6="M&IT",'full menu'!H6="IwERT",'full menu'!H6="ERwIT",'full menu'!H6="I&ERT",'full menu'!H6="ER&M&IT"),"MixedTs",IF('full menu'!H6="UD","UD",IF('full menu'!H6="LSD","LSD",IF('full menu'!H6="WSD","WSD",IF('full menu'!H6="UASC","nonat",IF('full menu'!H6="X","X",""))))))))))) -> X | I6: =IF('full menu'!I6="MDC","MDC",IF(OR('full menu'!I6="PERF",'full menu'!I6="AERF",'full menu'!I6="PCB"),"ERfix",IF(OR('full menu'!I6="ACB",'full menu'!I6="LCERT",'full menu'!I6="LERT",'full menu'!I6="FCERT",'full menu'!I6="FERT"),"ERTs",IF(OR('full menu'!I6="FCMT",'full menu'!I6="FMT",'full menu'!I6="LMT",'full menu'!I6="LCMT"),"MTs",IF(OR('full menu'!I6="LCIT",'full menu'!I6="FCIT",'full menu'!I6="LIT",'full menu'!I6="FIT"),"ITs",IF(OR('full menu'!I6="MwERT",'full menu'!I6="ERwMT",'full menu'!I6="M&ERT",'full menu'!I6="MwIT",'full menu'!I6="IwMT",'full menu'!I6="M&IT",'full menu'!I6="IwERT",'full menu'!I6="ERwIT",'full menu'!I6="I&ERT",'full menu'!I6="ER&M&IT"),"MixedTs",IF('full menu'!I6="UD","UD",IF('full menu'!I6="LSD","LSD",IF('full menu'!I6="WSD","WSD",IF('full menu'!I6="UASC","nonat",IF('full menu'!I6="X","X",""))))))))))) -> X | ... AS6: =IF('full menu'!AS6="MDC","MDC",IF(OR('full menu'!AS6="PERF",'full menu'!AS6="AERF",'full menu'!AS6="PCB"),"ERfix",IF(OR('full menu'!AS6="ACB",'full menu'!AS6="LCERT",'full menu'!AS6="LERT",'full menu'!AS6="FCERT",'full menu'!AS6="FERT"),"ERTs",IF(OR('full menu'!AS6="FCMT",'full menu'!AS6="FMT",'full menu'!AS6="LMT",'full menu'!AS6="LCMT"),"MTs",IF(OR('full menu'!AS6="LCIT",'full menu'!AS6="FCIT",'full menu'!AS6="LIT",'full menu'!AS6="FIT"),"ITs",IF(OR('full menu'!AS6="MwERT",'full menu'!AS6="ERwMT",'full menu'!AS6="M&ERT",'full menu'!AS6="MwIT",'full menu'!AS6="IwMT",'full menu'!AS6="M&IT",'full menu'!AS6="IwERT",'full menu'!AS6="ERwIT",'full menu'!AS6="I&ERT",'full menu'!AS6="ER&M&IT"),"MixedTs",IF('full menu'!AS6="UD","UD",IF('full menu'!AS6="LSD","LSD",IF('full menu'!AS6="WSD","WSD",IF('full menu'!AS6="UASC","nonat",IF('full menu'!AS6="X","X",""))))))))))) -> LSD
