Workbook

Sheet full menu
B1: 1974 | C1: 1975 | D1: 1976 | E1: 1977 | F1: 1978 | G1: 1979 | H1: 1980 | I1: 1981 | J1: 1982 | K1: 1983 | L1: 1984 | M1: 1985 | N1: 1986 | O1: 1987 | P1: 1988 | Q1: 1989 | R1: 1990 | S1: 1991 | T1: 1992 | U1: 1993 | V1: 1994 | W1: 1995 | X1: 1996 | Y1: 1997 | Z1: 1998 | AA1: 1999 | AB1: 2000 | AC1: 2001 | AD1: 2002 | AE1: 2003 | AF1: 2004 | AG1: 2005 | AH1: 2006 | AI1: 2007 | AJ1: 2008 | AK1: 2009 | AL1: 2010 | AM1: 2011 | AN1: 2012 | AO1: 2013 | AP1: 2014 | AQ1: 2015 | AR1: 2016 | AS1: 2017
A2: Bahamas | B2: AERF | C2: AERF | D2: AERF | E2: AERF | F2: AERF | G2: AERF | H2: AERF | I2: AERF | J2: AERF | K2: AERF | L2: AERF | M2: AERF | N2: AERF | O2: AERF | P2: AERF | Q2: AERF | R2: AERF | S2: AERF | T2: AERF | U2: AERF | V2: AERF | W2: AERF | X2: AERF | Y2: AERF | Z2: AERF | AA2: AERF | AB2: AERF | AC2: AERF | AD2: AERF | AE2: AERF | AF2: AERF | AG2: AERF | AH2: AERF | AI2: AERF | AJ2: AERF | AK2: AERF | AL2: AERF | AM2: AERF | AN2: AERF | AO2: AERF | AP2: AERF | AQ2: AERF | AR2: AERF | AS2: AERF
A3: Barbados | B3: AERF | C3: AERF | D3: AERF | E3: AERF | F3: AERF | G3: AERF | H3: AERF | I3: AERF | J3: AERF | K3: AERF | L3: AERF | M3: AERF | N3: AERF | O3: AERF | P3: AERF | Q3: AERF | R3: AERF | S3: AERF | T3: AERF | U3: AERF | V3: AERF | W3: AERF | X3: AERF | Y3: AERF | Z3: AERF | AA3: AERF | AB3: AERF | AC3: AERF | AD3: AERF | AE3: AERF | AF3: AERF | AG3: AERF | AH3: AERF | AI3: AERF | AJ3: AERF | AK3: AERF | AL3: AERF | AM3: AERF | AN3: AERF | AO3: AERF | AP3: AERF | AQ3: AERF | AR3: AERF | AS3: AERF
A4: Dominican Republic | B4: AERF | C4: AERF | D4: AERF | E4: AERF | F4: AERF | G4: AERF | H4: AERF | I4: AERF | J4: LSD | K4: LSD | L4: LSD | M4: LSD | N4: LSD | O4: LSD | P4: LSD | Q4: LSD | R4: LSD | S4: LSD | T4: LSD | U4: LSD | V4: LSD | W4: LSD | X4: LSD | Y4: LSD | Z4: LSD | AA4: LSD | AB4: LSD | AC4: LSD | AD4: LSD | AE4: LSD | AF4: LSD | AG4: LSD | AH4: LSD | AI4: LSD | AJ4: LSD | AK4: LSD | AL4: LSD | AM4: LSD | AN4: LIT | AO4: LIT | AP4: LIT | AQ4: LIT | AR4: LIT | AS4: LIT
A5: ECCU | B5: PCB | C5: PCB | D5: PCB | E5: PCB | F5: PCB | G5: PCB | H5: PCB | I5: PCB | J5: PCB | K5: PCB | L5: ACB | M5: ACB | N5: ACB | O5: ACB | P5: ACB | Q5: ACB | R5: ACB | S5: ACB | T5: ACB | U5: ACB | V5: ACB | W5: ACB | X5: ACB | Y5: ACB | Z5: ACB | AA5: ACB | AB5: ACB | AC5: ACB | AD5: ACB | AE5: ACB | AF5: ACB | AG5: ACB | AH5: ACB | AI5: ACB | AJ5: ACB | AK5: ACB | AL5: ACB | AM5: ACB | AN5: ACB | AO5: ACB | AP5: ACB | AQ5: ACB | AR5: ACB | AS5: ACB
A6: Haiti | B6: AERF | C6: AERF | D6: AERF | E6: AERF | F6: AERF | G6: AERF | H6: AERF | I6: AERF | J6: AERF | K6: AERF | L6: AERF | M6: AERF | N6: AERF | O6: AERF | P6: AERF | Q6: AERF | R6: LSD | S6: LSD | T6: LSD | U6: LSD | V6: LSD | W6: LSD | X6: LSD | Y6: LSD | Z6: LSD | AA6: LSD | AB6: LSD | AC6: LSD | AD6: LSD | AE6: LSD | AF6: LSD | AG6: LSD | AH6: LSD | AI6: LSD | AJ6: LSD | AK6: LSD | AL6: LSD | AM6: LSD | AN6: LSD | AO6: LSD | AP6: LSD | AQ6: LSD | AR6: LSD | AS6: LSD
A7: Jamaica | B7: AERF | C7: AERF | D7: AERF | E7: LSD | F7: LSD | G7: LSD | H7: LSD | I7: LSD | J7: LSD | K7: LSD | L7: LSD | M7: LSD | N7: LSD | O7: LSD | P7: LSD | Q7: LSD | R7: LSD | S7: LSD | T7: LSD | U7: LSD | V7: LSD | W7: LSD | X7: LSD | Y7: LSD | Z7: LSD | AA7: LSD | AB7: LSD | AC7: LSD | AD7: LSD | AE7: LSD | AF7: LSD | AG7: LSD | AH7: LSD | AI7: LSD | AJ7: LSD | AK7: LSD | AL7: LSD | AM7: LSD | AN7: LSD | AO7: LSD | AP7: LSD | AQ7: LSD | AR7: LSD | AS7: LSD
A8: Trinidad & Tobago | B8: AERF | C8: AERF | D8: AERF | E8: AERF | F8: AERF | G8: AERF | H8: AERF | I8: AERF | J8: AERF | K8: AERF | L8: AERF | M8: AERF | N8: AERF | O8: AERF | P8: AERF | Q8: AERF | R8: AERF | S8: AERF | T8: AERF | U8: LSD | V8: LSD | W8: LSD | X8: LSD | Y8: LERT | Z8: LERT | AA8: LERT | AB8: LERT | AC8: LERT | AD8: LERT | AE8: LERT | AF8: LERT | AG8: LERT | AH8: LERT | AI8: LERT | AJ8: LERT | AK8: LERT | AL8: LERT | AM8: LERT | AN8: LERT | AO8: LERT | AP8: LERT | AQ8: LERT | AR8: LERT | AS8: LERT
B14: 1974 | C14: 1975 | D14: 1976 | E14: 1977 | F14: 1978 | G14: 1979 | H14: 1980 | I14: 1981 | J14: 1982 | K14: 1983 | L14: 1984 | M14: 1985 | N14: 1986 | O14: 1987 | P14: 1988 | Q14: 1989 | R14: 1990 | S14: 1991 | T14: 1992 | U14: 1993 | V14: 1994 | W14: 1995 | X14: 1996 | Y14: 1997 | Z14: 1998 | AA14: 1999 | AB14: 2000 | AC14: 2001 | AD14: 2002 | AE14: 2003 | AF14: 2004 | AG14: 2005 | AH14: 2006 | AI14: 2007 | AJ14: 2008 | AK14: 2009 | AL14: 2010 | AM14: 2011 | AN14: 2012 | AO14: 2013 | AP14: 2014 | AQ14: 2015 | AR14: 2016 | AS14: 2017 | AU14: 74-17 | AV14: 74-84 | AW14: 85-98 | AX14: 99-07 | AY14: 08-17
A15: X | B15: =COUNTIF(B2:B8,"X") -> 0 | C15: =COUNTIF(C2:C8,"X") -> 0 | D15: =COUNTIF(D2:D8,"X") -> 0 | E15: =COUNTIF(E2:E8,"X") -> 0 | F15: =COUNTIF(F2:F8,"X") -> 0 | G15: =COUNTIF(G2:G8,"X") -> 0 | H15: =COUNTIF(H2:H8,"X") -> 0 | I15: =COUNTIF(I2:I8,"X") -> 0 | ... AS15: =COUNTIF(AS2:AS8,"X") -> 0 | AU15: =SUM(B15:AS15) -> 0 | AV15: =SUM(B15:L15) -> 0 | AW15: =SUM(M15:Z15) -> 0 | AX15: =SUM(AA15:AI15) -> 0 | AY15: =SUM(AJ15:AS15) -> 0
A16: MDC | B16: =COUNTIF(B2:B8,"MDC") -> 0 | C16: =COUNTIF(C2:C8,"MDC") -> 0 | D16: =COUNTIF(D2:D8,"MDC") -> 0 | E16: =COUNTIF(E2:E8,"MDC") -> 0 | F16: =COUNTIF(F2:F8,"MDC") -> 0 | G16: =COUNTIF(G2:G8,"MDC") -> 0 | H16: =COUNTIF(H2:H8,"MDC") -> 0 | I16: =COUNTIF(I2:I8,"MDC") -> 0 | ... AS16: =COUNTIF(AS2:AS8,"MDC") -> 0 | AU16: =SUM(B16:AS16) -> 0 | AV16: =SUM(B16:L16) -> 0 | AW16: =SUM(M16:Z16) -> 0 | AX16: =SUM(AA16:AI16) -> 0 | AY16: =SUM(AJ16:AS16) -> 0
A17: PERF | B17: =COUNTIF(B2:B8,"PERF") -> 0 | C17: =COUNTIF(C2:C8,"PERF") -> 0 | D17: =COUNTIF(D2:D8,"PERF") -> 0 | E17: =COUNTIF(E2:E8,"PERF") -> 0 | F17: =COUNTIF(F2:F8,"PERF") -> 0 | G17: =COUNTIF(G2:G8,"PERF") -> 0 | H17: =COUNTIF(H2:H8,"PERF") -> 0 | I17: =COUNTIF(I2:I8,"PERF") -> 0 | ... AS17: =COUNTIF(AS2:AS8,"PERF") -> 0 | AU17: =SUM(B17:AS17) -> 0 | AV17: =SUM(B17:L17) -> 0 | AW17: =SUM(M17:Z17) -> 0 | AX17: =SUM(AA17:AI17) -> 0 | AY17: =SUM(AJ17:AS17) -> 0
A18: AERF | B18: =COUNTIF(B2:B8,"AERF") -> 6 | C18: =COUNTIF(C2:C8,"AERF") -> 6 | D18: =COUNTIF(D2:D8,"AERF") -> 6 | E18: =COUNTIF(E2:E8,"AERF") -> 5 | F18: =COUNTIF(F2:F8,"AERF") -> 5 | G18: =COUNTIF(G2:G8,"AERF") -> 5 | H18: =COUNTIF(H2:H8,"AERF") -> 5 | I18: =COUNTIF(I2:I8,"AERF") -> 5 | ... AS18: =COUNTIF(AS2:AS8,"AERF") -> 2 | AU18: =SUM(B18:AS18) -> 134 | AV18: =SUM(B18:L18) -> 55 | AW18: =SUM(M18:Z18) -> 41 | AX18: =SUM(AA18:AI18) -> 18 | AY18: =SUM(AJ18:AS18) -> 20
A19: PCB | B19: =COUNTIF(B2:B8,"PCB") -> 1 | C19: =COUNTIF(C2:C8,"PCB") -> 1 | D19: =COUNTIF(D2:D8,"PCB") -> 1 | E19: =COUNTIF(E2:E8,"PCB") -> 1 | F19: =COUNTIF(F2:F8,"PCB") -> 1 | G19: =COUNTIF(G2:G8,"PCB") -> 1 | H19: =COUNTIF(H2:H8,"PCB") -> 1 | I19: =COUNTIF(I2:I8,"PCB") -> 1 | ... AS19: =COUNTIF(AS2:AS8,"PCB") -> 0 | AU19: =SUM(B19:AS19) -> 10 | AV19: =SUM(B19:L19) -> 10 | AW19: =SUM(M19:Z19) -> 0 | AX19: =SUM(AA19:AI19) -> 0 | AY19: =SUM(AJ19:AS19) -> 0
A20: ACB | B20: =COUNTIF(B2:B8,"ACB") -> 0 | C20: =COUNTIF(C2:C8,"ACB") -> 0 | D20: =COUNTIF(D2:D8,"ACB") -> 0 | E20: =COUNTIF(E2:E8,"ACB") -> 0 | F20: =COUNTIF(F2:F8,"ACB") -> 0 | G20: =COUNTIF(G2:G8,"ACB") -> 0 | H20: =COUNTIF(H2:H8,"ACB") -> 0 | I20: =COUNTIF(I2:I8,"ACB") -> 0 | ... AS20: =COUNTIF(AS2:AS8,"ACB") -> 1 | AU20: =SUM(B20:AS20) -> 34 | AV20: =SUM(B20:L20) -> 1 | AW20: =SUM(M20:Z20) -> 14 | AX20: =SUM(AA20:AI20) -> 9 | AY20: =SUM(AJ20:AS20) -> 10
A21: UD | B21: =COUNTIF(B2:B8,"UD") -> 0 | C21: =COUNTIF(C2:C8,"UD") -> 0 | D21: =COUNTIF(D2:D8,"UD") -> 0 | E21: =COUNTIF(E2:E8,"UD") -> 0 | F21: =COUNTIF(F2:F8,"UD") -> 0 | G21: =COUNTIF(G2:G8,"UD") -> 0 | H21: =COUNTIF(H2:H8,"UD") -> 0 | I21: =COUNTIF(I2:I8,"UD") -> 0 | ... AS21: =COUNTIF(AS2:AS8,"UD") -> 0 | AU21: =SUM(B21:AS21) -> 0 | AV21: =SUM(B21:L21) -> 0 | AW21: =SUM(M21:Z21) -> 0 | AX21: =SUM(AA21:AI21) -> 0 | AY21: =SUM(AJ21:AS21) -> 0
A22: LERT | B22: =COUNTIF(B2:B8,"LERT") -> 0 | C22: =COUNTIF(C2:C8,"LERT") -> 0 | D22: =COUNTIF(D2:D8,"LERT") -> 0 | E22: =COUNTIF(E2:E8,"LERT") -> 0 | F22: =COUNTIF(F2:F8,"LERT") -> 0 | G22: =COUNTIF(G2:G8,"LERT") -> 0 | H22: =COUNTIF(H2:H8,"LERT") -> 0 | I22: =COUNTIF(I2:I8,"LERT") -> 0 | ... AS22: =COUNTIF(AS2:AS8,"LERT") -> 1 | AU22: =SUM(B22:AS22) -> 21 | AV22: =SUM(B22:L22) -> 0 | AW22: =SUM(M22:Z22) -> 2 | AX22: =SUM(AA22:AI22) -> 9 | AY22: =SUM(AJ22:AS22) -> 10
A23: LCERT | B23: =COUNTIF(B2:B8,"LCERT") -> 0 | C23: =COUNTIF(C2:C8,"LCERT") -> 0 | D23: =COUNTIF(D2:D8,"LCERT") -> 0 | E23: =COUNTIF(E2:E8,"LCERT") -> 0 | F23: =COUNTIF(F2:F8,"LCERT") -> 0 | G23: =COUNTIF(G2:G8,"LCERT") -> 0 | H23: =COUNTIF(H2:H8,"LCERT") -> 0 | I23: =COUNTIF(I2:I8,"LCERT") -> 0 | ... AS23: =COUNTIF(AS2:AS8,"LCERT") -> 0 | AU23: =SUM(B23:AS23) -> 0 | AV23: =SUM(B23:L23) -> 0 | AW23: =SUM(M23:Z23) -> 0 | AX23: =SUM(AA23:AI23) -> 0 | AY23: =SUM(AJ23:AS23) -> 0
A24: LMT | B24: =COUNTIF(B2:B8,"LMT") -> 0 | C24: =COUNTIF(C2:C8,"LMT") -> 0 | D24: =COUNTIF(D2:D8,"LMT") -> 0 | E24: =COUNTIF(E2:E8,"LMT") -> 0 | F24: =COUNTIF(F2:F8,"LMT") -> 0 | G24: =COUNTIF(G2:G8,"LMT") -> 0 | H24: =COUNTIF(H2:H8,"LMT") -> 0 | I24: =COUNTIF(I2:I8,"LMT") -> 0 | ... AS24: =COUNTIF(AS2:AS8,"LMT") -> 0 | AU24: =SUM(B24:AS24) -> 0 | AV24: =SUM(B24:L24) -> 0 | AW24: =SUM(M24:Z24) -> 0 | AX24: =SUM(AA24:AI24) -> 0 | AY24: =SUM(AJ24:AS24) -> 0
A25: LCMT | B25: =COUNTIF(B2:B8,"LCMT") -> 0 | C25: =COUNTIF(C2:C8,"LCMT") -> 0 | D25: =COUNTIF(D2:D8,"LCMT") -> 0 | E25: =COUNTIF(E2:E8,"LCMT") -> 0 | F25: =COUNTIF(F2:F8,"LCMT") -> 0 | G25: =COUNTIF(G2:G8,"LCMT") -> 0 | H25: =COUNTIF(H2:H8,"LCMT") -> 0 | I25: =COUNTIF(I2:I8,"LCMT") -> 0 | ... AS25: =COUNTIF(AS2:AS8,"LCMT") -> 0 | AU25: =SUM(B25:AS25) -> 0 | AV25: =SUM(B25:L25) -> 0 | AW25: =SUM(M25:Z25) -> 0 | AX25: =SUM(AA25:AI25) -> 0 | AY25: =SUM(AJ25:AS25) -> 0
A26: LIT | B26: =COUNTIF(B2:B8,"LIT") -> 0 | C26: =COUNTIF(C2:C8,"LIT") -> 0 | D26: =COUNTIF(D2:D8,"LIT") -> 0 | E26: =COUNTIF(E2:E8,"LIT") -> 0 | F26: =COUNTIF(F2:F8,"LIT") -> 0 | G26: =COUNTIF(G2:G8,"LIT") -> 0 | H26: =COUNTIF(H2:H8,"LIT") -> 0 | I26: =COUNTIF(I2:I8,"LIT") -> 0 | ... AS26: =COUNTIF(AS2:AS8,"LIT") -> 1 | AU26: =SUM(B26:AS26) -> 6 | AV26: =SUM(B26:L26) -> 0 | AW26: =SUM(M26:Z26) -> 0 | AX26: =SUM(AA26:AI26) -> 0 | AY26: =SUM(AJ26:AS26) -> 6
A27: LCIT | B27: =COUNTIF(B2:B8,"LCIT") -> 0 | C27: =COUNTIF(C2:C8,"LCIT") -> 0 | D27: =COUNTIF(D2:D8,"LCIT") -> 0 | E27: =COUNTIF(E2:E8,"LCIT") -> 0 | F27: =COUNTIF(F2:F8,"LCIT") -> 0 | G27: =COUNTIF(G2:G8,"LCIT") -> 0 | H27: =COUNTIF(H2:H8,"LCIT") -> 0 | I27: =COUNTIF(I2:I8,"LCIT") -> 0 | ... AS27: =COUNTIF(AS2:AS8,"LCIT") -> 0 | AU27: =SUM(B27:AS27) -> 0 | AV27: =SUM(B27:L27) -> 0 | AW27: =SUM(M27:Z27) -> 0 | AX27: =SUM(AA27:AI27) -> 0 | AY27: =SUM(AJ27:AS27) -> 0
A28: MwERT | B28: =COUNTIF(B2:B8,"MwERT") -> 0 | C28: =COUNTIF(C2:C8,"MwERT") -> 0 | D28: =COUNTIF(D2:D8,"MwERT") -> 0 | E28: =COUNTIF(E2:E8,"MwERT") -> 0 | F28: =COUNTIF(F2:F8,"MwERT") -> 0 | G28: =COUNTIF(G2:G8,"MwERT") -> 0 | H28: =COUNTIF(H2:H8,"MwERT") -> 0 | I28: =COUNTIF(I2:I8,"MwERT") -> 0 | ... AS28: =COUNTIF(AS2:AS8,"MwERT") -> 0 | AU28: =SUM(B28:AS28) -> 0 | AV28: =SUM(B28:L28) -> 0 | AW28: =SUM(M28:Z28) -> 0 | AX28: =SUM(AA28:AI28) -> 0 | AY28: =SUM(AJ28:AS28) -> 0
A29: ERwMT | B29: =COUNTIF(B2:B8,"ERwMT") -> 0 | C29: =COUNTIF(C2:C8,"ERwMT") -> 0 | D29: =COUNTIF(D2:D8,"ERwMT") -> 0 | E29: =COUNTIF(E2:E8,"ERwMT") -> 0 | F29: =COUNTIF(F2:F8,"ERwMT") -> 0 | G29: =COUNTIF(G2:G8,"ERwMT") -> 0 | H29: =COUNTIF(H2:H8,"ERwMT") -> 0 | I29: =COUNTIF(I2:I8,"ERwMT") -> 0 | ... AS29: =COUNTIF(AS2:AS8,"ERwMT") -> 0 | AU29: =SUM(B29:AS29) -> 0 | AV29: =SUM(B29:L29) -> 0 | AW29: =SUM(M29:Z29) -> 0 | AX29: =SUM(AA29:AI29) -> 0 | AY29: =SUM(AJ29:AS29) -> 0
A30: M&ERT | B30: =COUNTIF(B2:B8,"M&ERT") -> 0 | C30: =COUNTIF(C2:C8,"M&ERT") -> 0 | D30: =COUNTIF(D2:D8,"M&ERT") -> 0 | E30: =COUNTIF(E2:E8,"M&ERT") -> 0 | F30: =COUNTIF(F2:F8,"M&ERT") -> 0 | G30: =COUNTIF(G2:G8,"M&ERT") -> 0 | H30: =COUNTIF(H2:H8,"M&ERT") -> 0 | I30: =COUNTIF(I2:I8,"M&ERT") -> 0 | ... AS30: =COUNTIF(AS2:AS8,"M&ERT") -> 0 | AU30: =SUM(B30:AS30) -> 0 | AV30: =SUM(B30:L30) -> 0 | AW30: =SUM(M30:Z30) -> 0 | AX30: =SUM(AA30:AI30) -> 0 | AY30: =SUM(AJ30:AS30) -> 0
A31: MwIT | B31: =COUNTIF(B2:B8,"MwIT") -> 0 | C31: =COUNTIF(C2:C8,"MwIT") -> 0 | D31: =COUNTIF(D2:D8,"MwIT") -> 0 | E31: =COUNTIF(E2:E8,"MwIT") -> 0 | F31: =COUNTIF(F2:F8,"MwIT") -> 0 | G31: =COUNTIF(G2:G8,"MwIT") -> 0 | H31: =COUNTIF(H2:H8,"MwIT") -> 0 | I31: =COUNTIF(I2:I8,"MwIT") -> 0 | ... AS31: =COUNTIF(AS2:AS8,"MwIT") -> 0 | AU31: =SUM(B31:AS31) -> 0 | AV31: =SUM(B31:L31) -> 0 | AW31: =SUM(M31:Z31) -> 0 | AX31: =SUM(AA31:AI31) -> 0 | AY31: =SUM(AJ31:AS31) -> 0
A32: IwMT | B32: =COUNTIF(B2:B8,"IwMT") -> 0 | C32: =COUNTIF(C2:C8,"IwMT") -> 0 | D32: =COUNTIF(D2:D8,"IwMT") -> 0 | E32: =COUNTIF(E2:E8,"IwMT") -> 0 | F32: =COUNTIF(F2:F8,"IwMT") -> 0 | G32: =COUNTIF(G2:G8,"IwMT") -> 0 | H32: =COUNTIF(H2:H8,"IwMT") -> 0 | I32: =COUNTIF(I2:I8,"IwMT") -> 0 | ... AS32: =COUNTIF(AS2:AS8,"IwMT") -> 0 | AU32: =SUM(B32:AS32) -> 0 | AV32: =SUM(B32:L32) -> 0 | AW32: =SUM(M32:Z32) -> 0 | AX32: =SUM(AA32:AI32) -> 0 | AY32: =SUM(AJ32:AS32) -> 0
A33: M&IT | B33: =COUNTIF(B2:B8,"M&IT") -> 0 | C33: =COUNTIF(C2:C8,"M&IT") -> 0 | D33: =COUNTIF(D2:D8,"M&IT") -> 0 | E33: =COUNTIF(E2:E8,"M&IT") -> 0 | F33: =COUNTIF(F2:F8,"M&IT") -> 0 | G33: =COUNTIF(G2:G8,"M&IT") -> 0 | H33: =COUNTIF(H2:H8,"M&IT") -> 0 | I33: =COUNTIF(I2:I8,"M&IT") -> 0 | ... AS33: =COUNTIF(AS2:AS8,"M&IT") -> 0 | AU33: =SUM(B33:AS33) -> 0 | AV33: =SUM(B33:L33) -> 0 | AW33: =SUM(M33:Z33) -> 0 | AX33: =SUM(AA33:AI33) -> 0 | AY33: =SUM(AJ33:AS33) -> 0
A34: IwERT | B34: =COUNTIF(B2:B8,"IwERT") -> 0 | C34: =COUNTIF(C2:C8,"IwERT") -> 0 | D34: =COUNTIF(D2:D8,"IwERT") -> 0 | E34: =COUNTIF(E2:E8,"IwERT") -> 0 | F34: =COUNTIF(F2:F8,"IwERT") -> 0 | G34: =COUNTIF(G2:G8,"IwERT") -> 0 | H34: =COUNTIF(H2:H8,"IwERT") -> 0 | I34: =COUNTIF(I2:I8,"IwERT") -> 0 | ... AS34: =COUNTIF(AS2:AS8,"IwERT") -> 0 | AU34: =SUM(B34:AS34) -> 0 | AV34: =SUM(B34:L34) -> 0 | AW34: =SUM(M34:Z34) -> 0 | AX34: =SUM(AA34:AI34) -> 0 | AY34: =SUM(AJ34:AS34) -> 0
A35: ERwIT | B35: =COUNTIF(B2:B8,"ERwIT") -> 0 | C35: =COUNTIF(C2:C8,"ERwIT") -> 0 | D35: =COUNTIF(D2:D8,"ERwIT") -> 0 | E35: =COUNTIF(E2:E8,"ERwIT") -> 0 | F35: =COUNTIF(F2:F8,"ERwIT") -> 0 | G35: =COUNTIF(G2:G8,"ERwIT") -> 0 | H35: =COUNTIF(H2:H8,"ERwIT") -> 0 | I35: =COUNTIF(I2:I8,"ERwIT") -> 0 | ... AS35: =COUNTIF(AS2:AS8,"ERwIT") -> 0 | AU35: =SUM(B35:AS35) -> 0 | AV35: =SUM(B35:L35) -> 0 | AW35: =SUM(M35:Z35) -> 0 | AX35: =SUM(AA35:AI35) -> 0 | AY35: =SUM(AJ35:AS35) -> 0
A36: I&ERT | B36: =COUNTIF(B2:B8,"I&ERT") -> 0 | C36: =COUNTIF(C2:C8,"I&ERT") -> 0 | D36: =COUNTIF(D2:D8,"I&ERT") -> 0 | E36: =COUNTIF(E2:E8,"I&ERT") -> 0 | F36: =COUNTIF(F2:F8,"I&ERT") -> 0 | G36: =COUNTIF(G2:G8,"I&ERT") -> 0 | H36: =COUNTIF(H2:H8,"I&ERT") -> 0 | I36: =COUNTIF(I2:I8,"I&ERT") -> 0 | ... AS36: =COUNTIF(AS2:AS8,"I&ERT") -> 0 | AU36: =SUM(B36:AS36) -> 0 | AV36: =SUM(B36:L36) -> 0 | AW36: =SUM(M36:Z36) -> 0 | AX36: =SUM(AA36:AI36) -> 0 | AY36: =SUM(AJ36:AS36) -> 0
A37: ER&M&IT | B37: =COUNTIF(B2:B8,"ER&M&IT") -> 0 | C37: =COUNTIF(C2:C8,"ER&M&IT") -> 0 | D37: =COUNTIF(D2:D8,"ER&M&IT") -> 0 | E37: =COUNTIF(E2:E8,"ER&M&IT") -> 0 | F37: =COUNTIF(F2:F8,"ER&M&IT") -> 0 | G37: =COUNTIF(G2:G8,"ER&M&IT") -> 0 | H37: =COUNTIF(H2:H8,"ER&M&IT") -> 0 | I37: =COUNTIF(I2:I8,"ER&M&IT") -> 0 | ... AS37: =COUNTIF(AS2:AS8,"ER&M&IT") -> 0 | AU37: =SUM(B37:AS37) -> 0 | AV37: =SUM(B37:L37) -> 0 | AW37: =SUM(M37:Z37) -> 0 | AX37: =SUM(AA37:AI37) -> 0 | AY37: =SUM(AJ37:AS37) -> 0
A38: LSD | B38: =COUNTIF(B2:B8,"LSD") -> 0 | C38: =COUNTIF(C2:C8,"LSD") -> 0 | D38: =COUNTIF(D2:D8,"LSD") -> 0 | E38: =COUNTIF(E2:E8,"LSD") -> 1 | F38: =COUNTIF(F2:F8,"LSD") -> 1 | G38: =COUNTIF(G2:G8,"LSD") -> 1 | H38: =COUNTIF(H2:H8,"LSD") -> 1 | I38: =COUNTIF(I2:I8,"LSD") -> 1 | ... AS38: =COUNTIF(AS2:AS8,"LSD") -> 2 | AU38: =SUM(B38:AS38) -> 103 | AV38: =SUM(B38:L38) -> 11 | AW38: =SUM(M38:Z38) -> 41 | AX38: =SUM(AA38:AI38) -> 27 | AY38: =SUM(AJ38:AS38) -> 24
A39: UASC | B39: =COUNTIF(B2:B8,"UASC") -> 0 | C39: =COUNTIF(C2:C8,"UASC") -> 0 | D39: =COUNTIF(D2:D8,"UASC") -> 0 | E39: =COUNTIF(E2:E8,"UASC") -> 0 | F39: =COUNTIF(F2:F8,"UASC") -> 0 | G39: =COUNTIF(G2:G8,"UASC") -> 0 | H39: =COUNTIF(H2:H8,"UASC") -> 0 | I39: =COUNTIF(I2:I8,"UASC") -> 0 | ... AS39: =COUNTIF(AS2:AS8,"UASC") -> 0 | AU39: =SUM(B39:AS39) -> 0 | AV39: =SUM(B39:L39) -> 0 | AW39: =SUM(M39:Z39) -> 0 | AX39: =SUM(AA39:AI39) -> 0 | AY39: =SUM(AJ39:AS39) -> 0
A40: CU | B40: =COUNTIF(B2:B8,"CU") -> 0 | C40: =COUNTIF(C2:C8,"CU") -> 0 | D40: =COUNTIF(D2:D8,"CU") -> 0 | E40: =COUNTIF(E2:E8,"CU") -> 0 | F40: =COUNTIF(F2:F8,"CU") -> 0 | G40: =COUNTIF(G2:G8,"CU") -> 0 | H40: =COUNTIF(H2:H8,"CU") -> 0 | I40: =COUNTIF(I2:I8,"CU") -> 0 | ... AS40: =COUNTIF(AS2:AS8,"CU") -> 0 | AU40: =SUM(B40:AS40) -> 0 | AV40: =SUM(B40:L40) -> 0 | AW40: =SUM(M40:Z40) -> 0 | AX40: =SUM(AA40:AI40) -> 0 | AY40: =SUM(AJ40:AS40) -> 0
A41: FERT | B41: =COUNTIF(B2:B8,"FERT") -> 0 | C41: =COUNTIF(C2:C8,"FERT") -> 0 | D41: =COUNTIF(D2:D8,"FERT") -> 0 | E41: =COUNTIF(E2:E8,"FERT") -> 0 | F41: =COUNTIF(F2:F8,"FERT") -> 0 | G41: =COUNTIF(G2:G8,"FERT") -> 0 | H41: =COUNTIF(H2:H8,"FERT") -> 0 | I41: =COUNTIF(I2:I8,"FERT") -> 0 | ... AS41: =COUNTIF(AS2:AS8,"FERT") -> 0 | AU41: =SUM(B41:AS41) -> 0 | AV41: =SUM(B41:L41) -> 0 | AW41: =SUM(M41:Z41) -> 0 | AX41: =SUM(AA41:AI41) -> 0 | AY41: =SUM(AJ41:AS41) -> 0
A42: FCERT | B42: =COUNTIF(B2:B8,"FCERT") -> 0 | C42: =COUNTIF(C2:C8,"FCERT") -> 0 | D42: =COUNTIF(D2:D8,"FCERT") -> 0 | E42: =COUNTIF(E2:E8,"FCERT") -> 0 | F42: =COUNTIF(F2:F8,"FCERT") -> 0 | G42: =COUNTIF(G2:G8,"FCERT") -> 0 | H42: =COUNTIF(H2:H8,"FCERT") -> 0 | I42: =COUNTIF(I2:I8,"FCERT") -> 0 | ... AS42: =COUNTIF(AS2:AS8,"FCERT") -> 0 | AU42: =SUM(B42:AS42) -> 0 | AV42: =SUM(B42:L42) -> 0 | AW42: =SUM(M42:Z42) -> 0 | AX42: =SUM(AA42:AI42) -> 0 | AY42: =SUM(AJ42:AS42) -> 0
A43: FMT | B43: =COUNTIF(B2:B8,"FMT") -> 0 | C43: =COUNTIF(C2:C8,"FMT") -> 0 | D43: =COUNTIF(D2:D8,"FMT") -> 0 | E43: =COUNTIF(E2:E8,"FMT") -> 0 | F43: =COUNTIF(F2:F8,"FMT") -> 0 | G43: =COUNTIF(G2:G8,"FMT") -> 0 | H43: =COUNTIF(H2:H8,"FMT") -> 0 | I43: =COUNTIF(I2:I8,"FMT") -> 0 | ... AS43: =COUNTIF(AS2:AS8,"FMT") -> 0 | AU43: =SUM(B43:AS43) -> 0 | AV43: =SUM(B43:L43) -> 0 | AW43: =SUM(M43:Z43) -> 0 | AX43: =SUM(AA43:AI43) -> 0 | AY43: =SUM(AJ43:AS43) -> 0
A44: FCMT | B44: =COUNTIF(B2:B8,"FCMT") -> 0 | C44: =COUNTIF(C2:C8,"FCMT") -> 0 | D44: =COUNTIF(D2:D8,"FCMT") -> 0 | E44: =COUNTIF(E2:E8,"FCMT") -> 0 | F44: =COUNTIF(F2:F8,"FCMT") -> 0 | G44: =COUNTIF(G2:G8,"FCMT") -> 0 | H44: =COUNTIF(H2:H8,"FCMT") -> 0 | I44: =COUNTIF(I2:I8,"FCMT") -> 0 | ... AS44: =COUNTIF(AS2:AS8,"FCMT") -> 0 | AU44: =SUM(B44:AS44) -> 0 | AV44: =SUM(B44:L44) -> 0 | AW44: =SUM(M44:Z44) -> 0 | AX44: =SUM(AA44:AI44) -> 0 | AY44: =SUM(AJ44:AS44) -> 0
A45: FIT | B45: =COUNTIF(B2:B8,"FIT") -> 0 | C45: =COUNTIF(C2:C8,"FIT") -> 0 | D45: =COUNTIF(D2:D8,"FIT") -> 0 | E45: =COUNTIF(E2:E8,"FIT") -> 0 | F45: =COUNTIF(F2:F8,"FIT") -> 0 | G45: =COUNTIF(G2:G8,"FIT") -> 0 | H45: =COUNTIF(H2:H8,"FIT") -> 0 | I45: =COUNTIF(I2:I8,"FIT") -> 0 | ... AS45: =COUNTIF(AS2:AS8,"FIT") -> 0 | AU45: =SUM(B45:AS45) -> 0 | AV45: =SUM(B45:L45) -> 0 | AW45: =SUM(M45:Z45) -> 0 | AX45: =SUM(AA45:AI45) -> 0 | AY45: =SUM(AJ45:AS45) -> 0
A46: FCIT | B46: =COUNTIF(B2:B8,"FCIT") -> 0 | C46: =COUNTIF(C2:C8,"FCIT") -> 0 | D46: =COUNTIF(D2:D8,"FCIT") -> 0 | E46: =COUNTIF(E2:E8,"FCIT") -> 0 | F46: =COUNTIF(F2:F8,"FCIT") -> 0 | G46: =COUNTIF(G2:G8,"FCIT") -> 0 | H46: =COUNTIF(H2:H8,"FCIT") -> 0 | I46: =COUNTIF(I2:I8,"FCIT") -> 0 | ... AS46: =COUNTIF(AS2:AS8,"FCIT") -> 0 | AU46: =SUM(B46:AS46) -> 0 | AV46: =SUM(B46:L46) -> 0 | AW46: =SUM(M46:Z46) -> 0 | AX46: =SUM(AA46:AI46) -> 0 | AY46: =SUM(AJ46:AS46) -> 0
A47: WSD | B47: =COUNTIF(B2:B8,"WSD") -> 0 | C47: =COUNTIF(C2:C8,"WSD") -> 0 | D47: =COUNTIF(D2:D8,"WSD") -> 0 | E47: =COUNTIF(E2:E8,"WSD") -> 0 | F47: =COUNTIF(F2:F8,"WSD") -> 0 | G47: =COUNTIF(G2:G8,"WSD") -> 0 | H47: =COUNTIF(H2:H8,"WSD") -> 0 | I47: =COUNTIF(I2:I8,"WSD") -> 0 | ... AS47: =COUNTIF(AS2:AS8,"WSD") -> 0 | AU47: =SUM(B47:AS47) -> 0 | AV47: =SUM(B47:L47) -> 0 | AW47: =SUM(M47:Z47) -> 0 | AX47: =SUM(AA47:AI47) -> 0 | AY47: =SUM(AJ47:AS47) -> 0
A49: total | B49: =SUM(B15:B47) -> 7 | C49: =SUM(C15:C47) -> 7 | D49: =SUM(D15:D47) -> 7 | E49: =SUM(E15:E47) -> 7 | F49: =SUM(F15:F47) -> 7 | G49: =SUM(G15:G47) -> 7 | H49: =SUM(H15:H47) -> 7 | I49: =SUM(I15:I47) -> 7 | ... AS49: =SUM(AS15:AS47) -> 7 | AU49: =SUM(AU15:AU47) -> 308 | AV49: =SUM(AV15:AV47) -> 77 | AW49: =SUM(AW15:AW47) -> 98 | AX49: =SUM(AX15:AX47) -> 63 | AY49: =SUM(AY15:AY47) -> 70

Sheet targvar
B1: 1974 | C1: 1975 | D1: 1976 | E1: 1977 | F1: 1978 | G1: 1979 | H1: 1980 | I1: 1981 | J1: 1982 | K1: 1983 | L1: 1984 | M1: 1985 | N1: 1986 | O1: 1987 | P1: 1988 | Q1: 1989 | R1: 1990 | S1: 1991 | T1: 1992 | U1: 1993 | V1: 1994 | W1: 1995 | X1: 1996 | Y1: 1997 | Z1: 1998 | AA1: 1999 | AB1: 2000 | AC1: 2001 | AD1: 2002 | AE1: 2003 | AF1: 2004 | AG1: 2005 | AH1: 2006 | AI1: 2007 | AJ1: 2008 | AK1: 2009 | AL1: 2010 | AM1: 2011 | AN1: 2012 | AO1: 2013 | AP1: 2014 | AQ1: 2015 | AR1: 2016 | AS1: 2017
A2: Bahamas | B2: =IF('full menu'!B2="MDC","MDC",IF(OR('full menu'!B2="PERF",'full menu'!B2="AERF",'full menu'!B2="PCB"),"ERfix",IF(OR('full menu'!B2="ACB", 'full menu'!B2="LCERT",'full menu'!B2="LERT",'full menu'!B2="FCERT",'full menu'!B2="FERT"),"ERTs",IF(OR('full menu'!B2="FCMT",'full menu'!B2="FMT",'full menu'!B2="LMT",'full menu'!B2="LCMT"),"MTs",IF(OR('full menu'!B2="LCIT",'full menu'!B2="FCIT",'full menu'!B2="LIT",'full menu'!B2="FIT"),"ITs",IF(OR('full menu'!B2="MwERT", 'full menu'!B2="ERwMT", 'full menu'!B2="M&ERT", 'full menu'!B2="MwIT", 'full menu'!B2="IwMT", 'full menu'!B2="M&IT", 'full menu'!B2="IwERT", 'full menu'!B2="ERwIT", 'full menu'!B2="I&ERT", 'full menu'!B2="ER&M&IT"),"MixedTs",IF('full menu'!B2="UD","UD",IF('full menu'!B2="LSD","LSD",IF('full menu'!B2="WSD","WSD",IF('full menu'!B2="UASC","nonat","")))))))))) -> ERfix | C2: =IF('full menu'!C2="MDC","MDC",IF(OR('full menu'!C2="PERF",'full menu'!C2="AERF",'full menu'!C2="PCB"),"ERfix",IF(OR('full menu'!C2="ACB", 'full menu'!C2="LCERT",'full menu'!C2="LERT",'full menu'!C2="FCERT",'full menu'!C2="FERT"),"ERTs",IF(OR('full menu'!C2="FCMT",'full menu'!C2="FMT",'full menu'!C2="LMT",'full menu'!C2="LCMT"),"MTs",IF(OR('full menu'!C2="LCIT",'full menu'!C2="FCIT",'full menu'!C2="LIT",'full menu'!C2="FIT"),"ITs",IF(OR('full menu'!C2="MwERT", 'full menu'!C2="ERwMT", 'full menu'!C2="M&ERT", 'full menu'!C2="MwIT", 'full menu'!C2="IwMT", 'full menu'!C2="M&IT", 'full menu'!C2="IwERT", 'full menu'!C2="ERwIT", 'full menu'!C2="I&ERT", 'full menu'!C2="ER&M&IT"),"MixedTs",IF('full menu'!C2="UD","UD",IF('full menu'!C2="LSD","LSD",IF('full menu'!C2="WSD","WSD",IF('full menu'!C2="UASC","nonat","")))))))))) -> ERfix | D2: =IF('full menu'!D2="MDC","MDC",IF(OR('full menu'!D2="PERF",'full menu'!D2="AERF",'full menu'!D2="PCB"),"ERfix",IF(OR('full menu'!D2="ACB", 'full menu'!D2="LCERT",'full menu'!D2="LERT",'full menu'!D2="FCERT",'full menu'!D2="FERT"),"ERTs",IF(OR('full menu'!D2="FCMT",'full menu'!D2="FMT",'full menu'!D2="LMT",'full menu'!D2="LCMT"),"MTs",IF(OR('full menu'!D2="LCIT",'full menu'!D2="FCIT",'full menu'!D2="LIT",'full menu'!D2="FIT"),"ITs",IF(OR('full menu'!D2="MwERT", 'full menu'!D2="ERwMT", 'full menu'!D2="M&ERT", 'full menu'!D2="MwIT", 'full menu'!D2="IwMT", 'full menu'!D2="M&IT", 'full menu'!D2="IwERT", 'full menu'!D2="ERwIT", 'full menu'!D2="I&ERT", 'full menu'!D2="ER&M&IT"),"MixedTs",IF('full menu'!D2="UD","UD",IF('full menu'!D2="LSD","LSD",IF('full menu'!D2="WSD","WSD",IF('full menu'!D2="UASC","nonat","")))))))))) -> ERfix | E2: =IF('full menu'!E2="MDC","MDC",IF(OR('full menu'!E2="PERF",'full menu'!E2="AERF",'full menu'!E2="PCB"),"ERfix",IF(OR('full menu'!E2="ACB", 'full menu'!E2="LCERT",'full menu'!E2="LERT",'full menu'!E2="FCERT",'full menu'!E2="FERT"),"ERTs",IF(OR('full menu'!E2="FCMT",'full menu'!E2="FMT",'full menu'!E2="LMT",'full menu'!E2="LCMT"),"MTs",IF(OR('full menu'!E2="LCIT",'full menu'!E2="FCIT",'full menu'!E2="LIT",'full menu'!E2="FIT"),"ITs",IF(OR('full menu'!E2="MwERT", 'full menu'!E2="ERwMT", 'full menu'!E2="M&ERT", 'full menu'!E2="MwIT", 'full menu'!E2="IwMT", 'full menu'!E2="M&IT", 'full menu'!E2="IwERT", 'full menu'!E2="ERwIT", 'full menu'!E2="I&ERT", 'full menu'!E2="ER&M&IT"),"MixedTs",IF('full menu'!E2="UD","UD",IF('full menu'!E2="LSD","LSD",IF('full menu'!E2="WSD","WSD",IF('full menu'!E2="UASC","nonat","")))))))))) -> ERfix | F2: =IF('full menu'!F2="MDC","MDC",IF(OR('full menu'!F2="PERF",'full menu'!F2="AERF",'full menu'!F2="PCB"),"ERfix",IF(OR('full menu'!F2="ACB", 'full menu'!F2="LCERT",'full menu'!F2="LERT",'full menu'!F2="FCERT",'full menu'!F2="FERT"),"ERTs",IF(OR('full menu'!F2="FCMT",'full menu'!F2="FMT",'full menu'!F2="LMT",'full menu'!F2="LCMT"),"MTs",IF(OR('full menu'!F2="LCIT",'full menu'!F2="FCIT",'full menu'!F2="LIT",'full menu'!F2="FIT"),"ITs",IF(OR('full menu'!F2="MwERT", 'full menu'!F2="ERwMT", 'full menu'!F2="M&ERT", 'full menu'!F2="MwIT", 'full menu'!F2="IwMT", 'full menu'!F2="M&IT", 'full menu'!F2="IwERT", 'full menu'!F2="ERwIT", 'full menu'!F2="I&ERT", 'full menu'!F2="ER&M&IT"),"MixedTs",IF('full menu'!F2="UD","UD",IF('full menu'!F2="LSD","LSD",IF('full menu'!F2="WSD","WSD",IF('full menu'!F2="UASC","nonat","")))))))))) -> ERfix | G2: =IF('full menu'!G2="MDC","MDC",IF(OR('full menu'!G2="PERF",'full menu'!G2="AERF",'full menu'!G2="PCB"),"ERfix",IF(OR('full menu'!G2="ACB", 'full menu'!G2="LCERT",'full menu'!G2="LERT",'full menu'!G2="FCERT",'full menu'!G2="FERT"),"ERTs",IF(OR('full menu'!G2="FCMT",'full menu'!G2="FMT",'full menu'!G2="LMT",'full menu'!G2="LCMT"),"MTs",IF(OR('full menu'!G2="LCIT",'full menu'!G2="FCIT",'full menu'!G2="LIT",'full menu'!G2="FIT"),"ITs",IF(OR('full menu'!G2="MwERT", 'full menu'!G2="ERwMT", 'full menu'!G2="M&ERT", 'full menu'!G2="MwIT", 'full menu'!G2="IwMT", 'full menu'!G2="M&IT", 'full menu'!G2="IwERT", 'full menu'!G2="ERwIT", 'full menu'!G2="I&ERT", 'full menu'!G2="ER&M&IT"),"MixedTs",IF('full menu'!G2="UD","UD",IF('full menu'!G2="LSD","LSD",IF('full menu'!G2="WSD","WSD",IF('full menu'!G2="UASC","nonat","")))))))))) -> ERfix | H2: =IF('full menu'!H2="MDC","MDC",IF(OR('full menu'!H2="PERF",'full menu'!H2="AERF",'full menu'!H2="PCB"),"ERfix",IF(OR('full menu'!H2="ACB", 'full menu'!H2="LCERT",'full menu'!H2="LERT",'full menu'!H2="FCERT",'full menu'!H2="FERT"),"ERTs",IF(OR('full menu'!H2="FCMT",'full menu'!H2="FMT",'full menu'!H2="LMT",'full menu'!H2="LCMT"),"MTs",IF(OR('full menu'!H2="LCIT",'full menu'!H2="FCIT",'full menu'!H2="LIT",'full menu'!H2="FIT"),"ITs",IF(OR('full menu'!H2="MwERT", 'full menu'!H2="ERwMT", 'full menu'!H2="M&ERT", 'full menu'!H2="MwIT", 'full menu'!H2="IwMT", 'full menu'!H2="M&IT", 'full menu'!H2="IwERT", 'full menu'!H2="ERwIT", 'full menu'!H2="I&ERT", 'full menu'!H2="ER&M&IT"),"MixedTs",IF('full menu'!H2="UD","UD",IF('full menu'!H2="LSD","LSD",IF('full menu'!H2="WSD","WSD",IF('full menu'!H2="UASC","nonat","")))))))))) -> ERfix | I2: =IF('full menu'!I2="MDC","MDC",IF(OR('full menu'!I2="PERF",'full menu'!I2="AERF",'full menu'!I2="PCB"),"ERfix",IF(OR('full menu'!I2="ACB", 'full menu'!I2="LCERT",'full menu'!I2="LERT",'full menu'!I2="FCERT",'full menu'!I2="FERT"),"ERTs",IF(OR('full menu'!I2="FCMT",'full menu'!I2="FMT",'full menu'!I2="LMT",'full menu'!I2="LCMT"),"MTs",IF(OR('full menu'!I2="LCIT",'full menu'!I2="FCIT",'full menu'!I2="LIT",'full menu'!I2="FIT"),"ITs",IF(OR('full menu'!I2="MwERT", 'full menu'!I2="ERwMT", 'full menu'!I2="M&ERT", 'full menu'!I2="MwIT", 'full menu'!I2="IwMT", 'full menu'!I2="M&IT", 'full menu'!I2="IwERT", 'full menu'!I2="ERwIT", 'full menu'!I2="I&ERT", 'full menu'!I2="ER&M&IT"),"MixedTs",IF('full menu'!I2="UD","UD",IF('full menu'!I2="LSD","LSD",IF('full menu'!I2="WSD","WSD",IF('full menu'!I2="UASC","nonat","")))))))))) -> ERfix | ... AS2: =IF('full menu'!AS2="MDC","MDC",IF(OR('full menu'!AS2="PERF",'full menu'!AS2="AERF",'full menu'!AS2="PCB"),"ERfix",IF(OR('full menu'!AS2="ACB", 'full menu'!AS2="LCERT",'full menu'!AS2="LERT",'full menu'!AS2="FCERT",'full menu'!AS2="FERT"),"ERTs",IF(OR('full menu'!AS2="FCMT",'full menu'!AS2="FMT",'full menu'!AS2="LMT",'full menu'!AS2="LCMT"),"MTs",IF(OR('full menu'!AS2="LCIT",'full menu'!AS2="FCIT",'full menu'!AS2="LIT",'full menu'!AS2="FIT"),"ITs",IF(OR('full menu'!AS2="MwERT", 'full menu'!AS2="ERwMT", 'full menu'!AS2="M&ERT", 'full menu'!AS2="MwIT", 'full menu'!AS2="IwMT", 'full menu'!AS2="M&IT", 'full menu'!AS2="IwERT", 'full menu'!AS2="ERwIT", 'full menu'!AS2="I&ERT", 'full menu'!AS2="ER&M&IT"),"MixedTs",IF('full menu'!AS2="UD","UD",IF('full menu'!AS2="LSD","LSD",IF('full menu'!AS2="WSD","WSD",IF('full menu'!AS2="UASC","nonat","")))))))))) -> ERfix
A3: Barbados | B3: =IF('full menu'!B3="MDC","MDC",IF(OR('full menu'!B3="PERF",'full menu'!B3="AERF",'full menu'!B3="PCB"),"ERfix",IF(OR('full menu'!B3="ACB", 'full menu'!B3="LCERT",'full menu'!B3="LERT",'full menu'!B3="FCERT",'full menu'!B3="FERT"),"ERTs",IF(OR('full menu'!B3="FCMT",'full menu'!B3="FMT",'full menu'!B3="LMT",'full menu'!B3="LCMT"),"MTs",IF(OR('full menu'!B3="LCIT",'full menu'!B3="FCIT",'full menu'!B3="LIT",'full menu'!B3="FIT"),"ITs",IF(OR('full menu'!B3="MwERT", 'full menu'!B3="ERwMT", 'full menu'!B3="M&ERT", 'full menu'!B3="MwIT", 'full menu'!B3="IwMT", 'full menu'!B3="M&IT", 'full menu'!B3="IwERT", 'full menu'!B3="ERwIT", 'full menu'!B3="I&ERT", 'full menu'!B3="ER&M&IT"),"MixedTs",IF('full menu'!B3="UD","UD",IF('full menu'!B3="LSD","LSD",IF('full menu'!B3="WSD","WSD",IF('full menu'!B3="UASC","nonat","")))))))))) -> ERfix | C3: =IF('full menu'!C3="MDC","MDC",IF(OR('full menu'!C3="PERF",'full menu'!C3="AERF",'full menu'!C3="PCB"),"ERfix",IF(OR('full menu'!C3="ACB", 'full menu'!C3="LCERT",'full menu'!C3="LERT",'full menu'!C3="FCERT",'full menu'!C3="FERT"),"ERTs",IF(OR('full menu'!C3="FCMT",'full menu'!C3="FMT",'full menu'!C3="LMT",'full menu'!C3="LCMT"),"MTs",IF(OR('full menu'!C3="LCIT",'full menu'!C3="FCIT",'full menu'!C3="LIT",'full menu'!C3="FIT"),"ITs",IF(OR('full menu'!C3="MwERT", 'full menu'!C3="ERwMT", 'full menu'!C3="M&ERT", 'full menu'!C3="MwIT", 'full menu'!C3="IwMT", 'full menu'!C3="M&IT", 'full menu'!C3="IwERT", 'full menu'!C3="ERwIT", 'full menu'!C3="I&ERT", 'full menu'!C3="ER&M&IT"),"MixedTs",IF('full menu'!C3="UD","UD",IF('full menu'!C3="LSD","LSD",IF('full menu'!C3="WSD","WSD",IF('full menu'!C3="UASC","nonat","")))))))))) -> ERfix | D3: =IF('full menu'!D3="MDC","MDC",IF(OR('full menu'!D3="PERF",'full menu'!D3="AERF",'full menu'!D3="PCB"),"ERfix",IF(OR('full menu'!D3="ACB", 'full menu'!D3="LCERT",'full menu'!D3="LERT",'full menu'!D3="FCERT",'full menu'!D3="FERT"),"ERTs",IF(OR('full menu'!D3="FCMT",'full menu'!D3="FMT",'full menu'!D3="LMT",'full menu'!D3="LCMT"),"MTs",IF(OR('full menu'!D3="LCIT",'full menu'!D3="FCIT",'full menu'!D3="LIT",'full menu'!D3="FIT"),"ITs",IF(OR('full menu'!D3="MwERT", 'full menu'!D3="ERwMT", 'full menu'!D3="M&ERT", 'full menu'!D3="MwIT", 'full menu'!D3="IwMT", 'full menu'!D3="M&IT", 'full menu'!D3="IwERT", 'full menu'!D3="ERwIT", 'full menu'!D3="I&ERT", 'full menu'!D3="ER&M&IT"),"MixedTs",IF('full menu'!D3="UD","UD",IF('full menu'!D3="LSD","LSD",IF('full menu'!D3="WSD","WSD",IF('full menu'!D3="UASC","nonat","")))))))))) -> ERfix | E3: =IF('full menu'!E3="MDC","MDC",IF(OR('full menu'!E3="PERF",'full menu'!E3="AERF",'full menu'!E3="PCB"),"ERfix",IF(OR('full menu'!E3="ACB", 'full menu'!E3="LCERT",'full menu'!E3="LERT",'full menu'!E3="FCERT",'full menu'!E3="FERT"),"ERTs",IF(OR('full menu'!E3="FCMT",'full menu'!E3="FMT",'full menu'!E3="LMT",'full menu'!E3="LCMT"),"MTs",IF(OR('full menu'!E3="LCIT",'full menu'!E3="FCIT",'full menu'!E3="LIT",'full menu'!E3="FIT"),"ITs",IF(OR('full menu'!E3="MwERT", 'full menu'!E3="ERwMT", 'full menu'!E3="M&ERT", 'full menu'!E3="MwIT", 'full menu'!E3="IwMT", 'full menu'!E3="M&IT", 'full menu'!E3="IwERT", 'full menu'!E3="ERwIT", 'full menu'!E3="I&ERT", 'full menu'!E3="ER&M&IT"),"MixedTs",IF('full menu'!E3="UD","UD",IF('full menu'!E3="LSD","LSD",IF('full menu'!E3="WSD","WSD",IF('full menu'!E3="UASC","nonat","")))))))))) -> ERfix | F3: =IF('full menu'!F3="MDC","MDC",IF(OR('full menu'!F3="PERF",'full menu'!F3="AERF",'full menu'!F3="PCB"),"ERfix",IF(OR('full menu'!F3="ACB", 'full menu'!F3="LCERT",'full menu'!F3="LERT",'full menu'!F3="FCERT",'full menu'!F3="FERT"),"ERTs",IF(OR('full menu'!F3="FCMT",'full menu'!F3="FMT",'full menu'!F3="LMT",'full menu'!F3="LCMT"),"MTs",IF(OR('full menu'!F3="LCIT",'full menu'!F3="FCIT",'full menu'!F3="LIT",'full menu'!F3="FIT"),"ITs",IF(OR('full menu'!F3="MwERT", 'full menu'!F3="ERwMT", 'full menu'!F3="M&ERT", 'full menu'!F3="MwIT", 'full menu'!F3="IwMT", 'full menu'!F3="M&IT", 'full menu'!F3="IwERT", 'full menu'!F3="ERwIT", 'full menu'!F3="I&ERT", 'full menu'!F3="ER&M&IT"),"MixedTs",IF('full menu'!F3="UD","UD",IF('full menu'!F3="LSD","LSD",IF('full menu'!F3="WSD","WSD",IF('full menu'!F3="UASC","nonat","")))))))))) -> ERfix | G3: =IF('full menu'!G3="MDC","MDC",IF(OR('full menu'!G3="PERF",'full menu'!G3="AERF",'full menu'!G3="PCB"),"ERfix",IF(OR('full menu'!G3="ACB", 'full menu'!G3="LCERT",'full menu'!G3="LERT",'full menu'!G3="FCERT",'full menu'!G3="FERT"),"ERTs",IF(OR('full menu'!G3="FCMT",'full menu'!G3="FMT",'full menu'!G3="LMT",'full menu'!G3="LCMT"),"MTs",IF(OR('full menu'!G3="LCIT",'full menu'!G3="FCIT",'full menu'!G3="LIT",'full menu'!G3="FIT"),"ITs",IF(OR('full menu'!G3="MwERT", 'full menu'!G3="ERwMT", 'full menu'!G3="M&ERT", 'full menu'!G3="MwIT", 'full menu'!G3="IwMT", 'full menu'!G3="M&IT", 'full menu'!G3="IwERT", 'full menu'!G3="ERwIT", 'full menu'!G3="I&ERT", 'full menu'!G3="ER&M&IT"),"MixedTs",IF('full menu'!G3="UD","UD",IF('full menu'!G3="LSD","LSD",IF('full menu'!G3="WSD","WSD",IF('full menu'!G3="UASC","nonat","")))))))))) -> ERfix | H3: =IF('full menu'!H3="MDC","MDC",IF(OR('full menu'!H3="PERF",'full menu'!H3="AERF",'full menu'!H3="PCB"),"ERfix",IF(OR('full menu'!H3="ACB", 'full menu'!H3="LCERT",'full menu'!H3="LERT",'full menu'!H3="FCERT",'full menu'!H3="FERT"),"ERTs",IF(OR('full menu'!H3="FCMT",'full menu'!H3="FMT",'full menu'!H3="LMT",'full menu'!H3="LCMT"),"MTs",IF(OR('full menu'!H3="LCIT",'full menu'!H3="FCIT",'full menu'!H3="LIT",'full menu'!H3="FIT"),"ITs",IF(OR('full menu'!H3="MwERT", 'full menu'!H3="ERwMT", 'full menu'!H3="M&ERT", 'full menu'!H3="MwIT", 'full menu'!H3="IwMT", 'full menu'!H3="M&IT", 'full menu'!H3="IwERT", 'full menu'!H3="ERwIT", 'full menu'!H3="I&ERT", 'full menu'!H3="ER&M&IT"),"MixedTs",IF('full menu'!H3="UD","UD",IF('full menu'!H3="LSD","LSD",IF('full menu'!H3="WSD","WSD",IF('full menu'!H3="UASC","nonat","")))))))))) -> ERfix | I3: =IF('full menu'!I3="MDC","MDC",IF(OR('full menu'!I3="PERF",'full menu'!I3="AERF",'full menu'!I3="PCB"),"ERfix",IF(OR('full menu'!I3="ACB", 'full menu'!I3="LCERT",'full menu'!I3="LERT",'full menu'!I3="FCERT",'full menu'!I3="FERT"),"ERTs",IF(OR('full menu'!I3="FCMT",'full menu'!I3="FMT",'full menu'!I3="LMT",'full menu'!I3="LCMT"),"MTs",IF(OR('full menu'!I3="LCIT",'full menu'!I3="FCIT",'full menu'!I3="LIT",'full menu'!I3="FIT"),"ITs",IF(OR('full menu'!I3="MwERT", 'full menu'!I3="ERwMT", 'full menu'!I3="M&ERT", 'full menu'!I3="MwIT", 'full menu'!I3="IwMT", 'full menu'!I3="M&IT", 'full menu'!I3="IwERT", 'full menu'!I3="ERwIT", 'full menu'!I3="I&ERT", 'full menu'!I3="ER&M&IT"),"MixedTs",IF('full menu'!I3="UD","UD",IF('full menu'!I3="LSD","LSD",IF('full menu'!I3="WSD","WSD",IF('full menu'!I3="UASC","nonat","")))))))))) -> ERfix | ... AS3: =IF('full menu'!AS3="MDC","MDC",IF(OR('full menu'!AS3="PERF",'full menu'!AS3="AERF",'full menu'!AS3="PCB"),"ERfix",IF(OR('full menu'!AS3="ACB", 'full menu'!AS3="LCERT",'full menu'!AS3="LERT",'full menu'!AS3="FCERT",'full menu'!AS3="FERT"),"ERTs",IF(OR('full menu'!AS3="FCMT",'full menu'!AS3="FMT",'full menu'!AS3="LMT",'full menu'!AS3="LCMT"),"MTs",IF(OR('full menu'!AS3="LCIT",'full menu'!AS3="FCIT",'full menu'!AS3="LIT",'full menu'!AS3="FIT"),"ITs",IF(OR('full menu'!AS3="MwERT", 'full menu'!AS3="ERwMT", 'full menu'!AS3="M&ERT", 'full menu'!AS3="MwIT", 'full menu'!AS3="IwMT", 'full menu'!AS3="M&IT", 'full menu'!AS3="IwERT", 'full menu'!AS3="ERwIT", 'full menu'!AS3="I&ERT", 'full menu'!AS3="ER&M&IT"),"MixedTs",IF('full menu'!AS3="UD","UD",IF('full menu'!AS3="LSD","LSD",IF('full menu'!AS3="WSD","WSD",IF('full menu'!AS3="UASC","nonat","")))))))))) -> ERfix
A4: Dominican Republic | B4: =IF('full menu'!B4="MDC","MDC",IF(OR('full menu'!B4="PERF",'full menu'!B4="AERF",'full menu'!B4="PCB"),"ERfix",IF(OR('full menu'!B4="ACB", 'full menu'!B4="LCERT",'full menu'!B4="LERT",'full menu'!B4="FCERT",'full menu'!B4="FERT"),"ERTs",IF(OR('full menu'!B4="FCMT",'full menu'!B4="FMT",'full menu'!B4="LMT",'full menu'!B4="LCMT"),"MTs",IF(OR('full menu'!B4="LCIT",'full menu'!B4="FCIT",'full menu'!B4="LIT",'full menu'!B4="FIT"),"ITs",IF(OR('full menu'!B4="MwERT", 'full menu'!B4="ERwMT", 'full menu'!B4="M&ERT", 'full menu'!B4="MwIT", 'full menu'!B4="IwMT", 'full menu'!B4="M&IT", 'full menu'!B4="IwERT", 'full menu'!B4="ERwIT", 'full menu'!B4="I&ERT", 'full menu'!B4="ER&M&IT"),"MixedTs",IF('full menu'!B4="UD","UD",IF('full menu'!B4="LSD","LSD",IF('full menu'!B4="WSD","WSD",IF('full menu'!B4="UASC","nonat","")))))))))) -> ERfix | C4: =IF('full menu'!C4="MDC","MDC",IF(OR('full menu'!C4="PERF",'full menu'!C4="AERF",'full menu'!C4="PCB"),"ERfix",IF(OR('full menu'!C4="ACB", 'full menu'!C4="LCERT",'full menu'!C4="LERT",'full menu'!C4="FCERT",'full menu'!C4="FERT"),"ERTs",IF(OR('full menu'!C4="FCMT",'full menu'!C4="FMT",'full menu'!C4="LMT",'full menu'!C4="LCMT"),"MTs",IF(OR('full menu'!C4="LCIT",'full menu'!C4="FCIT",'full menu'!C4="LIT",'full menu'!C4="FIT"),"ITs",IF(OR('full menu'!C4="MwERT", 'full menu'!C4="ERwMT", 'full menu'!C4="M&ERT", 'full menu'!C4="MwIT", 'full menu'!C4="IwMT", 'full menu'!C4="M&IT", 'full menu'!C4="IwERT", 'full menu'!C4="ERwIT", 'full menu'!C4="I&ERT", 'full menu'!C4="ER&M&IT"),"MixedTs",IF('full menu'!C4="UD","UD",IF('full menu'!C4="LSD","LSD",IF('full menu'!C4="WSD","WSD",IF('full menu'!C4="UASC","nonat","")))))))))) -> ERfix | D4: =IF('full menu'!D4="MDC","MDC",IF(OR('full menu'!D4="PERF",'full menu'!D4="AERF",'full menu'!D4="PCB"),"ERfix",IF(OR('full menu'!D4="ACB", 'full menu'!D4="LCERT",'full menu'!D4="LERT",'full menu'!D4="FCERT",'full menu'!D4="FERT"),"ERTs",IF(OR('full menu'!D4="FCMT",'full menu'!D4="FMT",'full menu'!D4="LMT",'full menu'!D4="LCMT"),"MTs",IF(OR('full menu'!D4="LCIT",'full menu'!D4="FCIT",'full menu'!D4="LIT",'full menu'!D4="FIT"),"ITs",IF(OR('full menu'!D4="MwERT", 'full menu'!D4="ERwMT", 'full menu'!D4="M&ERT", 'full menu'!D4="MwIT", 'full menu'!D4="IwMT", 'full menu'!D4="M&IT", 'full menu'!D4="IwERT", 'full menu'!D4="ERwIT", 'full menu'!D4="I&ERT", 'full menu'!D4="ER&M&IT"),"MixedTs",IF('full menu'!D4="UD","UD",IF('full menu'!D4="LSD","LSD",IF('full menu'!D4="WSD","WSD",IF('full menu'!D4="UASC","nonat","")))))))))) -> ERfix | E4: =IF('full menu'!E4="MDC","MDC",IF(OR('full menu'!E4="PERF",'full menu'!E4="AERF",'full menu'!E4="PCB"),"ERfix",IF(OR('full menu'!E4="ACB", 'full menu'!E4="LCERT",'full menu'!E4="LERT",'full menu'!E4="FCERT",'full menu'!E4="FERT"),"ERTs",IF(OR('full menu'!E4="FCMT",'full menu'!E4="FMT",'full menu'!E4="LMT",'full menu'!E4="LCMT"),"MTs",IF(OR('full menu'!E4="LCIT",'full menu'!E4="FCIT",'full menu'!E4="LIT",'full menu'!E4="FIT"),"ITs",IF(OR('full menu'!E4="MwERT", 'full menu'!E4="ERwMT", 'full menu'!E4="M&ERT", 'full menu'!E4="MwIT", 'full menu'!E4="IwMT", 'full menu'!E4="M&IT", 'full menu'!E4="IwERT", 'full menu'!E4="ERwIT", 'full menu'!E4="I&ERT", 'full menu'!E4="ER&M&IT"),"MixedTs",IF('full menu'!E4="UD","UD",IF('full menu'!E4="LSD","LSD",IF('full menu'!E4="WSD","WSD",IF('full menu'!E4="UASC","nonat","")))))))))) -> ERfix | F4: =IF('full menu'!F4="MDC","MDC",IF(OR('full menu'!F4="PERF",'full menu'!F4="AERF",'full menu'!F4="PCB"),"ERfix",IF(OR('full menu'!F4="ACB", 'full menu'!F4="LCERT",'full menu'!F4="LERT",'full menu'!F4="FCERT",'full menu'!F4="FERT"),"ERTs",IF(OR('full menu'!F4="FCMT",'full menu'!F4="FMT",'full menu'!F4="LMT",'full menu'!F4="LCMT"),"MTs",IF(OR('full menu'!F4="LCIT",'full menu'!F4="FCIT",'full menu'!F4="LIT",'full menu'!F4="FIT"),"ITs",IF(OR('full menu'!F4="MwERT", 'full menu'!F4="ERwMT", 'full menu'!F4="M&ERT", 'full menu'!F4="MwIT", 'full menu'!F4="IwMT", 'full menu'!F4="M&IT", 'full menu'!F4="IwERT", 'full menu'!F4="ERwIT", 'full menu'!F4="I&ERT", 'full menu'!F4="ER&M&IT"),"MixedTs",IF('full menu'!F4="UD","UD",IF('full menu'!F4="LSD","LSD",IF('full menu'!F4="WSD","WSD",IF('full menu'!F4="UASC","nonat","")))))))))) -> ERfix | G4: =IF('full menu'!G4="MDC","MDC",IF(OR('full menu'!G4="PERF",'full menu'!G4="AERF",'full menu'!G4="PCB"),"ERfix",IF(OR('full menu'!G4="ACB", 'full menu'!G4="LCERT",'full menu'!G4="LERT",'full menu'!G4="FCERT",'full menu'!G4="FERT"),"ERTs",IF(OR('full menu'!G4="FCMT",'full menu'!G4="FMT",'full menu'!G4="LMT",'full menu'!G4="LCMT"),"MTs",IF(OR('full menu'!G4="LCIT",'full menu'!G4="FCIT",'full menu'!G4="LIT",'full menu'!G4="FIT"),"ITs",IF(OR('full menu'!G4="MwERT", 'full menu'!G4="ERwMT", 'full menu'!G4="M&ERT", 'full menu'!G4="MwIT", 'full menu'!G4="IwMT", 'full menu'!G4="M&IT", 'full menu'!G4="IwERT", 'full menu'!G4="ERwIT", 'full menu'!G4="I&ERT", 'full menu'!G4="ER&M&IT"),"MixedTs",IF('full menu'!G4="UD","UD",IF('full menu'!G4="LSD","LSD",IF('full menu'!G4="WSD","WSD",IF('full menu'!G4="UASC","nonat","")))))))))) -> ERfix | H4: =IF('full menu'!H4="MDC","MDC",IF(OR('full menu'!H4="PERF",'full menu'!H4="AERF",'full menu'!H4="PCB"),"ERfix",IF(OR('full menu'!H4="ACB", 'full menu'!H4="LCERT",'full menu'!H4="LERT",'full menu'!H4="FCERT",'full menu'!H4="FERT"),"ERTs",IF(OR('full menu'!H4="FCMT",'full menu'!H4="FMT",'full menu'!H4="LMT",'full menu'!H4="LCMT"),"MTs",IF(OR('full menu'!H4="LCIT",'full menu'!H4="FCIT",'full menu'!H4="LIT",'full menu'!H4="FIT"),"ITs",IF(OR('full menu'!H4="MwERT", 'full menu'!H4="ERwMT", 'full menu'!H4="M&ERT", 'full menu'!H4="MwIT", 'full menu'!H4="IwMT", 'full menu'!H4="M&IT", 'full menu'!H4="IwERT", 'full menu'!H4="ERwIT", 'full menu'!H4="I&ERT", 'full menu'!H4="ER&M&IT"),"MixedTs",IF('full menu'!H4="UD","UD",IF('full menu'!H4="LSD","LSD",IF('full menu'!H4="WSD","WSD",IF('full menu'!H4="UASC","nonat","")))))))))) -> ERfix | I4: =IF('full menu'!I4="MDC","MDC",IF(OR('full menu'!I4="PERF",'full menu'!I4="AERF",'full menu'!I4="PCB"),"ERfix",IF(OR('full menu'!I4="ACB", 'full menu'!I4="LCERT",'full menu'!I4="LERT",'full menu'!I4="FCERT",'full menu'!I4="FERT"),"ERTs",IF(OR('full menu'!I4="FCMT",'full menu'!I4="FMT",'full menu'!I4="LMT",'full menu'!I4="LCMT"),"MTs",IF(OR('full menu'!I4="LCIT",'full menu'!I4="FCIT",'full menu'!I4="LIT",'full menu'!I4="FIT"),"ITs",IF(OR('full menu'!I4="MwERT", 'full menu'!I4="ERwMT", 'full menu'!I4="M&ERT", 'full menu'!I4="MwIT", 'full menu'!I4="IwMT", 'full menu'!I4="M&IT", 'full menu'!I4="IwERT", 'full menu'!I4="ERwIT", 'full menu'!I4="I&ERT", 'full menu'!I4="ER&M&IT"),"MixedTs",IF('full menu'!I4="UD","UD",IF('full menu'!I4="LSD","LSD",IF('full menu'!I4="WSD","WSD",IF('full menu'!I4="UASC","nonat","")))))))))) -> ERfix | ... AS4: =IF('full menu'!AS4="MDC","MDC",IF(OR('full menu'!AS4="PERF",'full menu'!AS4="AERF",'full menu'!AS4="PCB"),"ERfix",IF(OR('full menu'!AS4="ACB", 'full menu'!AS4="LCERT",'full menu'!AS4="LERT",'full menu'!AS4="FCERT",'full menu'!AS4="FERT"),"ERTs",IF(OR('full menu'!AS4="FCMT",'full menu'!AS4="FMT",'full menu'!AS4="LMT",'full menu'!AS4="LCMT"),"MTs",IF(OR('full menu'!AS4="LCIT",'full menu'!AS4="FCIT",'full menu'!AS4="LIT",'full menu'!AS4="FIT"),"ITs",IF(OR('full menu'!AS4="MwERT", 'full menu'!AS4="ERwMT", 'full menu'!AS4="M&ERT", 'full menu'!AS4="MwIT", 'full menu'!AS4="IwMT", 'full menu'!AS4="M&IT", 'full menu'!AS4="IwERT", 'full menu'!AS4="ERwIT", 'full menu'!AS4="I&ERT", 'full menu'!AS4="ER&M&IT"),"MixedTs",IF('full menu'!AS4="UD","UD",IF('full menu'!AS4="LSD","LSD",IF('full menu'!AS4="WSD","WSD",IF('full menu'!AS4="UASC","nonat","")))))))))) -> ITs
A5: ECCU | B5: =IF('full menu'!B5="MDC","MDC",IF(OR('full menu'!B5="PERF",'full menu'!B5="AERF",'full menu'!B5="PCB"),"ERfix",IF(OR('full menu'!B5="ACB", 'full menu'!B5="LCERT",'full menu'!B5="LERT",'full menu'!B5="FCERT",'full menu'!B5="FERT"),"ERTs",IF(OR('full menu'!B5="FCMT",'full menu'!B5="FMT",'full menu'!B5="LMT",'full menu'!B5="LCMT"),"MTs",IF(OR('full menu'!B5="LCIT",'full menu'!B5="FCIT",'full menu'!B5="LIT",'full menu'!B5="FIT"),"ITs",IF(OR('full menu'!B5="MwERT", 'full menu'!B5="ERwMT", 'full menu'!B5="M&ERT", 'full menu'!B5="MwIT", 'full menu'!B5="IwMT", 'full menu'!B5="M&IT", 'full menu'!B5="IwERT", 'full menu'!B5="ERwIT", 'full menu'!B5="I&ERT", 'full menu'!B5="ER&M&IT"),"MixedTs",IF('full menu'!B5="UD","UD",IF('full menu'!B5="LSD","LSD",IF('full menu'!B5="WSD","WSD",IF('full menu'!B5="UASC","nonat","")))))))))) -> ERfix | C5: =IF('full menu'!C5="MDC","MDC",IF(OR('full menu'!C5="PERF",'full menu'!C5="AERF",'full menu'!C5="PCB"),"ERfix",IF(OR('full menu'!C5="ACB", 'full menu'!C5="LCERT",'full menu'!C5="LERT",'full menu'!C5="FCERT",'full menu'!C5="FERT"),"ERTs",IF(OR('full menu'!C5="FCMT",'full menu'!C5="FMT",'full menu'!C5="LMT",'full menu'!C5="LCMT"),"MTs",IF(OR('full menu'!C5="LCIT",'full menu'!C5="FCIT",'full menu'!C5="LIT",'full menu'!C5="FIT"),"ITs",IF(OR('full menu'!C5="MwERT", 'full menu'!C5="ERwMT", 'full menu'!C5="M&ERT", 'full menu'!C5="MwIT", 'full menu'!C5="IwMT", 'full menu'!C5="M&IT", 'full menu'!C5="IwERT", 'full menu'!C5="ERwIT", 'full menu'!C5="I&ERT", 'full menu'!C5="ER&M&IT"),"MixedTs",IF('full menu'!C5="UD","UD",IF('full menu'!C5="LSD","LSD",IF('full menu'!C5="WSD","WSD",IF('full menu'!C5="UASC","nonat","")))))))))) -> ERfix | D5: =IF('full menu'!D5="MDC","MDC",IF(OR('full menu'!D5="PERF",'full menu'!D5="AERF",'full menu'!D5="PCB"),"ERfix",IF(OR('full menu'!D5="ACB", 'full menu'!D5="LCERT",'full menu'!D5="LERT",'full menu'!D5="FCERT",'full menu'!D5="FERT"),"ERTs",IF(OR('full menu'!D5="FCMT",'full menu'!D5="FMT",'full menu'!D5="LMT",'full menu'!D5="LCMT"),"MTs",IF(OR('full menu'!D5="LCIT",'full menu'!D5="FCIT",'full menu'!D5="LIT",'full menu'!D5="FIT"),"ITs",IF(OR('full menu'!D5="MwERT", 'full menu'!D5="ERwMT", 'full menu'!D5="M&ERT", 'full menu'!D5="MwIT", 'full menu'!D5="IwMT", 'full menu'!D5="M&IT", 'full menu'!D5="IwERT", 'full menu'!D5="ERwIT", 'full menu'!D5="I&ERT", 'full menu'!D5="ER&M&IT"),"MixedTs",IF('full menu'!D5="UD","UD",IF('full menu'!D5="LSD","LSD",IF('full menu'!D5="WSD","WSD",IF('full menu'!D5="UASC","nonat","")))))))))) -> ERfix | E5: =IF('full menu'!E5="MDC","MDC",IF(OR('full menu'!E5="PERF",'full menu'!E5="AERF",'full menu'!E5="PCB"),"ERfix",IF(OR('full menu'!E5="ACB", 'full menu'!E5="LCERT",'full menu'!E5="LERT",'full menu'!E5="FCERT",'full menu'!E5="FERT"),"ERTs",IF(OR('full menu'!E5="FCMT",'full menu'!E5="FMT",'full menu'!E5="LMT",'full menu'!E5="LCMT"),"MTs",IF(OR('full menu'!E5="LCIT",'full menu'!E5="FCIT",'full menu'!E5="LIT",'full menu'!E5="FIT"),"ITs",IF(OR('full menu'!E5="MwERT", 'full menu'!E5="ERwMT", 'full menu'!E5="M&ERT", 'full menu'!E5="MwIT", 'full menu'!E5="IwMT", 'full menu'!E5="M&IT", 'full menu'!E5="IwERT", 'full menu'!E5="ERwIT", 'full menu'!E5="I&ERT", 'full menu'!E5="ER&M&IT"),"MixedTs",IF('full menu'!E5="UD","UD",IF('full menu'!E5="LSD","LSD",IF('full menu'!E5="WSD","WSD",IF('full menu'!E5="UASC","nonat","")))))))))) -> ERfix | F5: =IF('full menu'!F5="MDC","MDC",IF(OR('full menu'!F5="PERF",'full menu'!F5="AERF",'full menu'!F5="PCB"),"ERfix",IF(OR('full menu'!F5="ACB", 'full menu'!F5="LCERT",'full menu'!F5="LERT",'full menu'!F5="FCERT",'full menu'!F5="FERT"),"ERTs",IF(OR('full menu'!F5="FCMT",'full menu'!F5="FMT",'full menu'!F5="LMT",'full menu'!F5="LCMT"),"MTs",IF(OR('full menu'!F5="LCIT",'full menu'!F5="FCIT",'full menu'!F5="LIT",'full menu'!F5="FIT"),"ITs",IF(OR('full menu'!F5="MwERT", 'full menu'!F5="ERwMT", 'full menu'!F5="M&ERT", 'full menu'!F5="MwIT", 'full menu'!F5="IwMT", 'full menu'!F5="M&IT", 'full menu'!F5="IwERT", 'full menu'!F5="ERwIT", 'full menu'!F5="I&ERT", 'full menu'!F5="ER&M&IT"),"MixedTs",IF('full menu'!F5="UD","UD",IF('full menu'!F5="LSD","LSD",IF('full menu'!F5="WSD","WSD",IF('full menu'!F5="UASC","nonat","")))))))))) -> ERfix | G5: =IF('full menu'!G5="MDC","MDC",IF(OR('full menu'!G5="PERF",'full menu'!G5="AERF",'full menu'!G5="PCB"),"ERfix",IF(OR('full menu'!G5="ACB", 'full menu'!G5="LCERT",'full menu'!G5="LERT",'full menu'!G5="FCERT",'full menu'!G5="FERT"),"ERTs",IF(OR('full menu'!G5="FCMT",'full menu'!G5="FMT",'full menu'!G5="LMT",'full menu'!G5="LCMT"),"MTs",IF(OR('full menu'!G5="LCIT",'full menu'!G5="FCIT",'full menu'!G5="LIT",'full menu'!G5="FIT"),"ITs",IF(OR('full menu'!G5="MwERT", 'full menu'!G5="ERwMT", 'full menu'!G5="M&ERT", 'full menu'!G5="MwIT", 'full menu'!G5="IwMT", 'full menu'!G5="M&IT", 'full menu'!G5="IwERT", 'full menu'!G5="ERwIT", 'full menu'!G5="I&ERT", 'full menu'!G5="ER&M&IT"),"MixedTs",IF('full menu'!G5="UD","UD",IF('full menu'!G5="LSD","LSD",IF('full menu'!G5="WSD","WSD",IF('full menu'!G5="UASC","nonat","")))))))))) -> ERfix | H5: =IF('full menu'!H5="MDC","MDC",IF(OR('full menu'!H5="PERF",'full menu'!H5="AERF",'full menu'!H5="PCB"),"ERfix",IF(OR('full menu'!H5="ACB", 'full menu'!H5="LCERT",'full menu'!H5="LERT",'full menu'!H5="FCERT",'full menu'!H5="FERT"),"ERTs",IF(OR('full menu'!H5="FCMT",'full menu'!H5="FMT",'full menu'!H5="LMT",'full menu'!H5="LCMT"),"MTs",IF(OR('full menu'!H5="LCIT",'full menu'!H5="FCIT",'full menu'!H5="LIT",'full menu'!H5="FIT"),"ITs",IF(OR('full menu'!H5="MwERT", 'full menu'!H5="ERwMT", 'full menu'!H5="M&ERT", 'full menu'!H5="MwIT", 'full menu'!H5="IwMT", 'full menu'!H5="M&IT", 'full menu'!H5="IwERT", 'full menu'!H5="ERwIT", 'full menu'!H5="I&ERT", 'full menu'!H5="ER&M&IT"),"MixedTs",IF('full menu'!H5="UD","UD",IF('full menu'!H5="LSD","LSD",IF('full menu'!H5="WSD","WSD",IF('full menu'!H5="UASC","nonat","")))))))))) -> ERfix | I5: =IF('full menu'!I5="MDC","MDC",IF(OR('full menu'!I5="PERF",'full menu'!I5="AERF",'full menu'!I5="PCB"),"ERfix",IF(OR('full menu'!I5="ACB", 'full menu'!I5="LCERT",'full menu'!I5="LERT",'full menu'!I5="FCERT",'full menu'!I5="FERT"),"ERTs",IF(OR('full menu'!I5="FCMT",'full menu'!I5="FMT",'full menu'!I5="LMT",'full menu'!I5="LCMT"),"MTs",IF(OR('full menu'!I5="LCIT",'full menu'!I5="FCIT",'full menu'!I5="LIT",'full menu'!I5="FIT"),"ITs",IF(OR('full menu'!I5="MwERT", 'full menu'!I5="ERwMT", 'full menu'!I5="M&ERT", 'full menu'!I5="MwIT", 'full menu'!I5="IwMT", 'full menu'!I5="M&IT", 'full menu'!I5="IwERT", 'full menu'!I5="ERwIT", 'full menu'!I5="I&ERT", 'full menu'!I5="ER&M&IT"),"MixedTs",IF('full menu'!I5="UD","UD",IF('full menu'!I5="LSD","LSD",IF('full menu'!I5="WSD","WSD",IF('full menu'!I5="UASC","nonat","")))))))))) -> ERfix | ... AS5: =IF('full menu'!AS5="MDC","MDC",IF(OR('full menu'!AS5="PERF",'full menu'!AS5="AERF",'full menu'!AS5="PCB"),"ERfix",IF(OR('full menu'!AS5="ACB", 'full menu'!AS5="LCERT",'full menu'!AS5="LERT",'full menu'!AS5="FCERT",'full menu'!AS5="FERT"),"ERTs",IF(OR('full menu'!AS5="FCMT",'full menu'!AS5="FMT",'full menu'!AS5="LMT",'full menu'!AS5="LCMT"),"MTs",IF(OR('full menu'!AS5="LCIT",'full menu'!AS5="FCIT",'full menu'!AS5="LIT",'full menu'!AS5="FIT"),"ITs",IF(OR('full menu'!AS5="MwERT", 'full menu'!AS5="ERwMT", 'full menu'!AS5="M&ERT", 'full menu'!AS5="MwIT", 'full menu'!AS5="IwMT", 'full menu'!AS5="M&IT", 'full menu'!AS5="IwERT", 'full menu'!AS5="ERwIT", 'full menu'!AS5="I&ERT", 'full menu'!AS5="ER&M&IT"),"MixedTs",IF('full menu'!AS5="UD","UD",IF('full menu'!AS5="LSD","LSD",IF('full menu'!AS5="WSD","WSD",IF('full menu'!AS5="UASC","nonat","")))))))))) -> ERTs
A6: Haiti | B6: =IF('full menu'!B6="MDC","MDC",IF(OR('full menu'!B6="PERF",'full menu'!B6="AERF",'full menu'!B6="PCB"),"ERfix",IF(OR('full menu'!B6="ACB", 'full menu'!B6="LCERT",'full menu'!B6="LERT",'full menu'!B6="FCERT",'full menu'!B6="FERT"),"ERTs",IF(OR('full menu'!B6="FCMT",'full menu'!B6="FMT",'full menu'!B6="LMT",'full menu'!B6="LCMT"),"MTs",IF(OR('full menu'!B6="LCIT",'full menu'!B6="FCIT",'full menu'!B6="LIT",'full menu'!B6="FIT"),"ITs",IF(OR('full menu'!B6="MwERT", 'full menu'!B6="ERwMT", 'full menu'!B6="M&ERT", 'full menu'!B6="MwIT", 'full menu'!B6="IwMT", 'full menu'!B6="M&IT", 'full menu'!B6="IwERT", 'full menu'!B6="ERwIT", 'full menu'!B6="I&ERT", 'full menu'!B6="ER&M&IT"),"MixedTs",IF('full menu'!B6="UD","UD",IF('full menu'!B6="LSD","LSD",IF('full menu'!B6="WSD","WSD",IF('full menu'!B6="UASC","nonat","")))))))))) -> ERfix | C6: =IF('full menu'!C6="MDC","MDC",IF(OR('full menu'!C6="PERF",'full menu'!C6="AERF",'full menu'!C6="PCB"),"ERfix",IF(OR('full menu'!C6="ACB", 'full menu'!C6="LCERT",'full menu'!C6="LERT",'full menu'!C6="FCERT",'full menu'!C6="FERT"),"ERTs",IF(OR('full menu'!C6="FCMT",'full menu'!C6="FMT",'full menu'!C6="LMT",'full menu'!C6="LCMT"),"MTs",IF(OR('full menu'!C6="LCIT",'full menu'!C6="FCIT",'full menu'!C6="LIT",'full menu'!C6="FIT"),"ITs",IF(OR('full menu'!C6="MwERT", 'full menu'!C6="ERwMT", 'full menu'!C6="M&ERT", 'full menu'!C6="MwIT", 'full menu'!C6="IwMT", 'full menu'!C6="M&IT", 'full menu'!C6="IwERT", 'full menu'!C6="ERwIT", 'full menu'!C6="I&ERT", 'full menu'!C6="ER&M&IT"),"MixedTs",IF('full menu'!C6="UD","UD",IF('full menu'!C6="LSD","LSD",IF('full menu'!C6="WSD","WSD",IF('full menu'!C6="UASC","nonat","")))))))))) -> ERfix | D6: =IF('full menu'!D6="MDC","MDC",IF(OR('full menu'!D6="PERF",'full menu'!D6="AERF",'full menu'!D6="PCB"),"ERfix",IF(OR('full menu'!D6="ACB", 'full menu'!D6="LCERT",'full menu'!D6="LERT",'full menu'!D6="FCERT",'full menu'!D6="FERT"),"ERTs",IF(OR('full menu'!D6="FCMT",'full menu'!D6="FMT",'full menu'!D6="LMT",'full menu'!D6="LCMT"),"MTs",IF(OR('full menu'!D6="LCIT",'full menu'!D6="FCIT",'full menu'!D6="LIT",'full menu'!D6="FIT"),"ITs",IF(OR('full menu'!D6="MwERT", 'full menu'!D6="ERwMT", 'full menu'!D6="M&ERT", 'full menu'!D6="MwIT", 'full menu'!D6="IwMT", 'full menu'!D6="M&IT", 'full menu'!D6="IwERT", 'full menu'!D6="ERwIT", 'full menu'!D6="I&ERT", 'full menu'!D6="ER&M&IT"),"MixedTs",IF('full menu'!D6="UD","UD",IF('full menu'!D6="LSD","LSD",IF('full menu'!D6="WSD","WSD",IF('full menu'!D6="UASC","nonat","")))))))))) -> ERfix | E6: =IF('full menu'!E6="MDC","MDC",IF(OR('full menu'!E6="PERF",'full menu'!E6="AERF",'full menu'!E6="PCB"),"ERfix",IF(OR('full menu'!E6="ACB", 'full menu'!E6="LCERT",'full menu'!E6="LERT",'full menu'!E6="FCERT",'full menu'!E6="FERT"),"ERTs",IF(OR('full menu'!E6="FCMT",'full menu'!E6="FMT",'full menu'!E6="LMT",'full menu'!E6="LCMT"),"MTs",IF(OR('full menu'!E6="LCIT",'full menu'!E6="FCIT",'full menu'!E6="LIT",'full menu'!E6="FIT"),"ITs",IF(OR('full menu'!E6="MwERT", 'full menu'!E6="ERwMT", 'full menu'!E6="M&ERT", 'full menu'!E6="MwIT", 'full menu'!E6="IwMT", 'full menu'!E6="M&IT", 'full menu'!E6="IwERT", 'full menu'!E6="ERwIT", 'full menu'!E6="I&ERT", 'full menu'!E6="ER&M&IT"),"MixedTs",IF('full menu'!E6="UD","UD",IF('full menu'!E6="LSD","LSD",IF('full menu'!E6="WSD","WSD",IF('full menu'!E6="UASC","nonat","")))))))))) -> ERfix | F6: =IF('full menu'!F6="MDC","MDC",IF(OR('full menu'!F6="PERF",'full menu'!F6="AERF",'full menu'!F6="PCB"),"ERfix",IF(OR('full menu'!F6="ACB", 'full menu'!F6="LCERT",'full menu'!F6="LERT",'full menu'!F6="FCERT",'full menu'!F6="FERT"),"ERTs",IF(OR('full menu'!F6="FCMT",'full menu'!F6="FMT",'full menu'!F6="LMT",'full menu'!F6="LCMT"),"MTs",IF(OR('full menu'!F6="LCIT",'full menu'!F6="FCIT",'full menu'!F6="LIT",'full menu'!F6="FIT"),"ITs",IF(OR('full menu'!F6="MwERT", 'full menu'!F6="ERwMT", 'full menu'!F6="M&ERT", 'full menu'!F6="MwIT", 'full menu'!F6="IwMT", 'full menu'!F6="M&IT", 'full menu'!F6="IwERT", 'full menu'!F6="ERwIT", 'full menu'!F6="I&ERT", 'full menu'!F6="ER&M&IT"),"MixedTs",IF('full menu'!F6="UD","UD",IF('full menu'!F6="LSD","LSD",IF('full menu'!F6="WSD","WSD",IF('full menu'!F6="UASC","nonat","")))))))))) -> ERfix | G6: =IF('full menu'!G6="MDC","MDC",IF(OR('full menu'!G6="PERF",'full menu'!G6="AERF",'full menu'!G6="PCB"),"ERfix",IF(OR('full menu'!G6="ACB", 'full menu'!G6="LCERT",'full menu'!G6="LERT",'full menu'!G6="FCERT",'full menu'!G6="FERT"),"ERTs",IF(OR('full menu'!G6="FCMT",'full menu'!G6="FMT",'full menu'!G6="LMT",'full menu'!G6="LCMT"),"MTs",IF(OR('full menu'!G6="LCIT",'full menu'!G6="FCIT",'full menu'!G6="LIT",'full menu'!G6="FIT"),"ITs",IF(OR('full menu'!G6="MwERT", 'full menu'!G6="ERwMT", 'full menu'!G6="M&ERT", 'full menu'!G6="MwIT", 'full menu'!G6="IwMT", 'full menu'!G6="M&IT", 'full menu'!G6="IwERT", 'full menu'!G6="ERwIT", 'full menu'!G6="I&ERT", 'full menu'!G6="ER&M&IT"),"MixedTs",IF('full menu'!G6="UD","UD",IF('full menu'!G6="LSD","LSD",IF('full menu'!G6="WSD","WSD",IF('full menu'!G6="UASC","nonat","")))))))))) -> ERfix | H6: =IF('full menu'!H6="MDC","MDC",IF(OR('full menu'!H6="PERF",'full menu'!H6="AERF",'full menu'!H6="PCB"),"ERfix",IF(OR('full menu'!H6="ACB", 'full menu'!H6="LCERT",'full menu'!H6="LERT",'full menu'!H6="FCERT",'full menu'!H6="FERT"),"ERTs",IF(OR('full menu'!H6="FCMT",'full menu'!H6="FMT",'full menu'!H6="LMT",'full menu'!H6="LCMT"),"MTs",IF(OR('full menu'!H6="LCIT",'full menu'!H6="FCIT",'full menu'!H6="LIT",'full menu'!H6="FIT"),"ITs",IF(OR('full menu'!H6="MwERT", 'full menu'!H6="ERwMT", 'full menu'!H6="M&ERT", 'full menu'!H6="MwIT", 'full menu'!H6="IwMT", 'full menu'!H6="M&IT", 'full menu'!H6="IwERT", 'full menu'!H6="ERwIT", 'full menu'!H6="I&ERT", 'full menu'!H6="ER&M&IT"),"MixedTs",IF('full menu'!H6="UD","UD",IF('full menu'!H6="LSD","LSD",IF('full menu'!H6="WSD","WSD",IF('full menu'!H6="UASC","nonat","")))))))))) -> ERfix | I6: =IF('full menu'!I6="MDC","MDC",IF(OR('full menu'!I6="PERF",'full menu'!I6="AERF",'full menu'!I6="PCB"),"ERfix",IF(OR('full menu'!I6="ACB", 'full menu'!I6="LCERT",'full menu'!I6="LERT",'full menu'!I6="FCERT",'full menu'!I6="FERT"),"ERTs",IF(OR('full menu'!I6="FCMT",'full menu'!I6="FMT",'full menu'!I6="LMT",'full menu'!I6="LCMT"),"MTs",IF(OR('full menu'!I6="LCIT",'full menu'!I6="FCIT",'full menu'!I6="LIT",'full menu'!I6="FIT"),"ITs",IF(OR('full menu'!I6="MwERT", 'full menu'!I6="ERwMT", 'full menu'!I6="M&ERT", 'full menu'!I6="MwIT", 'full menu'!I6="IwMT", 'full menu'!I6="M&IT", 'full menu'!I6="IwERT", 'full menu'!I6="ERwIT", 'full menu'!I6="I&ERT", 'full menu'!I6="ER&M&IT"),"MixedTs",IF('full menu'!I6="UD","UD",IF('full menu'!I6="LSD","LSD",IF('full menu'!I6="WSD","WSD",IF('full menu'!I6="UASC","nonat","")))))))))) -> ERfix | ... AS6: =IF('full menu'!AS6="MDC","MDC",IF(OR('full menu'!AS6="PERF",'full menu'!AS6="AERF",'full menu'!AS6="PCB"),"ERfix",IF(OR('full menu'!AS6="ACB", 'full menu'!AS6="LCERT",'full menu'!AS6="LERT",'full menu'!AS6="FCERT",'full menu'!AS6="FERT"),"ERTs",IF(OR('full menu'!AS6="FCMT",'full menu'!AS6="FMT",'full menu'!AS6="LMT",'full menu'!AS6="LCMT"),"MTs",IF(OR('full menu'!AS6="LCIT",'full menu'!AS6="FCIT",'full menu'!AS6="LIT",'full menu'!AS6="FIT"),"ITs",IF(OR('full menu'!AS6="MwERT", 'full menu'!AS6="ERwMT", 'full menu'!AS6="M&ERT", 'full menu'!AS6="MwIT", 'full menu'!AS6="IwMT", 'full menu'!AS6="M&IT", 'full menu'!AS6="IwERT", 'full menu'!AS6="ERwIT", 'full menu'!AS6="I&ERT", 'full menu'!AS6="ER&M&IT"),"MixedTs",IF('full menu'!AS6="UD","UD",IF('full menu'!AS6="LSD","LSD",IF('full menu'!AS6="WSD","WSD",IF('full menu'!AS6="UASC","nonat","")))))))))) -> LSD
A7: Jamaica | B7: =IF('full menu'!B7="MDC","MDC",IF(OR('full menu'!B7="PERF",'full menu'!B7="AERF",'full menu'!B7="PCB"),"ERfix",IF(OR('full menu'!B7="ACB", 'full menu'!B7="LCERT",'full menu'!B7="LERT",'full menu'!B7="FCERT",'full menu'!B7="FERT"),"ERTs",IF(OR('full menu'!B7="FCMT",'full menu'!B7="FMT",'full menu'!B7="LMT",'full menu'!B7="LCMT"),"MTs",IF(OR('full menu'!B7="LCIT",'full menu'!B7="FCIT",'full menu'!B7="LIT",'full menu'!B7="FIT"),"ITs",IF(OR('full menu'!B7="MwERT", 'full menu'!B7="ERwMT", 'full menu'!B7="M&ERT", 'full menu'!B7="MwIT", 'full menu'!B7="IwMT", 'full menu'!B7="M&IT", 'full menu'!B7="IwERT", 'full menu'!B7="ERwIT", 'full menu'!B7="I&ERT", 'full menu'!B7="ER&M&IT"),"MixedTs",IF('full menu'!B7="UD","UD",IF('full menu'!B7="LSD","LSD",IF('full menu'!B7="WSD","WSD",IF('full menu'!B7="UASC","nonat","")))))))))) -> ERfix | C7: =IF('full menu'!C7="MDC","MDC",IF(OR('full menu'!C7="PERF",'full menu'!C7="AERF",'full menu'!C7="PCB"),"ERfix",IF(OR('full menu'!C7="ACB", 'full menu'!C7="LCERT",'full menu'!C7="LERT",'full menu'!C7="FCERT",'full menu'!C7="FERT"),"ERTs",IF(OR('full menu'!C7="FCMT",'full menu'!C7="FMT",'full menu'!C7="LMT",'full menu'!C7="LCMT"),"MTs",IF(OR('full menu'!C7="LCIT",'full menu'!C7="FCIT",'full menu'!C7="LIT",'full menu'!C7="FIT"),"ITs",IF(OR('full menu'!C7="MwERT", 'full menu'!C7="ERwMT", 'full menu'!C7="M&ERT", 'full menu'!C7="MwIT", 'full menu'!C7="IwMT", 'full menu'!C7="M&IT", 'full menu'!C7="IwERT", 'full menu'!C7="ERwIT", 'full menu'!C7="I&ERT", 'full menu'!C7="ER&M&IT"),"MixedTs",IF('full menu'!C7="UD","UD",IF('full menu'!C7="LSD","LSD",IF('full menu'!C7="WSD","WSD",IF('full menu'!C7="UASC","nonat","")))))))))) -> ERfix | D7: =IF('full menu'!D7="MDC","MDC",IF(OR('full menu'!D7="PERF",'full menu'!D7="AERF",'full menu'!D7="PCB"),"ERfix",IF(OR('full menu'!D7="ACB", 'full menu'!D7="LCERT",'full menu'!D7="LERT",'full menu'!D7="FCERT",'full menu'!D7="FERT"),"ERTs",IF(OR('full menu'!D7="FCMT",'full menu'!D7="FMT",'full menu'!D7="LMT",'full menu'!D7="LCMT"),"MTs",IF(OR('full menu'!D7="LCIT",'full menu'!D7="FCIT",'full menu'!D7="LIT",'full menu'!D7="FIT"),"ITs",IF(OR('full menu'!D7="MwERT", 'full menu'!D7="ERwMT", 'full menu'!D7="M&ERT", 'full menu'!D7="MwIT", 'full menu'!D7="IwMT", 'full menu'!D7="M&IT", 'full menu'!D7="IwERT", 'full menu'!D7="ERwIT", 'full menu'!D7="I&ERT", 'full menu'!D7="ER&M&IT"),"MixedTs",IF('full menu'!D7="UD","UD",IF('full menu'!D7="LSD","LSD",IF('full menu'!D7="WSD","WSD",IF('full menu'!D7="UASC","nonat","")))))))))) -> ERfix | E7: =IF('full menu'!E7="MDC","MDC",IF(OR('full menu'!E7="PERF",'full menu'!E7="AERF",'full menu'!E7="PCB"),"ERfix",IF(OR('full menu'!E7="ACB", 'full menu'!E7="LCERT",'full menu'!E7="LERT",'full menu'!E7="FCERT",'full menu'!E7="FERT"),"ERTs",IF(OR('full menu'!E7="FCMT",'full menu'!E7="FMT",'full menu'!E7="LMT",'full menu'!E7="LCMT"),"MTs",IF(OR('full menu'!E7="LCIT",'full menu'!E7="FCIT",'full menu'!E7="LIT",'full menu'!E7="FIT"),"ITs",IF(OR('full menu'!E7="MwERT", 'full menu'!E7="ERwMT", 'full menu'!E7="M&ERT", 'full menu'!E7="MwIT", 'full menu'!E7="IwMT", 'full menu'!E7="M&IT", 'full menu'!E7="IwERT", 'full menu'!E7="ERwIT", 'full menu'!E7="I&ERT", 'full menu'!E7="ER&M&IT"),"MixedTs",IF('full menu'!E7="UD","UD",IF('full menu'!E7="LSD","LSD",IF('full menu'!E7="WSD","WSD",IF('full menu'!E7="UASC","nonat","")))))))))) -> LSD | F7: =IF('full menu'!F7="MDC","MDC",IF(OR('full menu'!F7="PERF",'full menu'!F7="AERF",'full menu'!F7="PCB"),"ERfix",IF(OR('full menu'!F7="ACB", 'full menu'!F7="LCERT",'full menu'!F7="LERT",'full menu'!F7="FCERT",'full menu'!F7="FERT"),"ERTs",IF(OR('full menu'!F7="FCMT",'full menu'!F7="FMT",'full menu'!F7="LMT",'full menu'!F7="LCMT"),"MTs",IF(OR('full menu'!F7="LCIT",'full menu'!F7="FCIT",'full menu'!F7="LIT",'full menu'!F7="FIT"),"ITs",IF(OR('full menu'!F7="MwERT", 'full menu'!F7="ERwMT", 'full menu'!F7="M&ERT", 'full menu'!F7="MwIT", 'full menu'!F7="IwMT", 'full menu'!F7="M&IT", 'full menu'!F7="IwERT", 'full menu'!F7="ERwIT", 'full menu'!F7="I&ERT", 'full menu'!F7="ER&M&IT"),"MixedTs",IF('full menu'!F7="UD","UD",IF('full menu'!F7="LSD","LSD",IF('full menu'!F7="WSD","WSD",IF('full menu'!F7="UASC","nonat","")))))))))) -> LSD | G7: =IF('full menu'!G7="MDC","MDC",IF(OR('full menu'!G7="PERF",'full menu'!G7="AERF",'full menu'!G7="PCB"),"ERfix",IF(OR('full menu'!G7="ACB", 'full menu'!G7="LCERT",'full menu'!G7="LERT",'full menu'!G7="FCERT",'full menu'!G7="FERT"),"ERTs",IF(OR('full menu'!G7="FCMT",'full menu'!G7="FMT",'full menu'!G7="LMT",'full menu'!G7="LCMT"),"MTs",IF(OR('full menu'!G7="LCIT",'full menu'!G7="FCIT",'full menu'!G7="LIT",'full menu'!G7="FIT"),"ITs",IF(OR('full menu'!G7="MwERT", 'full menu'!G7="ERwMT", 'full menu'!G7="M&ERT", 'full menu'!G7="MwIT", 'full menu'!G7="IwMT", 'full menu'!G7="M&IT", 'full menu'!G7="IwERT", 'full menu'!G7="ERwIT", 'full menu'!G7="I&ERT", 'full menu'!G7="ER&M&IT"),"MixedTs",IF('full menu'!G7="UD","UD",IF('full menu'!G7="LSD","LSD",IF('full menu'!G7="WSD","WSD",IF('full menu'!G7="UASC","nonat","")))))))))) -> LSD | H7: =IF('full menu'!H7="MDC","MDC",IF(OR('full menu'!H7="PERF",'full menu'!H7="AERF",'full menu'!H7="PCB"),"ERfix",IF(OR('full menu'!H7="ACB", 'full menu'!H7="LCERT",'full menu'!H7="LERT",'full menu'!H7="FCERT",'full menu'!H7="FERT"),"ERTs",IF(OR('full menu'!H7="FCMT",'full menu'!H7="FMT",'full menu'!H7="LMT",'full menu'!H7="LCMT"),"MTs",IF(OR('full menu'!H7="LCIT",'full menu'!H7="FCIT",'full menu'!H7="LIT",'full menu'!H7="FIT"),"ITs",IF(OR('full menu'!H7="MwERT", 'full menu'!H7="ERwMT", 'full menu'!H7="M&ERT", 'full menu'!H7="MwIT", 'full menu'!H7="IwMT", 'full menu'!H7="M&IT", 'full menu'!H7="IwERT", 'full menu'!H7="ERwIT", 'full menu'!H7="I&ERT", 'full menu'!H7="ER&M&IT"),"MixedTs",IF('full menu'!H7="UD","UD",IF('full menu'!H7="LSD","LSD",IF('full menu'!H7="WSD","WSD",IF('full menu'!H7="UASC","nonat","")))))))))) -> LSD | I7: =IF('full menu'!I7="MDC","MDC",IF(OR('full menu'!I7="PERF",'full menu'!I7="AERF",'full menu'!I7="PCB"),"ERfix",IF(OR('full menu'!I7="ACB", 'full menu'!I7="LCERT",'full menu'!I7="LERT",'full menu'!I7="FCERT",'full menu'!I7="FERT"),"ERTs",IF(OR('full menu'!I7="FCMT",'full menu'!I7="FMT",'full menu'!I7="LMT",'full menu'!I7="LCMT"),"MTs",IF(OR('full menu'!I7="LCIT",'full menu'!I7="FCIT",'full menu'!I7="LIT",'full menu'!I7="FIT"),"ITs",IF(OR('full menu'!I7="MwERT", 'full menu'!I7="ERwMT", 'full menu'!I7="M&ERT", 'full menu'!I7="MwIT", 'full menu'!I7="IwMT", 'full menu'!I7="M&IT", 'full menu'!I7="IwERT", 'full menu'!I7="ERwIT", 'full menu'!I7="I&ERT", 'full menu'!I7="ER&M&IT"),"MixedTs",IF('full menu'!I7="UD","UD",IF('full menu'!I7="LSD","LSD",IF('full menu'!I7="WSD","WSD",IF('full menu'!I7="UASC","nonat","")))))))))) -> LSD | ... AS7: =IF('full menu'!AS7="MDC","MDC",IF(OR('full menu'!AS7="PERF",'full menu'!AS7="AERF",'full menu'!AS7="PCB"),"ERfix",IF(OR('full menu'!AS7="ACB", 'full menu'!AS7="LCERT",'full menu'!AS7="LERT",'full menu'!AS7="FCERT",'full menu'!AS7="FERT"),"ERTs",IF(OR('full menu'!AS7="FCMT",'full menu'!AS7="FMT",'full menu'!AS7="LMT",'full menu'!AS7="LCMT"),"MTs",IF(OR('full menu'!AS7="LCIT",'full menu'!AS7="FCIT",'full menu'!AS7="LIT",'full menu'!AS7="FIT"),"ITs",IF(OR('full menu'!AS7="MwERT", 'full menu'!AS7="ERwMT", 'full menu'!AS7="M&ERT", 'full menu'!AS7="MwIT", 'full menu'!AS7="IwMT", 'full menu'!AS7="M&IT", 'full menu'!AS7="IwERT", 'full menu'!AS7="ERwIT", 'full menu'!AS7="I&ERT", 'full menu'!AS7="ER&M&IT"),"MixedTs",IF('full menu'!AS7="UD","UD",IF('full menu'!AS7="LSD","LSD",IF('full menu'!AS7="WSD","WSD",IF('full menu'!AS7="UASC","nonat","")))))))))) -> LSD
A8: Trinidad & Tobago | B8: =IF('full menu'!B8="MDC","MDC",IF(OR('full menu'!B8="PERF",'full menu'!B8="AERF",'full menu'!B8="PCB"),"ERfix",IF(OR('full menu'!B8="ACB", 'full menu'!B8="LCERT",'full menu'!B8="LERT",'full menu'!B8="FCERT",'full menu'!B8="FERT"),"ERTs",IF(OR('full menu'!B8="FCMT",'full menu'!B8="FMT",'full menu'!B8="LMT",'full menu'!B8="LCMT"),"MTs",IF(OR('full menu'!B8="LCIT",'full menu'!B8="FCIT",'full menu'!B8="LIT",'full menu'!B8="FIT"),"ITs",IF(OR('full menu'!B8="MwERT", 'full menu'!B8="ERwMT", 'full menu'!B8="M&ERT", 'full menu'!B8="MwIT", 'full menu'!B8="IwMT", 'full menu'!B8="M&IT", 'full menu'!B8="IwERT", 'full menu'!B8="ERwIT", 'full menu'!B8="I&ERT", 'full menu'!B8="ER&M&IT"),"MixedTs",IF('full menu'!B8="UD","UD",IF('full menu'!B8="LSD","LSD",IF('full menu'!B8="WSD","WSD",IF('full menu'!B8="UASC","nonat","")))))))))) -> ERfix | C8: =IF('full menu'!C8="MDC","MDC",IF(OR('full menu'!C8="PERF",'full menu'!C8="AERF",'full menu'!C8="PCB"),"ERfix",IF(OR('full menu'!C8="ACB", 'full menu'!C8="LCERT",'full menu'!C8="LERT",'full menu'!C8="FCERT",'full menu'!C8="FERT"),"ERTs",IF(OR('full menu'!C8="FCMT",'full menu'!C8="FMT",'full menu'!C8="LMT",'full menu'!C8="LCMT"),"MTs",IF(OR('full menu'!C8="LCIT",'full menu'!C8="FCIT",'full menu'!C8="LIT",'full menu'!C8="FIT"),"ITs",IF(OR('full menu'!C8="MwERT", 'full menu'!C8="ERwMT", 'full menu'!C8="M&ERT", 'full menu'!C8="MwIT", 'full menu'!C8="IwMT", 'full menu'!C8="M&IT", 'full menu'!C8="IwERT", 'full menu'!C8="ERwIT", 'full menu'!C8="I&ERT", 'full menu'!C8="ER&M&IT"),"MixedTs",IF('full menu'!C8="UD","UD",IF('full menu'!C8="LSD","LSD",IF('full menu'!C8="WSD","WSD",IF('full menu'!C8="UASC","nonat","")))))))))) -> ERfix | D8: =IF('full menu'!D8="MDC","MDC",IF(OR('full menu'!D8="PERF",'full menu'!D8="AERF",'full menu'!D8="PCB"),"ERfix",IF(OR('full menu'!D8="ACB", 'full menu'!D8="LCERT",'full menu'!D8="LERT",'full menu'!D8="FCERT",'full menu'!D8="FERT"),"ERTs",IF(OR('full menu'!D8="FCMT",'full menu'!D8="FMT",'full menu'!D8="LMT",'full menu'!D8="LCMT"),"MTs",IF(OR('full menu'!D8="LCIT",'full menu'!D8="FCIT",'full menu'!D8="LIT",'full menu'!D8="FIT"),"ITs",IF(OR('full menu'!D8="MwERT", 'full menu'!D8="ERwMT", 'full menu'!D8="M&ERT", 'full menu'!D8="MwIT", 'full menu'!D8="IwMT", 'full menu'!D8="M&IT", 'full menu'!D8="IwERT", 'full menu'!D8="ERwIT", 'full menu'!D8="I&ERT", 'full menu'!D8="ER&M&IT"),"MixedTs",IF('full menu'!D8="UD","UD",IF('full menu'!D8="LSD","LSD",IF('full menu'!D8="WSD","WSD",IF('full menu'!D8="UASC","nonat","")))))))))) -> ERfix | E8: =IF('full menu'!E8="MDC","MDC",IF(OR('full menu'!E8="PERF",'full menu'!E8="AERF",'full menu'!E8="PCB"),"ERfix",IF(OR('full menu'!E8="ACB", 'full menu'!E8="LCERT",'full menu'!E8="LERT",'full menu'!E8="FCERT",'full menu'!E8="FERT"),"ERTs",IF(OR('full menu'!E8="FCMT",'full menu'!E8="FMT",'full menu'!E8="LMT",'full menu'!E8="LCMT"),"MTs",IF(OR('full menu'!E8="LCIT",'full menu'!E8="FCIT",'full menu'!E8="LIT",'full menu'!E8="FIT"),"ITs",IF(OR('full menu'!E8="MwERT", 'full menu'!E8="ERwMT", 'full menu'!E8="M&ERT", 'full menu'!E8="MwIT", 'full menu'!E8="IwMT", 'full menu'!E8="M&IT", 'full menu'!E8="IwERT", 'full menu'!E8="ERwIT", 'full menu'!E8="I&ERT", 'full menu'!E8="ER&M&IT"),"MixedTs",IF('full menu'!E8="UD","UD",IF('full menu'!E8="LSD","LSD",IF('full menu'!E8="WSD","WSD",IF('full menu'!E8="UASC","nonat","")))))))))) -> ERfix | F8: =IF('full menu'!F8="MDC","MDC",IF(OR('full menu'!F8="PERF",'full menu'!F8="AERF",'full menu'!F8="PCB"),"ERfix",IF(OR('full menu'!F8="ACB", 'full menu'!F8="LCERT",'full menu'!F8="LERT",'full menu'!F8="FCERT",'full menu'!F8="FERT"),"ERTs",IF(OR('full menu'!F8="FCMT",'full menu'!F8="FMT",'full menu'!F8="LMT",'full menu'!F8="LCMT"),"MTs",IF(OR('full menu'!F8="LCIT",'full menu'!F8="FCIT",'full menu'!F8="LIT",'full menu'!F8="FIT"),"ITs",IF(OR('full menu'!F8="MwERT", 'full menu'!F8="ERwMT", 'full menu'!F8="M&ERT", 'full menu'!F8="MwIT", 'full menu'!F8="IwMT", 'full menu'!F8="M&IT", 'full menu'!F8="IwERT", 'full menu'!F8="ERwIT", 'full menu'!F8="I&ERT", 'full menu'!F8="ER&M&IT"),"MixedTs",IF('full menu'!F8="UD","UD",IF('full menu'!F8="LSD","LSD",IF('full menu'!F8="WSD","WSD",IF('full menu'!F8="UASC","nonat","")))))))))) -> ERfix | G8: =IF('full menu'!G8="MDC","MDC",IF(OR('full menu'!G8="PERF",'full menu'!G8="AERF",'full menu'!G8="PCB"),"ERfix",IF(OR('full menu'!G8="ACB", 'full menu'!G8="LCERT",'full menu'!G8="LERT",'full menu'!G8="FCERT",'full menu'!G8="FERT"),"ERTs",IF(OR('full menu'!G8="FCMT",'full menu'!G8="FMT",'full menu'!G8="LMT",'full menu'!G8="LCMT"),"MTs",IF(OR('full menu'!G8="LCIT",'full menu'!G8="FCIT",'full menu'!G8="LIT",'full menu'!G8="FIT"),"ITs",IF(OR('full menu'!G8="MwERT", 'full menu'!G8="ERwMT", 'full menu'!G8="M&ERT", 'full menu'!G8="MwIT", 'full menu'!G8="IwMT", 'full menu'!G8="M&IT", 'full menu'!G8="IwERT", 'full menu'!G8="ERwIT", 'full menu'!G8="I&ERT", 'full menu'!G8="ER&M&IT"),"MixedTs",IF('full menu'!G8="UD","UD",IF('full menu'!G8="LSD","LSD",IF('full menu'!G8="WSD","WSD",IF('full menu'!G8="UASC","nonat","")))))))))) -> ERfix | H8: =IF('full menu'!H8="MDC","MDC",IF(OR('full menu'!H8="PERF",'full menu'!H8="AERF",'full menu'!H8="PCB"),"ERfix",IF(OR('full menu'!H8="ACB", 'full menu'!H8="LCERT",'full menu'!H8="LERT",'full menu'!H8="FCERT",'full menu'!H8="FERT"),"ERTs",IF(OR('full menu'!H8="FCMT",'full menu'!H8="FMT",'full menu'!H8="LMT",'full menu'!H8="LCMT"),"MTs",IF(OR('full menu'!H8="LCIT",'full menu'!H8="FCIT",'full menu'!H8="LIT",'full menu'!H8="FIT"),"ITs",IF(OR('full menu'!H8="MwERT", 'full menu'!H8="ERwMT", 'full menu'!H8="M&ERT", 'full menu'!H8="MwIT", 'full menu'!H8="IwMT", 'full menu'!H8="M&IT", 'full menu'!H8="IwERT", 'full menu'!H8="ERwIT", 'full menu'!H8="I&ERT", 'full menu'!H8="ER&M&IT"),"MixedTs",IF('full menu'!H8="UD","UD",IF('full menu'!H8="LSD","LSD",IF('full menu'!H8="WSD","WSD",IF('full menu'!H8="UASC","nonat","")))))))))) -> ERfix | I8: =IF('full menu'!I8="MDC","MDC",IF(OR('full menu'!I8="PERF",'full menu'!I8="AERF",'full menu'!I8="PCB"),"ERfix",IF(OR('full menu'!I8="ACB", 'full menu'!I8="LCERT",'full menu'!I8="LERT",'full menu'!I8="FCERT",'full menu'!I8="FERT"),"ERTs",IF(OR('full menu'!I8="FCMT",'full menu'!I8="FMT",'full menu'!I8="LMT",'full menu'!I8="LCMT"),"MTs",IF(OR('full menu'!I8="LCIT",'full menu'!I8="FCIT",'full menu'!I8="LIT",'full menu'!I8="FIT"),"ITs",IF(OR('full menu'!I8="MwERT", 'full menu'!I8="ERwMT", 'full menu'!I8="M&ERT", 'full menu'!I8="MwIT", 'full menu'!I8="IwMT", 'full menu'!I8="M&IT", 'full menu'!I8="IwERT", 'full menu'!I8="ERwIT", 'full menu'!I8="I&ERT", 'full menu'!I8="ER&M&IT"),"MixedTs",IF('full menu'!I8="UD","UD",IF('full menu'!I8="LSD","LSD",IF('full menu'!I8="WSD","WSD",IF('full menu'!I8="UASC","nonat","")))))))))) -> ERfix | ... AS8: =IF('full menu'!AS8="MDC","MDC",IF(OR('full menu'!AS8="PERF",'full menu'!AS8="AERF",'full menu'!AS8="PCB"),"ERfix",IF(OR('full menu'!AS8="ACB", 'full menu'!AS8="LCERT",'full menu'!AS8="LERT",'full menu'!AS8="FCERT",'full menu'!AS8="FERT"),"ERTs",IF(OR('full menu'!AS8="FCMT",'full menu'!AS8="FMT",'full menu'!AS8="LMT",'full menu'!AS8="LCMT"),"MTs",IF(OR('full menu'!AS8="LCIT",'full menu'!AS8="FCIT",'full menu'!AS8="LIT",'full menu'!AS8="FIT"),"ITs",IF(OR('full menu'!AS8="MwERT", 'full menu'!AS8="ERwMT", 'full menu'!AS8="M&ERT", 'full menu'!AS8="MwIT", 'full menu'!AS8="IwMT", 'full menu'!AS8="M&IT", 'full menu'!AS8="IwERT", 'full menu'!AS8="ERwIT", 'full menu'!AS8="I&ERT", 'full menu'!AS8="ER&M&IT"),"MixedTs",IF('full menu'!AS8="UD","UD",IF('full menu'!AS8="LSD","LSD",IF('full menu'!AS8="WSD","WSD",IF('full menu'!AS8="UASC","nonat","")))))))))) -> ERTs
B12: 1974 | C12: 1975 | D12: 1976 | E12: 1977 | F12: 1978 | G12: 1979 | H12: 1980 | I12: 1981 | J12: 1982 | K12: 1983 | L12: 1984 | M12: 1985 | N12: 1986 | O12: 1987 | P12: 1988 | Q12: 1989 | R12: 1990 | S12: 1991 | T12: 1992 | U12: 1993 | V12: 1994 | W12: 1995 | X12: 1996 | Y12: 1997 | Z12: 1998 | AA12: 1999 | AB12: 2000 | AC12: 2001 | AD12: 2002 | AE12: 2003 | AF12: 2004 | AG12: 2005 | AH12: 2006 | AI12: 2007 | AJ12: 2008 | AK12: 2009 | AL12: 2010 | AM12: 2011 | AN12: 2012 | AO12: 2013 | AP12: 2014 | AQ12: 2015 | AR12: 2016 | AS12: 2017 | AU12: 74-17 | AV12: 74-84 | AW12: 85-98 | AX12: 99-07 | AY12: 08-17
A13: MDC | B13: =COUNTIF(B2:B8,"MDC") -> 0 | C13: =COUNTIF(C2:C8,"MDC") -> 0 | D13: =COUNTIF(D2:D8,"MDC") -> 0 | E13: =COUNTIF(E2:E8,"MDC") -> 0 | F13: =COUNTIF(F2:F8,"MDC") -> 0 | G13: =COUNTIF(G2:G8,"MDC") -> 0 | H13: =COUNTIF(H2:H8,"MDC") -> 0 | I13: =COUNTIF(I2:I8,"MDC") -> 0 | ... AS13: =COUNTIF(AS2:AS8,"MDC") -> 0 | AU13: =SUM(B13:AS13) -> 0 | AV13: =SUM(B13:L13) -> 0 | AW13: =SUM(M13:Z13) -> 0 | AX13: =SUM(AA13:AI13) -> 0 | AY13: =SUM(AJ13:AS13) -> 0
A14: ERFix | B14: =COUNTIF(B2:B8,"ERFix") -> 7 | C14: =COUNTIF(C2:C8,"ERFix") -> 7 | D14: =COUNTIF(D2:D8,"ERFix") -> 7 | E14: =COUNTIF(E2:E8,"ERFix") -> 6 | F14: =COUNTIF(F2:F8,"ERFix") -> 6 | G14: =COUNTIF(G2:G8,"ERFix") -> 6 | H14: =COUNTIF(H2:H8,"ERFix") -> 6 | I14: =COUNTIF(I2:I8,"ERFix") -> 6 | ... AS14: =COUNTIF(AS2:AS8,"ERFix") -> 2 | AU14: =SUM(B14:AS14) -> 144 | AV14: =SUM(B14:L14) -> 65 | AW14: =SUM(M14:Z14) -> 41 | AX14: =SUM(AA14:AI14) -> 18 | AY14: =SUM(AJ14:AS14) -> 20
A15: ERTs | B15: =COUNTIF(B2:B8,"ERTs") -> 0 | C15: =COUNTIF(C2:C8,"ERTs") -> 0 | D15: =COUNTIF(D2:D8,"ERTs") -> 0 | E15: =COUNTIF(E2:E8,"ERTs") -> 0 | F15: =COUNTIF(F2:F8,"ERTs") -> 0 | G15: =COUNTIF(G2:G8,"ERTs") -> 0 | H15: =COUNTIF(H2:H8,"ERTs") -> 0 | I15: =COUNTIF(I2:I8,"ERTs") -> 0 | ... AS15: =COUNTIF(AS2:AS8,"ERTs") -> 2 | AU15: =SUM(B15:AS15) -> 55 | AV15: =SUM(B15:L15) -> 1 | AW15: =SUM(M15:Z15) -> 16 | AX15: =SUM(AA15:AI15) -> 18 | AY15: =SUM(AJ15:AS15) -> 20
A16: MTs | B16: =COUNTIF(B2:B8,"MTs") -> 0 | C16: =COUNTIF(C2:C8,"MTs") -> 0 | D16: =COUNTIF(D2:D8,"MTs") -> 0 | E16: =COUNTIF(E2:E8,"MTs") -> 0 | F16: =COUNTIF(F2:F8,"MTs") -> 0 | G16: =COUNTIF(G2:G8,"MTs") -> 0 | H16: =COUNTIF(H2:H8,"MTs") -> 0 | I16: =COUNTIF(I2:I8,"MTs") -> 0 | ... AS16: =COUNTIF(AS2:AS8,"MTs") -> 0 | AU16: =SUM(B16:AS16) -> 0 | AV16: =SUM(B16:L16) -> 0 | AW16: =SUM(M16:Z16) -> 0 | AX16: =SUM(AA16:AI16) -> 0 | AY16: =SUM(AJ16:AS16) -> 0
A17: ITs | B17: =COUNTIF(B2:B8,"ITs") -> 0 | C17: =COUNTIF(C2:C8,"ITs") -> 0 | D17: =COUNTIF(D2:D8,"ITs") -> 0 | E17: =COUNTIF(E2:E8,"ITs") -> 0 | F17: =COUNTIF(F2:F8,"ITs") -> 0 | G17: =COUNTIF(G2:G8,"ITs") -> 0 | H17: =COUNTIF(H2:H8,"ITs") -> 0 | I17: =COUNTIF(I2:I8,"ITs") -> 0 | ... AS17: =COUNTIF(AS2:AS8,"ITs") -> 1 | AU17: =SUM(B17:AS17) -> 6 | AV17: =SUM(B17:L17) -> 0 | AW17: =SUM(M17:Z17) -> 0 | AX17: =SUM(AA17:AI17) -> 0 | AY17: =SUM(AJ17:AS17) -> 6
A18: MixedTs | B18: =COUNTIF(B2:B8,"MixedTs") -> 0 | C18: =COUNTIF(C2:C8,"MixedTs") -> 0 | D18: =COUNTIF(D2:D8,"MixedTs") -> 0 | E18: =COUNTIF(E2:E8,"MixedTs") -> 0 | F18: =COUNTIF(F2:F8,"MixedTs") -> 0 | G18: =COUNTIF(G2:G8,"MixedTs") -> 0 | H18: =COUNTIF(H2:H8,"MixedTs") -> 0 | I18: =COUNTIF(I2:I8,"MixedTs") -> 0 | ... AS18: =COUNTIF(AS2:AS8,"MixedTs") -> 0 | AU18: =SUM(B18:AS18) -> 0 | AV18: =SUM(B18:L18) -> 0 | AW18: =SUM(M18:Z18) -> 0 | AX18: =SUM(AA18:AI18) -> 0 | AY18: =SUM(AJ18:AS18) -> 0
A19: UD | B19: =COUNTIF(B2:B8,"UD") -> 0 | C19: =COUNTIF(C2:C8,"UD") -> 0 | D19: =COUNTIF(D2:D8,"UD") -> 0 | E19: =COUNTIF(E2:E8,"UD") -> 0 | F19: =COUNTIF(F2:F8,"UD") -> 0 | G19: =COUNTIF(G2:G8,"UD") -> 0 | H19: =COUNTIF(H2:H8,"UD") -> 0 | I19: =COUNTIF(I2:I8,"UD") -> 0 | ... AS19: =COUNTIF(AS2:AS8,"UD") -> 0 | AU19: =SUM(B19:AS19) -> 0 | AV19: =SUM(B19:L19) -> 0 | AW19: =SUM(M19:Z19) -> 0 | AX19: =SUM(AA19:AI19) -> 0 | AY19: =SUM(AJ19:AS19) -> 0
A20: LSD | B20: =COUNTIF(B2:B8,"LSD") -> 0 | C20: =COUNTIF(C2:C8,"LSD") -> 0 | D20: =COUNTIF(D2:D8,"LSD") -> 0 | E20: =COUNTIF(E2:E8,"LSD") -> 1 | F20: =COUNTIF(F2:F8,"LSD") -> 1 | G20: =COUNTIF(G2:G8,"LSD") -> 1 | H20: =COUNTIF(H2:H8,"LSD") -> 1 | I20: =COUNTIF(I2:I8,"LSD") -> 1 | ... AS20: =COUNTIF(AS2:AS8,"LSD") -> 2 | AU20: =SUM(B20:AS20) -> 103 | AV20: =SUM(B20:L20) -> 11 | AW20: =SUM(M20:Z20) -> 41 | AX20: =SUM(AA20:AI20) -> 27 | AY20: =SUM(AJ20:AS20) -> 24
A21: WSD | B21: =COUNTIF(B2:B8,"WSD") -> 0 | C21: =COUNTIF(C2:C8,"WSD") -> 0 | D21: =COUNTIF(D2:D8,"WSD") -> 0 | E21: =COUNTIF(E2:E8,"WSD") -> 0 | F21: =COUNTIF(F2:F8,"WSD") -> 0 | G21: =COUNTIF(G2:G8,"WSD") -> 0 | H21: =COUNTIF(H2:H8,"WSD") -> 0 | I21: =COUNTIF(I2:I8,"WSD") -> 0 | ... AS21: =COUNTIF(AS2:AS8,"WSD") -> 0 | AU21: =SUM(B21:AS21) -> 0 | AV21: =SUM(B21:L21) -> 0 | AW21: =SUM(M21:Z21) -> 0 | AX21: =SUM(AA21:AI21) -> 0 | AY21: =SUM(AJ21:AS21) -> 0
A22: no national framework | B22: =COUNTIF(B2:B8,"nonat") -> 0 | C22: =COUNTIF(C2:C8,"nonat") -> 0 | D22: =COUNTIF(D2:D8,"nonat") -> 0 | E22: =COUNTIF(E2:E8,"nonat") -> 0 | F22: =COUNTIF(F2:F8,"nonat") -> 0 | G22: =COUNTIF(G2:G8,"nonat") -> 0 | H22: =COUNTIF(H2:H8,"nonat") -> 0 | I22: =COUNTIF(I2:I8,"nonat") -> 0 | ... AS22: =COUNTIF(AS2:AS8,"nonat") -> 0 | AU22: =SUM(B22:AS22) -> 0 | AV22: =SUM(B22:L22) -> 0 | AW22: =SUM(M22:Z22) -> 0 | AX22: =SUM(AA22:AI22) -> 0 | AY22: =SUM(AJ22:AS22) -> 0
B24: =SUM(B13:B22) -> 7 | C24: =SUM(C13:C22) -> 7 | D24: =SUM(D13:D22) -> 7 | E24: =SUM(E13:E22) -> 7 | F24: =SUM(F13:F22) -> 7 | G24: =SUM(G13:G22) -> 7 | H24: =SUM(H13:H22) -> 7 | I24: =SUM(I13:I22) -> 7 | ... AS24: =SUM(AS13:AS22) -> 7 | AU24: =SUM(AU13:AU22) -> 308 | AV24: =SUM(AV13:AV22) -> 77 | AW24: =SUM(AW13:AW22) -> 98 | AX24: =SUM(AX13:AX22) -> 63 | AY24: =SUM(AY13:AY22) -> 70

Sheet docvar
B1: 1974 | C1: 1975 | D1: 1976 | E1: 1977 | F1: 1978 | G1: 1979 | H1: 1980 | I1: 1981 | J1: 1982 | K1: 1983 | L1: 1984 | M1: 1985 | N1: 1986 | O1: 1987 | P1: 1988 | Q1: 1989 | R1: 1990 | S1: 1991 | T1: 1992 | U1: 1993 | V1: 1994 | W1: 1995 | X1: 1996 | Y1: 1997 | Z1: 1998 | AA1: 1999 | AB1: 2000 | AC1: 2001 | AD1: 2002 | AE1: 2003 | AF1: 2004 | AG1: 2005 | AH1: 2006 | AI1: 2007 | AJ1: 2008 | AK1: 2009 | AL1: 2010 | AM1: 2011 | AN1: 2012 | AO1: 2013 | AP1: 2014 | AQ1: 2015 | AR1: 2016 | AS1: 2017
A2: Bahamas | B2: =IF(OR('full menu'!B2="MDC",'full menu'!B2="PERF"),"rude",IF(OR('full menu'!B2="PCB",'full menu'!B2="AERF",'full menu'!B2="UD"),"inter",IF(OR('full menu'!B2="ACB",'full menu'!B2="LCERT",'full menu'!B2="LERT",'full menu'!B2="FCERT",'full menu'!B2="FCMT",'full menu'!B2="LCMT",'full menu'!B2="LMT",'full menu'!B2="LCIT",'full menu'!B2="FCIT",'full menu'!B2="LIT",'full menu'!B2="MwERT",'full menu'!B2="ERwMT",'full menu'!B2="M&ERT",'full menu'!B2="MwIT",'full menu'!B2="IwMT",'full menu'!B2="M&IT",'full menu'!B2="IwERT",'full menu'!B2="ERwIT",'full menu'!B2="I&ERT",'full menu'!B2="ER&M&IT",'full menu'!B2="LSD"),"subst",IF(OR('full menu'!B2="FERT",'full menu'!B2="FMT",'full menu'!B2="FIT",'full menu'!B2="WSD"),"intens",IF(OR('full menu'!B2="UASC"),"nonat",""))))) -> inter | C2: =IF(OR('full menu'!C2="MDC",'full menu'!C2="PERF"),"rude",IF(OR('full menu'!C2="PCB",'full menu'!C2="AERF",'full menu'!C2="UD"),"inter",IF(OR('full menu'!C2="ACB",'full menu'!C2="LCERT",'full menu'!C2="LERT",'full menu'!C2="FCERT",'full menu'!C2="FCMT",'full menu'!C2="LCMT",'full menu'!C2="LMT",'full menu'!C2="LCIT",'full menu'!C2="FCIT",'full menu'!C2="LIT",'full menu'!C2="MwERT",'full menu'!C2="ERwMT",'full menu'!C2="M&ERT",'full menu'!C2="MwIT",'full menu'!C2="IwMT",'full menu'!C2="M&IT",'full menu'!C2="IwERT",'full menu'!C2="ERwIT",'full menu'!C2="I&ERT",'full menu'!C2="ER&M&IT",'full menu'!C2="LSD"),"subst",IF(OR('full menu'!C2="FERT",'full menu'!C2="FMT",'full menu'!C2="FIT",'full menu'!C2="WSD"),"intens",IF(OR('full menu'!C2="UASC"),"nonat",""))))) -> inter | D2: =IF(OR('full menu'!D2="MDC",'full menu'!D2="PERF"),"rude",IF(OR('full menu'!D2="PCB",'full menu'!D2="AERF",'full menu'!D2="UD"),"inter",IF(OR('full menu'!D2="ACB",'full menu'!D2="LCERT",'full menu'!D2="LERT",'full menu'!D2="FCERT",'full menu'!D2="FCMT",'full menu'!D2="LCMT",'full menu'!D2="LMT",'full menu'!D2="LCIT",'full menu'!D2="FCIT",'full menu'!D2="LIT",'full menu'!D2="MwERT",'full menu'!D2="ERwMT",'full menu'!D2="M&ERT",'full menu'!D2="MwIT",'full menu'!D2="IwMT",'full menu'!D2="M&IT",'full menu'!D2="IwERT",'full menu'!D2="ERwIT",'full menu'!D2="I&ERT",'full menu'!D2="ER&M&IT",'full menu'!D2="LSD"),"subst",IF(OR('full menu'!D2="FERT",'full menu'!D2="FMT",'full menu'!D2="FIT",'full menu'!D2="WSD"),"intens",IF(OR('full menu'!D2="UASC"),"nonat",""))))) -> inter | E2: =IF(OR('full menu'!E2="MDC",'full menu'!E2="PERF"),"rude",IF(OR('full menu'!E2="PCB",'full menu'!E2="AERF",'full menu'!E2="UD"),"inter",IF(OR('full menu'!E2="ACB",'full menu'!E2="LCERT",'full menu'!E2="LERT",'full menu'!E2="FCERT",'full menu'!E2="FCMT",'full menu'!E2="LCMT",'full menu'!E2="LMT",'full menu'!E2="LCIT",'full menu'!E2="FCIT",'full menu'!E2="LIT",'full menu'!E2="MwERT",'full menu'!E2="ERwMT",'full menu'!E2="M&ERT",'full menu'!E2="MwIT",'full menu'!E2="IwMT",'full menu'!E2="M&IT",'full menu'!E2="IwERT",'full menu'!E2="ERwIT",'full menu'!E2="I&ERT",'full menu'!E2="ER&M&IT",'full menu'!E2="LSD"),"subst",IF(OR('full menu'!E2="FERT",'full menu'!E2="FMT",'full menu'!E2="FIT",'full menu'!E2="WSD"),"intens",IF(OR('full menu'!E2="UASC"),"nonat",""))))) -> inter | F2: =IF(OR('full menu'!F2="MDC",'full menu'!F2="PERF"),"rude",IF(OR('full menu'!F2="PCB",'full menu'!F2="AERF",'full menu'!F2="UD"),"inter",IF(OR('full menu'!F2="ACB",'full menu'!F2="LCERT",'full menu'!F2="LERT",'full menu'!F2="FCERT",'full menu'!F2="FCMT",'full menu'!F2="LCMT",'full menu'!F2="LMT",'full menu'!F2="LCIT",'full menu'!F2="FCIT",'full menu'!F2="LIT",'full menu'!F2="MwERT",'full menu'!F2="ERwMT",'full menu'!F2="M&ERT",'full menu'!F2="MwIT",'full menu'!F2="IwMT",'full menu'!F2="M&IT",'full menu'!F2="IwERT",'full menu'!F2="ERwIT",'full menu'!F2="I&ERT",'full menu'!F2="ER&M&IT",'full menu'!F2="LSD"),"subst",IF(OR('full menu'!F2="FERT",'full menu'!F2="FMT",'full menu'!F2="FIT",'full menu'!F2="WSD"),"intens",IF(OR('full menu'!F2="UASC"),"nonat",""))))) -> inter | G2: =IF(OR('full menu'!G2="MDC",'full menu'!G2="PERF"),"rude",IF(OR('full menu'!G2="PCB",'full menu'!G2="AERF",'full menu'!G2="UD"),"inter",IF(OR('full menu'!G2="ACB",'full menu'!G2="LCERT",'full menu'!G2="LERT",'full menu'!G2="FCERT",'full menu'!G2="FCMT",'full menu'!G2="LCMT",'full menu'!G2="LMT",'full menu'!G2="LCIT",'full menu'!G2="FCIT",'full menu'!G2="LIT",'full menu'!G2="MwERT",'full menu'!G2="ERwMT",'full menu'!G2="M&ERT",'full menu'!G2="MwIT",'full menu'!G2="IwMT",'full menu'!G2="M&IT",'full menu'!G2="IwERT",'full menu'!G2="ERwIT",'full menu'!G2="I&ERT",'full menu'!G2="ER&M&IT",'full menu'!G2="LSD"),"subst",IF(OR('full menu'!G2="FERT",'full menu'!G2="FMT",'full menu'!G2="FIT",'full menu'!G2="WSD"),"intens",IF(OR('full menu'!G2="UASC"),"nonat",""))))) -> inter | H2: =IF(OR('full menu'!H2="MDC",'full menu'!H2="PERF"),"rude",IF(OR('full menu'!H2="PCB",'full menu'!H2="AERF",'full menu'!H2="UD"),"inter",IF(OR('full menu'!H2="ACB",'full menu'!H2="LCERT",'full menu'!H2="LERT",'full menu'!H2="FCERT",'full menu'!H2="FCMT",'full menu'!H2="LCMT",'full menu'!H2="LMT",'full menu'!H2="LCIT",'full menu'!H2="FCIT",'full menu'!H2="LIT",'full menu'!H2="MwERT",'full menu'!H2="ERwMT",'full menu'!H2="M&ERT",'full menu'!H2="MwIT",'full menu'!H2="IwMT",'full menu'!H2="M&IT",'full menu'!H2="IwERT",'full menu'!H2="ERwIT",'full menu'!H2="I&ERT",'full menu'!H2="ER&M&IT",'full menu'!H2="LSD"),"subst",IF(OR('full menu'!H2="FERT",'full menu'!H2="FMT",'full menu'!H2="FIT",'full menu'!H2="WSD"),"intens",IF(OR('full menu'!H2="UASC"),"nonat",""))))) -> inter | I2: =IF(OR('full menu'!I2="MDC",'full menu'!I2="PERF"),"rude",IF(OR('full menu'!I2="PCB",'full menu'!I2="AERF",'full menu'!I2="UD"),"inter",IF(OR('full menu'!I2="ACB",'full menu'!I2="LCERT",'full menu'!I2="LERT",'full menu'!I2="FCERT",'full menu'!I2="FCMT",'full menu'!I2="LCMT",'full menu'!I2="LMT",'full menu'!I2="LCIT",'full menu'!I2="FCIT",'full menu'!I2="LIT",'full menu'!I2="MwERT",'full menu'!I2="ERwMT",'full menu'!I2="M&ERT",'full menu'!I2="MwIT",'full menu'!I2="IwMT",'full menu'!I2="M&IT",'full menu'!I2="IwERT",'full menu'!I2="ERwIT",'full menu'!I2="I&ERT",'full menu'!I2="ER&M&IT",'full menu'!I2="LSD"),"subst",IF(OR('full menu'!I2="FERT",'full menu'!I2="FMT",'full menu'!I2="FIT",'full menu'!I2="WSD"),"intens",IF(OR('full menu'!I2="UASC"),"nonat",""))))) -> inter | ... AS2: =IF(OR('full menu'!AS2="MDC",'full menu'!AS2="PERF"),"rude",IF(OR('full menu'!AS2="PCB",'full menu'!AS2="AERF",'full menu'!AS2="UD"),"inter",IF(OR('full menu'!AS2="ACB",'full menu'!AS2="LCERT",'full menu'!AS2="LERT",'full menu'!AS2="FCERT",'full menu'!AS2="FCMT",'full menu'!AS2="LCMT",'full menu'!AS2="LMT",'full menu'!AS2="LCIT",'full menu'!AS2="FCIT",'full menu'!AS2="LIT",'full menu'!AS2="MwERT",'full menu'!AS2="ERwMT",'full menu'!AS2="M&ERT",'full menu'!AS2="MwIT",'full menu'!AS2="IwMT",'full menu'!AS2="M&IT",'full menu'!AS2="IwERT",'full menu'!AS2="ERwIT",'full menu'!AS2="I&ERT",'full menu'!AS2="ER&M&IT",'full menu'!AS2="LSD"),"subst",IF(OR('full menu'!AS2="FERT",'full menu'!AS2="FMT",'full menu'!AS2="FIT",'full menu'!AS2="WSD"),"intens",IF(OR('full menu'!AS2="UASC"),"nonat",""))))) -> inter
A3: Barbados | B3: =IF(OR('full menu'!B3="MDC",'full menu'!B3="PERF"),"rude",IF(OR('full menu'!B3="PCB",'full menu'!B3="AERF",'full menu'!B3="UD"),"inter",IF(OR('full menu'!B3="ACB",'full menu'!B3="LCERT",'full menu'!B3="LERT",'full menu'!B3="FCERT",'full menu'!B3="FCMT",'full menu'!B3="LCMT",'full menu'!B3="LMT",'full menu'!B3="LCIT",'full menu'!B3="FCIT",'full menu'!B3="LIT",'full menu'!B3="MwERT",'full menu'!B3="ERwMT",'full menu'!B3="M&ERT",'full menu'!B3="MwIT",'full menu'!B3="IwMT",'full menu'!B3="M&IT",'full menu'!B3="IwERT",'full menu'!B3="ERwIT",'full menu'!B3="I&ERT",'full menu'!B3="ER&M&IT",'full menu'!B3="LSD"),"subst",IF(OR('full menu'!B3="FERT",'full menu'!B3="FMT",'full menu'!B3="FIT",'full menu'!B3="WSD"),"intens",IF(OR('full menu'!B3="UASC"),"nonat",""))))) -> inter | C3: =IF(OR('full menu'!C3="MDC",'full menu'!C3="PERF"),"rude",IF(OR('full menu'!C3="PCB",'full menu'!C3="AERF",'full menu'!C3="UD"),"inter",IF(OR('full menu'!C3="ACB",'full menu'!C3="LCERT",'full menu'!C3="LERT",'full menu'!C3="FCERT",'full menu'!C3="FCMT",'full menu'!C3="LCMT",'full menu'!C3="LMT",'full menu'!C3="LCIT",'full menu'!C3="FCIT",'full menu'!C3="LIT",'full menu'!C3="MwERT",'full menu'!C3="ERwMT",'full menu'!C3="M&ERT",'full menu'!C3="MwIT",'full menu'!C3="IwMT",'full menu'!C3="M&IT",'full menu'!C3="IwERT",'full menu'!C3="ERwIT",'full menu'!C3="I&ERT",'full menu'!C3="ER&M&IT",'full menu'!C3="LSD"),"subst",IF(OR('full menu'!C3="FERT",'full menu'!C3="FMT",'full menu'!C3="FIT",'full menu'!C3="WSD"),"intens",IF(OR('full menu'!C3="UASC"),"nonat",""))))) -> inter | D3: =IF(OR('full menu'!D3="MDC",'full menu'!D3="PERF"),"rude",IF(OR('full menu'!D3="PCB",'full menu'!D3="AERF",'full menu'!D3="UD"),"inter",IF(OR('full menu'!D3="ACB",'full menu'!D3="LCERT",'full menu'!D3="LERT",'full menu'!D3="FCERT",'full menu'!D3="FCMT",'full menu'!D3="LCMT",'full menu'!D3="LMT",'full menu'!D3="LCIT",'full menu'!D3="FCIT",'full menu'!D3="LIT",'full menu'!D3="MwERT",'full menu'!D3="ERwMT",'full menu'!D3="M&ERT",'full menu'!D3="MwIT",'full menu'!D3="IwMT",'full menu'!D3="M&IT",'full menu'!D3="IwERT",'full menu'!D3="ERwIT",'full menu'!D3="I&ERT",'full menu'!D3="ER&M&IT",'full menu'!D3="LSD"),"subst",IF(OR('full menu'!D3="FERT",'full menu'!D3="FMT",'full menu'!D3="FIT",'full menu'!D3="WSD"),"intens",IF(OR('full menu'!D3="UASC"),"nonat",""))))) -> inter | E3: =IF(OR('full menu'!E3="MDC",'full menu'!E3="PERF"),"rude",IF(OR('full menu'!E3="PCB",'full menu'!E3="AERF",'full menu'!E3="UD"),"inter",IF(OR('full menu'!E3="ACB",'full menu'!E3="LCERT",'full menu'!E3="LERT",'full menu'!E3="FCERT",'full menu'!E3="FCMT",'full menu'!E3="LCMT",'full menu'!E3="LMT",'full menu'!E3="LCIT",'full menu'!E3="FCIT",'full menu'!E3="LIT",'full menu'!E3="MwERT",'full menu'!E3="ERwMT",'full menu'!E3="M&ERT",'full menu'!E3="MwIT",'full menu'!E3="IwMT",'full menu'!E3="M&IT",'full menu'!E3="IwERT",'full menu'!E3="ERwIT",'full menu'!E3="I&ERT",'full menu'!E3="ER&M&IT",'full menu'!E3="LSD"),"subst",IF(OR('full menu'!E3="FERT",'full menu'!E3="FMT",'full menu'!E3="FIT",'full menu'!E3="WSD"),"intens",IF(OR('full menu'!E3="UASC"),"nonat",""))))) -> inter | F3: =IF(OR('full menu'!F3="MDC",'full menu'!F3="PERF"),"rude",IF(OR('full menu'!F3="PCB",'full menu'!F3="AERF",'full menu'!F3="UD"),"inter",IF(OR('full menu'!F3="ACB",'full menu'!F3="LCERT",'full menu'!F3="LERT",'full menu'!F3="FCERT",'full menu'!F3="FCMT",'full menu'!F3="LCMT",'full menu'!F3="LMT",'full menu'!F3="LCIT",'full menu'!F3="FCIT",'full menu'!F3="LIT",'full menu'!F3="MwERT",'full menu'!F3="ERwMT",'full menu'!F3="M&ERT",'full menu'!F3="MwIT",'full menu'!F3="IwMT",'full menu'!F3="M&IT",'full menu'!F3="IwERT",'full menu'!F3="ERwIT",'full menu'!F3="I&ERT",'full menu'!F3="ER&M&IT",'full menu'!F3="LSD"),"subst",IF(OR('full menu'!F3="FERT",'full menu'!F3="FMT",'full menu'!F3="FIT",'full menu'!F3="WSD"),"intens",IF(OR('full menu'!F3="UASC"),"nonat",""))))) -> inter | G3: =IF(OR('full menu'!G3="MDC",'full menu'!G3="PERF"),"rude",IF(OR('full menu'!G3="PCB",'full menu'!G3="AERF",'full menu'!G3="UD"),"inter",IF(OR('full menu'!G3="ACB",'full menu'!G3="LCERT",'full menu'!G3="LERT",'full menu'!G3="FCERT",'full menu'!G3="FCMT",'full menu'!G3="LCMT",'full menu'!G3="LMT",'full menu'!G3="LCIT",'full menu'!G3="FCIT",'full menu'!G3="LIT",'full menu'!G3="MwERT",'full menu'!G3="ERwMT",'full menu'!G3="M&ERT",'full menu'!G3="MwIT",'full menu'!G3="IwMT",'full menu'!G3="M&IT",'full menu'!G3="IwERT",'full menu'!G3="ERwIT",'full menu'!G3="I&ERT",'full menu'!G3="ER&M&IT",'full menu'!G3="LSD"),"subst",IF(OR('full menu'!G3="FERT",'full menu'!G3="FMT",'full menu'!G3="FIT",'full menu'!G3="WSD"),"intens",IF(OR('full menu'!G3="UASC"),"nonat",""))))) -> inter | H3: =IF(OR('full menu'!H3="MDC",'full menu'!H3="PERF"),"rude",IF(OR('full menu'!H3="PCB",'full menu'!H3="AERF",'full menu'!H3="UD"),"inter",IF(OR('full menu'!H3="ACB",'full menu'!H3="LCERT",'full menu'!H3="LERT",'full menu'!H3="FCERT",'full menu'!H3="FCMT",'full menu'!H3="LCMT",'full menu'!H3="LMT",'full menu'!H3="LCIT",'full menu'!H3="FCIT",'full menu'!H3="LIT",'full menu'!H3="MwERT",'full menu'!H3="ERwMT",'full menu'!H3="M&ERT",'full menu'!H3="MwIT",'full menu'!H3="IwMT",'full menu'!H3="M&IT",'full menu'!H3="IwERT",'full menu'!H3="ERwIT",'full menu'!H3="I&ERT",'full menu'!H3="ER&M&IT",'full menu'!H3="LSD"),"subst",IF(OR('full menu'!H3="FERT",'full menu'!H3="FMT",'full menu'!H3="FIT",'full menu'!H3="WSD"),"intens",IF(OR('full menu'!H3="UASC"),"nonat",""))))) -> inter | I3: =IF(OR('full menu'!I3="MDC",'full menu'!I3="PERF"),"rude",IF(OR('full menu'!I3="PCB",'full menu'!I3="AERF",'full menu'!I3="UD"),"inter",IF(OR('full menu'!I3="ACB",'full menu'!I3="LCERT",'full menu'!I3="LERT",'full menu'!I3="FCERT",'full menu'!I3="FCMT",'full menu'!I3="LCMT",'full menu'!I3="LMT",'full menu'!I3="LCIT",'full menu'!I3="FCIT",'full menu'!I3="LIT",'full menu'!I3="MwERT",'full menu'!I3="ERwMT",'full menu'!I3="M&ERT",'full menu'!I3="MwIT",'full menu'!I3="IwMT",'full menu'!I3="M&IT",'full menu'!I3="IwERT",'full menu'!I3="ERwIT",'full menu'!I3="I&ERT",'full menu'!I3="ER&M&IT",'full menu'!I3="LSD"),"subst",IF(OR('full menu'!I3="FERT",'full menu'!I3="FMT",'full menu'!I3="FIT",'full menu'!I3="WSD"),"intens",IF(OR('full menu'!I3="UASC"),"nonat",""))))) -> inter | ... AS3: =IF(OR('full menu'!AS3="MDC",'full menu'!AS3="PERF"),"rude",IF(OR('full menu'!AS3="PCB",'full menu'!AS3="AERF",'full menu'!AS3="UD"),"inter",IF(OR('full menu'!AS3="ACB",'full menu'!AS3="LCERT",'full menu'!AS3="LERT",'full menu'!AS3="FCERT",'full menu'!AS3="FCMT",'full menu'!AS3="LCMT",'full menu'!AS3="LMT",'full menu'!AS3="LCIT",'full menu'!AS3="FCIT",'full menu'!AS3="LIT",'full menu'!AS3="MwERT",'full menu'!AS3="ERwMT",'full menu'!AS3="M&ERT",'full menu'!AS3="MwIT",'full menu'!AS3="IwMT",'full menu'!AS3="M&IT",'full menu'!AS3="IwERT",'full menu'!AS3="ERwIT",'full menu'!AS3="I&ERT",'full menu'!AS3="ER&M&IT",'full menu'!AS3="LSD"),"subst",IF(OR('full menu'!AS3="FERT",'full menu'!AS3="FMT",'full menu'!AS3="FIT",'full menu'!AS3="WSD"),"intens",IF(OR('full menu'!AS3="UASC"),"nonat",""))))) -> inter
A4: Dominican Republic | B4: =IF(OR('full menu'!B4="MDC",'full menu'!B4="PERF"),"rude",IF(OR('full menu'!B4="PCB",'full menu'!B4="AERF",'full menu'!B4="UD"),"inter",IF(OR('full menu'!B4="ACB",'full menu'!B4="LCERT",'full menu'!B4="LERT",'full menu'!B4="FCERT",'full menu'!B4="FCMT",'full menu'!B4="LCMT",'full menu'!B4="LMT",'full menu'!B4="LCIT",'full menu'!B4="FCIT",'full menu'!B4="LIT",'full menu'!B4="MwERT",'full menu'!B4="ERwMT",'full menu'!B4="M&ERT",'full menu'!B4="MwIT",'full menu'!B4="IwMT",'full menu'!B4="M&IT",'full menu'!B4="IwERT",'full menu'!B4="ERwIT",'full menu'!B4="I&ERT",'full menu'!B4="ER&M&IT",'full menu'!B4="LSD"),"subst",IF(OR('full menu'!B4="FERT",'full menu'!B4="FMT",'full menu'!B4="FIT",'full menu'!B4="WSD"),"intens",IF(OR('full menu'!B4="UASC"),"nonat",""))))) -> inter | C4: =IF(OR('full menu'!C4="MDC",'full menu'!C4="PERF"),"rude",IF(OR('full menu'!C4="PCB",'full menu'!C4="AERF",'full menu'!C4="UD"),"inter",IF(OR('full menu'!C4="ACB",'full menu'!C4="LCERT",'full menu'!C4="LERT",'full menu'!C4="FCERT",'full menu'!C4="FCMT",'full menu'!C4="LCMT",'full menu'!C4="LMT",'full menu'!C4="LCIT",'full menu'!C4="FCIT",'full menu'!C4="LIT",'full menu'!C4="MwERT",'full menu'!C4="ERwMT",'full menu'!C4="M&ERT",'full menu'!C4="MwIT",'full menu'!C4="IwMT",'full menu'!C4="M&IT",'full menu'!C4="IwERT",'full menu'!C4="ERwIT",'full menu'!C4="I&ERT",'full menu'!C4="ER&M&IT",'full menu'!C4="LSD"),"subst",IF(OR('full menu'!C4="FERT",'full menu'!C4="FMT",'full menu'!C4="FIT",'full menu'!C4="WSD"),"intens",IF(OR('full menu'!C4="UASC"),"nonat",""))))) -> inter | D4: =IF(OR('full menu'!D4="MDC",'full menu'!D4="PERF"),"rude",IF(OR('full menu'!D4="PCB",'full menu'!D4="AERF",'full menu'!D4="UD"),"inter",IF(OR('full menu'!D4="ACB",'full menu'!D4="LCERT",'full menu'!D4="LERT",'full menu'!D4="FCERT",'full menu'!D4="FCMT",'full menu'!D4="LCMT",'full menu'!D4="LMT",'full menu'!D4="LCIT",'full menu'!D4="FCIT",'full menu'!D4="LIT",'full menu'!D4="MwERT",'full menu'!D4="ERwMT",'full menu'!D4="M&ERT",'full menu'!D4="MwIT",'full menu'!D4="IwMT",'full menu'!D4="M&IT",'full menu'!D4="IwERT",'full menu'!D4="ERwIT",'full menu'!D4="I&ERT",'full menu'!D4="ER&M&IT",'full menu'!D4="LSD"),"subst",IF(OR('full menu'!D4="FERT",'full menu'!D4="FMT",'full menu'!D4="FIT",'full menu'!D4="WSD"),"intens",IF(OR('full menu'!D4="UASC"),"nonat",""))))) -> inter | E4: =IF(OR('full menu'!E4="MDC",'full menu'!E4="PERF"),"rude",IF(OR('full menu'!E4="PCB",'full menu'!E4="AERF",'full menu'!E4="UD"),"inter",IF(OR('full menu'!E4="ACB",'full menu'!E4="LCERT",'full menu'!E4="LERT",'full menu'!E4="FCERT",'full menu'!E4="FCMT",'full menu'!E4="LCMT",'full menu'!E4="LMT",'full menu'!E4="LCIT",'full menu'!E4="FCIT",'full menu'!E4="LIT",'full menu'!E4="MwERT",'full menu'!E4="ERwMT",'full menu'!E4="M&ERT",'full menu'!E4="MwIT",'full menu'!E4="IwMT",'full menu'!E4="M&IT",'full menu'!E4="IwERT",'full menu'!E4="ERwIT",'full menu'!E4="I&ERT",'full menu'!E4="ER&M&IT",'full menu'!E4="LSD"),"subst",IF(OR('full menu'!E4="FERT",'full menu'!E4="FMT",'full menu'!E4="FIT",'full menu'!E4="WSD"),"intens",IF(OR('full menu'!E4="UASC"),"nonat",""))))) -> inter | F4: =IF(OR('full menu'!F4="MDC",'full menu'!F4="PERF"),"rude",IF(OR('full menu'!F4="PCB",'full menu'!F4="AERF",'full menu'!F4="UD"),"inter",IF(OR('full menu'!F4="ACB",'full menu'!F4="LCERT",'full menu'!F4="LERT",'full menu'!F4="FCERT",'full menu'!F4="FCMT",'full menu'!F4="LCMT",'full menu'!F4="LMT",'full menu'!F4="LCIT",'full menu'!F4="FCIT",'full menu'!F4="LIT",'full menu'!F4="MwERT",'full menu'!F4="ERwMT",'full menu'!F4="M&ERT",'full menu'!F4="MwIT",'full menu'!F4="IwMT",'full menu'!F4="M&IT",'full menu'!F4="IwERT",'full menu'!F4="ERwIT",'full menu'!F4="I&ERT",'full menu'!F4="ER&M&IT",'full menu'!F4="LSD"),"subst",IF(OR('full menu'!F4="FERT",'full menu'!F4="FMT",'full menu'!F4="FIT",'full menu'!F4="WSD"),"intens",IF(OR('full menu'!F4="UASC"),"nonat",""))))) -> inter | G4: =IF(OR('full menu'!G4="MDC",'full menu'!G4="PERF"),"rude",IF(OR('full menu'!G4="PCB",'full menu'!G4="AERF",'full menu'!G4="UD"),"inter",IF(OR('full menu'!G4="ACB",'full menu'!G4="LCERT",'full menu'!G4="LERT",'full menu'!G4="FCERT",'full menu'!G4="FCMT",'full menu'!G4="LCMT",'full menu'!G4="LMT",'full menu'!G4="LCIT",'full menu'!G4="FCIT",'full menu'!G4="LIT",'full menu'!G4="MwERT",'full menu'!G4="ERwMT",'full menu'!G4="M&ERT",'full menu'!G4="MwIT",'full menu'!G4="IwMT",'full menu'!G4="M&IT",'full menu'!G4="IwERT",'full menu'!G4="ERwIT",'full menu'!G4="I&ERT",'full menu'!G4="ER&M&IT",'full menu'!G4="LSD"),"subst",IF(OR('full menu'!G4="FERT",'full menu'!G4="FMT",'full menu'!G4="FIT",'full menu'!G4="WSD"),"intens",IF(OR('full menu'!G4="UASC"),"nonat",""))))) -> inter | H4: =IF(OR('full menu'!H4="MDC",'full menu'!H4="PERF"),"rude",IF(OR('full menu'!H4="PCB",'full menu'!H4="AERF",'full menu'!H4="UD"),"inter",IF(OR('full menu'!H4="ACB",'full menu'!H4="LCERT",'full menu'!H4="LERT",'full menu'!H4="FCERT",'full menu'!H4="FCMT",'full menu'!H4="LCMT",'full menu'!H4="LMT",'full menu'!H4="LCIT",'full menu'!H4="FCIT",'full menu'!H4="LIT",'full menu'!H4="MwERT",'full menu'!H4="ERwMT",'full menu'!H4="M&ERT",'full menu'!H4="MwIT",'full menu'!H4="IwMT",'full menu'!H4="M&IT",'full menu'!H4="IwERT",'full menu'!H4="ERwIT",'full menu'!H4="I&ERT",'full menu'!H4="ER&M&IT",'full menu'!H4="LSD"),"subst",IF(OR('full menu'!H4="FERT",'full menu'!H4="FMT",'full menu'!H4="FIT",'full menu'!H4="WSD"),"intens",IF(OR('full menu'!H4="UASC"),"nonat",""))))) -> inter | I4: =IF(OR('full menu'!I4="MDC",'full menu'!I4="PERF"),"rude",IF(OR('full menu'!I4="PCB",'full menu'!I4="AERF",'full menu'!I4="UD"),"inter",IF(OR('full menu'!I4="ACB",'full menu'!I4="LCERT",'full menu'!I4="LERT",'full menu'!I4="FCERT",'full menu'!I4="FCMT",'full menu'!I4="LCMT",'full menu'!I4="LMT",'full menu'!I4="LCIT",'full menu'!I4="FCIT",'full menu'!I4="LIT",'full menu'!I4="MwERT",'full menu'!I4="ERwMT",'full menu'!I4="M&ERT",'full menu'!I4="MwIT",'full menu'!I4="IwMT",'full menu'!I4="M&IT",'full menu'!I4="IwERT",'full menu'!I4="ERwIT",'full menu'!I4="I&ERT",'full menu'!I4="ER&M&IT",'full menu'!I4="LSD"),"subst",IF(OR('full menu'!I4="FERT",'full menu'!I4="FMT",'full menu'!I4="FIT",'full menu'!I4="WSD"),"intens",IF(OR('full menu'!I4="UASC"),"nonat",""))))) -> inter | ... AS4: =IF(OR('full menu'!AS4="MDC",'full menu'!AS4="PERF"),"rude",IF(OR('full menu'!AS4="PCB",'full menu'!AS4="AERF",'full menu'!AS4="UD"),"inter",IF(OR('full menu'!AS4="ACB",'full menu'!AS4="LCERT",'full menu'!AS4="LERT",'full menu'!AS4="FCERT",'full menu'!AS4="FCMT",'full menu'!AS4="LCMT",'full menu'!AS4="LMT",'full menu'!AS4="LCIT",'full menu'!AS4="FCIT",'full menu'!AS4="LIT",'full menu'!AS4="MwERT",'full menu'!AS4="ERwMT",'full menu'!AS4="M&ERT",'full menu'!AS4="MwIT",'full menu'!AS4="IwMT",'full menu'!AS4="M&IT",'full menu'!AS4="IwERT",'full menu'!AS4="ERwIT",'full menu'!AS4="I&ERT",'full menu'!AS4="ER&M&IT",'full menu'!AS4="LSD"),"subst",IF(OR('full menu'!AS4="FERT",'full menu'!AS4="FMT",'full menu'!AS4="FIT",'full menu'!AS4="WSD"),"intens",IF(OR('full menu'!AS4="UASC"),"nonat",""))))) -> subst
A5: ECCU | B5: =IF(OR('full menu'!B5="MDC",'full menu'!B5="PERF"),"rude",IF(OR('full menu'!B5="PCB",'full menu'!B5="AERF",'full menu'!B5="UD"),"inter",IF(OR('full menu'!B5="ACB",'full menu'!B5="LCERT",'full menu'!B5="LERT",'full menu'!B5="FCERT",'full menu'!B5="FCMT",'full menu'!B5="LCMT",'full menu'!B5="LMT",'full menu'!B5="LCIT",'full menu'!B5="FCIT",'full menu'!B5="LIT",'full menu'!B5="MwERT",'full menu'!B5="ERwMT",'full menu'!B5="M&ERT",'full menu'!B5="MwIT",'full menu'!B5="IwMT",'full menu'!B5="M&IT",'full menu'!B5="IwERT",'full menu'!B5="ERwIT",'full menu'!B5="I&ERT",'full menu'!B5="ER&M&IT",'full menu'!B5="LSD"),"subst",IF(OR('full menu'!B5="FERT",'full menu'!B5="FMT",'full menu'!B5="FIT",'full menu'!B5="WSD"),"intens",IF(OR('full menu'!B5="UASC"),"nonat",""))))) -> inter | C5: =IF(OR('full menu'!C5="MDC",'full menu'!C5="PERF"),"rude",IF(OR('full menu'!C5="PCB",'full menu'!C5="AERF",'full menu'!C5="UD"),"inter",IF(OR('full menu'!C5="ACB",'full menu'!C5="LCERT",'full menu'!C5="LERT",'full menu'!C5="FCERT",'full menu'!C5="FCMT",'full menu'!C5="LCMT",'full menu'!C5="LMT",'full menu'!C5="LCIT",'full menu'!C5="FCIT",'full menu'!C5="LIT",'full menu'!C5="MwERT",'full menu'!C5="ERwMT",'full menu'!C5="M&ERT",'full menu'!C5="MwIT",'full menu'!C5="IwMT",'full menu'!C5="M&IT",'full menu'!C5="IwERT",'full menu'!C5="ERwIT",'full menu'!C5="I&ERT",'full menu'!C5="ER&M&IT",'full menu'!C5="LSD"),"subst",IF(OR('full menu'!C5="FERT",'full menu'!C5="FMT",'full menu'!C5="FIT",'full menu'!C5="WSD"),"intens",IF(OR('full menu'!C5="UASC"),"nonat",""))))) -> inter | D5: =IF(OR('full menu'!D5="MDC",'full menu'!D5="PERF"),"rude",IF(OR('full menu'!D5="PCB",'full menu'!D5="AERF",'full menu'!D5="UD"),"inter",IF(OR('full menu'!D5="ACB",'full menu'!D5="LCERT",'full menu'!D5="LERT",'full menu'!D5="FCERT",'full menu'!D5="FCMT",'full menu'!D5="LCMT",'full menu'!D5="LMT",'full menu'!D5="LCIT",'full menu'!D5="FCIT",'full menu'!D5="LIT",'full menu'!D5="MwERT",'full menu'!D5="ERwMT",'full menu'!D5="M&ERT",'full menu'!D5="MwIT",'full menu'!D5="IwMT",'full menu'!D5="M&IT",'full menu'!D5="IwERT",'full menu'!D5="ERwIT",'full menu'!D5="I&ERT",'full menu'!D5="ER&M&IT",'full menu'!D5="LSD"),"subst",IF(OR('full menu'!D5="FERT",'full menu'!D5="FMT",'full menu'!D5="FIT",'full menu'!D5="WSD"),"intens",IF(OR('full menu'!D5="UASC"),"nonat",""))))) -> inter | E5: =IF(OR('full menu'!E5="MDC",'full menu'!E5="PERF"),"rude",IF(OR('full menu'!E5="PCB",'full menu'!E5="AERF",'full menu'!E5="UD"),"inter",IF(OR('full menu'!E5="ACB",'full menu'!E5="LCERT",'full menu'!E5="LERT",'full menu'!E5="FCERT",'full menu'!E5="FCMT",'full menu'!E5="LCMT",'full menu'!E5="LMT",'full menu'!E5="LCIT",'full menu'!E5="FCIT",'full menu'!E5="LIT",'full menu'!E5="MwERT",'full menu'!E5="ERwMT",'full menu'!E5="M&ERT",'full menu'!E5="MwIT",'full menu'!E5="IwMT",'full menu'!E5="M&IT",'full menu'!E5="IwERT",'full menu'!E5="ERwIT",'full menu'!E5="I&ERT",'full menu'!E5="ER&M&IT",'full menu'!E5="LSD"),"subst",IF(OR('full menu'!E5="FERT",'full menu'!E5="FMT",'full menu'!E5="FIT",'full menu'!E5="WSD"),"intens",IF(OR('full menu'!E5="UASC"),"nonat",""))))) -> inter | F5: =IF(OR('full menu'!F5="MDC",'full menu'!F5="PERF"),"rude",IF(OR('full menu'!F5="PCB",'full menu'!F5="AERF",'full menu'!F5="UD"),"inter",IF(OR('full menu'!F5="ACB",'full menu'!F5="LCERT",'full menu'!F5="LERT",'full menu'!F5="FCERT",'full menu'!F5="FCMT",'full menu'!F5="LCMT",'full menu'!F5="LMT",'full menu'!F5="LCIT",'full menu'!F5="FCIT",'full menu'!F5="LIT",'full menu'!F5="MwERT",'full menu'!F5="ERwMT",'full menu'!F5="M&ERT",'full menu'!F5="MwIT",'full menu'!F5="IwMT",'full menu'!F5="M&IT",'full menu'!F5="IwERT",'full menu'!F5="ERwIT",'full menu'!F5="I&ERT",'full menu'!F5="ER&M&IT",'full menu'!F5="LSD"),"subst",IF(OR('full menu'!F5="FERT",'full menu'!F5="FMT",'full menu'!F5="FIT",'full menu'!F5="WSD"),"intens",IF(OR('full menu'!F5="UASC"),"nonat",""))))) -> inter | G5: =IF(OR('full menu'!G5="MDC",'full menu'!G5="PERF"),"rude",IF(OR('full menu'!G5="PCB",'full menu'!G5="AERF",'full menu'!G5="UD"),"inter",IF(OR('full menu'!G5="ACB",'full menu'!G5="LCERT",'full menu'!G5="LERT",'full menu'!G5="FCERT",'full menu'!G5="FCMT",'full menu'!G5="LCMT",'full menu'!G5="LMT",'full menu'!G5="LCIT",'full menu'!G5="FCIT",'full menu'!G5="LIT",'full menu'!G5="MwERT",'full menu'!G5="ERwMT",'full menu'!G5="M&ERT",'full menu'!G5="MwIT",'full menu'!G5="IwMT",'full menu'!G5="M&IT",'full menu'!G5="IwERT",'full menu'!G5="ERwIT",'full menu'!G5="I&ERT",'full menu'!G5="ER&M&IT",'full menu'!G5="LSD"),"subst",IF(OR('full menu'!G5="FERT",'full menu'!G5="FMT",'full menu'!G5="FIT",'full menu'!G5="WSD"),"intens",IF(OR('full menu'!G5="UASC"),"nonat",""))))) -> inter | H5: =IF(OR('full menu'!H5="MDC",'full menu'!H5="PERF"),"rude",IF(OR('full menu'!H5="PCB",'full menu'!H5="AERF",'full menu'!H5="UD"),"inter",IF(OR('full menu'!H5="ACB",'full menu'!H5="LCERT",'full menu'!H5="LERT",'full menu'!H5="FCERT",'full menu'!H5="FCMT",'full menu'!H5="LCMT",'full menu'!H5="LMT",'full menu'!H5="LCIT",'full menu'!H5="FCIT",'full menu'!H5="LIT",'full menu'!H5="MwERT",'full menu'!H5="ERwMT",'full menu'!H5="M&ERT",'full menu'!H5="MwIT",'full menu'!H5="IwMT",'full menu'!H5="M&IT",'full menu'!H5="IwERT",'full menu'!H5="ERwIT",'full menu'!H5="I&ERT",'full menu'!H5="ER&M&IT",'full menu'!H5="LSD"),"subst",IF(OR('full menu'!H5="FERT",'full menu'!H5="FMT",'full menu'!H5="FIT",'full menu'!H5="WSD"),"intens",IF(OR('full menu'!H5="UASC"),"nonat",""))))) -> inter | I5: =IF(OR('full menu'!I5="MDC",'full menu'!I5="PERF"),"rude",IF(OR('full menu'!I5="PCB",'full menu'!I5="AERF",'full menu'!I5="UD"),"inter",IF(OR('full menu'!I5="ACB",'full menu'!I5="LCERT",'full menu'!I5="LERT",'full menu'!I5="FCERT",'full menu'!I5="FCMT",'full menu'!I5="LCMT",'full menu'!I5="LMT",'full menu'!I5="LCIT",'full menu'!I5="FCIT",'full menu'!I5="LIT",'full menu'!I5="MwERT",'full menu'!I5="ERwMT",'full menu'!I5="M&ERT",'full menu'!I5="MwIT",'full menu'!I5="IwMT",'full menu'!I5="M&IT",'full menu'!I5="IwERT",'full menu'!I5="ERwIT",'full menu'!I5="I&ERT",'full menu'!I5="ER&M&IT",'full menu'!I5="LSD"),"subst",IF(OR('full menu'!I5="FERT",'full menu'!I5="FMT",'full menu'!I5="FIT",'full menu'!I5="WSD"),"intens",IF(OR('full menu'!I5="UASC"),"nonat",""))))) -> inter | ... AS5: =IF(OR('full menu'!AS5="MDC",'full menu'!AS5="PERF"),"rude",IF(OR('full menu'!AS5="PCB",'full menu'!AS5="AERF",'full menu'!AS5="UD"),"inter",IF(OR('full menu'!AS5="ACB",'full menu'!AS5="LCERT",'full menu'!AS5="LERT",'full menu'!AS5="FCERT",'full menu'!AS5="FCMT",'full menu'!AS5="LCMT",'full menu'!AS5="LMT",'full menu'!AS5="LCIT",'full menu'!AS5="FCIT",'full menu'!AS5="LIT",'full menu'!AS5="MwERT",'full menu'!AS5="ERwMT",'full menu'!AS5="M&ERT",'full menu'!AS5="MwIT",'full menu'!AS5="IwMT",'full menu'!AS5="M&IT",'full menu'!AS5="IwERT",'full menu'!AS5="ERwIT",'full menu'!AS5="I&ERT",'full menu'!AS5="ER&M&IT",'full menu'!AS5="LSD"),"subst",IF(OR('full menu'!AS5="FERT",'full menu'!AS5="FMT",'full menu'!AS5="FIT",'full menu'!AS5="WSD"),"intens",IF(OR('full menu'!AS5="UASC"),"nonat",""))))) -> subst
A6: Haiti | B6: =IF(OR('full menu'!B6="MDC",'full menu'!B6="PERF"),"rude",IF(OR('full menu'!B6="PCB",'full menu'!B6="AERF",'full menu'!B6="UD"),"inter",IF(OR('full menu'!B6="ACB",'full menu'!B6="LCERT",'full menu'!B6="LERT",'full menu'!B6="FCERT",'full menu'!B6="FCMT",'full menu'!B6="LCMT",'full menu'!B6="LMT",'full menu'!B6="LCIT",'full menu'!B6="FCIT",'full menu'!B6="LIT",'full menu'!B6="MwERT",'full menu'!B6="ERwMT",'full menu'!B6="M&ERT",'full menu'!B6="MwIT",'full menu'!B6="IwMT",'full menu'!B6="M&IT",'full menu'!B6="IwERT",'full menu'!B6="ERwIT",'full menu'!B6="I&ERT",'full menu'!B6="ER&M&IT",'full menu'!B6="LSD"),"subst",IF(OR('full menu'!B6="FERT",'full menu'!B6="FMT",'full menu'!B6="FIT",'full menu'!B6="WSD"),"intens",IF(OR('full menu'!B6="UASC"),"nonat",""))))) -> inter | C6: =IF(OR('full menu'!C6="MDC",'full menu'!C6="PERF"),"rude",IF(OR('full menu'!C6="PCB",'full menu'!C6="AERF",'full menu'!C6="UD"),"inter",IF(OR('full menu'!C6="ACB",'full menu'!C6="LCERT",'full menu'!C6="LERT",'full menu'!C6="FCERT",'full menu'!C6="FCMT",'full menu'!C6="LCMT",'full menu'!C6="LMT",'full menu'!C6="LCIT",'full menu'!C6="FCIT",'full menu'!C6="LIT",'full menu'!C6="MwERT",'full menu'!C6="ERwMT",'full menu'!C6="M&ERT",'full menu'!C6="MwIT",'full menu'!C6="IwMT",'full menu'!C6="M&IT",'full menu'!C6="IwERT",'full menu'!C6="ERwIT",'full menu'!C6="I&ERT",'full menu'!C6="ER&M&IT",'full menu'!C6="LSD"),"subst",IF(OR('full menu'!C6="FERT",'full menu'!C6="FMT",'full menu'!C6="FIT",'full menu'!C6="WSD"),"intens",IF(OR('full menu'!C6="UASC"),"nonat",""))))) -> inter | D6: =IF(OR('full menu'!D6="MDC",'full menu'!D6="PERF"),"rude",IF(OR('full menu'!D6="PCB",'full menu'!D6="AERF",'full menu'!D6="UD"),"inter",IF(OR('full menu'!D6="ACB",'full menu'!D6="LCERT",'full menu'!D6="LERT",'full menu'!D6="FCERT",'full menu'!D6="FCMT",'full menu'!D6="LCMT",'full menu'!D6="LMT",'full menu'!D6="LCIT",'full menu'!D6="FCIT",'full menu'!D6="LIT",'full menu'!D6="MwERT",'full menu'!D6="ERwMT",'full menu'!D6="M&ERT",'full menu'!D6="MwIT",'full menu'!D6="IwMT",'full menu'!D6="M&IT",'full menu'!D6="IwERT",'full menu'!D6="ERwIT",'full menu'!D6="I&ERT",'full menu'!D6="ER&M&IT",'full menu'!D6="LSD"),"subst",IF(OR('full menu'!D6="FERT",'full menu'!D6="FMT",'full menu'!D6="FIT",'full menu'!D6="WSD"),"intens",IF(OR('full menu'!D6="UASC"),"nonat",""))))) -> inter | E6: =IF(OR('full menu'!E6="MDC",'full menu'!E6="PERF"),"rude",IF(OR('full menu'!E6="PCB",'full menu'!E6="AERF",'full menu'!E6="UD"),"inter",IF(OR('full menu'!E6="ACB",'full menu'!E6="LCERT",'full menu'!E6="LERT",'full menu'!E6="FCERT",'full menu'!E6="FCMT",'full menu'!E6="LCMT",'full menu'!E6="LMT",'full menu'!E6="LCIT",'full menu'!E6="FCIT",'full menu'!E6="LIT",'full menu'!E6="MwERT",'full menu'!E6="ERwMT",'full menu'!E6="M&ERT",'full menu'!E6="MwIT",'full menu'!E6="IwMT",'full menu'!E6="M&IT",'full menu'!E6="IwERT",'full menu'!E6="ERwIT",'full menu'!E6="I&ERT",'full menu'!E6="ER&M&IT",'full menu'!E6="LSD"),"subst",IF(OR('full menu'!E6="FERT",'full menu'!E6="FMT",'full menu'!E6="FIT",'full menu'!E6="WSD"),"intens",IF(OR('full menu'!E6="UASC"),"nonat",""))))) -> inter | F6: =IF(OR('full menu'!F6="MDC",'full menu'!F6="PERF"),"rude",IF(OR('full menu'!F6="PCB",'full menu'!F6="AERF",'full menu'!F6="UD"),"inter",IF(OR('full menu'!F6="ACB",'full menu'!F6="LCERT",'full menu'!F6="LERT",'full menu'!F6="FCERT",'full menu'!F6="FCMT",'full menu'!F6="LCMT",'full menu'!F6="LMT",'full menu'!F6="LCIT",'full menu'!F6="FCIT",'full menu'!F6="LIT",'full menu'!F6="MwERT",'full menu'!F6="ERwMT",'full menu'!F6="M&ERT",'full menu'!F6="MwIT",'full menu'!F6="IwMT",'full menu'!F6="M&IT",'full menu'!F6="IwERT",'full menu'!F6="ERwIT",'full menu'!F6="I&ERT",'full menu'!F6="ER&M&IT",'full menu'!F6="LSD"),"subst",IF(OR('full menu'!F6="FERT",'full menu'!F6="FMT",'full menu'!F6="FIT",'full menu'!F6="WSD"),"intens",IF(OR('full menu'!F6="UASC"),"nonat",""))))) -> inter | G6: =IF(OR('full menu'!G6="MDC",'full menu'!G6="PERF"),"rude",IF(OR('full menu'!G6="PCB",'full menu'!G6="AERF",'full menu'!G6="UD"),"inter",IF(OR('full menu'!G6="ACB",'full menu'!G6="LCERT",'full menu'!G6="LERT",'full menu'!G6="FCERT",'full menu'!G6="FCMT",'full menu'!G6="LCMT",'full menu'!G6="LMT",'full menu'!G6="LCIT",'full menu'!G6="FCIT",'full menu'!G6="LIT",'full menu'!G6="MwERT",'full menu'!G6="ERwMT",'full menu'!G6="M&ERT",'full menu'!G6="MwIT",'full menu'!G6="IwMT",'full menu'!G6="M&IT",'full menu'!G6="IwERT",'full menu'!G6="ERwIT",'full menu'!G6="I&ERT",'full menu'!G6="ER&M&IT",'full menu'!G6="LSD"),"subst",IF(OR('full menu'!G6="FERT",'full menu'!G6="FMT",'full menu'!G6="FIT",'full menu'!G6="WSD"),"intens",IF(OR('full menu'!G6="UASC"),"nonat",""))))) -> inter | H6: =IF(OR('full menu'!H6="MDC",'full menu'!H6="PERF"),"rude",IF(OR('full menu'!H6="PCB",'full menu'!H6="AERF",'full menu'!H6="UD"),"inter",IF(OR('full menu'!H6="ACB",'full menu'!H6="LCERT",'full menu'!H6="LERT",'full menu'!H6="FCERT",'full menu'!H6="FCMT",'full menu'!H6="LCMT",'full menu'!H6="LMT",'full menu'!H6="LCIT",'full menu'!H6="FCIT",'full menu'!H6="LIT",'full menu'!H6="MwERT",'full menu'!H6="ERwMT",'full menu'!H6="M&ERT",'full menu'!H6="MwIT",'full menu'!H6="IwMT",'full menu'!H6="M&IT",'full menu'!H6="IwERT",'full menu'!H6="ERwIT",'full menu'!H6="I&ERT",'full menu'!H6="ER&M&IT",'full menu'!H6="LSD"),"subst",IF(OR('full menu'!H6="FERT",'full menu'!H6="FMT",'full menu'!H6="FIT",'full menu'!H6="WSD"),"intens",IF(OR('full menu'!H6="UASC"),"nonat",""))))) -> inter | I6: =IF(OR('full menu'!I6="MDC",'full menu'!I6="PERF"),"rude",IF(OR('full menu'!I6="PCB",'full menu'!I6="AERF",'full menu'!I6="UD"),"inter",IF(OR('full menu'!I6="ACB",'full menu'!I6="LCERT",'full menu'!I6="LERT",'full menu'!I6="FCERT",'full menu'!I6="FCMT",'full menu'!I6="LCMT",'full menu'!I6="LMT",'full menu'!I6="LCIT",'full menu'!I6="FCIT",'full menu'!I6="LIT",'full menu'!I6="MwERT",'full menu'!I6="ERwMT",'full menu'!I6="M&ERT",'full menu'!I6="MwIT",'full menu'!I6="IwMT",'full menu'!I6="M&IT",'full menu'!I6="IwERT",'full menu'!I6="ERwIT",'full menu'!I6="I&ERT",'full menu'!I6="ER&M&IT",'full menu'!I6="LSD"),"subst",IF(OR('full menu'!I6="FERT",'full menu'!I6="FMT",'full menu'!I6="FIT",'full menu'!I6="WSD"),"intens",IF(OR('full menu'!I6="UASC"),"nonat",""))))) -> inter | ... AS6: =IF(OR('full menu'!AS6="MDC",'full menu'!AS6="PERF"),"rude",IF(OR('full menu'!AS6="PCB",'full menu'!AS6="AERF",'full menu'!AS6="UD"),"inter",IF(OR('full menu'!AS6="ACB",'full menu'!AS6="LCERT",'full menu'!AS6="LERT",'full menu'!AS6="FCERT",'full menu'!AS6="FCMT",'full menu'!AS6="LCMT",'full menu'!AS6="LMT",'full menu'!AS6="LCIT",'full menu'!AS6="FCIT",'full menu'!AS6="LIT",'full menu'!AS6="MwERT",'full menu'!AS6="ERwMT",'full menu'!AS6="M&ERT",'full menu'!AS6="MwIT",'full menu'!AS6="IwMT",'full menu'!AS6="M&IT",'full menu'!AS6="IwERT",'full menu'!AS6="ERwIT",'full menu'!AS6="I&ERT",'full menu'!AS6="ER&M&IT",'full menu'!AS6="LSD"),"subst",IF(OR('full menu'!AS6="FERT",'full menu'!AS6="FMT",'full menu'!AS6="FIT",'full menu'!AS6="WSD"),"intens",IF(OR('full menu'!AS6="UASC"),"nonat",""))))) -> subst
A7: Jamaica | B7: =IF(OR('full menu'!B7="MDC",'full menu'!B7="PERF"),"rude",IF(OR('full menu'!B7="PCB",'full menu'!B7="AERF",'full menu'!B7="UD"),"inter",IF(OR('full menu'!B7="ACB",'full menu'!B7="LCERT",'full menu'!B7="LERT",'full menu'!B7="FCERT",'full menu'!B7="FCMT",'full menu'!B7="LCMT",'full menu'!B7="LMT",'full menu'!B7="LCIT",'full menu'!B7="FCIT",'full menu'!B7="LIT",'full menu'!B7="MwERT",'full menu'!B7="ERwMT",'full menu'!B7="M&ERT",'full menu'!B7="MwIT",'full menu'!B7="IwMT",'full menu'!B7="M&IT",'full menu'!B7="IwERT",'full menu'!B7="ERwIT",'full menu'!B7="I&ERT",'full menu'!B7="ER&M&IT",'full menu'!B7="LSD"),"subst",IF(OR('full menu'!B7="FERT",'full menu'!B7="FMT",'full menu'!B7="FIT",'full menu'!B7="WSD"),"intens",IF(OR('full menu'!B7="UASC"),"nonat",""))))) -> inter | C7: =IF(OR('full menu'!C7="MDC",'full menu'!C7="PERF"),"rude",IF(OR('full menu'!C7="PCB",'full menu'!C7="AERF",'full menu'!C7="UD"),"inter",IF(OR('full menu'!C7="ACB",'full menu'!C7="LCERT",'full menu'!C7="LERT",'full menu'!C7="FCERT",'full menu'!C7="FCMT",'full menu'!C7="LCMT",'full menu'!C7="LMT",'full menu'!C7="LCIT",'full menu'!C7="FCIT",'full menu'!C7="LIT",'full menu'!C7="MwERT",'full menu'!C7="ERwMT",'full menu'!C7="M&ERT",'full menu'!C7="MwIT",'full menu'!C7="IwMT",'full menu'!C7="M&IT",'full menu'!C7="IwERT",'full menu'!C7="ERwIT",'full menu'!C7="I&ERT",'full menu'!C7="ER&M&IT",'full menu'!C7="LSD"),"subst",IF(OR('full menu'!C7="FERT",'full menu'!C7="FMT",'full menu'!C7="FIT",'full menu'!C7="WSD"),"intens",IF(OR('full menu'!C7="UASC"),"nonat",""))))) -> inter | D7: =IF(OR('full menu'!D7="MDC",'full menu'!D7="PERF"),"rude",IF(OR('full menu'!D7="PCB",'full menu'!D7="AERF",'full menu'!D7="UD"),"inter",IF(OR('full menu'!D7="ACB",'full menu'!D7="LCERT",'full menu'!D7="LERT",'full menu'!D7="FCERT",'full menu'!D7="FCMT",'full menu'!D7="LCMT",'full menu'!D7="LMT",'full menu'!D7="LCIT",'full menu'!D7="FCIT",'full menu'!D7="LIT",'full menu'!D7="MwERT",'full menu'!D7="ERwMT",'full menu'!D7="M&ERT",'full menu'!D7="MwIT",'full menu'!D7="IwMT",'full menu'!D7="M&IT",'full menu'!D7="IwERT",'full menu'!D7="ERwIT",'full menu'!D7="I&ERT",'full menu'!D7="ER&M&IT",'full menu'!D7="LSD"),"subst",IF(OR('full menu'!D7="FERT",'full menu'!D7="FMT",'full menu'!D7="FIT",'full menu'!D7="WSD"),"intens",IF(OR('full menu'!D7="UASC"),"nonat",""))))) -> inter | E7: =IF(OR('full menu'!E7="MDC",'full menu'!E7="PERF"),"rude",IF(OR('full menu'!E7="PCB",'full menu'!E7="AERF",'full menu'!E7="UD"),"inter",IF(OR('full menu'!E7="ACB",'full menu'!E7="LCERT",'full menu'!E7="LERT",'full menu'!E7="FCERT",'full menu'!E7="FCMT",'full menu'!E7="LCMT",'full menu'!E7="LMT",'full menu'!E7="LCIT",'full menu'!E7="FCIT",'full menu'!E7="LIT",'full menu'!E7="MwERT",'full menu'!E7="ERwMT",'full menu'!E7="M&ERT",'full menu'!E7="MwIT",'full menu'!E7="IwMT",'full menu'!E7="M&IT",'full menu'!E7="IwERT",'full menu'!E7="ERwIT",'full menu'!E7="I&ERT",'full menu'!E7="ER&M&IT",'full menu'!E7="LSD"),"subst",IF(OR('full menu'!E7="FERT",'full menu'!E7="FMT",'full menu'!E7="FIT",'full menu'!E7="WSD"),"intens",IF(OR('full menu'!E7="UASC"),"nonat",""))))) -> subst | F7: =IF(OR('full menu'!F7="MDC",'full menu'!F7="PERF"),"rude",IF(OR('full menu'!F7="PCB",'full menu'!F7="AERF",'full menu'!F7="UD"),"inter",IF(OR('full menu'!F7="ACB",'full menu'!F7="LCERT",'full menu'!F7="LERT",'full menu'!F7="FCERT",'full menu'!F7="FCMT",'full menu'!F7="LCMT",'full menu'!F7="LMT",'full menu'!F7="LCIT",'full menu'!F7="FCIT",'full menu'!F7="LIT",'full menu'!F7="MwERT",'full menu'!F7="ERwMT",'full menu'!F7="M&ERT",'full menu'!F7="MwIT",'full menu'!F7="IwMT",'full menu'!F7="M&IT",'full menu'!F7="IwERT",'full menu'!F7="ERwIT",'full menu'!F7="I&ERT",'full menu'!F7="ER&M&IT",'full menu'!F7="LSD"),"subst",IF(OR('full menu'!F7="FERT",'full menu'!F7="FMT",'full menu'!F7="FIT",'full menu'!F7="WSD"),"intens",IF(OR('full menu'!F7="UASC"),"nonat",""))))) -> subst | G7: =IF(OR('full menu'!G7="MDC",'full menu'!G7="PERF"),"rude",IF(OR('full menu'!G7="PCB",'full menu'!G7="AERF",'full menu'!G7="UD"),"inter",IF(OR('full menu'!G7="ACB",'full menu'!G7="LCERT",'full menu'!G7="LERT",'full menu'!G7="FCERT",'full menu'!G7="FCMT",'full menu'!G7="LCMT",'full menu'!G7="LMT",'full menu'!G7="LCIT",'full menu'!G7="FCIT",'full menu'!G7="LIT",'full menu'!G7="MwERT",'full menu'!G7="ERwMT",'full menu'!G7="M&ERT",'full menu'!G7="MwIT",'full menu'!G7="IwMT",'full menu'!G7="M&IT",'full menu'!G7="IwERT",'full menu'!G7="ERwIT",'full menu'!G7="I&ERT",'full menu'!G7="ER&M&IT",'full menu'!G7="LSD"),"subst",IF(OR('full menu'!G7="FERT",'full menu'!G7="FMT",'full menu'!G7="FIT",'full menu'!G7="WSD"),"intens",IF(OR('full menu'!G7="UASC"),"nonat",""))))) -> subst | H7: =IF(OR('full menu'!H7="MDC",'full menu'!H7="PERF"),"rude",IF(OR('full menu'!H7="PCB",'full menu'!H7="AERF",'full menu'!H7="UD"),"inter",IF(OR('full menu'!H7="ACB",'full menu'!H7="LCERT",'full menu'!H7="LERT",'full menu'!H7="FCERT",'full menu'!H7="FCMT",'full menu'!H7="LCMT",'full menu'!H7="LMT",'full menu'!H7="LCIT",'full menu'!H7="FCIT",'full menu'!H7="LIT",'full menu'!H7="MwERT",'full menu'!H7="ERwMT",'full menu'!H7="M&ERT",'full menu'!H7="MwIT",'full menu'!H7="IwMT",'full menu'!H7="M&IT",'full menu'!H7="IwERT",'full menu'!H7="ERwIT",'full menu'!H7="I&ERT",'full menu'!H7="ER&M&IT",'full menu'!H7="LSD"),"subst",IF(OR('full menu'!H7="FERT",'full menu'!H7="FMT",'full menu'!H7="FIT",'full menu'!H7="WSD"),"intens",IF(OR('full menu'!H7="UASC"),"nonat",""))))) -> subst | I7: =IF(OR('full menu'!I7="MDC",'full menu'!I7="PERF"),"rude",IF(OR('full menu'!I7="PCB",'full menu'!I7="AERF",'full menu'!I7="UD"),"inter",IF(OR('full menu'!I7="ACB",'full menu'!I7="LCERT",'full menu'!I7="LERT",'full menu'!I7="FCERT",'full menu'!I7="FCMT",'full menu'!I7="LCMT",'full menu'!I7="LMT",'full menu'!I7="LCIT",'full menu'!I7="FCIT",'full menu'!I7="LIT",'full menu'!I7="MwERT",'full menu'!I7="ERwMT",'full menu'!I7="M&ERT",'full menu'!I7="MwIT",'full menu'!I7="IwMT",'full menu'!I7="M&IT",'full menu'!I7="IwERT",'full menu'!I7="ERwIT",'full menu'!I7="I&ERT",'full menu'!I7="ER&M&IT",'full menu'!I7="LSD"),"subst",IF(OR('full menu'!I7="FERT",'full menu'!I7="FMT",'full menu'!I7="FIT",'full menu'!I7="WSD"),"intens",IF(OR('full menu'!I7="UASC"),"nonat",""))))) -> subst | ... AS7: =IF(OR('full menu'!AS7="MDC",'full menu'!AS7="PERF"),"rude",IF(OR('full menu'!AS7="PCB",'full menu'!AS7="AERF",'full menu'!AS7="UD"),"inter",IF(OR('full menu'!AS7="ACB",'full menu'!AS7="LCERT",'full menu'!AS7="LERT",'full menu'!AS7="FCERT",'full menu'!AS7="FCMT",'full menu'!AS7="LCMT",'full menu'!AS7="LMT",'full menu'!AS7="LCIT",'full menu'!AS7="FCIT",'full menu'!AS7="LIT",'full menu'!AS7="MwERT",'full menu'!AS7="ERwMT",'full menu'!AS7="M&ERT",'full menu'!AS7="MwIT",'full menu'!AS7="IwMT",'full menu'!AS7="M&IT",'full menu'!AS7="IwERT",'full menu'!AS7="ERwIT",'full menu'!AS7="I&ERT",'full menu'!AS7="ER&M&IT",'full menu'!AS7="LSD"),"subst",IF(OR('full menu'!AS7="FERT",'full menu'!AS7="FMT",'full menu'!AS7="FIT",'full menu'!AS7="WSD"),"intens",IF(OR('full menu'!AS7="UASC"),"nonat",""))))) -> subst
A8: Trinidad & Tobago | B8: =IF(OR('full menu'!B8="MDC",'full menu'!B8="PERF"),"rude",IF(OR('full menu'!B8="PCB",'full menu'!B8="AERF",'full menu'!B8="UD"),"inter",IF(OR('full menu'!B8="ACB",'full menu'!B8="LCERT",'full menu'!B8="LERT",'full menu'!B8="FCERT",'full menu'!B8="FCMT",'full menu'!B8="LCMT",'full menu'!B8="LMT",'full menu'!B8="LCIT",'full menu'!B8="FCIT",'full menu'!B8="LIT",'full menu'!B8="MwERT",'full menu'!B8="ERwMT",'full menu'!B8="M&ERT",'full menu'!B8="MwIT",'full menu'!B8="IwMT",'full menu'!B8="M&IT",'full menu'!B8="IwERT",'full menu'!B8="ERwIT",'full menu'!B8="I&ERT",'full menu'!B8="ER&M&IT",'full menu'!B8="LSD"),"subst",IF(OR('full menu'!B8="FERT",'full menu'!B8="FMT",'full menu'!B8="FIT",'full menu'!B8="WSD"),"intens",IF(OR('full menu'!B8="UASC"),"nonat",""))))) -> inter | C8: =IF(OR('full menu'!C8="MDC",'full menu'!C8="PERF"),"rude",IF(OR('full menu'!C8="PCB",'full menu'!C8="AERF",'full menu'!C8="UD"),"inter",IF(OR('full menu'!C8="ACB",'full menu'!C8="LCERT",'full menu'!C8="LERT",'full menu'!C8="FCERT",'full menu'!C8="FCMT",'full menu'!C8="LCMT",'full menu'!C8="LMT",'full menu'!C8="LCIT",'full menu'!C8="FCIT",'full menu'!C8="LIT",'full menu'!C8="MwERT",'full menu'!C8="ERwMT",'full menu'!C8="M&ERT",'full menu'!C8="MwIT",'full menu'!C8="IwMT",'full menu'!C8="M&IT",'full menu'!C8="IwERT",'full menu'!C8="ERwIT",'full menu'!C8="I&ERT",'full menu'!C8="ER&M&IT",'full menu'!C8="LSD"),"subst",IF(OR('full menu'!C8="FERT",'full menu'!C8="FMT",'full menu'!C8="FIT",'full menu'!C8="WSD"),"intens",IF(OR('full menu'!C8="UASC"),"nonat",""))))) -> inter | D8: =IF(OR('full menu'!D8="MDC",'full menu'!D8="PERF"),"rude",IF(OR('full menu'!D8="PCB",'full menu'!D8="AERF",'full menu'!D8="UD"),"inter",IF(OR('full menu'!D8="ACB",'full menu'!D8="LCERT",'full menu'!D8="LERT",'full menu'!D8="FCERT",'full menu'!D8="FCMT",'full menu'!D8="LCMT",'full menu'!D8="LMT",'full menu'!D8="LCIT",'full menu'!D8="FCIT",'full menu'!D8="LIT",'full menu'!D8="MwERT",'full menu'!D8="ERwMT",'full menu'!D8="M&ERT",'full menu'!D8="MwIT",'full menu'!D8="IwMT",'full menu'!D8="M&IT",'full menu'!D8="IwERT",'full menu'!D8="ERwIT",'full menu'!D8="I&ERT",'full menu'!D8="ER&M&IT",'full menu'!D8="LSD"),"subst",IF(OR('full menu'!D8="FERT",'full menu'!D8="FMT",'full menu'!D8="FIT",'full menu'!D8="WSD"),"intens",IF(OR('full menu'!D8="UASC"),"nonat",""))))) -> inter | E8: =IF(OR('full menu'!E8="MDC",'full menu'!E8="PERF"),"rude",IF(OR('full menu'!E8="PCB",'full menu'!E8="AERF",'full menu'!E8="UD"),"inter",IF(OR('full menu'!E8="ACB",'full menu'!E8="LCERT",'full menu'!E8="LERT",'full menu'!E8="FCERT",'full menu'!E8="FCMT",'full menu'!E8="LCMT",'full menu'!E8="LMT",'full menu'!E8="LCIT",'full menu'!E8="FCIT",'full menu'!E8="LIT",'full menu'!E8="MwERT",'full menu'!E8="ERwMT",'full menu'!E8="M&ERT",'full menu'!E8="MwIT",'full menu'!E8="IwMT",'full menu'!E8="M&IT",'full menu'!E8="IwERT",'full menu'!E8="ERwIT",'full menu'!E8="I&ERT",'full menu'!E8="ER&M&IT",'full menu'!E8="LSD"),"subst",IF(OR('full menu'!E8="FERT",'full menu'!E8="FMT",'full menu'!E8="FIT",'full menu'!E8="WSD"),"intens",IF(OR('full menu'!E8="UASC"),"nonat",""))))) -> inter | F8: =IF(OR('full menu'!F8="MDC",'full menu'!F8="PERF"),"rude",IF(OR('full menu'!F8="PCB",'full menu'!F8="AERF",'full menu'!F8="UD"),"inter",IF(OR('full menu'!F8="ACB",'full menu'!F8="LCERT",'full menu'!F8="LERT",'full menu'!F8="FCERT",'full menu'!F8="FCMT",'full menu'!F8="LCMT",'full menu'!F8="LMT",'full menu'!F8="LCIT",'full menu'!F8="FCIT",'full menu'!F8="LIT",'full menu'!F8="MwERT",'full menu'!F8="ERwMT",'full menu'!F8="M&ERT",'full menu'!F8="MwIT",'full menu'!F8="IwMT",'full menu'!F8="M&IT",'full menu'!F8="IwERT",'full menu'!F8="ERwIT",'full menu'!F8="I&ERT",'full menu'!F8="ER&M&IT",'full menu'!F8="LSD"),"subst",IF(OR('full menu'!F8="FERT",'full menu'!F8="FMT",'full menu'!F8="FIT",'full menu'!F8="WSD"),"intens",IF(OR('full menu'!F8="UASC"),"nonat",""))))) -> inter | G8: =IF(OR('full menu'!G8="MDC",'full menu'!G8="PERF"),"rude",IF(OR('full menu'!G8="PCB",'full menu'!G8="AERF",'full menu'!G8="UD"),"inter",IF(OR('full menu'!G8="ACB",'full menu'!G8="LCERT",'full menu'!G8="LERT",'full menu'!G8="FCERT",'full menu'!G8="FCMT",'full menu'!G8="LCMT",'full menu'!G8="LMT",'full menu'!G8="LCIT",'full menu'!G8="FCIT",'full menu'!G8="LIT",'full menu'!G8="MwERT",'full menu'!G8="ERwMT",'full menu'!G8="M&ERT",'full menu'!G8="MwIT",'full menu'!G8="IwMT",'full menu'!G8="M&IT",'full menu'!G8="IwERT",'full menu'!G8="ERwIT",'full menu'!G8="I&ERT",'full menu'!G8="ER&M&IT",'full menu'!G8="LSD"),"subst",IF(OR('full menu'!G8="FERT",'full menu'!G8="FMT",'full menu'!G8="FIT",'full menu'!G8="WSD"),"intens",IF(OR('full menu'!G8="UASC"),"nonat",""))))) -> inter | H8: =IF(OR('full menu'!H8="MDC",'full menu'!H8="PERF"),"rude",IF(OR('full menu'!H8="PCB",'full menu'!H8="AERF",'full menu'!H8="UD"),"inter",IF(OR('full menu'!H8="ACB",'full menu'!H8="LCERT",'full menu'!H8="LERT",'full menu'!H8="FCERT",'full menu'!H8="FCMT",'full menu'!H8="LCMT",'full menu'!H8="LMT",'full menu'!H8="LCIT",'full menu'!H8="FCIT",'full menu'!H8="LIT",'full menu'!H8="MwERT",'full menu'!H8="ERwMT",'full menu'!H8="M&ERT",'full menu'!H8="MwIT",'full menu'!H8="IwMT",'full menu'!H8="M&IT",'full menu'!H8="IwERT",'full menu'!H8="ERwIT",'full menu'!H8="I&ERT",'full menu'!H8="ER&M&IT",'full menu'!H8="LSD"),"subst",IF(OR('full menu'!H8="FERT",'full menu'!H8="FMT",'full menu'!H8="FIT",'full menu'!H8="WSD"),"intens",IF(OR('full menu'!H8="UASC"),"nonat",""))))) -> inter | I8: =IF(OR('full menu'!I8="MDC",'full menu'!I8="PERF"),"rude",IF(OR('full menu'!I8="PCB",'full menu'!I8="AERF",'full menu'!I8="UD"),"inter",IF(OR('full menu'!I8="ACB",'full menu'!I8="LCERT",'full menu'!I8="LERT",'full menu'!I8="FCERT",'full menu'!I8="FCMT",'full menu'!I8="LCMT",'full menu'!I8="LMT",'full menu'!I8="LCIT",'full menu'!I8="FCIT",'full menu'!I8="LIT",'full menu'!I8="MwERT",'full menu'!I8="ERwMT",'full menu'!I8="M&ERT",'full menu'!I8="MwIT",'full menu'!I8="IwMT",'full menu'!I8="M&IT",'full menu'!I8="IwERT",'full menu'!I8="ERwIT",'full menu'!I8="I&ERT",'full menu'!I8="ER&M&IT",'full menu'!I8="LSD"),"subst",IF(OR('full menu'!I8="FERT",'full menu'!I8="FMT",'full menu'!I8="FIT",'full menu'!I8="WSD"),"intens",IF(OR('full menu'!I8="UASC"),"nonat",""))))) -> inter | ... AS8: =IF(OR('full menu'!AS8="MDC",'full menu'!AS8="PERF"),"rude",IF(OR('full menu'!AS8="PCB",'full menu'!AS8="AERF",'full menu'!AS8="UD"),"inter",IF(OR('full menu'!AS8="ACB",'full menu'!AS8="LCERT",'full menu'!AS8="LERT",'full menu'!AS8="FCERT",'full menu'!AS8="FCMT",'full menu'!AS8="LCMT",'full menu'!AS8="LMT",'full menu'!AS8="LCIT",'full menu'!AS8="FCIT",'full menu'!AS8="LIT",'full menu'!AS8="MwERT",'full menu'!AS8="ERwMT",'full menu'!AS8="M&ERT",'full menu'!AS8="MwIT",'full menu'!AS8="IwMT",'full menu'!AS8="M&IT",'full menu'!AS8="IwERT",'full menu'!AS8="ERwIT",'full menu'!AS8="I&ERT",'full menu'!AS8="ER&M&IT",'full menu'!AS8="LSD"),"subst",IF(OR('full menu'!AS8="FERT",'full menu'!AS8="FMT",'full menu'!AS8="FIT",'full menu'!AS8="WSD"),"intens",IF(OR('full menu'!AS8="UASC"),"nonat",""))))) -> subst
B11: 1974 | C11: 1975 | D11: 1976 | E11: 1977 | F11: 1978 | G11: 1979 | H11: 1980 | I11: 1981 | J11: 1982 | K11: 1983 | L11: 1984 | M11: 1985 | N11: 1986 | O11: 1987 | P11: 1988 | Q11: 1989 | R11: 1990 | S11: 1991 | T11: 1992 | U11: 1993 | V11: 1994 | W11: 1995 | X11: 1996 | Y11: 1997 | Z11: 1998 | AA11: 1999 | AB11: 2000 | AC11: 2001 | AD11: 2002 | AE11: 2003 | AF11: 2004 | AG11: 2005 | AH11: 2006 | AI11: 2007 | AJ11: 2008 | AK11: 2009 | AL11: 2010 | AM11: 2011 | AN11: 2012 | AO11: 2013 | AP11: 2014 | AQ11: 2015 | AR11: 2016 | AS11: 2017 | AU11: 74-17 | AV11: 74-84 | AW11: 85-98 | AX11: 99-07 | AY11: 08-17
A12: rudimentary | B12: =COUNTIF(B2:B8,"rude") -> 0 | C12: =COUNTIF(C2:C8,"rude") -> 0 | D12: =COUNTIF(D2:D8,"rude") -> 0 | E12: =COUNTIF(E2:E8,"rude") -> 0 | F12: =COUNTIF(F2:F8,"rude") -> 0 | G12: =COUNTIF(G2:G8,"rude") -> 0 | H12: =COUNTIF(H2:H8,"rude") -> 0 | I12: =COUNTIF(I2:I8,"rude") -> 0 | ... AS12: =COUNTIF(AS2:AS8,"rude") -> 0 | AU12: =SUM(B12:AS12) -> 0 | AV12: =SUM(B12:L12) -> 0 | AW12: =SUM(M12:Z12) -> 0 | AX12: =SUM(AA12:AI12) -> 0 | AY12: =SUM(AJ12:AS12) -> 0
A13: intermediate | B13: =COUNTIF(B2:B8,"inter") -> 7 | C13: =COUNTIF(C2:C8,"inter") -> 7 | D13: =COUNTIF(D2:D8,"inter") -> 7 | E13: =COUNTIF(E2:E8,"inter") -> 6 | F13: =COUNTIF(F2:F8,"inter") -> 6 | G13: =COUNTIF(G2:G8,"inter") -> 6 | H13: =COUNTIF(H2:H8,"inter") -> 6 | I13: =COUNTIF(I2:I8,"inter") -> 6 | ... AS13: =COUNTIF(AS2:AS8,"inter") -> 2 | AU13: =SUM(B13:AS13) -> 144 | AV13: =SUM(B13:L13) -> 65 | AW13: =SUM(M13:Z13) -> 41 | AX13: =SUM(AA13:AI13) -> 18 | AY13: =SUM(AJ13:AS13) -> 20
A14: substantial | B14: =COUNTIF(B2:B8,"subst") -> 0 | C14: =COUNTIF(C2:C8,"subst") -> 0 | D14: =COUNTIF(D2:D8,"subst") -> 0 | E14: =COUNTIF(E2:E8,"subst") -> 1 | F14: =COUNTIF(F2:F8,"subst") -> 1 | G14: =COUNTIF(G2:G8,"subst") -> 1 | H14: =COUNTIF(H2:H8,"subst") -> 1 | I14: =COUNTIF(I2:I8,"subst") -> 1 | ... AS14: =COUNTIF(AS2:AS8,"subst") -> 5 | AU14: =SUM(B14:AS14) -> 164 | AV14: =SUM(B14:L14) -> 12 | AW14: =SUM(M14:Z14) -> 57 | AX14: =SUM(AA14:AI14) -> 45 | AY14: =SUM(AJ14:AS14) -> 50
A15: intensive | B15: =COUNTIF(B2:B8,"intens") -> 0 | C15: =COUNTIF(C2:C8,"intens") -> 0 | D15: =COUNTIF(D2:D8,"intens") -> 0 | E15: =COUNTIF(E2:E8,"intens") -> 0 | F15: =COUNTIF(F2:F8,"intens") -> 0 | G15: =COUNTIF(G2:G8,"intens") -> 0 | H15: =COUNTIF(H2:H8,"intens") -> 0 | I15: =COUNTIF(I2:I8,"intens") -> 0 | ... AS15: =COUNTIF(AS2:AS8,"intens") -> 0 | AU15: =SUM(B15:AS15) -> 0 | AV15: =SUM(B15:L15) -> 0 | AW15: =SUM(M15:Z15) -> 0 | AX15: =SUM(AA15:AI15) -> 0 | AY15: =SUM(AJ15:AS15) -> 0
A16: no national framework | B16: =COUNTIF(B2:B8,"nonat") -> 0 | C16: =COUNTIF(C2:C8,"nonat") -> 0 | D16: =COUNTIF(D2:D8,"nonat") -> 0 | E16: =COUNTIF(E2:E8,"nonat") -> 0 | F16: =COUNTIF(F2:F8,"nonat") -> 0 | G16: =COUNTIF(G2:G8,"nonat") -> 0 | H16: =COUNTIF(H2:H8,"nonat") -> 0 | I16: =COUNTIF(I2:I8,"nonat") -> 0 | ... AS16: =COUNTIF(AS2:AS8,"nonat") -> 0 | AU16: =SUM(B16:AS16) -> 0 | AV16: =SUM(B16:L16) -> 0 | AW16: =SUM(M16:Z16) -> 0 | AX16: =SUM(AA16:AI16) -> 0 | AY16: =SUM(AJ16:AS16) -> 0
B18: =SUM(B12:B16) -> 7 | C18: =SUM(C12:C16) -> 7 | D18: =SUM(D12:D16) -> 7 | E18: =SUM(E12:E16) -> 7 | F18: =SUM(F12:F16) -> 7 | G18: =SUM(G12:G16) -> 7 | H18: =SUM(H12:H16) -> 7 | I18: =SUM(I12:I16) -> 7 | ... AS18: =SUM(AS12:AS16) -> 7 | AU18: =SUM(AU12:AU16) -> 308 | AV18: =SUM(AV12:AV16) -> 77 | AW18: =SUM(AW12:AW16) -> 98 | AX18: =SUM(AX12:AX16) -> 63 | AY18: =SUM(AY12:AY16) -> 70
